Workbook
Name CelkemDPHVypocet: Stavba!$H$43
Name CenaCelkem: Stavba!$G$29
Name CenaCelkemBezDPH: Stavba!$G$28
Name CenaCelkemVypocet: Stavba!$I$43
Name cisloobjektu: Stavba!$D$3
Name CisloRozpoctu: '[1]Krycí list'!$C$2
Name CisloStavby: Stavba!$D$2
Name cislostavby: '[1]Krycí list'!$A$7
Name CisloStavebnihoRozpoctu: Stavba!$D$4
Name dadresa: Stavba!$D$12:$G$12
Name DIČ: Stavba!$I$12
Name dmisto: Stavba!$E$13:$G$13
Name DPHSni: Stavba!$G$24
Name DPHZakl: Stavba!$G$26
Name dpsc: Stavba!$D$13
Name IČO: Stavba!$I$11
Name Mena: Stavba!$J$29
Name MistoStavby: Stavba!$D$4
Name nazevobjektu: Stavba!$E$3
Name NazevRozpoctu: '[1]Krycí list'!$D$2
Name NazevStavby: Stavba!$E$2
Name nazevstavby: '[1]Krycí list'!$C$7
Name NazevStavebnihoRozpoctu: Stavba!$E$4
Name oadresa: Stavba!$D$6
Name Objednatel: Stavba!$D$5
Name Objekt: Stavba!$B$38
Name odic: Stavba!$I$6
Name oico: Stavba!$I$5
Name omisto: Stavba!$E$7
Name onazev: Stavba!$D$6
Name opsc: Stavba!$D$7
Name padresa: Stavba!$D$9
Name pdic: Stavba!$I$9
Name pico: Stavba!$I$8
Name pmisto: Stavba!$E$10
Name PocetMJ: #REF!
Name PoptavkaID: Stavba!$A$1
Name pPSC: Stavba!$D$10
Name Projektant: Stavba!$D$8
Name SazbaDPH1: Stavba!$E$23
Name SazbaDPH1: '[1]Krycí list'!$C$30
Name SazbaDPH2: Stavba!$E$25
Name SazbaDPH2: '[1]Krycí list'!$C$32
Name SloupecCC: #REF!
Name SloupecCisloPol: #REF!
Name SloupecJC: #REF!
Name SloupecMJ: #REF!
Name SloupecMnozstvi: #REF!
Name SloupecNazPol: #REF!
Name SloupecPC: #REF!
Name Vypracoval: Stavba!$D$14
Name ZakladDPHSni: Stavba!$G$23
Name ZakladDPHSniVypocet: Stavba!$F$43
Name ZakladDPHZakl: Stavba!$G$25
Name ZakladDPHZaklVypocet: Stavba!$G$43
Name ZaObjednatele: Stavba!$G$34
Name Zaokrouhleni: Stavba!$G$27
Name ZaZhotovitele: Stavba!$D$34
Name Zhotovitel: Stavba!$D$11:$G$11

Sheet Pokyny pro vyplnění
A1: Pokyny pro vyplnění
A2: Ve všech listech tohoto souboru můžete měnit pouze buňky s modrým pozadím. Jedná se o tyto údaje : - údaje o firmě - jednotkové ceny položek zadané na maximálně dvě desetinná místa

Sheet Stavba
A1: #RTSROZP# | B1: Soupis stavebních prací, dodávek a služeb
B2: Stavba: | D2: 200213 | E2: Kounicova 67
B3: Objekt: | D3: 02 | E3: Kounicova 67
A4: 2417 | B4: Rozpočet: | D4: 01 | E4: Oprava kanceláří (MMB)
B5: Zadavatel | H5: IČO:
H6: DIČ:
B8: Projektant: | H8: IČO:
H9: DIČ:
B11: Zhotovitel: | H11: IČO:
H12: DIČ:
B14: Vypracoval:
B15: Rozpis ceny | I15: Celkem
A16: HSV | B16: HSV | I16: =SUMIF(F50:F63,A16,I50:I63)+SUMIF(F50:F63,"PSU",I50:I63) -> 0
A17: PSV | B17: PSV | I17: =SUMIF(F50:F63,A17,I50:I63) -> 0
A18: MON | B18: MON | I18: =SUMIF(F50:F63,A18,I50:I63) -> 0
A19: VN | B19: Vedlejší náklady | I19: =SUMIF(F50:F63,A19,I50:I63) -> 0
A20: ON | B20: Ostatní náklady | I20: =SUMIF(F50:F63,A20,I50:I63) -> 0
B21: Celkem | I21: =SUM(I16:J20) -> 0
B22: Rekapitulace daní
A23: =ZakladDPHSni*SazbaDPH1/100 -> 0 | B23: Základ pro sníženou DPH | E23: 15 | F23: % | G23: =ZakladDPHSniVypocet -> 0 | J23: =Mena -> CZK
A24: =(A23-INT(A23))*100 -> 0 | B24: Snížená DPH | E24: =SazbaDPH1 -> 15 | F24: % | G24: =A23 -> 0 | J24: =Mena -> CZK
A25: =ZakladDPHZakl*SazbaDPH2/100 -> 0 | B25: Základ pro základní DPH | E25: 21 | F25: % | G25: =ZakladDPHZaklVypocet -> 0 | J25: =Mena -> CZK
A26: =(A25-INT(A25))*100 -> 0 | B26: Základní DPH | E26: =SazbaDPH2 -> 21 | F26: % | G26: =A25 -> 0 | J26: =Mena -> CZK
A27: =ZakladDPHSni+DPHSni+ZakladDPHZakl+DPHZakl -> 0 | B27: Zaokrouhlení | G27: =CenaCelkem-(ZakladDPHSni+DPHSni+ZakladDPHZakl+DPHZakl) -> 0 | J27: =Mena -> CZK
B28: Cena celkem bez DPH | G28: =ZakladDPHSniVypocet+ZakladDPHZaklVypocet -> 0 | J28: =Mena -> CZK
A29: =(A27-INT(A27))*100 -> 0 | B29: Cena celkem s DPH | G29: =A27 -> 0 | J29: CZK
C32: v | F32: dne
D35: Za zhotovitele | H35: Za objednatele
B37: Rekapitulace dílčích částí
A38: #CASTI>> | B38: Číslo | C38: Název | F38: =B23 -> Základ pro sníženou DPH | G38: =B25 -> Základ pro základní DPH | H38: DPH celkem | I38: Cena celkem | J38: %
A39: 1 | B39: Stavba | F39: ='02 01 Pol'!AE230 -> 0 | G39: ='02 01 Pol'!AF230 -> 0 | H39: =(F39*SazbaDPH1/100)+(G39*SazbaDPH2/100) -> 0 | I39: =F39+G39+H39 -> 0 | J39: =IF(CenaCelkemVypocet=0,"",I39/CenaCelkemVypocet*100)
A40: 2 | C40: Stavební objekt | H40: =(F40*SazbaDPH1/100)+(G40*SazbaDPH2/100) -> 0 | I40: =F40+G40+H40 -> 0 | J40: =IF(CenaCelkemVypocet=0,"",I40/CenaCelkemVypocet*100)
A41: 2 | B41: 02 | C41: Kounicova 67 | F41: ='02 01 Pol'!AE230 -> 0 | G41: ='02 01 Pol'!AF230 -> 0 | H41: =(F41*SazbaDPH1/100)+(G41*SazbaDPH2/100) -> 0 | I41: =F41+G41+H41 -> 0 | J41: =IF(CenaCelkemVypocet=0,"",I41/CenaCelkemVypocet*100)
A42: 3 | B42: 01 | C42: Oprava kanceláří (MMB) | F42: ='02 01 Pol'!AE230 -> 0 | G42: ='02 01 Pol'!AF230 -> 0 | H42: =(F42*SazbaDPH1/100)+(G42*SazbaDPH2/100) -> 0 | I42: =F42+G42+H42 -> 0 | J42: =IF(CenaCelkemVypocet=0,"",I42/CenaCelkemVypocet*100)
B43: Celkem za stavbu | F43: =SUMIF(A39:A42,"=1",F39:F42) -> 0 | G43: =SUMIF(A39:A42,"=1",G39:G42) -> 0 | H43: =SUMIF(A39:A42,"=1",H39:H42) -> 0 | I43: =SUMIF(A39:A42,"=1",I39:I42) -> 0 | J43: =SUMIF(A39:A42,"=1",J39:J42) -> 0
B47: Rekapitulace dílů
B49: Číslo | C49: Název | F49: Typ dílu | I49: Celkem | J49: %
B50: 61 | C50: Úpravy povrchů vnitřní | F50: HSV | I50: ='02 01 Pol'!G8 -> 0 | J50: =IF(I64=0,"",I50/I64*100)
B51: 63 | C51: Podlahy a podlahové konstrukce | F51: HSV | I51: ='02 01 Pol'!G19 -> 0 | J51: =IF(I64=0,"",I51/I64*100)
B52: 94 | C52: Lešení a stavební výtahy | F52: HSV | I52: ='02 01 Pol'!G31 -> 0 | J52: =IF(I64=0,"",I52/I64*100)
...

Sheet VzorPolozky
A1: Položkový rozpočet
A2: S:
A3: O:
A4: R:

Sheet 02 01 Pol
A1: Položkový soupis prací a dodávek | AG1: #TypZaznamu#
A2: S: | B2: 200213 | C2: Kounicova 67 | AG2: STA
A3: O: | B3: 02 | C3: Kounicova 67 | AC3: STA | AG3: OBJ
A4: R: | B4: 01 | C4: Oprava kanceláří (MMB) | AG4: ROZ
A6: P.č. | B6: Číslo položky | C6: Název položky | D6: MJ | E6: Množství | F6: Cena / MJ | G6: Celkem | H6: Dodávka | I6: Dodávka celk. | J6: Montáž | K6: Montáž celk. | L6: DPH | M6: Cena s DPH | N6: Hmotnost / MJ | O6: Hmotnost celk.(t) | P6: Dem. hmotnost / MJ | Q6: Dem. hmotnost celk.(t) | R6: Ceník | S6: Cen. soustava / platnost | T6: Cenová úroveň | U6: Nhod / MJ | V6: Nhod celk. | W6: Dodavatel | X6: Typ položky
A8: Díl: | B8: 61 | C8: Úpravy povrchů vnitřní | G8: =SUMIF(AG9:AG18,"<>NOR",G9:G18) -> 0 | I8: =SUM(I9:I18) -> 0 | K8: =SUM(K9:K18) -> 0 | M8: =SUM(M9:M18) -> 0 | O8: =SUM(O9:O18) -> 1.73 | Q8: =SUM(Q9:Q18) -> 0 | V8: =SUM(V9:V18) -> 34.56 | AG8: DIL
A9: 1 | B9: 612401291R00 | C9: Omítky malých ploch vnitřních stěn přes 0,09 do 0,25 m2, vápennou štukovou omítkou | D9: kus | E9: 22 | G9: =ROUND(E9*F9,2) -> 0 | I9: =ROUND(E9*H9,2) -> 0 | K9: =ROUND(E9*J9,2) -> 0 | L9: 21 | M9: =G9*(1+L9/100) -> 0 | N9: 0.01278 | O9: =ROUND(E9*N9,2) -> 0.28 | P9: 0 | Q9: =ROUND(E9*P9,2) -> 0 | R9: 801-4 | S9: RTS 20/ I | T9: RTS 20/ I | U9: 0.35813 | V9: =ROUND(E9*U9,2) -> 7.88 | X9: Práce | AG9: POL1_
C10: jakoukoliv maltou, z pomocného pracovního lešení o výšce podlahy do 1900 mm a pro zatížení do 1,5 kPa, | AG10: SPI | BA10: =C10 -> jakoukoliv maltou, z pomocného pracovního lešení o výšce podlahy do 1900 mm a pro zatížení do 1,5 kPa,
C11: Odkaz na mn. položky pořadí 37 : 22,00000 | E11: 22 | AG11: VV | AH11: 5
AG12: SPU
A13: 2 | B13: 612421637R00 | C13: Omítky vnitřní stěn vápenné nebo vápenocementové v podlaží i ve schodišti štukové | D13: m2 | E13: 28.96 | G13: =ROUND(E13*F13,2) -> 0 | I13: =ROUND(E13*H13,2) -> 0 | K13: =ROUND(E13*J13,2) -> 0 | L13: 21 | M13: =G13*(1+L13/100) -> 0 | N13: 0.04766 | O13: =ROUND(E13*N13,2) -> 1.38 | P13: 0 | Q13: =ROUND(E13*P13,2) -> 0 | R13: 801-1 | S13: RTS 20/ I | T13: RTS 20/ I | U13: 0.84 | V13: =ROUND(E13*U13,2) -> 24.33 | X13: Práce | AG13: POL1_
C14: 529 : 7,7*3,2+0,45*3*3,2 | E14: 28.96 | AG14: VV | AH14: 0
AG15: SPU
A16: 3 | B16: 612421131R00 | C16: Oprava vnitřních vápenných omítek stěn v množství opravované plochy do 5 %, štukových | D16: m2 | E16: 21.6532 | G16: =ROUND(E16*F16,2) -> 0 | I16: =ROUND(E16*H16,2) -> 0 | K16: =ROUND(E16*J16,2) -> 0 | L16: 21 | M16: =G16*(1+L16/100) -> 0 | N16: 0.00328 | O16: =ROUND(E16*N16,2) -> 0.07 | P16: 0 | Q16: =ROUND(E16*P16,2) -> 0 | R16: 801-4 | S16: RTS 20/ I | T16: RTS 20/ I | U16: 0.10872 | V16: =ROUND(E16*U16,2) -> 2.35 | X16: Práce | AG16: POL1_
C17: Odkaz na mn. položky pořadí 20 : 108,26600*0,2 | E17: 21.6532 | AG17: VV | AH17: 5
AG18: SPU
A19: Díl: | B19: 63 | C19: Podlahy a podlahové konstrukce | G19: =SUMIF(AG20:AG30,"<>NOR",G20:G30) -> 0 | I19: =SUM(I20:I30) -> 0 | K19: =SUM(K20:K30) -> 0 | M19: =SUM(M20:M30) -> 0 | O19: =SUM(O20:O30) -> 0.12 | Q19: =SUM(Q20:Q30) -> 0 | V19: =SUM(V20:V30) -> 0.92 | AG19: DIL
A20: 4 | B20: 632451441R00 | C20: Doplnění cementového potěru o ploše jednotlivě do 1 m2, tloušťky přes 30 do 40 mm | D20: m2 | E20: 1.485 | G20: =ROUND(E20*F20,2) -> 0 | I20: =ROUND(E20*H20,2) -> 0 | K20: =ROUND(E20*J20,2) -> 0 | L20: 21 | M20: =G20*(1+L20/100) -> 0 | N20: 0.0798 | O20: =ROUND(E20*N20,2) -> 0.12 | P20: 0 | Q20: =ROUND(E20*P20,2) -> 0 | R20: 801-4 | S20: RTS 20/ I | T20: RTS 20/ I | U20: 0.62 | V20: =ROUND(E20*U20,2) -> 0.92 | X20: Práce | AG20: POL1_
C21: na mazaninách a betonových podkladech hlazeného dřevěným nebo ocelovým hladítkem (s dodáním hmot), | AG21: SPI
C22: Začátek provozního součtu | AG22: VV
C23: 209 : 3 | E23: 3 | AG23: VV | AH23: 2
C24: 340 : 1 | E24: 1 | AG24: VV | AH24: 2
C25: 447 : 3 | E25: 3 | AG25: VV | AH25: 2
C26: 529 : 2 | E26: 2 | AG26: VV | AH26: 2
C27: 561 : 2 | E27: 2 | AG27: VV | AH27: 2
C28: Konec provozního součtu | AG28: VV
C29: 11*0,15*0,9 | E29: 1.485 | AG29: VV | AH29: 0
AG30: SPU
A31: Díl: | B31: 94 | C31: Lešení a stavební výtahy | G31: =SUMIF(AG32:AG34,"<>NOR",G32:G34) -> 0 | I31: =SUM(I32:I34) -> 0 | K31: =SUM(K32:K34) -> 0 | M31: =SUM(M32:M34) -> 0 | O31: =SUM(O32:O34) -> 0.18 | Q31: =SUM(Q32:Q34) -> 0 | V31: =SUM(V32:V34) -> 25.91 | AG31: DIL
A32: 5 | B32: 941955001R00 | C32: Lešení lehké pracovní pomocné pomocné, o výšce lešeňové podlahy do 1,2 m | D32: m2 | E32: 146.39296 | G32: =ROUND(E32*F32,2) -> 0 | I32: =ROUND(E32*H32,2) -> 0 | K32: =ROUND(E32*J32,2) -> 0 | L32: 21 | M32: =G32*(1+L32/100) -> 0 | N32: 0.00121 | O32: =ROUND(E32*N32,2) -> 0.18 | P32: 0 | Q32: =ROUND(E32*P32,2) -> 0 | R32: 800-3 | S32: RTS 20/ I | T32: RTS 20/ I | U32: 0.177 | V32: =ROUND(E32*U32,2) -> 25.91 | X32: Práce | AG32: POL1_
C33: Odkaz na mn. položky pořadí 7 : 146,39296 | E33: 146.39296 | AG33: VV | AH33: 5
AG34: SPU
A35: Díl: | B35: 95 | C35: Dokončovací konstrukce na pozemních stavbách | G35: =SUMIF(AG36:AG38,"<>NOR",G36:G38) -> 0 | I35: =SUM(I36:I38) -> 0 | K35: =SUM(K36:K38) -> 0 | M35: =SUM(M36:M38) -> 0 | O35: =SUM(O36:O38) -> 0.01 | Q35: =SUM(Q36:Q38) -> 0 | V35: =SUM(V36:V38) -> 45.09 | AG35: DIL
A36: 6 | B36: 952901111R00 | C36: Vyčištění budov a ostatních objektů budov bytové nebo občanské výstavby - zametení a umytí podlah, dlažeb, obkladů, schodů v místnostech, chodbách a schodištích, vyčištění a umytí oken, dveří s rámy, zárubněmi, umytí a vyčištění jiných zasklených a natíraných ploch a zařizovacích předmětů před předáním do užívání světlá výška podlaží do 4 m | D36: m2 | E36: 146.39296 | G36: =ROUND(E36*F36,2) -> 0 | I36: =ROUND(E36*H36,2) -> 0 | K36: =ROUND(E36*J36,2) -> 0 | L36: 21 | M36: =G36*(1+L36/100) -> 0 | N36: 4e-05 | O36: =ROUND(E36*N36,2) -> 0.01 | P36: 0 | Q36: =ROUND(E36*P36,2) -> 0 | R36: 801-1 | S36: RTS 20/ I | T36: RTS 20/ I | U36: 0.308 | V36: =ROUND(E36*U36,2) -> 45.09 | X36: Práce | AG36: POL1_
C37: Odkaz na mn. položky pořadí 5 : 146,39296 | E37: 146.39296 | AG37: VV | AH37: 5
AG38: SPU
A39: Díl: | B39: 96 | C39: Bourání konstrukcí | G39: =SUMIF(AG40:AG52,"<>NOR",G40:G52) -> 0 | I39: =SUM(I40:I52) -> 0 | K39: =SUM(K40:K52) -> 0 | M39: =SUM(M40:M52) -> 0 | O39: =SUM(O40:O52) -> 0 | Q39: =SUM(Q40:Q52) -> 1.75 | V39: =SUM(V40:V52) -> 56.06 | AG39: DIL
A40: 7 | B40: 965048515R00 | C40: Broušení betonového povrchu do tloušťky 5 mm | D40: m2 | E40: 146.39296 | G40: =ROUND(E40*F40,2) -> 0 | I40: =ROUND(E40*H40,2) -> 0 | K40: =ROUND(E40*J40,2) -> 0 | L40: 21 | M40: =G40*(1+L40/100) -> 0 | N40: 0 | O40: =ROUND(E40*N40,2) -> 0 | P40: 0.0026 | Q40: =ROUND(E40*P40,2) -> 0.38 | R40: 801-3 | S40: RTS 20/ I | T40: RTS 20/ I | U40: 0.33 | V40: =ROUND(E40*U40,2) -> 48.31 | X40: Práce | AG40: POL1_
C41: 209 : 6,45*4,56 | E41: 29.412 | AG41: VV | AH41: 0
C42: 340 : 3,41*3,84 | E42: 13.0944 | AG42: VV | AH42: 0
...
