Workbook
Name CelkemDPHVypocet: Stavba!$H$51
Name CenaCelkem: Stavba!$G$29
Name CenaCelkemBezDPH: Stavba!$G$28
Name CenaCelkemVypocet: Stavba!$I$51
Name cisloobjektu: Stavba!$D$3
Name CisloRozpoctu: '[1]Krycí list'!$C$2
Name CisloStavby: Stavba!$D$2
Name cislostavby: '[1]Krycí list'!$A$7
Name CisloStavebnihoRozpoctu: Stavba!$D$4
Name dadresa: Stavba!$D$12:$G$12
Name DIČ: Stavba!$I$12
Name dmisto: Stavba!$E$13:$G$13
Name DPHSni: Stavba!$G$24
Name DPHZakl: Stavba!$G$26
Name dpsc: Stavba!$D$13
Name IČO: Stavba!$I$11
Name Mena: Stavba!$J$29
Name MistoStavby: Stavba!$D$4
Name nazevobjektu: Stavba!$E$3
Name NazevRozpoctu: '[1]Krycí list'!$D$2
Name NazevStavby: Stavba!$E$2
Name nazevstavby: '[1]Krycí list'!$C$7
Name NazevStavebnihoRozpoctu: Stavba!$E$4
Name oadresa: Stavba!$D$6
Name Objednatel: Stavba!$D$5
Name Objekt: Stavba!$B$38
Name odic: Stavba!$I$6
Name oico: Stavba!$I$5
Name omisto: Stavba!$E$7
Name onazev: Stavba!$D$6
Name opsc: Stavba!$D$7
Name padresa: Stavba!$D$9
Name pdic: Stavba!$I$9
Name pico: Stavba!$I$8
Name pmisto: Stavba!$E$10
Name PocetMJ: #REF!
Name PoptavkaID: Stavba!$A$1
Name pPSC: Stavba!$D$10
Name Projektant: Stavba!$D$8
Name SazbaDPH1: Stavba!$E$23
Name SazbaDPH1: '[1]Krycí list'!$C$30
Name SazbaDPH2: Stavba!$E$25
Name SazbaDPH2: '[1]Krycí list'!$C$32
Name SloupecCC: #REF!
Name SloupecCisloPol: #REF!
Name SloupecJC: #REF!
Name SloupecMJ: #REF!
Name SloupecMnozstvi: #REF!
Name SloupecNazPol: #REF!
Name SloupecPC: #REF!
Name Vypracoval: Stavba!$D$14
Name ZakladDPHSni: Stavba!$G$23
Name ZakladDPHSniVypocet: Stavba!$F$51
Name ZakladDPHZakl: Stavba!$G$25
Name ZakladDPHZaklVypocet: Stavba!$G$51
Name ZaObjednatele: Stavba!$G$34
Name Zaokrouhleni: Stavba!$G$27
Name ZaZhotovitele: Stavba!$D$34
Name Zhotovitel: Stavba!$D$11:$G$11

Sheet Pokyny pro vyplnění
A1: Pokyny pro vyplnění
A2: Ve všech listech tohoto souboru můžete měnit pouze buňky s modrým pozadím. Jedná se o tyto údaje : - údaje o firmě - jednotkové ceny položek zadané na maximálně dvě desetinná místa

Sheet Stavba
A1: #RTSROZP# | B1: Soupis stavebních prací, dodávek a služeb
B2: Stavba: | D2: CAD-039 | E2: Sběrné středisko odpadů, ul. Slaměníkova, Brno - CÚ 2019/II
B5: Zadavatel | D5: Statutární město Brno - odbor investiční MMB | H5: IČO: | I5: 44992785
D6: Dominikánské náměstí 1 | H6: DIČ:
D7: 60167 | E7: Brno
B8: Projektant: | D8: Ing arch Harald Čadílek | H8: IČO: | I8: 13668820
H9: DIČ: | I9: CZ421212430
E10: Brno
B11: Zhotovitel: | H11: IČO:
H12: DIČ:
B14: Vypracoval:
B15: Rozpis ceny | I15: Celkem
A16: HSV | B16: HSV | I16: =SUMIF(F58:F78,A16,I58:I78)+SUMIF(F58:F78,"PSU",I58:I78) -> 0
A17: PSV | B17: PSV | I17: =SUMIF(F58:F78,A17,I58:I78) -> 0
A18: MON | B18: MON | I18: =SUMIF(F58:F78,A18,I58:I78) -> 0
A19: VN | B19: Vedlejší náklady | I19: =SUMIF(F58:F78,A19,I58:I78) -> 0
A20: ON | B20: Ostatní náklady | I20: =SUMIF(F58:F78,A20,I58:I78) -> 0
B21: Celkem | I21: =SUM(I16:J20) -> 0
B22: Rekapitulace daní
A23: =ZakladDPHSni*SazbaDPH1/100 -> 0 | B23: Základ pro sníženou DPH | E23: 15 | F23: % | G23: =ZakladDPHSniVypocet -> 0 | J23: =Mena -> CZK
A24: =(A23-INT(A23))*100 -> 0 | B24: Snížená DPH | E24: =SazbaDPH1 -> 15 | F24: % | G24: =A23 -> 0 | J24: =Mena -> CZK
A25: =ZakladDPHZakl*SazbaDPH2/100 -> 0 | B25: Základ pro základní DPH | E25: 21 | F25: % | G25: =ZakladDPHZaklVypocet -> 0 | J25: =Mena -> CZK
A26: =(A25-INT(A25))*100 -> 0 | B26: Základní DPH | E26: =SazbaDPH2 -> 21 | F26: % | G26: =A25 -> 0 | J26: =Mena -> CZK
A27: =ZakladDPHSni+DPHSni+ZakladDPHZakl+DPHZakl -> 0 | B27: Zaokrouhlení | G27: =CenaCelkem-(ZakladDPHSni+DPHSni+ZakladDPHZakl+DPHZakl) -> 0 | J27: =Mena -> CZK
B28: Cena celkem bez DPH | G28: =ZakladDPHSniVypocet+ZakladDPHZaklVypocet -> 0 | J28: =Mena -> CZK
A29: =(A27-INT(A27))*100 -> 0 | B29: Cena celkem s DPH | G29: =A27 -> 0 | J29: CZK
C32: v | F32: dne
D35: Za zhotovitele | H35: Za objednatele
B37: Rekapitulace dílčích částí
A38: #CASTI>> | B38: Číslo | C38: Název | F38: =B23 -> Základ pro sníženou DPH | G38: =B25 -> Základ pro základní DPH | H38: DPH celkem | I38: Cena celkem | J38: %
A39: 1 | B39: Stavba | F39: ='00 CAD-035_00 Pol'!AE21+'01 CAD-035_01 Pol'!AE107+'02 CAD-035_02 Pol'!AE113+'03 CAD-035_03 Pol'!AE69+'04 CAD-035_04 Pol'!AE76 -> 0 | G39: ='00 CAD-035_00 Pol'!AF21+'01 CAD-035_01 Pol'!AF107+'02 CAD-035_02 Pol'!AF113+'03 CAD-035_03 Pol'!AF69+'04 CAD-035_04 Pol'!AF76 -> 0 | H39: =(F39*SazbaDPH1/100)+(G39*SazbaDPH2/100) -> 0 | I39: =F39+G39+H39 -> 0 | J39: =IF(CenaCelkemVypocet=0,"",I39/CenaCelkemVypocet*100)
A40: 2 | C40: Stavební objekt | H40: =(F40*SazbaDPH1/100)+(G40*SazbaDPH2/100) -> 0 | I40: =F40+G40+H40 -> 0 | J40: =IF(CenaCelkemVypocet=0,"",I40/CenaCelkemVypocet*100)
A41: 2 | B41: 00 | C41: Vedlejší a ostatní náklady | F41: ='00 CAD-035_00 Pol'!AE21 -> 0 | G41: ='00 CAD-035_00 Pol'!AF21 -> 0 | H41: =(F41*SazbaDPH1/100)+(G41*SazbaDPH2/100) -> 0 | I41: =F41+G41+H41 -> 0 | J41: =IF(CenaCelkemVypocet=0,"",I41/CenaCelkemVypocet*100)
A42: 3 | B42: CAD-035/00 | C42: SSO Slaměníkova - vedlejší a ostatní náklady | F42: ='00 CAD-035_00 Pol'!AE21 -> 0 | G42: ='00 CAD-035_00 Pol'!AF21 -> 0 | H42: =(F42*SazbaDPH1/100)+(G42*SazbaDPH2/100) -> 0 | I42: =F42+G42+H42 -> 0 | J42: =IF(CenaCelkemVypocet=0,"",I42/CenaCelkemVypocet*100)
A43: 2 | B43: 01 | C43: Stavební část | F43: ='01 CAD-035_01 Pol'!AE107 -> 0 | G43: ='01 CAD-035_01 Pol'!AF107 -> 0 | H43: =(F43*SazbaDPH1/100)+(G43*SazbaDPH2/100) -> 0 | I43: =F43+G43+H43 -> 0 | J43: =IF(CenaCelkemVypocet=0,"",I43/CenaCelkemVypocet*100)
A44: 3 | B44: CAD-035/01 | C44: SSO Slaměníkova, Brno - stavební část | F44: ='01 CAD-035_01 Pol'!AE107 -> 0 | G44: ='01 CAD-035_01 Pol'!AF107 -> 0 | H44: =(F44*SazbaDPH1/100)+(G44*SazbaDPH2/100) -> 0 | I44: =F44+G44+H44 -> 0 | J44: =IF(CenaCelkemVypocet=0,"",I44/CenaCelkemVypocet*100)
A45: 2 | B45: 02 | C45: Přípojka vody a kanalizace | F45: ='02 CAD-035_02 Pol'!AE113 -> 0 | G45: ='02 CAD-035_02 Pol'!AF113 -> 0 | H45: =(F45*SazbaDPH1/100)+(G45*SazbaDPH2/100) -> 0 | I45: =F45+G45+H45 -> 0 | J45: =IF(CenaCelkemVypocet=0,"",I45/CenaCelkemVypocet*100)
A46: 3 | B46: CAD-035/02 | C46: SSO Slaměníkova, Brno - přípojka vody a kanalizace | F46: ='02 CAD-035_02 Pol'!AE113 -> 0 | G46: ='02 CAD-035_02 Pol'!AF113 -> 0 | H46: =(F46*SazbaDPH1/100)+(G46*SazbaDPH2/100) -> 0 | I46: =F46+G46+H46 -> 0 | J46: =IF(CenaCelkemVypocet=0,"",I46/CenaCelkemVypocet*100)
A47: 2 | B47: 03 | C47: Zpevněné plochy a doprava | F47: ='03 CAD-035_03 Pol'!AE69 -> 0 | G47: ='03 CAD-035_03 Pol'!AF69 -> 0 | H47: =(F47*SazbaDPH1/100)+(G47*SazbaDPH2/100) -> 0 | I47: =F47+G47+H47 -> 0 | J47: =IF(CenaCelkemVypocet=0,"",I47/CenaCelkemVypocet*100)
A48: 3 | B48: CAD-035/03 | C48: SSO Slaměníkova - zpevněné plochy a doprava | F48: ='03 CAD-035_03 Pol'!AE69 -> 0 | G48: ='03 CAD-035_03 Pol'!AF69 -> 0 | H48: =(F48*SazbaDPH1/100)+(G48*SazbaDPH2/100) -> 0 | I48: =F48+G48+H48 -> 0 | J48: =IF(CenaCelkemVypocet=0,"",I48/CenaCelkemVypocet*100)
...

Sheet VzorPolozky
A1: Položkový rozpočet
A2: S:
A3: O:
A4: R:

Sheet 00 CAD-035_00 Pol
A1: Položkový soupis prací a dodávek | AG1: #TypZaznamu#
A2: S: | B2: CAD-039 | C2: Sběrné středisko odpadů, ul. Slaměníkova, Brno - CÚ 2019/II | AG2: STA
A3: O: | B3: 00 | C3: Vedlejší a ostatní náklady | AC3: STA | AG3: OBJ
A4: R: | B4: CAD-035/00 | C4: SSO Slaměníkova - vedlejší a ostatní náklady | AG4: ROZ
A6: P.č. | B6: Číslo položky | C6: Název položky | D6: MJ | E6: Množství | F6: Cena / MJ | G6: Celkem | H6: Dodávka | I6: Dodávka celk. | J6: Montáž | K6: Montáž celk. | L6: DPH | M6: Cena s DPH | N6: Hmotnost / MJ | O6: Hmotnost celk.(t) | P6: Dem. hmotnost / MJ | Q6: Dem. hmotnost celk.(t) | R6: Ceník | S6: Cen. soustava / platnost | T6: Cenová úroveň | U6: Nhod / MJ | V6: Nhod celk. | W6: Dodavatel | X6: Typ položky
A8: Díl: | B8: VN | C8: Vedlejší náklady | G8: =SUMIF(AG9:AG12,"<>NOR",G9:G12) -> 0 | I8: =SUM(I9:I12) -> 0 | K8: =SUM(K9:K12) -> 0 | M8: =SUM(M9:M12) -> 0 | O8: =SUM(O9:O12) -> 0 | Q8: =SUM(Q9:Q12) -> 0 | V8: =SUM(V9:V12) -> 0 | AG8: DIL
A9: 1 | B9: 005111020R | C9: Vytyčení stavby | D9: Soubor | E9: 1 | G9: =ROUND(E9*F9,2) -> 0 | I9: =ROUND(E9*H9,2) -> 0 | K9: =ROUND(E9*J9,2) -> 0 | L9: 21 | M9: =G9*(1+L9/100) -> 0 | N9: 0 | O9: =ROUND(E9*N9,2) -> 0 | P9: 0 | Q9: =ROUND(E9*P9,2) -> 0 | S9: RTS 19/ II | T9: Indiv | U9: 0 | V9: =ROUND(E9*U9,2) -> 0 | X9: VRN | AG9: POL99_8
A10: 2 | B10: 005121 R | C10: Zařízení staveniště | D10: Soubor | E10: 1 | G10: =ROUND(E10*F10,2) -> 0 | I10: =ROUND(E10*H10,2) -> 0 | K10: =ROUND(E10*J10,2) -> 0 | L10: 21 | M10: =G10*(1+L10/100) -> 0 | N10: 0 | O10: =ROUND(E10*N10,2) -> 0 | P10: 0 | Q10: =ROUND(E10*P10,2) -> 0 | S10: RTS 19/ II | T10: Indiv | U10: 0 | V10: =ROUND(E10*U10,2) -> 0 | X10: VRN | AG10: POL99_8
A11: 3 | B11: 005122 R | C11: Provozní vlivy | D11: Soubor | E11: 1 | G11: =ROUND(E11*F11,2) -> 0 | I11: =ROUND(E11*H11,2) -> 0 | K11: =ROUND(E11*J11,2) -> 0 | L11: 21 | M11: =G11*(1+L11/100) -> 0 | N11: 0 | O11: =ROUND(E11*N11,2) -> 0 | P11: 0 | Q11: =ROUND(E11*P11,2) -> 0 | S11: RTS 19/ II | T11: Indiv | U11: 0 | V11: =ROUND(E11*U11,2) -> 0 | X11: VRN | AG11: POL99_8
A12: 4 | B12: 30996 | C12: Koordinační činnost | D12: Soubor | E12: 1 | G12: =ROUND(E12*F12,2) -> 0 | I12: =ROUND(E12*H12,2) -> 0 | K12: =ROUND(E12*J12,2) -> 0 | L12: 21 | M12: =G12*(1+L12/100) -> 0 | N12: 0 | O12: =ROUND(E12*N12,2) -> 0 | P12: 0 | Q12: =ROUND(E12*P12,2) -> 0 | S12: Vlastní | T12: Indiv | U12: 0 | V12: =ROUND(E12*U12,2) -> 0 | X12: VRN | AG12: POL99_8
A13: Díl: | B13: ON | C13: Ostatní náklady | G13: =SUMIF(AG14:AG19,"<>NOR",G14:G19) -> 0 | I13: =SUM(I14:I19) -> 0 | K13: =SUM(K14:K19) -> 0 | M13: =SUM(M14:M19) -> 0 | O13: =SUM(O14:O19) -> 0 | Q13: =SUM(Q14:Q19) -> 0 | V13: =SUM(V14:V19) -> 0 | AG13: DIL
A14: 5 | B14: 005211010R | C14: Předání a převzetí staveniště | D14: Soubor | E14: 1 | G14: =ROUND(E14*F14,2) -> 0 | I14: =ROUND(E14*H14,2) -> 0 | K14: =ROUND(E14*J14,2) -> 0 | L14: 21 | M14: =G14*(1+L14/100) -> 0 | N14: 0 | O14: =ROUND(E14*N14,2) -> 0 | P14: 0 | Q14: =ROUND(E14*P14,2) -> 0 | S14: RTS 19/ II | T14: Indiv | U14: 0 | V14: =ROUND(E14*U14,2) -> 0 | X14: VRN | AG14: POL99_8
A15: 6 | B15: 005211080R | C15: Bezpečnostní a hygienická opatření na staveništi | D15: Soubor | E15: 1 | G15: =ROUND(E15*F15,2) -> 0 | I15: =ROUND(E15*H15,2) -> 0 | K15: =ROUND(E15*J15,2) -> 0 | L15: 21 | M15: =G15*(1+L15/100) -> 0 | N15: 0 | O15: =ROUND(E15*N15,2) -> 0 | P15: 0 | Q15: =ROUND(E15*P15,2) -> 0 | S15: RTS 19/ II | T15: Indiv | U15: 0 | V15: =ROUND(E15*U15,2) -> 0 | X15: VRN | AG15: POL99_8
A16: 7 | B16: 00524 R | C16: Předání a převzetí díla | D16: Soubor | E16: 1 | G16: =ROUND(E16*F16,2) -> 0 | I16: =ROUND(E16*H16,2) -> 0 | K16: =ROUND(E16*J16,2) -> 0 | L16: 21 | M16: =G16*(1+L16/100) -> 0 | N16: 0 | O16: =ROUND(E16*N16,2) -> 0 | P16: 0 | Q16: =ROUND(E16*P16,2) -> 0 | S16: RTS 19/ II | T16: Indiv | U16: 0 | V16: =ROUND(E16*U16,2) -> 0 | X16: VRN | AG16: POL99_8
A17: 8 | B17: 005241010R | C17: Dokumentace skutečného provedení | D17: Soubor | E17: 1 | G17: =ROUND(E17*F17,2) -> 0 | I17: =ROUND(E17*H17,2) -> 0 | K17: =ROUND(E17*J17,2) -> 0 | L17: 21 | M17: =G17*(1+L17/100) -> 0 | N17: 0 | O17: =ROUND(E17*N17,2) -> 0 | P17: 0 | Q17: =ROUND(E17*P17,2) -> 0 | S17: RTS 19/ II | T17: Indiv | U17: 0 | V17: =ROUND(E17*U17,2) -> 0 | X17: VRN | AG17: POL99_8
A18: 9 | B18: 005241020R | C18: Geodetické zaměření skutečného provedení | D18: Soubor | E18: 1 | G18: =ROUND(E18*F18,2) -> 0 | I18: =ROUND(E18*H18,2) -> 0 | K18: =ROUND(E18*J18,2) -> 0 | L18: 21 | M18: =G18*(1+L18/100) -> 0 | N18: 0 | O18: =ROUND(E18*N18,2) -> 0 | P18: 0 | Q18: =ROUND(E18*P18,2) -> 0 | S18: RTS 19/ II | T18: Indiv | U18: 0 | V18: =ROUND(E18*U18,2) -> 0 | X18: VRN | AG18: POL99_8
C19: Náklady na provedení skutečného zaměření stavby v rozsahu nezbytném pro zápis změny do katastru nemovitostí. | AG19: POP | BA19: =C19 -> Náklady na provedení skutečného zaměření stavby v rozsahu nezbytném pro zápis změny do katastru nemovitostí.
AE20: 15 | AF20: 21 | AG20: DPH
B21: Celkem | G21: =G8+G13 -> 0 | AE21: =SUMIF(L7:L19,AE20,G7:G19) -> 0 | AF21: =SUMIF(L7:L19,AF20,G7:G19) -> 0 | AG21: SUM
AG22: END

Sheet 01 CAD-035_01 Pol
A1: Položkový soupis prací a dodávek | AG1: #TypZaznamu#
A2: S: | B2: CAD-039 | C2: Sběrné středisko odpadů, ul. Slaměníkova, Brno - CÚ 2019/II | AG2: STA
A3: O: | B3: 01 | C3: Stavební část | AC3: STA | AG3: OBJ
A4: R: | B4: CAD-035/01 | C4: SSO Slaměníkova, Brno - stavební část | AG4: ROZ
A6: P.č. | B6: Číslo položky | C6: Název položky | D6: MJ | E6: Množství | F6: Cena / MJ | G6: Celkem | H6: Dodávka | I6: Dodávka celk. | J6: Montáž | K6: Montáž celk. | L6: DPH | M6: Cena s DPH | N6: Hmotnost / MJ | O6: Hmotnost celk.(t) | P6: Dem. hmotnost / MJ | Q6: Dem. hmotnost celk.(t) | R6: Ceník | S6: Cen. soustava / platnost | T6: Cenová úroveň | U6: Nhod / MJ | V6: Nhod celk. | W6: Dodavatel | X6: Typ položky
A8: Díl: | B8: 1 | C8: Zemní práce | G8: =SUMIF(AG9:AG19,"<>NOR",G9:G19) -> 0 | I8: =SUM(I9:I19) -> 0 | K8: =SUM(K9:K19) -> 0 | M8: =SUM(M9:M19) -> 0 | O8: =SUM(O9:O19) -> 0 | Q8: =SUM(Q9:Q19) -> 0 | V8: =SUM(V9:V19) -> 15.06 | AG8: DIL
A9: 1 | B9: 133201101R00 | C9: Hloubení šachet v hornině 3_x000D_ do 100 m3 | D9: m3 | E9: 4.152 | G9: =ROUND(E9*F9,2) -> 0 | I9: =ROUND(E9*H9,2) -> 0 | K9: =ROUND(E9*J9,2) -> 0 | L9: 21 | M9: =G9*(1+L9/100) -> 0 | N9: 0 | O9: =ROUND(E9*N9,2) -> 0 | P9: 0 | Q9: =ROUND(E9*P9,2) -> 0 | R9: 800-1 | S9: RTS 19/ II | T9: RTS 19/ II | U9: 3.13 | V9: =ROUND(E9*U9,2) -> 13 | X9: Práce | AG9: POL1_1
C10: zapažených i nezapažených se svislým přemístění výkopku a urovnáním dna do předepsaného profilu a spádu, s případným nutným přemístěním výkopku ve výkopišti, s přehozením výkopku na přilehlém terénu na vzdálenost do 5 m od hrany šachty nebo s naložením na dopravní prostředek, | AG10: SPI | BA10: =C10 -> zapažených i nezapažených se svislým přemístění výkopku a urovnáním dna do předepsaného profilu a spádu, s případným nutným přemístěním výkopku ve výkopišti, s přehozením výkopku na přilehlém terénu na vzdálenost do 5 m od hrany šachty nebo s naložením na dopravní prostředek,
C11: 0,50*0,50*0,90*4 | E11: 0.9 | AG11: VV | AH11: 0
C12: 0,30*0,30*0,60*48 | E12: 2.592 | AG12: VV | AH12: 0
C13: 0,50*0,30*0,40*11 | E13: 0.66 | AG13: VV | AH13: 0
A14: 2 | B14: 133201109R00 | C14: Hloubení šachet v hornině 3_x000D_ příplatek za lepivost horniny | D14: m3 | E14: 4.152 | G14: =ROUND(E14*F14,2) -> 0 | I14: =ROUND(E14*H14,2) -> 0 | K14: =ROUND(E14*J14,2) -> 0 | L14: 21 | M14: =G14*(1+L14/100) -> 0 | N14: 0 | O14: =ROUND(E14*N14,2) -> 0 | P14: 0 | Q14: =ROUND(E14*P14,2) -> 0 | R14: 800-1 | S14: RTS 19/ II | T14: RTS 19/ II | U14: 0.474 | V14: =ROUND(E14*U14,2) -> 1.97 | X14: Práce | AG14: POL1_1
C15: zapažených i nezapažených se svislým přemístění výkopku a urovnáním dna do předepsaného profilu a spádu, s případným nutným přemístěním výkopku ve výkopišti, s přehozením výkopku na přilehlém terénu na vzdálenost do 5 m od hrany šachty nebo s naložením na dopravní prostředek, | AG15: SPI | BA15: =C15 -> zapažených i nezapažených se svislým přemístění výkopku a urovnáním dna do předepsaného profilu a spádu, s případným nutným přemístěním výkopku ve výkopišti, s přehozením výkopku na přilehlém terénu na vzdálenost do 5 m od hrany šachty nebo s naložením na dopravní prostředek,
A16: 3 | B16: 162701105R00 | C16: Vodorovné přemístění výkopku z horniny 1 až 4, na vzdálenost přes 9 000 do 10 000 m | D16: m3 | E16: 4.152 | G16: =ROUND(E16*F16,2) -> 0 | I16: =ROUND(E16*H16,2) -> 0 | K16: =ROUND(E16*J16,2) -> 0 | L16: 21 | M16: =G16*(1+L16/100) -> 0 | N16: 0 | O16: =ROUND(E16*N16,2) -> 0 | P16: 0 | Q16: =ROUND(E16*P16,2) -> 0 | R16: 800-1 | S16: RTS 19/ II | T16: RTS 19/ II | U16: 0.011 | V16: =ROUND(E16*U16,2) -> 0.05 | X16: Práce | AG16: POL1_1
C17: po suchu, bez naložení výkopku, avšak se složením bez rozhrnutí, zpáteční cesta vozidla. | AG17: SPI
A18: 4 | B18: 171201201R00 | C18: Uložení sypaniny na dočasnou skládku tak, že na 1 m2 plochy připadá přes 2 m3 výkopku nebo ornice | D18: m3 | E18: 4.152 | G18: =ROUND(E18*F18,2) -> 0 | I18: =ROUND(E18*H18,2) -> 0 | K18: =ROUND(E18*J18,2) -> 0 | L18: 21 | M18: =G18*(1+L18/100) -> 0 | N18: 0 | O18: =ROUND(E18*N18,2) -> 0 | P18: 0 | Q18: =ROUND(E18*P18,2) -> 0 | R18: 800-1 | S18: RTS 19/ II | T18: RTS 19/ II | U18: 0.009 | V18: =ROUND(E18*U18,2) -> 0.04 | X18: Práce | AG18: POL1_1
A19: 5 | B19: 199000002R00 | C19: Poplatky za skládku horniny 1- 4 | D19: m3 | E19: 4.152 | G19: =ROUND(E19*F19,2) -> 0 | I19: =ROUND(E19*H19,2) -> 0 | K19: =ROUND(E19*J19,2) -> 0 | L19: 21 | M19: =G19*(1+L19/100) -> 0 | N19: 0 | O19: =ROUND(E19*N19,2) -> 0 | P19: 0 | Q19: =ROUND(E19*P19,2) -> 0 | R19: 800-1 | S19: RTS 19/ II | T19: RTS 19/ II | U19: 0 | V19: =ROUND(E19*U19,2) -> 0 | X19: Práce | AG19: POL1_
A20: Díl: | B20: 2 | C20: Základy a zvláštní zakládání | G20: =SUMIF(AG21:AG29,"<>NOR",G21:G29) -> 0 | I20: =SUM(I21:I29) -> 0 | K20: =SUM(K21:K29) -> 0 | M20: =SUM(M21:M29) -> 0 | O20: =SUM(O21:O29) -> 12.62 | Q20: =SUM(Q21:Q29) -> 0 | V20: =SUM(V21:V29) -> 41.51 | AG20: DIL
A21: 6 | B21: 275310020RAA | C21: Základové patky z betonu prostého včetně bednění z betonu C 12/15 , štěrkopískový poklad 100 mm | D21: m3 | E21: 4.29732 | G21: =ROUND(E21*F21,2) -> 0 | I21: =ROUND(E21*H21,2) -> 0 | K21: =ROUND(E21*J21,2) -> 0 | L21: 21 | M21: =G21*(1+L21/100) -> 0 | N21: 2.93634 | O21: =ROUND(E21*N21,2) -> 12.62 | P21: 0 | Q21: =ROUND(E21*P21,2) -> 0 | R21: AP-HSV | S21: RTS 19/ II | T21: RTS 19/ II | U21: 9.66 | V21: =ROUND(E21*U21,2) -> 41.51 | X21: Agregovaná položka | AG21: POL2_1
C22: odbednění a podkladu ze štěrkopísku. | AG22: SPI
C23: Začátek provozního součtu | AG23: VV
C24: 0,50*0,50*0,90*4 | E24: 0.9 | AG24: VV | AH24: 2
C25: 0,30*0,30*0,60*48 | E25: 2.592 | AG25: VV | AH25: 2
C26: 0,50*0,30*0,40*11 | E26: 0.66 | AG26: VV | AH26: 2
C27: Mezisoučet | E27: 4.152 | AG27: VV | AH27: 3
C28: Konec provozního součtu | AG28: VV
C29: 4,152*1,035 | E29: 4.29732 | AG29: VV | AH29: 0
A30: Díl: | B30: 3 | C30: Svislé a kompletní konstrukce | G30: =SUMIF(AG31:AG33,"<>NOR",G31:G33) -> 0 | I30: =SUM(I31:I33) -> 0 | K30: =SUM(K31:K33) -> 0 | M30: =SUM(M31:M33) -> 0 | O30: =SUM(O31:O33) -> 0.44 | Q30: =SUM(Q31:Q33) -> 0 | V30: =SUM(V31:V33) -> 32.76 | AG30: DIL
A31: 7 | B31: 338171121R00 | C31: Osazování sloupků a vzpěr plotových ocelových výšky do 2,60 m, se zalitím jakoukoliv cementovou maltou do vynechaných otvorů | D31: kus | E31: 63 | G31: =ROUND(E31*F31,2) -> 0 | I31: =ROUND(E31*H31,2) -> 0 | K31: =ROUND(E31*J31,2) -> 0 | L31: 21 | M31: =G31*(1+L31/100) -> 0 | N31: 0.00702 | O31: =ROUND(E31*N31,2) -> 0.44 | P31: 0 | Q31: =ROUND(E31*P31,2) -> 0 | R31: 801-5 | S31: RTS 19/ II | T31: RTS 19/ II | U31: 0.52 | V31: =ROUND(E31*U31,2) -> 32.76 | X31: Práce | AG31: POL1_1
C32: trubkových nebo profilovaných | AG32: SPI
C33: 2+2+48+11 | E33: 63 | AG33: VV | AH33: 0
A34: Díl: | B34: 63 | C34: Podlahy a podlahové konstrukce | G34: =SUMIF(AG35:AG49,"<>NOR",G35:G49) -> 0 | I34: =SUM(I35:I49) -> 0 | K34: =SUM(K35:K49) -> 0 | M34: =SUM(M35:M49) -> 0 | O34: =SUM(O35:O49) -> 0.27 | Q34: =SUM(Q35:Q49) -> 0 | V34: =SUM(V35:V49) -> 0.49 | AG34: DIL
A35: 8 | B35: 632921913R00 | C35: Dlažba vnitřní nebo vnější při objektu z dlaždic betonových betonových kladených do písku se zalitím spár na celou výšku cementovou maltou pro spárování _x000D_ o tloušťce dlaždic 60 mm | D35: m2 | E35: 0.96 | G35: =ROUND(E35*F35,2) -> 0 | I35: =ROUND(E35*H35,2) -> 0 | K35: =ROUND(E35*J35,2) -> 0 | L35: 21 | M35: =G35*(1+L35/100) -> 0 | N35: 0.27827 | O35: =ROUND(E35*N35,2) -> 0.27 | P35: 0 | Q35: =ROUND(E35*P35,2) -> 0 | R35: 801-1 | S35: RTS 19/ II | T35: RTS 19/ II | U35: 0.508 | V35: =ROUND(E35*U35,2) -> 0.49 | X35: Práce | AG35: POL1_1
C36: vodorovná nebo ve spádu do 15° od vodorovné roviny | AG36: SPI
C37: 0,40*0,40*6 | E37: 0.96 | AG37: VV | AH37: 0
A38: 9 | B38: 63201 | C38: D+M podkladní ocel. plotny 400/5-400mm | D38: kg | E38: 33 | G38: =ROUND(E38*F38,2) -> 0 | I38: =ROUND(E38*H38,2) -> 0 | K38: =ROUND(E38*J38,2) -> 0 | L38: 21 | M38: =G38*(1+L38/100) -> 0 | N38: 0 | O38: =ROUND(E38*N38,2) -> 0 | P38: 0 | Q38: =ROUND(E38*P38,2) -> 0 | S38: Vlastní | T38: Indiv | U38: 0 | V38: =ROUND(E38*U38,2) -> 0 | X38: Práce | AG38: POL1_1
C39: Začátek provozního součtu | AG39: POP
C40: Plech 400/5-400mm, 13,74kg/m: | AG40: POP
C41: Hmotnost 1 ks:13,74*0,40 | AG41: POP
C42: Cena 1 ks-68,00Kč/kg:5,496*68,00 | AG42: POP
...

Sheet 02 CAD-035_02 Pol
A1: Položkový soupis prací a dodávek | AG1: #TypZaznamu#
A2: S: | B2: CAD-039 | C2: Sběrné středisko odpadů, ul. Slaměníkova, Brno - CÚ 2019/II | AG2: STA
A3: O: | B3: 02 | C3: Přípojka vody a kanalizace | AC3: STA | AG3: OBJ
A4: R: | B4: CAD-035/02 | C4: SSO Slaměníkova, Brno - přípojka vody a kanalizace | AG4: ROZ
A6: P.č. | B6: Číslo položky | C6: Název položky | D6: MJ | E6: Množství | F6: Cena / MJ | G6: Celkem | H6: Dodávka | I6: Dodávka celk. | J6: Montáž | K6: Montáž celk. | L6: DPH | M6: Cena s DPH | N6: Hmotnost / MJ | O6: Hmotnost celk.(t) | P6: Dem. hmotnost / MJ | Q6: Dem. hmotnost celk.(t) | R6: Ceník | S6: Cen. soustava / platnost | T6: Cenová úroveň | U6: Nhod / MJ | V6: Nhod celk. | W6: Dodavatel | X6: Typ položky
A8: Díl: | B8: 1 | C8: Zemní práce | G8: =SUMIF(AG9:AG33,"<>NOR",G9:G33) -> 0 | I8: =SUM(I9:I33) -> 0 | K8: =SUM(K9:K33) -> 0 | M8: =SUM(M9:M33) -> 0 | O8: =SUM(O9:O33) -> 7.99 | Q8: =SUM(Q9:Q33) -> 3.25 | V8: =SUM(V9:V33) -> 145.57 | AG8: DIL
A9: 1 | B9: 113107305R00 | C9: Odstranění podkladů nebo krytů z kameniva těženého, v ploše jednotlivě do 50 m2, tloušťka vrstvy 50 mm | D9: m2 | E9: 29.52 | G9: =ROUND(E9*F9,2) -> 0 | I9: =ROUND(E9*H9,2) -> 0 | K9: =ROUND(E9*J9,2) -> 0 | L9: 21 | M9: =G9*(1+L9/100) -> 0 | N9: 0 | O9: =ROUND(E9*N9,2) -> 0 | P9: 0.11 | Q9: =ROUND(E9*P9,2) -> 3.25 | R9: 822-1 | S9: RTS 19/ II | T9: RTS 19/ II | U9: 0.1255 | V9: =ROUND(E9*U9,2) -> 3.7 | X9: Práce | AG9: POL1_1
C10: kanal: : 1,10*9 | E10: 9.9 | AG10: VV | AH10: 0
C11: voda: : (1,1*13,2)+(3*1,7) | E11: 19.62 | AG11: VV | AH11: 0
A12: 2 | B12: 130001101R00 | C12: v horninách jakékoliv třídy | D12: m3 | E12: 2.2 | G12: =ROUND(E12*F12,2) -> 0 | I12: =ROUND(E12*H12,2) -> 0 | K12: =ROUND(E12*J12,2) -> 0 | L12: 21 | M12: =G12*(1+L12/100) -> 0 | N12: 0 | O12: =ROUND(E12*N12,2) -> 0 | P12: 0 | Q12: =ROUND(E12*P12,2) -> 0 | S12: RTS 19/ II | T12: RTS 19/ II | U12: 1.763 | V12: =ROUND(E12*U12,2) -> 3.88 | X12: Práce | AG12: POL1_1
C13: 1,1*2 | E13: 2.2 | AG13: VV | AH13: 0
A14: 3 | B14: 132201210R00 | C14: Hloubení rýh šířky přes 60 do 200 cm do 50 m3, v hornině 3, hloubení strojně | D14: m3 | E14: 43.9704 | G14: =ROUND(E14*F14,2) -> 0 | I14: =ROUND(E14*H14,2) -> 0 | K14: =ROUND(E14*J14,2) -> 0 | L14: 21 | M14: =G14*(1+L14/100) -> 0 | N14: 0 | O14: =ROUND(E14*N14,2) -> 0 | P14: 0 | Q14: =ROUND(E14*P14,2) -> 0 | R14: 800-1 | S14: RTS 19/ II | T14: RTS 19/ II | U14: 0.365 | V14: =ROUND(E14*U14,2) -> 16.05 | X14: Práce | AG14: POL1_1
C15: zapažených i nezapažených, s urovnáním dna do předepsaného profilu a spádu, s případně nutným přehozením výkopku na vzdálenost do 3 m ve výkopišti, s přehozením výkopku na přilehlém terénu na vzdálenost do 5 m od podélné osy rýhy nebo s naložením výkopku na dopravní prostředek. | AG15: SPI | BA15: =C15 -> zapažených i nezapažených, s urovnáním dna do předepsaného profilu a spádu, s případně nutným přehozením výkopku na vzdálenost do 3 m ve výkopišti, s přehozením výkopku na přilehlém terénu na vzdálenost do 5 m od podélné osy rýhy nebo s naložením výkopku na dopravní prostředek.
C16: 1,78*13,2*1,1 | E16: 25.8456 | AG16: VV | AH16: 0
C17: 1,28*1,2*11,8 | E17: 18.1248 | AG17: VV | AH17: 0
A18: 4 | B18: 132201210R00 | C18: Hloubení rýh šířky přes 60 do 200 cm do 50 m3, v hornině 3, hloubení strojně | D18: m3 | E18: 43.9704 | G18: =ROUND(E18*F18,2) -> 0 | I18: =ROUND(E18*H18,2) -> 0 | K18: =ROUND(E18*J18,2) -> 0 | L18: 21 | M18: =G18*(1+L18/100) -> 0 | N18: 0 | O18: =ROUND(E18*N18,2) -> 0 | P18: 0 | Q18: =ROUND(E18*P18,2) -> 0 | R18: 800-1 | S18: RTS 19/ II | T18: RTS 19/ II | U18: 0.365 | V18: =ROUND(E18*U18,2) -> 16.05 | X18: Práce | AG18: POL1_1
C19: zapažených i nezapažených, s urovnáním dna do předepsaného profilu a spádu, s případně nutným přehozením výkopku na vzdálenost do 3 m ve výkopišti, s přehozením výkopku na přilehlém terénu na vzdálenost do 5 m od podélné osy rýhy nebo s naložením výkopku na dopravní prostředek. | AG19: SPI | BA19: =C19 -> zapažených i nezapažených, s urovnáním dna do předepsaného profilu a spádu, s případně nutným přehozením výkopku na vzdálenost do 3 m ve výkopišti, s přehozením výkopku na přilehlém terénu na vzdálenost do 5 m od podélné osy rýhy nebo s naložením výkopku na dopravní prostředek.
A20: 5 | B20: 133201101R00 | C20: do 100 m3 | D20: m3 | E20: 13.26 | G20: =ROUND(E20*F20,2) -> 0 | I20: =ROUND(E20*H20,2) -> 0 | K20: =ROUND(E20*J20,2) -> 0 | L20: 21 | M20: =G20*(1+L20/100) -> 0 | N20: 0 | O20: =ROUND(E20*N20,2) -> 0 | P20: 0 | Q20: =ROUND(E20*P20,2) -> 0 | S20: RTS 19/ II | T20: RTS 19/ II | U20: 3.131 | V20: =ROUND(E20*U20,2) -> 41.52 | X20: Práce | AG20: POL1_1
C21: (2,8-1,1)*3*2,6 : | AG21: VV | AH21: 0
C22: 13,26 | E22: 13.26 | AG22: VV | AH22: 0
A23: 6 | B23: 133201109R00 | C23: za lepivost horniny | D23: m3 | E23: 13.26 | G23: =ROUND(E23*F23,2) -> 0 | I23: =ROUND(E23*H23,2) -> 0 | K23: =ROUND(E23*J23,2) -> 0 | L23: 21 | M23: =G23*(1+L23/100) -> 0 | N23: 0 | O23: =ROUND(E23*N23,2) -> 0 | P23: 0 | Q23: =ROUND(E23*P23,2) -> 0 | S23: RTS 19/ II | T23: RTS 19/ II | U23: 0.474 | V23: =ROUND(E23*U23,2) -> 6.29 | X23: Práce | AG23: POL1_1
A24: 7 | B24: 151101101R00 | C24: příložné pro jakoukoliv mezerovitost, hloubky do 2 m | D24: m2 | E24: 77.2 | G24: =ROUND(E24*F24,2) -> 0 | I24: =ROUND(E24*H24,2) -> 0 | K24: =ROUND(E24*J24,2) -> 0 | L24: 21 | M24: =G24*(1+L24/100) -> 0 | N24: 0.00099 | O24: =ROUND(E24*N24,2) -> 0.08 | P24: 0 | Q24: =ROUND(E24*P24,2) -> 0 | S24: RTS 19/ II | T24: RTS 19/ II | U24: 0.236 | V24: =ROUND(E24*U24,2) -> 18.22 | X24: Práce | AG24: POL1_1
C25: voda: : 13,2*1,78*2 | E25: 46.992 | AG25: VV | AH25: 0
C26: kan: : 11,8*1,28*2 | E26: 30.208 | AG26: VV | AH26: 0
A27: 8 | B27: 151101111R00 | C27: příložné , hloubky do 2 m | D27: m2 | E27: 77.2 | G27: =ROUND(E27*F27,2) -> 0 | I27: =ROUND(E27*H27,2) -> 0 | K27: =ROUND(E27*J27,2) -> 0 | L27: 21 | M27: =G27*(1+L27/100) -> 0 | N27: 0 | O27: =ROUND(E27*N27,2) -> 0 | P27: 0 | Q27: =ROUND(E27*P27,2) -> 0 | S27: RTS 19/ II | T27: RTS 19/ II | U27: 0.07 | V27: =ROUND(E27*U27,2) -> 5.4 | X27: Práce | AG27: POL1_1
A28: 9 | B28: 161101101R00 | C28: z horniny 1 až 4, při hloubce výkopu přes 1 do 2,5 m | D28: m3 | E28: 43.97 | G28: =ROUND(E28*F28,2) -> 0 | I28: =ROUND(E28*H28,2) -> 0 | K28: =ROUND(E28*J28,2) -> 0 | L28: 21 | M28: =G28*(1+L28/100) -> 0 | N28: 0 | O28: =ROUND(E28*N28,2) -> 0 | P28: 0 | Q28: =ROUND(E28*P28,2) -> 0 | S28: RTS 19/ II | T28: RTS 19/ II | U28: 0.345 | V28: =ROUND(E28*U28,2) -> 15.17 | X28: Práce | AG28: POL1_1
A29: 10 | B29: 162201102R00 | C29: z horniny 1 až 4, na vzdálenost přes 20 do 50 m | D29: m3 | E29: 43.97 | G29: =ROUND(E29*F29,2) -> 0 | I29: =ROUND(E29*H29,2) -> 0 | K29: =ROUND(E29*J29,2) -> 0 | L29: 21 | M29: =G29*(1+L29/100) -> 0 | N29: 0 | O29: =ROUND(E29*N29,2) -> 0 | P29: 0 | Q29: =ROUND(E29*P29,2) -> 0 | S29: RTS 19/ II | T29: RTS 19/ II | U29: 0.074 | V29: =ROUND(E29*U29,2) -> 3.25 | X29: Práce | AG29: POL1_1
A30: 11 | B30: 199000005R00 | C30: Poplatky za skládku zeminy 1- 4 | D30: t | E30: 14.35 | G30: =ROUND(E30*F30,2) -> 0 | I30: =ROUND(E30*H30,2) -> 0 | K30: =ROUND(E30*J30,2) -> 0 | L30: 21 | M30: =G30*(1+L30/100) -> 0 | N30: 0 | O30: =ROUND(E30*N30,2) -> 0 | P30: 0 | Q30: =ROUND(E30*P30,2) -> 0 | R30: 800-1 | S30: RTS 19/ II | T30: RTS 19/ II | U30: 0 | V30: =ROUND(E30*U30,2) -> 0 | X30: Práce | AG30: POL1_1
A31: 12 | B31: 174101101R00 | C31: jam, šachet, rýh nebo kolem objektů v těchto vykopávkách | D31: m3 | E31: 42.88 | G31: =ROUND(E31*F31,2) -> 0 | I31: =ROUND(E31*H31,2) -> 0 | K31: =ROUND(E31*J31,2) -> 0 | L31: 21 | M31: =G31*(1+L31/100) -> 0 | N31: 0 | O31: =ROUND(E31*N31,2) -> 0 | P31: 0 | Q31: =ROUND(E31*P31,2) -> 0 | S31: RTS 19/ II | T31: RTS 19/ II | U31: 0.202 | V31: =ROUND(E31*U31,2) -> 8.66 | X31: Práce | AG31: POL1_1
C32: 43,97+13,26-14,35 | E32: 42.88 | AG32: VV | AH32: 0
A33: 13 | B33: 175101101RT2 | C33: bez prohození sypaniny, s dodáním štěrkopísku frakce 0 - 22 mm | D33: m3 | E33: 4.65 | G33: =ROUND(E33*F33,2) -> 0 | I33: =ROUND(E33*H33,2) -> 0 | K33: =ROUND(E33*J33,2) -> 0 | L33: 21 | M33: =G33*(1+L33/100) -> 0 | N33: 1.7 | O33: =ROUND(E33*N33,2) -> 7.91 | P33: 0 | Q33: =ROUND(E33*P33,2) -> 0 | S33: RTS 19/ II | T33: RTS 19/ II | U33: 1.587 | V33: =ROUND(E33*U33,2) -> 7.38 | X33: Práce | AG33: POL1_1
A34: Díl: | B34: 4 | C34: Vodorovné konstrukce | G34: =SUMIF(AG35:AG44,"<>NOR",G35:G44) -> 0 | I34: =SUM(I35:I44) -> 0 | K34: =SUM(K35:K44) -> 0 | M34: =SUM(M35:M44) -> 0 | O34: =SUM(O35:O44) -> 5.75 | Q34: =SUM(Q35:Q44) -> 0 | V34: =SUM(V35:V44) -> 6.07 | AG34: DIL
A35: 14 | B35: 451572111R00 | C35: Lože pod potrubí, stoky a drobné objekty z kameniva drobného těženého 0÷4 mm | D35: m3 | E35: 2.178 | G35: =ROUND(E35*F35,2) -> 0 | I35: =ROUND(E35*H35,2) -> 0 | K35: =ROUND(E35*J35,2) -> 0 | L35: 21 | M35: =G35*(1+L35/100) -> 0 | N35: 1.89077 | O35: =ROUND(E35*N35,2) -> 4.12 | P35: 0 | Q35: =ROUND(E35*P35,2) -> 0 | R35: 827-1 | S35: RTS 19/ II | T35: RTS 19/ II | U35: 1.695 | V35: =ROUND(E35*U35,2) -> 3.69 | X35: Práce | AG35: POL1_1
C36: v otevřeném výkopu, | AG36: SPI
C37: 13,20*1,1*0,15 | E37: 2.178 | AG37: VV | AH37: 0
A38: 15 | B38: 452111111R00 | C38: průřezové plochy do 25 000 mm2 | D38: kus | E38: 12 | G38: =ROUND(E38*F38,2) -> 0 | I38: =ROUND(E38*H38,2) -> 0 | K38: =ROUND(E38*J38,2) -> 0 | L38: 21 | M38: =G38*(1+L38/100) -> 0 | N38: 0.00165 | O38: =ROUND(E38*N38,2) -> 0.02 | P38: 0 | Q38: =ROUND(E38*P38,2) -> 0 | S38: RTS 19/ II | T38: RTS 19/ II | U38: 0.074 | V38: =ROUND(E38*U38,2) -> 0.89 | X38: Práce | AG38: POL1_1
A39: 16 | B39: 452111121R00 | C39: průřezové plochy přes 25 000 do 50 000 mm2 | D39: kus | E39: 1 | G39: =ROUND(E39*F39,2) -> 0 | I39: =ROUND(E39*H39,2) -> 0 | K39: =ROUND(E39*J39,2) -> 0 | L39: 21 | M39: =G39*(1+L39/100) -> 0 | N39: 0.00165 | O39: =ROUND(E39*N39,2) -> 0 | P39: 0 | Q39: =ROUND(E39*P39,2) -> 0 | S39: RTS 19/ II | T39: RTS 19/ II | U39: 0.147 | V39: =ROUND(E39*U39,2) -> 0.15 | X39: Práce | AG39: POL1_1
A40: 17 | B40: 452311151R00 | C40: desky pod potrubí, stoky a drobné objekty , z betonu prostého třídy C 20/25 | D40: m3 | E40: 0.3825 | G40: =ROUND(E40*F40,2) -> 0 | I40: =ROUND(E40*H40,2) -> 0 | K40: =ROUND(E40*J40,2) -> 0 | L40: 21 | M40: =G40*(1+L40/100) -> 0 | N40: 2.5 | O40: =ROUND(E40*N40,2) -> 0.96 | P40: 0 | Q40: =ROUND(E40*P40,2) -> 0 | S40: RTS 19/ II | T40: RTS 19/ II | U40: 1.449 | V40: =ROUND(E40*U40,2) -> 0.55 | X40: Práce | AG40: POL1_1
C41: 1,7*1,5*0,15 : 1,7*1,5*0,15 | E41: 0.3825 | AG41: VV | AH41: 0
A42: 18 | B42: 452351101R00 | C42: desek nebo sedlových loží pod potrubí, stoky a drobné objekty | D42: m2 | E42: 0.96 | G42: =ROUND(E42*F42,2) -> 0 | I42: =ROUND(E42*H42,2) -> 0 | K42: =ROUND(E42*J42,2) -> 0 | L42: 21 | M42: =G42*(1+L42/100) -> 0 | N42: 0.00441 | O42: =ROUND(E42*N42,2) -> 0 | P42: 0 | Q42: =ROUND(E42*P42,2) -> 0 | S42: RTS 19/ II | T42: RTS 19/ II | U42: 0.821 | V42: =ROUND(E42*U42,2) -> 0.79 | X42: Práce | AG42: POL1_1
...

Sheet 03 CAD-035_03 Pol
A1: Položkový soupis prací a dodávek | AG1: #TypZaznamu#
A2: S: | B2: CAD-039 | C2: Sběrné středisko odpadů, ul. Slaměníkova, Brno - CÚ 2019/II | AG2: STA
A3: O: | B3: 03 | C3: Zpevněné plochy a doprava | AC3: STA | AG3: OBJ
A4: R: | B4: CAD-035/03 | C4: SSO Slaměníkova - zpevněné plochy a doprava | AG4: ROZ
A6: P.č. | B6: Číslo položky | C6: Název položky | D6: MJ | E6: Množství | F6: Cena / MJ | G6: Celkem | H6: Dodávka | I6: Dodávka celk. | J6: Montáž | K6: Montáž celk. | L6: DPH | M6: Cena s DPH | N6: Hmotnost / MJ | O6: Hmotnost celk.(t) | P6: Dem. hmotnost / MJ | Q6: Dem. hmotnost celk.(t) | R6: Ceník | S6: Cen. soustava / platnost | T6: Cenová úroveň | U6: Nhod / MJ | V6: Nhod celk. | W6: Dodavatel | X6: Typ položky
A8: Díl: | B8: 1 | C8: Zemní práce | G8: =SUMIF(AG9:AG9,"<>NOR",G9:G9) -> 0 | I8: =SUM(I9:I9) -> 0 | K8: =SUM(K9:K9) -> 0 | M8: =SUM(M9:M9) -> 0 | O8: =SUM(O9:O9) -> 0 | Q8: =SUM(Q9:Q9) -> 0 | V8: =SUM(V9:V9) -> 0.49 | AG8: DIL
A9: 1 | B9: 181101102R00 | C9: v hornině 1 až 4, se zhutněním | D9: m2 | E9: 27 | G9: =ROUND(E9*F9,2) -> 0 | I9: =ROUND(E9*H9,2) -> 0 | K9: =ROUND(E9*J9,2) -> 0 | L9: 21 | M9: =G9*(1+L9/100) -> 0 | N9: 0 | O9: =ROUND(E9*N9,2) -> 0 | P9: 0 | Q9: =ROUND(E9*P9,2) -> 0 | S9: RTS 19/ II | T9: RTS 19/ II | U9: 0.018 | V9: =ROUND(E9*U9,2) -> 0.49 | X9: Práce | AG9: POL1_1
A10: Díl: | B10: 5 | C10: Komunikace | G10: =SUMIF(AG11:AG14,"<>NOR",G11:G14) -> 0 | I10: =SUM(I11:I14) -> 0 | K10: =SUM(K11:K14) -> 0 | M10: =SUM(M11:M14) -> 0 | O10: =SUM(O11:O14) -> 35.88 | Q10: =SUM(Q11:Q14) -> 0 | V10: =SUM(V11:V14) -> 11.25 | AG10: DIL
A11: 2 | B11: 565161111R00 | C11: ACP 16+ až ACP 22+, v pruhu šířky do 3 m, třídy 1, tloušťka po zhutnění 80 mm | D11: m2 | E11: 57 | G11: =ROUND(E11*F11,2) -> 0 | I11: =ROUND(E11*H11,2) -> 0 | K11: =ROUND(E11*J11,2) -> 0 | L11: 21 | M11: =G11*(1+L11/100) -> 0 | N11: 0.211 | O11: =ROUND(E11*N11,2) -> 12.03 | P11: 0 | Q11: =ROUND(E11*P11,2) -> 0 | S11: RTS 19/ II | T11: RTS 19/ II | U11: 0.072 | V11: =ROUND(E11*U11,2) -> 4.1 | X11: Práce | AG11: POL1_1
A12: 3 | B12: 567132113R00 | C12: SC C8/10, tloušťka po zhutnění 180 mm | D12: m2 | E12: 27 | G12: =ROUND(E12*F12,2) -> 0 | I12: =ROUND(E12*H12,2) -> 0 | K12: =ROUND(E12*J12,2) -> 0 | L12: 21 | M12: =G12*(1+L12/100) -> 0 | N12: 0.45977 | O12: =ROUND(E12*N12,2) -> 12.41 | P12: 0 | Q12: =ROUND(E12*P12,2) -> 0 | S12: RTS 19/ II | T12: RTS 19/ II | U12: 0.026 | V12: =ROUND(E12*U12,2) -> 0.7 | X12: Práce | AG12: POL1_1
A13: 4 | B13: 573211111R00 | C13: z asfaltu silničního, v množství od 0,5 do 0,7 kg/m2 | D13: m2 | E13: 57 | G13: =ROUND(E13*F13,2) -> 0 | I13: =ROUND(E13*H13,2) -> 0 | K13: =ROUND(E13*J13,2) -> 0 | L13: 21 | M13: =G13*(1+L13/100) -> 0 | N13: 0.00061 | O13: =ROUND(E13*N13,2) -> 0.03 | P13: 0 | Q13: =ROUND(E13*P13,2) -> 0 | S13: RTS 19/ II | T13: RTS 19/ II | U13: 0.002 | V13: =ROUND(E13*U13,2) -> 0.11 | X13: Práce | AG13: POL1_1
A14: 5 | B14: 577141112R00 | C14: v pruhu šířky do 3 m, ACO 11+ nebo ACO 16+, tloušťky 50 mm, plochy přes 1000 m2 | D14: m2 | E14: 88 | G14: =ROUND(E14*F14,2) -> 0 | I14: =ROUND(E14*H14,2) -> 0 | K14: =ROUND(E14*J14,2) -> 0 | L14: 21 | M14: =G14*(1+L14/100) -> 0 | N14: 0.12966 | O14: =ROUND(E14*N14,2) -> 11.41 | P14: 0 | Q14: =ROUND(E14*P14,2) -> 0 | S14: RTS 19/ II | T14: RTS 19/ II | U14: 0.072 | V14: =ROUND(E14*U14,2) -> 6.34 | X14: Práce | AG14: POL1_1
A15: Díl: | B15: 91 | C15: Doplňující práce na komunikaci | G15: =SUMIF(AG16:AG37,"<>NOR",G16:G37) -> 0 | I15: =SUM(I16:I37) -> 0 | K15: =SUM(K16:K37) -> 0 | M15: =SUM(M16:M37) -> 0 | O15: =SUM(O16:O37) -> 11.64 | Q15: =SUM(Q16:Q37) -> 0 | V15: =SUM(V16:V37) -> 13.99 | AG15: DIL
A16: 6 | B16: 911340111R00 | C16: , výšky 500 mm | D16: m | E16: 50 | G16: =ROUND(E16*F16,2) -> 0 | I16: =ROUND(E16*H16,2) -> 0 | K16: =ROUND(E16*J16,2) -> 0 | L16: 21 | M16: =G16*(1+L16/100) -> 0 | N16: 0.001 | O16: =ROUND(E16*N16,2) -> 0.05 | P16: 0 | Q16: =ROUND(E16*P16,2) -> 0 | S16: RTS 19/ II | T16: RTS 19/ II | U16: 0.22346 | V16: =ROUND(E16*U16,2) -> 11.17 | X16: Práce | AG16: POL1_1
C17: CTB 501+502 : 2,00*17+1,00*10 | E17: 44 | AG17: VV | AH17: 0
C18: CTB 503 : 2,00*2+1,00*2 | E18: 6 | AG18: VV | AH18: 0
A19: 7 | B19: 919735111R00 | C19: živičných, hloubky do 50 mm | D19: m | E19: 88 | G19: =ROUND(E19*F19,2) -> 0 | I19: =ROUND(E19*H19,2) -> 0 | K19: =ROUND(E19*J19,2) -> 0 | L19: 21 | M19: =G19*(1+L19/100) -> 0 | N19: 0 | O19: =ROUND(E19*N19,2) -> 0 | P19: 0 | Q19: =ROUND(E19*P19,2) -> 0 | S19: RTS 19/ II | T19: RTS 19/ II | U19: 0.032 | V19: =ROUND(E19*U19,2) -> 2.82 | X19: Práce | AG19: POL1_1
A20: 8 | B20: 40445000.AR | C20: značka dopravní silniční svislá; upravující přenost P6; tvar osmiúhelník; 700 mm; štít z pozink.plechu s dvoj.ohybem,retroref.folie II.tř.; záruka 10 let | D20: kus | E20: 1 | G20: =ROUND(E20*F20,2) -> 0 | I20: =ROUND(E20*H20,2) -> 0 | K20: =ROUND(E20*J20,2) -> 0 | L20: 21 | M20: =G20*(1+L20/100) -> 0 | N20: 0.0051 | O20: =ROUND(E20*N20,2) -> 0.01 | P20: 0 | Q20: =ROUND(E20*P20,2) -> 0 | R20: SPCM | S20: RTS 19/ II | T20: RTS 19/ II | U20: 0 | V20: =ROUND(E20*U20,2) -> 0 | X20: Specifikace | AG20: POL3_
A21: 9 | B21: 40445005.AR | C21: značka dopravní silniční svislá; upravující přednost P7; tvar kruh; 500 mm; štít z pozink.plechu s dvoj.ohybem,retroref.folie I.tř.; záruka 7 let | D21: kus | E21: 1 | G21: =ROUND(E21*F21,2) -> 0 | I21: =ROUND(E21*H21,2) -> 0 | K21: =ROUND(E21*J21,2) -> 0 | L21: 21 | M21: =G21*(1+L21/100) -> 0 | N21: 0.0051 | O21: =ROUND(E21*N21,2) -> 0.01 | P21: 0 | Q21: =ROUND(E21*P21,2) -> 0 | R21: SPCM | S21: RTS 19/ II | T21: RTS 19/ II | U21: 0 | V21: =ROUND(E21*U21,2) -> 0 | X21: Specifikace | AG21: POL3_
A22: 10 | B22: 40445014.AR | C22: značka dopravní silniční svislá; upravující přednost P8; tvar čtverec; 500 mm; štít z pozink.plechu s dvoj.ohybem,retroref.folie I.tř.; záruka 7 let | D22: kus | E22: 1 | G22: =ROUND(E22*F22,2) -> 0 | I22: =ROUND(E22*H22,2) -> 0 | K22: =ROUND(E22*J22,2) -> 0 | L22: 21 | M22: =G22*(1+L22/100) -> 0 | N22: 0.0051 | O22: =ROUND(E22*N22,2) -> 0.01 | P22: 0 | Q22: =ROUND(E22*P22,2) -> 0 | R22: SPCM | S22: RTS 19/ II | T22: RTS 19/ II | U22: 0 | V22: =ROUND(E22*U22,2) -> 0 | X22: Specifikace | AG22: POL3_
A23: 11 | B23: 40445020.AR | C23: značka dopravní silniční svislá; zákazová B1-B34; tvar kruh; 500 mm; štít z pozink.plechu s dvoj.ohybem,retroref.folie I.tř.; záruka 7 let | D23: kus | E23: 3 | G23: =ROUND(E23*F23,2) -> 0 | I23: =ROUND(E23*H23,2) -> 0 | K23: =ROUND(E23*J23,2) -> 0 | L23: 21 | M23: =G23*(1+L23/100) -> 0 | N23: 0.0051 | O23: =ROUND(E23*N23,2) -> 0.02 | P23: 0 | Q23: =ROUND(E23*P23,2) -> 0 | R23: SPCM | S23: RTS 19/ II | T23: RTS 19/ II | U23: 0 | V23: =ROUND(E23*U23,2) -> 0 | X23: Specifikace | AG23: POL3_
A24: 12 | B24: 40445044.AR | C24: značka dopravní silniční svislá; informativní provozní IP4b-IP7,IP10; tvar čtverec; 500 mm; štít z pozink.plechu s dvoj.ohybem,retroref.folie I.tř.; záruka 7 let | D24: kus | E24: 1 | G24: =ROUND(E24*F24,2) -> 0 | I24: =ROUND(E24*H24,2) -> 0 | K24: =ROUND(E24*J24,2) -> 0 | L24: 21 | M24: =G24*(1+L24/100) -> 0 | N24: 0.0051 | O24: =ROUND(E24*N24,2) -> 0.01 | P24: 0 | Q24: =ROUND(E24*P24,2) -> 0 | R24: SPCM | S24: RTS 19/ II | T24: RTS 19/ II | U24: 0 | V24: =ROUND(E24*U24,2) -> 0 | X24: Specifikace | AG24: POL3_
A25: 13 | B25: 40444934.AR | C25: značka dopravní silniční svislá; výstražná A1-A30; tvar trojúhelník; 700 mm; štít z pozink.plechu s dvoj.ohybem okraje,retroref.folie I.tř.; záruka 7 let | D25: kus | E25: 2 | G25: =ROUND(E25*F25,2) -> 0 | I25: =ROUND(E25*H25,2) -> 0 | K25: =ROUND(E25*J25,2) -> 0 | L25: 21 | M25: =G25*(1+L25/100) -> 0 | N25: 0.0051 | O25: =ROUND(E25*N25,2) -> 0.01 | P25: 0 | Q25: =ROUND(E25*P25,2) -> 0 | R25: SPCM | S25: RTS 19/ II | T25: RTS 19/ II | U25: 0 | V25: =ROUND(E25*U25,2) -> 0 | X25: Specifikace | AG25: POL3_
A26: 14 | B26: 40445052.AR | C26: značka dopravní silniční svislá; informativní provozní IP14-IP25; tvar obdélník svislý; 1000x1500 mm; štít z pozink.plechu s dvoj.ohybem,retroref.folie I.tř.; záruka 7 let | D26: kus | E26: 2 | G26: =ROUND(E26*F26,2) -> 0 | I26: =ROUND(E26*H26,2) -> 0 | K26: =ROUND(E26*J26,2) -> 0 | L26: 21 | M26: =G26*(1+L26/100) -> 0 | N26: 0.0151 | O26: =ROUND(E26*N26,2) -> 0.03 | P26: 0 | Q26: =ROUND(E26*P26,2) -> 0 | R26: SPCM | S26: RTS 19/ II | T26: RTS 18/ II | U26: 0 | V26: =ROUND(E26*U26,2) -> 0 | X26: Specifikace | AG26: POL3_
A27: 15 | B27: 40445157.AR | C27: značka dopravní silniční svislá; dodatková tabule E8; tvar obdélník svislý; 500x150 mm; štít z pozink.plechu s dvoj.ohybem,retroref.folie I.tř.; záruka 7 let | D27: kus | E27: 2 | G27: =ROUND(E27*F27,2) -> 0 | I27: =ROUND(E27*H27,2) -> 0 | K27: =ROUND(E27*J27,2) -> 0 | L27: 21 | M27: =G27*(1+L27/100) -> 0 | N27: 0.002 | O27: =ROUND(E27*N27,2) -> 0 | P27: 0 | Q27: =ROUND(E27*P27,2) -> 0 | R27: SPCM | S27: RTS 19/ II | T27: RTS 19/ II | U27: 0 | V27: =ROUND(E27*U27,2) -> 0 | X27: Specifikace | AG27: POL3_
A28: 16 | B28: 404459501R | C28: příslušenství k dopr.značení sloupek Fe 60 pozinkovaný, délka 2000 mm | D28: kus | E28: 9 | G28: =ROUND(E28*F28,2) -> 0 | I28: =ROUND(E28*H28,2) -> 0 | K28: =ROUND(E28*J28,2) -> 0 | L28: 21 | M28: =G28*(1+L28/100) -> 0 | N28: 0 | O28: =ROUND(E28*N28,2) -> 0 | P28: 0 | Q28: =ROUND(E28*P28,2) -> 0 | R28: SPCM | S28: RTS 19/ II | T28: RTS 19/ II | U28: 0 | V28: =ROUND(E28*U28,2) -> 0 | X28: Specifikace | AG28: POL3_0
C29: 9 | E29: 9 | AG29: VV | AH29: 0
A30: 17 | B30: 59216140R | C30: stěna vodicí běžný díl; beton; š = 440 mm; h = 500,0 mm; l = 2 000 mm | D30: kus | E30: 11 | G30: =ROUND(E30*F30,2) -> 0 | I30: =ROUND(E30*H30,2) -> 0 | K30: =ROUND(E30*J30,2) -> 0 | L30: 21 | M30: =G30*(1+L30/100) -> 0 | N30: 0.51 | O30: =ROUND(E30*N30,2) -> 5.61 | P30: 0 | Q30: =ROUND(E30*P30,2) -> 0 | R30: SPCM | S30: RTS 19/ II | T30: RTS 19/ II | U30: 0 | V30: =ROUND(E30*U30,2) -> 0 | X30: Specifikace | AG30: POL3_0
A31: 18 | B31: 59216 | C31: Spojovací deska průběžná | D31: kus | E31: 30 | G31: =ROUND(E31*F31,2) -> 0 | I31: =ROUND(E31*H31,2) -> 0 | K31: =ROUND(E31*J31,2) -> 0 | L31: 21 | M31: =G31*(1+L31/100) -> 0 | N31: 0 | O31: =ROUND(E31*N31,2) -> 0 | P31: 0 | Q31: =ROUND(E31*P31,2) -> 0 | S31: Vlastní | T31: Indiv | U31: 0 | V31: =ROUND(E31*U31,2) -> 0 | X31: Specifikace | AG31: POL3_
A32: 19 | B32: 59217 | C32: Spojovací deska koncová | D32: kus | E32: 2 | G32: =ROUND(E32*F32,2) -> 0 | I32: =ROUND(E32*H32,2) -> 0 | K32: =ROUND(E32*J32,2) -> 0 | L32: 21 | M32: =G32*(1+L32/100) -> 0 | N32: 0 | O32: =ROUND(E32*N32,2) -> 0 | P32: 0 | Q32: =ROUND(E32*P32,2) -> 0 | S32: Vlastní | T32: Indiv | U32: 0 | V32: =ROUND(E32*U32,2) -> 0 | X32: Specifikace | AG32: POL3_
A33: 20 | B33: 592161410R | C33: stěna vodicí běžný díl, šrafovaný; beton; š = 440 mm; h = 500,0 mm; l = 1 000 mm | D33: kus | E33: 6 | G33: =ROUND(E33*F33,2) -> 0 | I33: =ROUND(E33*H33,2) -> 0 | K33: =ROUND(E33*J33,2) -> 0 | L33: 21 | M33: =G33*(1+L33/100) -> 0 | N33: 0.255 | O33: =ROUND(E33*N33,2) -> 1.53 | P33: 0 | Q33: =ROUND(E33*P33,2) -> 0 | R33: SPCM | S33: RTS 19/ II | T33: RTS 19/ II | U33: 0 | V33: =ROUND(E33*U33,2) -> 0 | X33: Specifikace | AG33: POL3_
A34: 21 | B34: 59216141R | C34: stěna vodicí běžný díl; beton; š = 440 mm; h = 500,0 mm; l = 1 000 mm | D34: kus | E34: 4 | G34: =ROUND(E34*F34,2) -> 0 | I34: =ROUND(E34*H34,2) -> 0 | K34: =ROUND(E34*J34,2) -> 0 | L34: 21 | M34: =G34*(1+L34/100) -> 0 | N34: 0.255 | O34: =ROUND(E34*N34,2) -> 1.02 | P34: 0 | Q34: =ROUND(E34*P34,2) -> 0 | R34: SPCM | S34: RTS 19/ II | T34: RTS 19/ II | U34: 0 | V34: =ROUND(E34*U34,2) -> 0 | X34: Specifikace | AG34: POL3_0
A35: 22 | B35: 592161410R | C35: stěna vodicí běžný díl, šrafovaný; beton; š = 440 mm; h = 500,0 mm; l = 1 000 mm | D35: kus | E35: 6 | G35: =ROUND(E35*F35,2) -> 0 | I35: =ROUND(E35*H35,2) -> 0 | K35: =ROUND(E35*J35,2) -> 0 | L35: 21 | M35: =G35*(1+L35/100) -> 0 | N35: 0.255 | O35: =ROUND(E35*N35,2) -> 1.53 | P35: 0 | Q35: =ROUND(E35*P35,2) -> 0 | R35: SPCM | S35: RTS 19/ II | T35: RTS 19/ II | U35: 0 | V35: =ROUND(E35*U35,2) -> 0 | X35: Specifikace | AG35: POL3_
A36: 23 | B36: 592161420R | C36: stěna vodicí krajní díl, šrafovaný; beton; š = 440 mm; h = 500,0 mm; l = 2 000 mm | D36: kus | E36: 2 | G36: =ROUND(E36*F36,2) -> 0 | I36: =ROUND(E36*H36,2) -> 0 | K36: =ROUND(E36*J36,2) -> 0 | L36: 21 | M36: =G36*(1+L36/100) -> 0 | N36: 0.45 | O36: =ROUND(E36*N36,2) -> 0.9 | P36: 0 | Q36: =ROUND(E36*P36,2) -> 0 | R36: SPCM | S36: RTS 19/ II | T36: RTS 19/ II | U36: 0 | V36: =ROUND(E36*U36,2) -> 0 | X36: Specifikace | AG36: POL3_0
A37: 24 | B37: 592161420R | C37: stěna vodicí krajní díl, šrafovaný; beton; š = 440 mm; h = 500,0 mm; l = 2 000 mm | D37: kus | E37: 2 | G37: =ROUND(E37*F37,2) -> 0 | I37: =ROUND(E37*H37,2) -> 0 | K37: =ROUND(E37*J37,2) -> 0 | L37: 21 | M37: =G37*(1+L37/100) -> 0 | N37: 0.45 | O37: =ROUND(E37*N37,2) -> 0.9 | P37: 0 | Q37: =ROUND(E37*P37,2) -> 0 | R37: SPCM | S37: RTS 19/ II | T37: RTS 19/ II | U37: 0 | V37: =ROUND(E37*U37,2) -> 0 | X37: Specifikace | AG37: POL3_
A38: Díl: | B38: 96 | C38: Bourání konstrukcí | G38: =SUMIF(AG39:AG39,"<>NOR",G39:G39) -> 0 | I38: =SUM(I39:I39) -> 0 | K38: =SUM(K39:K39) -> 0 | M38: =SUM(M39:M39) -> 0 | O38: =SUM(O39:O39) -> 0 | Q38: =SUM(Q39:Q39) -> 5.83 | V38: =SUM(V39:V39) -> 6.65 | AG38: DIL
A39: 25 | B39: 113107305R00 | C39: Odstranění podkladů nebo krytů z kameniva těženého, v ploše jednotlivě do 50 m2, tloušťka vrstvy 50 mm | D39: m2 | E39: 53 | G39: =ROUND(E39*F39,2) -> 0 | I39: =ROUND(E39*H39,2) -> 0 | K39: =ROUND(E39*J39,2) -> 0 | L39: 21 | M39: =G39*(1+L39/100) -> 0 | N39: 0 | O39: =ROUND(E39*N39,2) -> 0 | P39: 0.11 | Q39: =ROUND(E39*P39,2) -> 5.83 | R39: 822-1 | S39: RTS 19/ II | T39: RTS 19/ II | U39: 0.1255 | V39: =ROUND(E39*U39,2) -> 6.65 | X39: Práce | AG39: POL1_1
A40: Díl: | B40: 91 | C40: Doplňující práce na komunikaci | G40: =SUMIF(AG41:AG41,"<>NOR",G41:G41) -> 0 | I40: =SUM(I41:I41) -> 0 | K40: =SUM(K41:K41) -> 0 | M40: =SUM(M41:M41) -> 0 | O40: =SUM(O41:O41) -> 0 | Q40: =SUM(Q41:Q41) -> 0 | V40: =SUM(V41:V41) -> 0.8 | AG40: DIL
A41: 26 | B41: 914001125R00 | C41: Osazení a montáž svislých dopravních značek značka, na sloupek,sloup, konzolu nebo objekt, | D41: kus | E41: 4 | G41: =ROUND(E41*F41,2) -> 0 | I41: =ROUND(E41*H41,2) -> 0 | K41: =ROUND(E41*J41,2) -> 0 | L41: 21 | M41: =G41*(1+L41/100) -> 0 | N41: 0 | O41: =ROUND(E41*N41,2) -> 0 | P41: 0 | Q41: =ROUND(E41*P41,2) -> 0 | R41: 822-1 | S41: RTS 19/ II | T41: RTS 19/ II | U41: 0.2 | V41: =ROUND(E41*U41,2) -> 0.8 | X41: Práce | AG41: POL1_
A42: Díl: | B42: 96 | C42: Bourání konstrukcí | G42: =SUMIF(AG43:AG43,"<>NOR",G43:G43) -> 0 | I42: =SUM(I43:I43) -> 0 | K42: =SUM(K43:K43) -> 0 | M42: =SUM(M43:M43) -> 0 | O42: =SUM(O43:O43) -> 0 | Q42: =SUM(Q43:Q43) -> 6.16 | V42: =SUM(V43:V43) -> 2.41 | AG42: DIL
...

Sheet 04 CAD-035_04 Pol
A1: Položkový soupis prací a dodávek | AG1: #TypZaznamu#
A2: S: | B2: CAD-039 | C2: Sběrné středisko odpadů, ul. Slaměníkova, Brno - CÚ 2019/II | AG2: STA
A3: O: | B3: 04 | C3: Osvětlení areálu - vnitřní | AC3: STA | AG3: OBJ
A4: R: | B4: CAD-035/04 | C4: SSO Slaměníkova - osvětlení areálu - vnitřní | AG4: ROZ
A6: P.č. | B6: Číslo položky | C6: Název položky | D6: MJ | E6: Množství | F6: Cena / MJ | G6: Celkem | H6: Dodávka | I6: Dodávka celk. | J6: Montáž | K6: Montáž celk. | L6: DPH | M6: Cena s DPH | N6: Hmotnost / MJ | O6: Hmotnost celk.(t) | P6: Dem. hmotnost / MJ | Q6: Dem. hmotnost celk.(t) | R6: Ceník | S6: Cen. soustava / platnost | T6: Cenová úroveň | U6: Nhod / MJ | V6: Nhod celk. | W6: Dodavatel | X6: Typ položky
A8: Díl: | B8: 1 | C8: Zemní práce | G8: =SUMIF(AG9:AG9,"<>NOR",G9:G9) -> 0 | I8: =SUM(I9:I9) -> 0 | K8: =SUM(K9:K9) -> 0 | M8: =SUM(M9:M9) -> 0 | O8: =SUM(O9:O9) -> 0 | Q8: =SUM(Q9:Q9) -> 13.2 | V8: =SUM(V9:V9) -> 12.54 | AG8: DIL
A9: 1 | B9: 113107330R00 | C9: z kameniva těženého, v ploše jednotlivě do 50 m2, tloušťka vrstvy 300 mm | D9: m2 | E9: 20 | G9: =ROUND(E9*F9,2) -> 0 | I9: =ROUND(E9*H9,2) -> 0 | K9: =ROUND(E9*J9,2) -> 0 | L9: 21 | M9: =G9*(1+L9/100) -> 0 | N9: 0 | O9: =ROUND(E9*N9,2) -> 0 | P9: 0.66 | Q9: =ROUND(E9*P9,2) -> 13.2 | S9: RTS 19/ II | T9: RTS 19/ II | U9: 0.627 | V9: =ROUND(E9*U9,2) -> 12.54 | X9: Práce | AG9: POL1_1
A10: Díl: | B10: M21 | C10: Elektromontáže | G10: =SUMIF(AG11:AG33,"<>NOR",G11:G33) -> 0 | I10: =SUM(I11:I33) -> 0 | K10: =SUM(K11:K33) -> 0 | M10: =SUM(M11:M33) -> 0 | O10: =SUM(O11:O33) -> 0.45 | Q10: =SUM(Q11:Q33) -> 0 | V10: =SUM(V11:V33) -> 3.43 | AG10: DIL
A11: 2 | B11: 210100001R00 | C11: Ukončení vodičů v rozvaděči + zapojení do 2,5 mm2 | D11: kus | E11: 24 | G11: =ROUND(E11*F11,2) -> 0 | I11: =ROUND(E11*H11,2) -> 0 | K11: =ROUND(E11*J11,2) -> 0 | L11: 21 | M11: =G11*(1+L11/100) -> 0 | N11: 0 | O11: =ROUND(E11*N11,2) -> 0 | P11: 0 | Q11: =ROUND(E11*P11,2) -> 0 | S11: RTS 19/ II | T11: Indiv | U11: 0 | V11: =ROUND(E11*U11,2) -> 0 | X11: Práce | AG11: POL1_9
A12: 3 | B12: 210100002R00 | C12: Ukončení vodičů v rozvaděči + zapojení do 6 mm2 | D12: kus | E12: 10 | G12: =ROUND(E12*F12,2) -> 0 | I12: =ROUND(E12*H12,2) -> 0 | K12: =ROUND(E12*J12,2) -> 0 | L12: 21 | M12: =G12*(1+L12/100) -> 0 | N12: 0 | O12: =ROUND(E12*N12,2) -> 0 | P12: 0 | Q12: =ROUND(E12*P12,2) -> 0 | S12: RTS 19/ II | T12: Indiv | U12: 0 | V12: =ROUND(E12*U12,2) -> 0 | X12: Práce | AG12: POL1_9
A13: 4 | B13: 210120401R00 | C13: Jistič vzduch.1pólový do 25 A | D13: kus | E13: 2 | G13: =ROUND(E13*F13,2) -> 0 | I13: =ROUND(E13*H13,2) -> 0 | K13: =ROUND(E13*J13,2) -> 0 | L13: 21 | M13: =G13*(1+L13/100) -> 0 | N13: 0 | O13: =ROUND(E13*N13,2) -> 0 | P13: 0 | Q13: =ROUND(E13*P13,2) -> 0 | S13: RTS 19/ II | T13: Indiv | U13: 0 | V13: =ROUND(E13*U13,2) -> 0 | X13: Práce | AG13: POL1_9
A14: 5 | B14: 210160711R00 | C14: Montáž spínacích hodin | D14: kus | E14: 1 | G14: =ROUND(E14*F14,2) -> 0 | I14: =ROUND(E14*H14,2) -> 0 | K14: =ROUND(E14*J14,2) -> 0 | L14: 21 | M14: =G14*(1+L14/100) -> 0 | N14: 0 | O14: =ROUND(E14*N14,2) -> 0 | P14: 0 | Q14: =ROUND(E14*P14,2) -> 0 | S14: RTS 19/ II | T14: Indiv | U14: 0 | V14: =ROUND(E14*U14,2) -> 0 | X14: Práce | AG14: POL1_9
A15: 6 | B15: 210202115R00 | C15: Montáž svítidla veřejného osvětlení, parkového | D15: kus | E15: 3 | G15: =ROUND(E15*F15,2) -> 0 | I15: =ROUND(E15*H15,2) -> 0 | K15: =ROUND(E15*J15,2) -> 0 | L15: 21 | M15: =G15*(1+L15/100) -> 0 | N15: 0 | O15: =ROUND(E15*N15,2) -> 0 | P15: 0 | Q15: =ROUND(E15*P15,2) -> 0 | R15: M21 | S15: RTS 19/ II | T15: RTS 19/ II | U15: 1.144 | V15: =ROUND(E15*U15,2) -> 3.43 | X15: Práce | AG15: POL1_9
A16: 7 | B16: 210204002R00 | C16: Stožár osvětlovací sadový - ocelový | D16: kus | E16: 3 | G16: =ROUND(E16*F16,2) -> 0 | I16: =ROUND(E16*H16,2) -> 0 | K16: =ROUND(E16*J16,2) -> 0 | L16: 21 | M16: =G16*(1+L16/100) -> 0 | N16: 0 | O16: =ROUND(E16*N16,2) -> 0 | P16: 0 | Q16: =ROUND(E16*P16,2) -> 0 | S16: RTS 19/ II | T16: Indiv | U16: 0 | V16: =ROUND(E16*U16,2) -> 0 | X16: Práce | AG16: POL1_9
A17: 8 | B17: 210204201R00 | C17: Elektrovýzbroj stožáru pro 1 okruh | D17: kus | E17: 3 | G17: =ROUND(E17*F17,2) -> 0 | I17: =ROUND(E17*H17,2) -> 0 | K17: =ROUND(E17*J17,2) -> 0 | L17: 21 | M17: =G17*(1+L17/100) -> 0 | N17: 0 | O17: =ROUND(E17*N17,2) -> 0 | P17: 0 | Q17: =ROUND(E17*P17,2) -> 0 | S17: RTS 19/ II | T17: Indiv | U17: 0 | V17: =ROUND(E17*U17,2) -> 0 | X17: Práce | AG17: POL1_9
A18: 9 | B18: 210220022RT1 | C18: Vedení uzemňovací v zemi FeZn, D 8 - 10 mm včetně drátu FeZn 10 mm | D18: m | E18: 50 | G18: =ROUND(E18*F18,2) -> 0 | I18: =ROUND(E18*H18,2) -> 0 | K18: =ROUND(E18*J18,2) -> 0 | L18: 21 | M18: =G18*(1+L18/100) -> 0 | N18: 0 | O18: =ROUND(E18*N18,2) -> 0 | P18: 0 | Q18: =ROUND(E18*P18,2) -> 0 | S18: RTS 19/ II | T18: Indiv | U18: 0 | V18: =ROUND(E18*U18,2) -> 0 | X18: Práce | AG18: POL1_9
A19: 10 | B19: 210220301RT2 | C19: Svorka hromosvodová do 2 šroubů /SS, SZ, SO/ včetně dodávky svorky SS | D19: kus | E19: 5 | G19: =ROUND(E19*F19,2) -> 0 | I19: =ROUND(E19*H19,2) -> 0 | K19: =ROUND(E19*J19,2) -> 0 | L19: 21 | M19: =G19*(1+L19/100) -> 0 | N19: 0 | O19: =ROUND(E19*N19,2) -> 0 | P19: 0 | Q19: =ROUND(E19*P19,2) -> 0 | S19: RTS 19/ II | T19: Indiv | U19: 0 | V19: =ROUND(E19*U19,2) -> 0 | X19: Práce | AG19: POL1_9
A20: 11 | B20: 210220302RT6 | C20: Svorka hromosvodová nad 2 šrouby /ST, SJ, SR, atd/ včetně dodávky svorky SP1 | D20: kus | E20: 10 | G20: =ROUND(E20*F20,2) -> 0 | I20: =ROUND(E20*H20,2) -> 0 | K20: =ROUND(E20*J20,2) -> 0 | L20: 21 | M20: =G20*(1+L20/100) -> 0 | N20: 0 | O20: =ROUND(E20*N20,2) -> 0 | P20: 0 | Q20: =ROUND(E20*P20,2) -> 0 | S20: RTS 19/ II | T20: Indiv | U20: 0 | V20: =ROUND(E20*U20,2) -> 0 | X20: Práce | AG20: POL1_9
A21: 12 | B21: 210810005RT3 | C21: Kabel CYKY-m 750 V 3 x 1,5 mm2 volně uložený, včetně dodávky CYKY 3Cx1.5 | D21: m | E21: 55 | G21: =ROUND(E21*F21,2) -> 0 | I21: =ROUND(E21*H21,2) -> 0 | K21: =ROUND(E21*J21,2) -> 0 | L21: 21 | M21: =G21*(1+L21/100) -> 0 | N21: 0.00017 | O21: =ROUND(E21*N21,2) -> 0.01 | P21: 0 | Q21: =ROUND(E21*P21,2) -> 0 | S21: RTS 19/ II | T21: Indiv | U21: 0 | V21: =ROUND(E21*U21,2) -> 0 | X21: Práce | AG21: POL1_9
A22: 13 | B22: 210810006RT1 | C22: Kabel CYKY-m 750 V 3 x 2,5 mm2 volně uložený, včetně dodávky kabelu | D22: m | E22: 15 | G22: =ROUND(E22*F22,2) -> 0 | I22: =ROUND(E22*H22,2) -> 0 | K22: =ROUND(E22*J22,2) -> 0 | L22: 21 | M22: =G22*(1+L22/100) -> 0 | N22: 0.00021 | O22: =ROUND(E22*N22,2) -> 0 | P22: 0 | Q22: =ROUND(E22*P22,2) -> 0 | S22: RTS 19/ II | T22: Indiv | U22: 0 | V22: =ROUND(E22*U22,2) -> 0 | X22: Práce | AG22: POL1_9
A23: 14 | B23: 210810007RT1 | C23: Kabel CYKY-m 750 V 3 x 4 mm2 volně uložený, včetně dodávky kabelu | D23: m | E23: 53 | G23: =ROUND(E23*F23,2) -> 0 | I23: =ROUND(E23*H23,2) -> 0 | K23: =ROUND(E23*J23,2) -> 0 | L23: 21 | M23: =G23*(1+L23/100) -> 0 | N23: 0.00032 | O23: =ROUND(E23*N23,2) -> 0.02 | P23: 0 | Q23: =ROUND(E23*P23,2) -> 0 | S23: RTS 19/ II | T23: Indiv | U23: 0 | V23: =ROUND(E23*U23,2) -> 0 | X23: Práce | AG23: POL1_9
A24: 15 | B24: 210810017RT2 | C24: Kabel CYKY-m 750 V 5 žil 4 až 16 mm, volně uložený, včetně dodávky kabelu 5x6 mm2 | D24: m | E24: 40 | G24: =ROUND(E24*F24,2) -> 0 | I24: =ROUND(E24*H24,2) -> 0 | K24: =ROUND(E24*J24,2) -> 0 | L24: 21 | M24: =G24*(1+L24/100) -> 0 | N24: 0.00056 | O24: =ROUND(E24*N24,2) -> 0.02 | P24: 0 | Q24: =ROUND(E24*P24,2) -> 0 | S24: RTS 19/ II | T24: Indiv | U24: 0 | V24: =ROUND(E24*U24,2) -> 0 | X24: Práce | AG24: POL1_9
A25: 16 | B25: 210950201R00 | C25: Příplatek na zatahování kabelů váhy do 0,75 kg | D25: m | E25: 68 | G25: =ROUND(E25*F25,2) -> 0 | I25: =ROUND(E25*H25,2) -> 0 | K25: =ROUND(E25*J25,2) -> 0 | L25: 21 | M25: =G25*(1+L25/100) -> 0 | N25: 0 | O25: =ROUND(E25*N25,2) -> 0 | P25: 0 | Q25: =ROUND(E25*P25,2) -> 0 | S25: RTS 19/ II | T25: Indiv | U25: 0 | V25: =ROUND(E25*U25,2) -> 0 | X25: Práce | AG25: POL1_9
A26: 17 | B26: 210100173U00 | C26: Ukončení kabelů páska žíly 3x4mm2 | D26: kus | E26: 6 | G26: =ROUND(E26*F26,2) -> 0 | I26: =ROUND(E26*H26,2) -> 0 | K26: =ROUND(E26*J26,2) -> 0 | L26: 21 | M26: =G26*(1+L26/100) -> 0 | N26: 0 | O26: =ROUND(E26*N26,2) -> 0 | P26: 0 | Q26: =ROUND(E26*P26,2) -> 0 | S26: URS | T26: Indiv | U26: 0 | V26: =ROUND(E26*U26,2) -> 0 | X26: Práce | AG26: POL1_9
A27: 18 | B27: 210110029U00 | C27: Mtž čidlo nástěnné venkovní | D27: kus | E27: 1 | G27: =ROUND(E27*F27,2) -> 0 | I27: =ROUND(E27*H27,2) -> 0 | K27: =ROUND(E27*J27,2) -> 0 | L27: 21 | M27: =G27*(1+L27/100) -> 0 | N27: 0 | O27: =ROUND(E27*N27,2) -> 0 | P27: 0 | Q27: =ROUND(E27*P27,2) -> 0 | S27: URS | T27: Indiv | U27: 0 | V27: =ROUND(E27*U27,2) -> 0 | X27: Práce | AG27: POL1_9
... A31: 22 | B31: 345220109T | C31: Dohlížecí kamerový systém, kamera, přenos dat | D31: soubor | E31: 1 | G31: =ROUND(E31*F31,2) -> 0 | I31: =ROUND(E31*H31,2) -> 0 | K31: =ROUND(E31*J31,2) -> 0 | L31: 21 | M31: =G31*(1+L31/100) -> 0 | N31: 0.398 | O31: =ROUND(E31*N31,2) -> 0.4 | P31: 0 | Q31: =ROUND(E31*P31,2) -> 0 | S31: Vlastní | T31: Indiv | U31: 0 | V31: =ROUND(E31*U31,2) -> 0 | X31: Specifikace | AG31: POL3_0
A32: 23 | B32: 35822001013R | C32: jistič modulární jmen.proud 10,00 A; charakt. B; počet pólů 1; jmenovitá zkratová schopnost/230 V a.c. 10 kA; tepl.okolí -25 do + 55 °C; IP 20 | D32: kus | E32: 1 | G32: =ROUND(E32*F32,2) -> 0 | I32: =ROUND(E32*H32,2) -> 0 | K32: =ROUND(E32*J32,2) -> 0 | L32: 21 | M32: =G32*(1+L32/100) -> 0 | N32: 0.00018 | O32: =ROUND(E32*N32,2) -> 0 | P32: 0 | Q32: =ROUND(E32*P32,2) -> 0 | R32: SPCM | S32: RTS 19/ II | T32: RTS 19/ II | U32: 0 | V32: =ROUND(E32*U32,2) -> 0 | X32: Specifikace | AG32: POL3_0
A33: 24 | B33: 35822001015R | C33: jistič modulární jmen.proud 16,00 A; charakt. B; počet pólů 1; jmenovitá zkratová schopnost/230 V a.c. 10 kA; tepl.okolí -25 do + 55 °C; IP 20 | D33: kus | E33: 1 | G33: =ROUND(E33*F33,2) -> 0 | I33: =ROUND(E33*H33,2) -> 0 | K33: =ROUND(E33*J33,2) -> 0 | L33: 21 | M33: =G33*(1+L33/100) -> 0 | N33: 0.00018 | O33: =ROUND(E33*N33,2) -> 0 | P33: 0 | Q33: =ROUND(E33*P33,2) -> 0 | R33: SPCM | S33: RTS 19/ II | T33: RTS 19/ II | U33: 0 | V33: =ROUND(E33*U33,2) -> 0 | X33: Specifikace | AG33: POL3_0
A34: Díl: | B34: M21.P | C34: Provizorní přípojka NN | G34: =SUMIF(AG35:AG43,"<>NOR",G35:G43) -> 0 | I34: =SUM(I35:I43) -> 0 | K34: =SUM(K35:K43) -> 0 | M34: =SUM(M35:M43) -> 0 | O34: =SUM(O35:O43) -> 3.82 | Q34: =SUM(Q35:Q43) -> 0 | V34: =SUM(V35:V43) -> 0 | AG34: DIL
A35: 25 | B35: 210040021R00 | C35: Stožár dřevěný impregnovaný - Ip stožár | D35: kus | E35: 2 | G35: =ROUND(E35*F35,2) -> 0 | I35: =ROUND(E35*H35,2) -> 0 | K35: =ROUND(E35*J35,2) -> 0 | L35: 21 | M35: =G35*(1+L35/100) -> 0 | N35: 0 | O35: =ROUND(E35*N35,2) -> 0 | P35: 0 | Q35: =ROUND(E35*P35,2) -> 0 | S35: RTS 19/ II | T35: Indiv | U35: 0 | V35: =ROUND(E35*U35,2) -> 0 | X35: Práce | AG35: POL1_9
A36: 26 | B36: 460050004RT1 | C36: Jáma pro stožár J nepatk. do 8 m, v rovině, hor. 4, ruční výkop jámy | D36: kus | E36: 2 | G36: =ROUND(E36*F36,2) -> 0 | I36: =ROUND(E36*H36,2) -> 0 | K36: =ROUND(E36*J36,2) -> 0 | L36: 21 | M36: =G36*(1+L36/100) -> 0 | N36: 0 | O36: =ROUND(E36*N36,2) -> 0 | P36: 0 | Q36: =ROUND(E36*P36,2) -> 0 | S36: RTS 19/ II | T36: Indiv | U36: 0 | V36: =ROUND(E36*U36,2) -> 0 | X36: Práce | AG36: POL1_9
A37: 27 | B37: 460050602RT1 | C37: Jáma pro skříňě, hornina třídy 3-4, ruční výkop jámy | D37: m3 | E37: 0.5 | G37: =ROUND(E37*F37,2) -> 0 | I37: =ROUND(E37*H37,2) -> 0 | K37: =ROUND(E37*J37,2) -> 0 | L37: 21 | M37: =G37*(1+L37/100) -> 0 | N37: 0 | O37: =ROUND(E37*N37,2) -> 0 | P37: 0 | Q37: =ROUND(E37*P37,2) -> 0 | S37: RTS 19/ II | T37: Indiv | U37: 0 | V37: =ROUND(E37*U37,2) -> 0 | X37: Práce | AG37: POL1_9
A38: 28 | B38: 460080002RT1 | C38: Betonový základ do bednění, uložení betonu do dřevěného bednění | D38: m3 | E38: 1 | G38: =ROUND(E38*F38,2) -> 0 | I38: =ROUND(E38*H38,2) -> 0 | K38: =ROUND(E38*J38,2) -> 0 | L38: 21 | M38: =G38*(1+L38/100) -> 0 | N38: 2.55892 | O38: =ROUND(E38*N38,2) -> 2.56 | P38: 0 | Q38: =ROUND(E38*P38,2) -> 0 | S38: RTS 19/ II | T38: Indiv | U38: 0 | V38: =ROUND(E38*U38,2) -> 0 | X38: Práce | AG38: POL1_9
A39: 29 | B39: 34113810R | C39: Kabel silový s Al jádrem 1-AES 4x16 mm2 | D39: m | E39: 68 | G39: =ROUND(E39*F39,2) -> 0 | I39: =ROUND(E39*H39,2) -> 0 | K39: =ROUND(E39*J39,2) -> 0 | L39: 21 | M39: =G39*(1+L39/100) -> 0 | N39: 0.00168 | O39: =ROUND(E39*N39,2) -> 0.11 | P39: 0 | Q39: =ROUND(E39*P39,2) -> 0 | R39: SPCM | S39: RTS 19/ II | T39: Indiv | U39: 0 | V39: =ROUND(E39*U39,2) -> 0 | X39: Specifikace | AG39: POL3_0
A40: 30 | B40: 35711717T | C40: Skříň přípojková plastová SP 100 na sloup NSP1P | D40: kus | E40: 1 | G40: =ROUND(E40*F40,2) -> 0 | I40: =ROUND(E40*H40,2) -> 0 | K40: =ROUND(E40*J40,2) -> 0 | L40: 21 | M40: =G40*(1+L40/100) -> 0 | N40: 0.008 | O40: =ROUND(E40*N40,2) -> 0.01 | P40: 0 | Q40: =ROUND(E40*P40,2) -> 0 | S40: Vlastní | T40: Indiv | U40: 0 | V40: =ROUND(E40*U40,2) -> 0 | X40: Specifikace | AG40: POL3_0
A41: 31 | B41: 35713852T | C41: Rozvodnice elektroměrové RE 2, pilířové provedení | D41: kus | E41: 1 | G41: =ROUND(E41*F41,2) -> 0 | I41: =ROUND(E41*H41,2) -> 0 | K41: =ROUND(E41*J41,2) -> 0 | L41: 21 | M41: =G41*(1+L41/100) -> 0 | N41: 0.0178 | O41: =ROUND(E41*N41,2) -> 0.02 | P41: 0 | Q41: =ROUND(E41*P41,2) -> 0 | S41: Vlastní | T41: Indiv | U41: 0 | V41: =ROUND(E41*U41,2) -> 0 | X41: Specifikace | AG41: POL3_0
A42: 32 | B42: 210040521R00 | C42: Vaz vodičů AlFe - třmenový | D42: kus | E42: 68 | G42: =ROUND(E42*F42,2) -> 0 | I42: =ROUND(E42*H42,2) -> 0 | K42: =ROUND(E42*J42,2) -> 0 | L42: 21 | M42: =G42*(1+L42/100) -> 0 | N42: 0 | O42: =ROUND(E42*N42,2) -> 0 | P42: 0 | Q42: =ROUND(E42*P42,2) -> 0 | S42: Vlastní | T42: Indiv | U42: 0 | V42: =ROUND(E42*U42,2) -> 0 | X42: Práce | AG42: POL1_
