Workbook
Name CelkemDPHVypocet: Stavba!$H$51
Name CenaCelkem: Stavba!$G$29
Name CenaCelkemBezDPH: Stavba!$G$28
Name CenaCelkemVypocet: Stavba!$I$51
Name cisloobjektu: Stavba!$D$3
Name CisloRozpoctu: '[1]Krycí list'!$C$2
Name CisloStavby: Stavba!$D$2
Name cislostavby: '[1]Krycí list'!$A$7
Name CisloStavebnihoRozpoctu: Stavba!$D$4
Name dadresa: Stavba!$D$12:$G$12
Name DIČ: Stavba!$I$12
Name dmisto: Stavba!$E$13:$G$13
Name DPHSni: Stavba!$G$24
Name DPHZakl: Stavba!$G$26
Name dpsc: Stavba!$D$13
Name IČO: Stavba!$I$11
Name Mena: Stavba!$J$29
Name MistoStavby: Stavba!$D$4
Name nazevobjektu: Stavba!$E$3
Name NazevRozpoctu: '[1]Krycí list'!$D$2
Name NazevStavby: Stavba!$E$2
Name nazevstavby: '[1]Krycí list'!$C$7
Name NazevStavebnihoRozpoctu: Stavba!$E$4
Name oadresa: Stavba!$D$6
Name Objednatel: Stavba!$D$5
Name Objekt: Stavba!$B$38
Name odic: Stavba!$I$6
Name oico: Stavba!$I$5
Name omisto: Stavba!$E$7
Name onazev: Stavba!$D$6
Name opsc: Stavba!$D$7
Name padresa: Stavba!$D$9
Name pdic: Stavba!$I$9
Name pico: Stavba!$I$8
Name pmisto: Stavba!$E$10
Name PocetMJ: #REF!
Name PoptavkaID: Stavba!$A$1
Name pPSC: Stavba!$D$10
Name Projektant: Stavba!$D$8
Name SazbaDPH1: Stavba!$E$23
Name SazbaDPH1: '[1]Krycí list'!$C$30
Name SazbaDPH2: Stavba!$E$25
Name SazbaDPH2: '[1]Krycí list'!$C$32
Name SloupecCC: #REF!
Name SloupecCisloPol: #REF!
Name SloupecJC: #REF!
Name SloupecMJ: #REF!
Name SloupecMnozstvi: #REF!
Name SloupecNazPol: #REF!
Name SloupecPC: #REF!
Name Vypracoval: Stavba!$D$14
Name ZakladDPHSni: Stavba!$G$23
Name ZakladDPHSniVypocet: Stavba!$F$51
Name ZakladDPHZakl: Stavba!$G$25
Name ZakladDPHZaklVypocet: Stavba!$G$51
Name ZaObjednatele: Stavba!$G$34
Name Zaokrouhleni: Stavba!$G$27
Name ZaZhotovitele: Stavba!$D$34
Name Zhotovitel: Stavba!$D$11:$G$11

Sheet Pokyny pro vyplnění
A1: Pokyny pro vyplnění
A2: Ve všech listech tohoto souboru můžete měnit pouze buňky s modrým pozadím. Jedná se o tyto údaje : - údaje o firmě - jednotkové ceny položek zadané na maximálně dvě desetinná místa

Sheet Stavba
A1: #RTSROZP# | B1: Soupis stavebních prací, dodávek a služeb
B2: Stavba: | D2: CAD-039 | E2: Sběrné středisko odpadů, ul. Slaměníkova, Brno - CÚ 2019/II
B5: Zadavatel | D5: Statutární město Brno - odbor investiční MMB | H5: IČO: | I5: 44992785
D6: Dominikánské náměstí 1 | H6: DIČ:
D7: 60167 | E7: Brno
B8: Projektant: | D8: Ing arch Harald Čadílek | H8: IČO: | I8: 13668820
H9: DIČ: | I9: CZ421212430
E10: Brno
B11: Zhotovitel: | H11: IČO:
H12: DIČ:
B14: Vypracoval:
B15: Rozpis ceny | I15: Celkem
A16: HSV | B16: HSV | I16: =SUMIF(F58:F78,A16,I58:I78)+SUMIF(F58:F78,"PSU",I58:I78) -> 0
A17: PSV | B17: PSV | I17: =SUMIF(F58:F78,A17,I58:I78) -> 0
A18: MON | B18: MON | I18: =SUMIF(F58:F78,A18,I58:I78) -> 0
A19: VN | B19: Vedlejší náklady | I19: =SUMIF(F58:F78,A19,I58:I78) -> 0
A20: ON | B20: Ostatní náklady | I20: =SUMIF(F58:F78,A20,I58:I78) -> 0
B21: Celkem | I21: =SUM(I16:J20) -> 0
B22: Rekapitulace daní
A23: =ZakladDPHSni*SazbaDPH1/100 -> 0 | B23: Základ pro sníženou DPH | E23: 15 | F23: % | G23: =ZakladDPHSniVypocet -> 0 | J23: =Mena -> CZK
A24: =(A23-INT(A23))*100 -> 0 | B24: Snížená DPH | E24: =SazbaDPH1 -> 15 | F24: % | G24: =A23 -> 0 | J24: =Mena -> CZK
A25: =ZakladDPHZakl*SazbaDPH2/100 -> 0 | B25: Základ pro základní DPH | E25: 21 | F25: % | G25: =ZakladDPHZaklVypocet -> 0 | J25: =Mena -> CZK
A26: =(A25-INT(A25))*100 -> 0 | B26: Základní DPH | E26: =SazbaDPH2 -> 21 | F26: % | G26: =A25 -> 0 | J26: =Mena -> CZK
A27: =ZakladDPHSni+DPHSni+ZakladDPHZakl+DPHZakl -> 0 | B27: Zaokrouhlení | G27: =CenaCelkem-(ZakladDPHSni+DPHSni+ZakladDPHZakl+DPHZakl) -> 0 | J27: =Mena -> CZK
B28: Cena celkem bez DPH | G28: =ZakladDPHSniVypocet+ZakladDPHZaklVypocet -> 0 | J28: =Mena -> CZK
A29: =(A27-INT(A27))*100 -> 0 | B29: Cena celkem s DPH | G29: =A27 -> 0 | J29: CZK
C32: v | F32: dne
D35: Za zhotovitele | H35: Za objednatele
B37: Rekapitulace dílčích částí
A38: #CASTI>> | B38: Číslo | C38: Název | F38: =B23 -> Základ pro sníženou DPH | G38: =B25 -> Základ pro základní DPH | H38: DPH celkem | I38: Cena celkem | J38: %
A39: 1 | B39: Stavba | F39: ='00 CAD-035_00 Pol'!AE21+'01 CAD-035_01 Pol'!AE107+'02 CAD-035_02 Pol'!AE113+'03 CAD-035_03 Pol'!AE69+'04 CAD-035_04 Pol'!AE76 -> 0 | G39: ='00 CAD-035_00 Pol'!AF21+'01 CAD-035_01 Pol'!AF107+'02 CAD-035_02 Pol'!AF113+'03 CAD-035_03 Pol'!AF69+'04 CAD-035_04 Pol'!AF76 -> 0 | H39: =(F39*SazbaDPH1/100)+(G39*SazbaDPH2/100) -> 0 | I39: =F39+G39+H39 -> 0 | J39: =IF(CenaCelkemVypocet=0,"",I39/CenaCelkemVypocet*100)
A40: 2 | C40: Stavební objekt | H40: =(F40*SazbaDPH1/100)+(G40*SazbaDPH2/100) -> 0 | I40: =F40+G40+H40 -> 0 | J40: =IF(CenaCelkemVypocet=0,"",I40/CenaCelkemVypocet*100)
A41: 2 | B41: 00 | C41: Vedlejší a ostatní náklady | F41: ='00 CAD-035_00 Pol'!AE21 -> 0 | G41: ='00 CAD-035_00 Pol'!AF21 -> 0 | H41: =(F41*SazbaDPH1/100)+(G41*SazbaDPH2/100) -> 0 | I41: =F41+G41+H41 -> 0 | J41: =IF(CenaCelkemVypocet=0,"",I41/CenaCelkemVypocet*100)
A42: 3 | B42: CAD-035/00 | C42: SSO Slaměníkova - vedlejší a ostatní náklady | F42: ='00 CAD-035_00 Pol'!AE21 -> 0 | G42: ='00 CAD-035_00 Pol'!AF21 -> 0 | H42: =(F42*SazbaDPH1/100)+(G42*SazbaDPH2/100) -> 0 | I42: =F42+G42+H42 -> 0 | J42: =IF(CenaCelkemVypocet=0,"",I42/CenaCelkemVypocet*100)
A43: 2 | B43: 01 | C43: Stavební část | F43: ='01 CAD-035_01 Pol'!AE107 -> 0 | G43: ='01 CAD-035_01 Pol'!AF107 -> 0 | H43: =(F43*SazbaDPH1/100)+(G43*SazbaDPH2/100) -> 0 | I43: =F43+G43+H43 -> 0 | J43: =IF(CenaCelkemVypocet=0,"",I43/CenaCelkemVypocet*100)
A44: 3 | B44: CAD-035/01 | C44: SSO Slaměníkova, Brno - stavební část | F44: ='01 CAD-035_01 Pol'!AE107 -> 0 | G44: ='01 CAD-035_01 Pol'!AF107 -> 0 | H44: =(F44*SazbaDPH1/100)+(G44*SazbaDPH2/100) -> 0 | I44: =F44+G44+H44 -> 0 | J44: =IF(CenaCelkemVypocet=0,"",I44/CenaCelkemVypocet*100)
A45: 2 | B45: 02 | C45: Přípojka vody a kanalizace | F45: ='02 CAD-035_02 Pol'!AE113 -> 0 | G45: ='02 CAD-035_02 Pol'!AF113 -> 0 | H45: =(F45*SazbaDPH1/100)+(G45*SazbaDPH2/100) -> 0 | I45: =F45+G45+H45 -> 0 | J45: =IF(CenaCelkemVypocet=0,"",I45/CenaCelkemVypocet*100)
A46: 3 | B46: CAD-035/02 | C46: SSO Slaměníkova, Brno - přípojka vody a kanalizace | F46: ='02 CAD-035_02 Pol'!AE113 -> 0 | G46: ='02 CAD-035_02 Pol'!AF113 -> 0 | H46: =(F46*SazbaDPH1/100)+(G46*SazbaDPH2/100) -> 0 | I46: =F46+G46+H46 -> 0 | J46: =IF(CenaCelkemVypocet=0,"",I46/CenaCelkemVypocet*100)
A47: 2 | B47: 03 | C47: Zpevněné plochy a doprava | F47: ='03 CAD-035_03 Pol'!AE69 -> 0 | G47: ='03 CAD-035_03 Pol'!AF69 -> 0 | H47: =(F47*SazbaDPH1/100)+(G47*SazbaDPH2/100) -> 0 | I47: =F47+G47+H47 -> 0 | J47: =IF(CenaCelkemVypocet=0,"",I47/CenaCelkemVypocet*100)
A48: 3 | B48: CAD-035/03 | C48: SSO Slaměníkova - zpevněné plochy a doprava | F48: ='03 CAD-035_03 Pol'!AE69 -> 0 | G48: ='03 CAD-035_03 Pol'!AF69 -> 0 | H48: =(F48*SazbaDPH1/100)+(G48*SazbaDPH2/100) -> 0 | I48: =F48+G48+H48 -> 0 | J48: =IF(CenaCelkemVypocet=0,"",I48/CenaCelkemVypocet*100)
A49: 2 | B49: 04 | C49: Osvětlení areálu - vnitřní | F49: ='04 CAD-035_04 Pol'!AE76 -> 0 | G49: ='04 CAD-035_04 Pol'!AF76 -> 0 | H49: =(F49*SazbaDPH1/100)+(G49*SazbaDPH2/100) -> 0 | I49: =F49+G49+H49 -> 0 | J49: =IF(CenaCelkemVypocet=0,"",I49/CenaCelkemVypocet*100)
A50: 3 | B50: CAD-035/04 | C50: SSO Slaměníkova - osvětlení areálu - vnitřní | F50: ='04 CAD-035_04 Pol'!AE76 -> 0 | G50: ='04 CAD-035_04 Pol'!AF76 -> 0 | H50: =(F50*SazbaDPH1/100)+(G50*SazbaDPH2/100) -> 0 | I50: =F50+G50+H50 -> 0 | J50: =IF(CenaCelkemVypocet=0,"",I50/CenaCelkemVypocet*100)
B51: Celkem za stavbu | F51: =SUMIF(A39:A50,"=1",F39:F50) -> 0 | G51: =SUMIF(A39:A50,"=1",G39:G50) -> 0 | H51: =SUMIF(A39:A50,"=1",H39:H50) -> 0 | I51: =SUMIF(A39:A50,"=1",I39:I50) -> 0 | J51: =SUMIF(A39:A50,"=1",J39:J50) -> 0
B55: Rekapitulace dílů
B57: Číslo | C57: Název | F57: Typ dílu | I57: Celkem | J57: %
B58: 1 | C58: Zemní práce | F58: HSV | I58: ='01 CAD-035_01 Pol'!G8+'02 CAD-035_02 Pol'!G8+'03 CAD-035_03 Pol'!G8+'04 CAD-035_04 Pol'!G8 -> 0 | J58: =IF(I79=0,"",I58/I79*100)
B59: 2 | C59: Základy a zvláštní zakládání | F59: HSV | I59: ='01 CAD-035_01 Pol'!G20 -> 0 | J59: =IF(I79=0,"",I59/I79*100)
B60: 3 | C60: Svislé a kompletní konstrukce | F60: HSV | I60: ='01 CAD-035_01 Pol'!G30 -> 0 | J60: =IF(I79=0,"",I60/I79*100)
B61: 4 | C61: Vodorovné konstrukce | F61: HSV | I61: ='02 CAD-035_02 Pol'!G34 -> 0 | J61: =IF(I79=0,"",I61/I79*100)
B62: 5 | C62: Komunikace | F62: HSV | I62: ='02 CAD-035_02 Pol'!G45+'03 CAD-035_03 Pol'!G10 -> 0 | J62: =IF(I79=0,"",I62/I79*100)
B63: 63 | C63: Podlahy a podlahové konstrukce | F63: HSV | I63: ='01 CAD-035_01 Pol'!G34 -> 0 | J63: =IF(I79=0,"",I63/I79*100)
B64: 8 | C64: Trubní vedení | F64: HSV | I64: ='02 CAD-035_02 Pol'!G49+'02 CAD-035_02 Pol'!G57 -> 0 | J64: =IF(I79=0,"",I64/I79*100)
B65: 91 | C65: Doplňující práce na komunikaci | F65: HSV | I65: ='02 CAD-035_02 Pol'!G86+'03 CAD-035_03 Pol'!G15+'03 CAD-035_03 Pol'!G40+'03 CAD-035_03 Pol'!G66 -> 0 | J65: =IF(I79=0,"",I65/I79*100)
B66: 95 | C66: Dokončovací konstrukce na pozemních stavbách | F66: HSV | I66: ='01 CAD-035_01 Pol'!G50 -> 0 | J66: =IF(I79=0,"",I66/I79*100)
B67: 96 | C67: Bourání konstrukcí | F67: HSV | I67: ='03 CAD-035_03 Pol'!G38+'03 CAD-035_03 Pol'!G42 -> 0 | J67: =IF(I79=0,"",I67/I79*100)
B68: 99 | C68: Staveništní přesun hmot | F68: HSV | I68: ='01 CAD-035_01 Pol'!G57+'02 CAD-035_02 Pol'!G107+'03 CAD-035_03 Pol'!G44 -> 0 | J68: =IF(I79=0,"",I68/I79*100)
B69: 721 | C69: Vnitřní kanalizace | F69: PSV | I69: ='01 CAD-035_01 Pol'!G63+'02 CAD-035_02 Pol'!G55 -> 0 | J69: =IF(I79=0,"",I69/I79*100)
B70: 722 | C70: Vnitřní vodovod | F70: PSV | I70: ='01 CAD-035_01 Pol'!G71 -> 0 | J70: =IF(I79=0,"",I70/I79*100)
B71: 767 | C71: Konstrukce zámečnické | F71: PSV | I71: ='01 CAD-035_01 Pol'!G82 -> 0 | J71: =IF(I79=0,"",I71/I79*100)
B72: M21 | C72: Elektromontáže | F72: MON | I72: ='04 CAD-035_04 Pol'!G10 -> 0 | J72: =IF(I79=0,"",I72/I79*100)
B73: M21.P | C73: Provizorní přípojka NN | F73: MON | I73: ='04 CAD-035_04 Pol'!G34 -> 0 | J73: =IF(I79=0,"",I73/I79*100)
B74: M210 | C74: Materiál | F74: MON | I74: ='04 CAD-035_04 Pol'!G44 -> 0 | J74: =IF(I79=0,"",I74/I79*100)
B75: M46 | C75: Zemní práce při montážích | F75: MON | I75: ='04 CAD-035_04 Pol'!G55 -> 0 | J75: =IF(I79=0,"",I75/I79*100)
B76: D96 | C76: Přesuny suti a vybouraných hmot | F76: PSU | I76: ='02 CAD-035_02 Pol'!G90+'03 CAD-035_03 Pol'!G49 -> 0 | J76: =IF(I79=0,"",I76/I79*100)
B77: VN | C77: Vedlejší náklady | F77: VN | I77: ='00 CAD-035_00 Pol'!G8 -> 0 | J77: =IF(I79=0,"",I77/I79*100)
B78: ON | C78: Ostatní náklady | F78: ON | I78: ='00 CAD-035_00 Pol'!G13 -> 0 | J78: =IF(I79=0,"",I78/I79*100)
B79: Cena celkem | I79: =SUM(I58:I78) -> 0 | J79: =SUM(J58:J78) -> 0

Sheet VzorPolozky
A1: Položkový rozpočet
A2: S:
A3: O:
A4: R:

Sheet 00 CAD-035_00 Pol
A1: Položkový soupis prací a dodávek | AG1: #TypZaznamu#
A2: S: | B2: CAD-039 | C2: Sběrné středisko odpadů, ul. Slaměníkova, Brno - CÚ 2019/II | AG2: STA
A3: O: | B3: 00 | C3: Vedlejší a ostatní náklady | AC3: STA | AG3: OBJ
A4: R: | B4: CAD-035/00 | C4: SSO Slaměníkova - vedlejší a ostatní náklady | AG4: ROZ
A6: P.č. | B6: Číslo položky | C6: Název položky | D6: MJ | E6: Množství | F6: Cena / MJ | G6: Celkem | H6: Dodávka | I6: Dodávka celk. | J6: Montáž | K6: Montáž celk. | L6: DPH | M6: Cena s DPH | N6: Hmotnost / MJ | O6: Hmotnost celk.(t) | P6: Dem. hmotnost / MJ | Q6: Dem. hmotnost celk.(t) | R6: Ceník | S6: Cen. soustava / platnost | T6: Cenová úroveň | U6: Nhod / MJ | V6: Nhod celk. | W6: Dodavatel | X6: Typ položky
A8: Díl: | B8: VN | C8: Vedlejší náklady | G8: =SUMIF(AG9:AG12,"<>NOR",G9:G12) -> 0 | I8: =SUM(I9:I12) -> 0 | K8: =SUM(K9:K12) -> 0 | M8: =SUM(M9:M12) -> 0 | O8: =SUM(O9:O12) -> 0 | Q8: =SUM(Q9:Q12) -> 0 | V8: =SUM(V9:V12) -> 0 | AG8: DIL
A9: 1 | B9: 005111020R | C9: Vytyčení stavby | D9: Soubor | E9: 1 | G9: =ROUND(E9*F9,2) -> 0 | I9: =ROUND(E9*H9,2) -> 0 | K9: =ROUND(E9*J9,2) -> 0 | L9: 21 | M9: =G9*(1+L9/100) -> 0 | N9: 0 | O9: =ROUND(E9*N9,2) -> 0 | P9: 0 | Q9: =ROUND(E9*P9,2) -> 0 | S9: RTS 19/ II | T9: Indiv | U9: 0 | V9: =ROUND(E9*U9,2) -> 0 | X9: VRN | AG9: POL99_8
A10: 2 | B10: 005121 R | C10: Zařízení staveniště | D10: Soubor | E10: 1 | G10: =ROUND(E10*F10,2) -> 0 | I10: =ROUND(E10*H10,2) -> 0 | K10: =ROUND(E10*J10,2) -> 0 | L10: 21 | M10: =G10*(1+L10/100) -> 0 | N10: 0 | O10: =ROUND(E10*N10,2) -> 0 | P10: 0 | Q10: =ROUND(E10*P10,2) -> 0 | S10: RTS 19/ II | T10: Indiv | U10: 0 | V10: =ROUND(E10*U10,2) -> 0 | X10: VRN | AG10: POL99_8
A11: 3 | B11: 005122 R | C11: Provozní vlivy | D11: Soubor | E11: 1 | G11: =ROUND(E11*F11,2) -> 0 | I11: =ROUND(E11*H11,2) -> 0 | K11: =ROUND(E11*J11,2) -> 0 | L11: 21 | M11: =G11*(1+L11/100) -> 0 | N11: 0 | O11: =ROUND(E11*N11,2) -> 0 | P11: 0 | Q11: =ROUND(E11*P11,2) -> 0 | S11: RTS 19/ II | T11: Indiv | U11: 0 | V11: =ROUND(E11*U11,2) -> 0 | X11: VRN | AG11: POL99_8
A12: 4 | B12: 30996 | C12: Koordinační činnost | D12: Soubor | E12: 1 | G12: =ROUND(E12*F12,2) -> 0 | I12: =ROUND(E12*H12,2) -> 0 | K12: =ROUND(E12*J12,2) -> 0 | L12: 21 | M12: =G12*(1+L12/100) -> 0 | N12: 0 | O12: =ROUND(E12*N12,2) -> 0 | P12: 0 | Q12: =ROUND(E12*P12,2) -> 0 | S12: Vlastní | T12: Indiv | U12: 0 | V12: =ROUND(E12*U12,2) -> 0 | X12: VRN | AG12: POL99_8
A13: Díl: | B13: ON | C13: Ostatní náklady | G13: =SUMIF(AG14:AG19,"<>NOR",G14:G19) -> 0 | I13: =SUM(I14:I19) -> 0 | K13: =SUM(K14:K19) -> 0 | M13: =SUM(M14:M19) -> 0 | O13: =SUM(O14:O19) -> 0 | Q13: =SUM(Q14:Q19) -> 0 | V13: =SUM(V14:V19) -> 0 | AG13: DIL
A14: 5 | B14: 005211010R | C14: Předání a převzetí staveniště | D14: Soubor | E14: 1 | G14: =ROUND(E14*F14,2) -> 0 | I14: =ROUND(E14*H14,2) -> 0 | K14: =ROUND(E14*J14,2) -> 0 | L14: 21 | M14: =G14*(1+L14/100) -> 0 | N14: 0 | O14: =ROUND(E14*N14,2) -> 0 | P14: 0 | Q14: =ROUND(E14*P14,2) -> 0 | S14: RTS 19/ II | T14: Indiv | U14: 0 | V14: =ROUND(E14*U14,2) -> 0 | X14: VRN | AG14: POL99_8
A15: 6 | B15: 005211080R | C15: Bezpečnostní a hygienická opatření na staveništi | D15: Soubor | E15: 1 | G15: =ROUND(E15*F15,2) -> 0 | I15: =ROUND(E15*H15,2) -> 0 | K15: =ROUND(E15*J15,2) -> 0 | L15: 21 | M15: =G15*(1+L15/100) -> 0 | N15: 0 | O15: =ROUND(E15*N15,2) -> 0 | P15: 0 | Q15: =ROUND(E15*P15,2) -> 0 | S15: RTS 19/ II | T15: Indiv | U15: 0 | V15: =ROUND(E15*U15,2) -> 0 | X15: VRN | AG15: POL99_8
A16: 7 | B16: 00524 R | C16: Předání a převzetí díla | D16: Soubor | E16: 1 | G16: =ROUND(E16*F16,2) -> 0 | I16: =ROUND(E16*H16,2) -> 0 | K16: =ROUND(E16*J16,2) -> 0 | L16: 21 | M16: =G16*(1+L16/100) -> 0 | N16: 0 | O16: =ROUND(E16*N16,2) -> 0 | P16: 0 | Q16: =ROUND(E16*P16,2) -> 0 | S16: RTS 19/ II | T16: Indiv | U16: 0 | V16: =ROUND(E16*U16,2) -> 0 | X16: VRN | AG16: POL99_8
A17: 8 | B17: 005241010R | C17: Dokumentace skutečného provedení | D17: Soubor | E17: 1 | G17: =ROUND(E17*F17,2) -> 0 | I17: =ROUND(E17*H17,2) -> 0 | K17: =ROUND(E17*J17,2) -> 0 | L17: 21 | M17: =G17*(1+L17/100) -> 0 | N17: 0 | O17: =ROUND(E17*N17,2) -> 0 | P17: 0 | Q17: =ROUND(E17*P17,2) -> 0 | S17: RTS 19/ II | T17: Indiv | U17: 0 | V17: =ROUND(E17*U17,2) -> 0 | X17: VRN | AG17: POL99_8
A18: 9 | B18: 005241020R | C18: Geodetické zaměření skutečného provedení | D18: Soubor | E18: 1 | G18: =ROUND(E18*F18,2) -> 0 | I18: =ROUND(E18*H18,2) -> 0 | K18: =ROUND(E18*J18,2) -> 0 | L18: 21 | M18: =G18*(1+L18/100) -> 0 | N18: 0 | O18: =ROUND(E18*N18,2) -> 0 | P18: 0 | Q18: =ROUND(E18*P18,2) -> 0 | S18: RTS 19/ II | T18: Indiv | U18: 0 | V18: =ROUND(E18*U18,2) -> 0 | X18: VRN | AG18: POL99_8
C19: Náklady na provedení skutečného zaměření stavby v rozsahu nezbytném pro zápis změny do katastru nemovitostí. | AG19: POP | BA19: =C19 -> Náklady na provedení skutečného zaměření stavby v rozsahu nezbytném pro zápis změny do katastru nemovitostí.
AE20: 15 | AF20: 21 | AG20: DPH
B21: Celkem | G21: =G8+G13 -> 0 | AE21: =SUMIF(L7:L19,AE20,G7:G19) -> 0 | AF21: =SUMIF(L7:L19,AF20,G7:G19) -> 0 | AG21: SUM
AG22: END

Sheet 01 CAD-035_01 Pol
A1: Položkový soupis prací a dodávek | AG1: #TypZaznamu#
A2: S: | B2: CAD-039 | C2: Sběrné středisko odpadů, ul. Slaměníkova, Brno - CÚ 2019/II | AG2: STA
A3: O: | B3: 01 | C3: Stavební část | AC3: STA | AG3: OBJ
A4: R: | B4: CAD-035/01 | C4: SSO Slaměníkova, Brno - stavební část | AG4: ROZ
A6: P.č. | B6: Číslo položky | C6: Název položky | D6: MJ | E6: Množství | F6: Cena / MJ | G6: Celkem | H6: Dodávka | I6: Dodávka celk. | J6: Montáž | K6: Montáž celk. | L6: DPH | M6: Cena s DPH | N6: Hmotnost / MJ | O6: Hmotnost celk.(t) | P6: Dem. hmotnost / MJ | Q6: Dem. hmotnost celk.(t) | R6: Ceník | S6: Cen. soustava / platnost | T6: Cenová úroveň | U6: Nhod / MJ | V6: Nhod celk. | W6: Dodavatel | X6: Typ položky
A8: Díl: | B8: 1 | C8: Zemní práce | G8: =SUMIF(AG9:AG19,"<>NOR",G9:G19) -> 0 | I8: =SUM(I9:I19) -> 0 | K8: =SUM(K9:K19) -> 0 | M8: =SUM(M9:M19) -> 0 | O8: =SUM(O9:O19) -> 0 | Q8: =SUM(Q9:Q19) -> 0 | V8: =SUM(V9:V19) -> 15.06 | AG8: DIL
A9: 1 | B9: 133201101R00 | C9: Hloubení šachet v hornině 3_x000D_ do 100 m3 | D9: m3 | E9: 4.152 | G9: =ROUND(E9*F9,2) -> 0 | I9: =ROUND(E9*H9,2) -> 0 | K9: =ROUND(E9*J9,2) -> 0 | L9: 21 | M9: =G9*(1+L9/100) -> 0 | N9: 0 | O9: =ROUND(E9*N9,2) -> 0 | P9: 0 | Q9: =ROUND(E9*P9,2) -> 0 | R9: 800-1 | S9: RTS 19/ II | T9: RTS 19/ II | U9: 3.13 | V9: =ROUND(E9*U9,2) -> 13 | X9: Práce | AG9: POL1_1
C10: zapažených i nezapažených se svislým přemístění výkopku a urovnáním dna do předepsaného profilu a spádu, s případným nutným přemístěním výkopku ve výkopišti, s přehozením výkopku na přilehlém terénu na vzdálenost do 5 m od hrany šachty nebo s naložením na dopravní prostředek, | AG10: SPI | BA10: =C10 -> zapažených i nezapažených se svislým přemístění výkopku a urovnáním dna do předepsaného profilu a spádu, s případným nutným přemístěním výkopku ve výkopišti, s přehozením výkopku na přilehlém terénu na vzdálenost do 5 m od hrany šachty nebo s naložením na dopravní prostředek,
C11: 0,50*0,50*0,90*4 | E11: 0.9 | AG11: VV | AH11: 0
C12: 0,30*0,30*0,60*48 | E12: 2.592 | AG12: VV | AH12: 0
C13: 0,50*0,30*0,40*11 | E13: 0.66 | AG13: VV | AH13: 0
A14: 2 | B14: 133201109R00 | C14: Hloubení šachet v hornině 3_x000D_ příplatek za lepivost horniny | D14: m3 | E14: 4.152 | G14: =ROUND(E14*F14,2) -> 0 | I14: =ROUND(E14*H14,2) -> 0 | K14: =ROUND(E14*J14,2) -> 0 | L14: 21 | M14: =G14*(1+L14/100) -> 0 | N14: 0 | O14: =ROUND(E14*N14,2) -> 0 | P14: 0 | Q14: =ROUND(E14*P14,2) -> 0 | R14: 800-1 | S14: RTS 19/ II | T14: RTS 19/ II | U14: 0.474 | V14: =ROUND(E14*U14,2) -> 1.97 | X14: Práce | AG14: POL1_1
C15: zapažených i nezapažených se svislým přemístění výkopku a urovnáním dna do předepsaného profilu a spádu, s případným nutným přemístěním výkopku ve výkopišti, s přehozením výkopku na přilehlém terénu na vzdálenost do 5 m od hrany šachty nebo s naložením na dopravní prostředek, | AG15: SPI | BA15: =C15 -> zapažených i nezapažených se svislým přemístění výkopku a urovnáním dna do předepsaného profilu a spádu, s případným nutným přemístěním výkopku ve výkopišti, s přehozením výkopku na přilehlém terénu na vzdálenost do 5 m od hrany šachty nebo s naložením na dopravní prostředek,
A16: 3 | B16: 162701105R00 | C16: Vodorovné přemístění výkopku z horniny 1 až 4, na vzdálenost přes 9 000 do 10 000 m | D16: m3 | E16: 4.152 | G16: =ROUND(E16*F16,2) -> 0 | I16: =ROUND(E16*H16,2) -> 0 | K16: =ROUND(E16*J16,2) -> 0 | L16: 21 | M16: =G16*(1+L16/100) -> 0 | N16: 0 | O16: =ROUND(E16*N16,2) -> 0 | P16: 0 | Q16: =ROUND(E16*P16,2) -> 0 | R16: 800-1 | S16: RTS 19/ II | T16: RTS 19/ II | U16: 0.011 | V16: =ROUND(E16*U16,2) -> 0.05 | X16: Práce | AG16: POL1_1
C17: po suchu, bez naložení výkopku, avšak se složením bez rozhrnutí, zpáteční cesta vozidla. | AG17: SPI
A18: 4 | B18: 171201201R00 | C18: Uložení sypaniny na dočasnou skládku tak, že na 1 m2 plochy připadá přes 2 m3 výkopku nebo ornice | D18: m3 | E18: 4.152 | G18: =ROUND(E18*F18,2) -> 0 | I18: =ROUND(E18*H18,2) -> 0 | K18: =ROUND(E18*J18,2) -> 0 | L18: 21 | M18: =G18*(1+L18/100) -> 0 | N18: 0 | O18: =ROUND(E18*N18,2) -> 0 | P18: 0 | Q18: =ROUND(E18*P18,2) -> 0 | R18: 800-1 | S18: RTS 19/ II | T18: RTS 19/ II | U18: 0.009 | V18: =ROUND(E18*U18,2) -> 0.04 | X18: Práce | AG18: POL1_1
A19: 5 | B19: 199000002R00 | C19: Poplatky za skládku horniny 1- 4 | D19: m3 | E19: 4.152 | G19: =ROUND(E19*F19,2) -> 0 | I19: =ROUND(E19*H19,2) -> 0 | K19: =ROUND(E19*J19,2) -> 0 | L19: 21 | M19: =G19*(1+L19/100) -> 0 | N19: 0 | O19: =ROUND(E19*N19,2) -> 0 | P19: 0 | Q19: =ROUND(E19*P19,2) -> 0 | R19: 800-1 | S19: RTS 19/ II | T19: RTS 19/ II | U19: 0 | V19: =ROUND(E19*U19,2) -> 0 | X19: Práce | AG19: POL1_
A20: Díl: | B20: 2 | C20: Základy a zvláštní zakládání | G20: =SUMIF(AG21:AG29,"<>NOR",G21:G29) -> 0 | I20: =SUM(I21:I29) -> 0 | K20: =SUM(K21:K29) -> 0 | M20: =SUM(M21:M29) -> 0 | O20: =SUM(O21:O29) -> 12.62 | Q20: =SUM(Q21:Q29) -> 0 | V20: =SUM(V21:V29) -> 41.51 | AG20: DIL
A21: 6 | B21: 275310020RAA | C21: Základové patky z betonu prostého včetně bednění z betonu C 12/15 , štěrkopískový poklad 100 mm | D21: m3 | E21: 4.29732 | G21: =ROUND(E21*F21,2) -> 0 | I21: =ROUND(E21*H21,2) -> 0 | K21: =ROUND(E21*J21,2) -> 0 | L21: 21 | M21: =G21*(1+L21/100) -> 0 | N21: 2.93634 | O21: =ROUND(E21*N21,2) -> 12.62 | P21: 0 | Q21: =ROUND(E21*P21,2) -> 0 | R21: AP-HSV | S21: RTS 19/ II | T21: RTS 19/ II | U21: 9.66 | V21: =ROUND(E21*U21,2) -> 41.51 | X21: Agregovaná položka | AG21: POL2_1
C22: odbednění a podkladu ze štěrkopísku. | AG22: SPI
C23: Začátek provozního součtu | AG23: VV
C24: 0,50*0,50*0,90*4 | E24: 0.9 | AG24: VV | AH24: 2
C25: 0,30*0,30*0,60*48 | E25: 2.592 | AG25: VV | AH25: 2
C26: 0,50*0,30*0,40*11 | E26: 0.66 | AG26: VV | AH26: 2
C27: Mezisoučet | E27: 4.152 | AG27: VV | AH27: 3
C28: Konec provozního součtu | AG28: VV
C29: 4,152*1,035 | E29: 4.29732 | AG29: VV | AH29: 0
A30: Díl: | B30: 3 | C30: Svislé a kompletní konstrukce | G30: =SUMIF(AG31:AG33,"<>NOR",G31:G33) -> 0 | I30: =SUM(I31:I33) -> 0 | K30: =SUM(K31:K33) -> 0 | M30: =SUM(M31:M33) -> 0 | O30: =SUM(O31:O33) -> 0.44 | Q30: =SUM(Q31:Q33) -> 0 | V30: =SUM(V31:V33) -> 32.76 | AG30: DIL
A31: 7 | B31: 338171121R00 | C31: Osazování sloupků a vzpěr plotových ocelových výšky do 2,60 m, se zalitím jakoukoliv cementovou maltou do vynechaných otvorů | D31: kus | E31: 63 | G31: =ROUND(E31*F31,2) -> 0 | I31: =ROUND(E31*H31,2) -> 0 | K31: =ROUND(E31*J31,2) -> 0 | L31: 21 | M31: =G31*(1+L31/100) -> 0 | N31: 0.00702 | O31: =ROUND(E31*N31,2) -> 0.44 | P31: 0 | Q31: =ROUND(E31*P31,2) -> 0 | R31: 801-5 | S31: RTS 19/ II | T31: RTS 19/ II | U31: 0.52 | V31: =ROUND(E31*U31,2) -> 32.76 | X31: Práce | AG31: POL1_1
C32: trubkových nebo profilovaných | AG32: SPI
C33: 2+2+48+11 | E33: 63 | AG33: VV | AH33: 0
A34: Díl: | B34: 63 | C34: Podlahy a podlahové konstrukce | G34: =SUMIF(AG35:AG49,"<>NOR",G35:G49) -> 0 | I34: =SUM(I35:I49) -> 0 | K34: =SUM(K35:K49) -> 0 | M34: =SUM(M35:M49) -> 0 | O34: =SUM(O35:O49) -> 0.27 | Q34: =SUM(Q35:Q49) -> 0 | V34: =SUM(V35:V49) -> 0.49 | AG34: DIL
A35: 8 | B35: 632921913R00 | C35: Dlažba vnitřní nebo vnější při objektu z dlaždic betonových betonových kladených do písku se zalitím spár na celou výšku cementovou maltou pro spárování _x000D_ o tloušťce dlaždic 60 mm | D35: m2 | E35: 0.96 | G35: =ROUND(E35*F35,2) -> 0 | I35: =ROUND(E35*H35,2) -> 0 | K35: =ROUND(E35*J35,2) -> 0 | L35: 21 | M35: =G35*(1+L35/100) -> 0 | N35: 0.27827 | O35: =ROUND(E35*N35,2) -> 0.27 | P35: 0 | Q35: =ROUND(E35*P35,2) -> 0 | R35: 801-1 | S35: RTS 19/ II | T35: RTS 19/ II | U35: 0.508 | V35: =ROUND(E35*U35,2) -> 0.49 | X35: Práce | AG35: POL1_1
C36: vodorovná nebo ve spádu do 15° od vodorovné roviny | AG36: SPI
C37: 0,40*0,40*6 | E37: 0.96 | AG37: VV | AH37: 0
A38: 9 | B38: 63201 | C38: D+M podkladní ocel. plotny 400/5-400mm | D38: kg | E38: 33 | G38: =ROUND(E38*F38,2) -> 0 | I38: =ROUND(E38*H38,2) -> 0 | K38: =ROUND(E38*J38,2) -> 0 | L38: 21 | M38: =G38*(1+L38/100) -> 0 | N38: 0 | O38: =ROUND(E38*N38,2) -> 0 | P38: 0 | Q38: =ROUND(E38*P38,2) -> 0 | S38: Vlastní | T38: Indiv | U38: 0 | V38: =ROUND(E38*U38,2) -> 0 | X38: Práce | AG38: POL1_1
C39: Začátek provozního součtu | AG39: POP
C40: Plech 400/5-400mm, 13,74kg/m: | AG40: POP
C41: Hmotnost 1 ks:13,74*0,40 | AG41: POP
C42: Cena 1 ks-68,00Kč/kg:5,496*68,00 | AG42: POP
C43: Konec provozního součtu | AG43: POP
C44: 6 | AG44: POP
C45: Začátek provozního součtu | AG45: VV
C46: Plech 400/5-400mm, 13,74kg/m : | AG46: VV | AH46: 2
C47: Hmotnost 1ks. 13,74*0,40=5,50kg : | AG47: VV | AH47: 2
C48: Konec provozního součtu | AG48: VV
C49: 5,50*6 | E49: 33 | AG49: VV | AH49: 0
A50: Díl: | B50: 95 | C50: Dokončovací konstrukce na pozemních stavbách | G50: =SUMIF(AG51:AG56,"<>NOR",G51:G56) -> 0 | I50: =SUM(I51:I56) -> 0 | K50: =SUM(K51:K56) -> 0 | M50: =SUM(M51:M56) -> 0 | O50: =SUM(O51:O56) -> 0.01 | Q50: =SUM(Q51:Q56) -> 0 | V50: =SUM(V51:V56) -> 107.6 | AG50: DIL
A51: 10 | B51: 952901411R00 | C51: Vyčištění budov a ostatních objektů ostatních objektů (např. kanálů, zásobníků, kůlen apod.) - vynesení zbytků stavebního rumu, kropení a 2 x zametení podlah, oprášení stěn a výplní otvorů jakékoliv výšky podlaží | D51: m2 | E51: 636 | G51: =ROUND(E51*F51,2) -> 0 | I51: =ROUND(E51*H51,2) -> 0 | K51: =ROUND(E51*J51,2) -> 0 | L51: 21 | M51: =G51*(1+L51/100) -> 0 | N51: 0 | O51: =ROUND(E51*N51,2) -> 0 | P51: 0 | Q51: =ROUND(E51*P51,2) -> 0 | R51: 801-1 | S51: RTS 19/ II | T51: RTS 19/ II | U51: 0.139 | V51: =ROUND(E51*U51,2) -> 88.4 | X51: Práce | AG51: POL1_1
A52: 11 | B52: 953943122R00 | C52: Osazování jiných kovových výrobků do betonu (např. kotev) se zajištěním polohy k bednění nebo k výztuži před zabetonováním_x000D_ přes 1 kg do 5 kg/kus | D52: kus | E52: 48 | G52: =ROUND(E52*F52,2) -> 0 | I52: =ROUND(E52*H52,2) -> 0 | K52: =ROUND(E52*J52,2) -> 0 | L52: 21 | M52: =G52*(1+L52/100) -> 0 | N52: 0.00015 | O52: =ROUND(E52*N52,2) -> 0.01 | P52: 0 | Q52: =ROUND(E52*P52,2) -> 0 | R52: 801-1 | S52: RTS 19/ II | T52: RTS 19/ II | U52: 0.4 | V52: =ROUND(E52*U52,2) -> 19.2 | X52: Práce | AG52: POL1_1
C53: osazování výrobků ostatních jinde neuvedených, bez dodání | AG53: SPI
A54: 12 | B54: 95001 | C54: D+M+dopr. kontejneru 4000 AX3 26, vel. 2438*6058mm, s.v.2500mm, RAL 7035, pro obsluhu střediska SSO | D54: kompl. | E54: 1 | G54: =ROUND(E54*F54,2) -> 0 | I54: =ROUND(E54*H54,2) -> 0 | K54: =ROUND(E54*J54,2) -> 0 | L54: 21 | M54: =G54*(1+L54/100) -> 0 | N54: 0 | O54: =ROUND(E54*N54,2) -> 0 | P54: 0 | Q54: =ROUND(E54*P54,2) -> 0 | S54: Vlastní | T54: Indiv | U54: 0 | V54: =ROUND(E54*U54,2) -> 0 | X54: Práce | AG54: POL1_
A55: 13 | B55: 95301 | C55: D+M+revize hasicí přístroj práškový, 6kg, 113B | D55: ks | E55: 3 | G55: =ROUND(E55*F55,2) -> 0 | I55: =ROUND(E55*H55,2) -> 0 | K55: =ROUND(E55*J55,2) -> 0 | L55: 21 | M55: =G55*(1+L55/100) -> 0 | N55: 0 | O55: =ROUND(E55*N55,2) -> 0 | P55: 0 | Q55: =ROUND(E55*P55,2) -> 0 | S55: Vlastní | T55: Indiv | U55: 0 | V55: =ROUND(E55*U55,2) -> 0 | X55: Specifikace | AG55: POL3_0
A56: 14 | B56: 95302 | C56: D+M bezpečnostní značky a tabulky | D56: ks | E56: 10 | G56: =ROUND(E56*F56,2) -> 0 | I56: =ROUND(E56*H56,2) -> 0 | K56: =ROUND(E56*J56,2) -> 0 | L56: 21 | M56: =G56*(1+L56/100) -> 0 | N56: 0 | O56: =ROUND(E56*N56,2) -> 0 | P56: 0 | Q56: =ROUND(E56*P56,2) -> 0 | S56: Vlastní | T56: Indiv | U56: 0 | V56: =ROUND(E56*U56,2) -> 0 | X56: Práce | AG56: POL1_
A57: Díl: | B57: 99 | C57: Staveništní přesun hmot | G57: =SUMIF(AG58:AG62,"<>NOR",G58:G62) -> 0 | I57: =SUM(I58:I62) -> 0 | K57: =SUM(K58:K62) -> 0 | M57: =SUM(M58:M62) -> 0 | O57: =SUM(O58:O62) -> 0 | Q57: =SUM(Q58:Q62) -> 0 | V57: =SUM(V58:V62) -> 0.82 | AG57: DIL
A58: 15 | B58: 998151111R00 | C58: Přesun hmot pro oplocení a objekty zvláštní, zděné vodorovně do 50 m výšky do 10 m | D58: t | E58: 0.7166 | G58: =ROUND(E58*F58,2) -> 0 | I58: =ROUND(E58*H58,2) -> 0 | K58: =ROUND(E58*J58,2) -> 0 | L58: 21 | M58: =G58*(1+L58/100) -> 0 | N58: 0 | O58: =ROUND(E58*N58,2) -> 0 | P58: 0 | Q58: =ROUND(E58*P58,2) -> 0 | R58: 801-5 | S58: RTS 19/ II | T58: RTS 19/ II | U58: 1.142 | V58: =ROUND(E58*U58,2) -> 0.82 | X58: Přesun hmot | AG58: POL7_
C59: na novostavbách a změnách objektů pro oplocení (815 2 JKSo), objekty zvláštní pro chov živočichů (815 3 JKSO), objekty pozemní různé (815 9 JKSO) | AG59: SPI | BA59: =C59 -> na novostavbách a změnách objektů pro oplocení (815 2 JKSo), objekty zvláštní pro chov živočichů (815 3 JKSO), objekty pozemní různé (815 9 JKSO)
C60: Hmotnosti z položek s pořadovými čísly: : | AG60: VV | AH60: 0
C61: 7,8,11, : | AG61: VV | AH61: 0
C62: Součet: : 0,71660 | E62: 0.7166 | AG62: VV | AH62: 0
A63: Díl: | B63: 721 | C63: Vnitřní kanalizace | G63: =SUMIF(AG64:AG70,"<>NOR",G64:G70) -> 0 | I63: =SUM(I64:I70) -> 0 | K63: =SUM(K64:K70) -> 0 | M63: =SUM(M64:M70) -> 0 | O63: =SUM(O64:O70) -> 0 | Q63: =SUM(Q64:Q70) -> 0 | V63: =SUM(V64:V70) -> 0.69 | AG63: DIL
A64: 16 | B64: 721176115R00 | C64: Potrubí HT odpadní svislé vnější průměr D 110 mm, tloušťka stěny 2,7 mm, DN 100 | D64: m | E64: 0.5 | G64: =ROUND(E64*F64,2) -> 0 | I64: =ROUND(E64*H64,2) -> 0 | K64: =ROUND(E64*J64,2) -> 0 | L64: 21 | M64: =G64*(1+L64/100) -> 0 | N64: 0.00131 | O64: =ROUND(E64*N64,2) -> 0 | P64: 0 | Q64: =ROUND(E64*P64,2) -> 0 | R64: 800-721 | S64: RTS 19/ II | T64: RTS 19/ II | U64: 0.797 | V64: =ROUND(E64*U64,2) -> 0.4 | X64: Práce | AG64: POL1_
C65: včetně tvarovek, objímek. Bez zednických výpomocí. | AG65: SPI
A66: 17 | B66: 721194109R00 | C66: Zřízení přípojek na potrubí D 110 mm, materiál ve specifikaci | D66: kus | E66: 1 | G66: =ROUND(E66*F66,2) -> 0 | I66: =ROUND(E66*H66,2) -> 0 | K66: =ROUND(E66*J66,2) -> 0 | L66: 21 | M66: =G66*(1+L66/100) -> 0 | N66: 0 | O66: =ROUND(E66*N66,2) -> 0 | P66: 0 | Q66: =ROUND(E66*P66,2) -> 0 | R66: 800-721 | S66: RTS 19/ II | T66: RTS 19/ II | U66: 0.259 | V66: =ROUND(E66*U66,2) -> 0.26 | X66: Práce | AG66: POL1_
C67: vyvedení a upevnění odpadních výpustek, | AG67: SPI
A68: 18 | B68: 721290123R00 | C68: Zkouška těsnosti kanalizace v objektech kouřem, DN 300 | D68: m | E68: 0.5 | G68: =ROUND(E68*F68,2) -> 0 | I68: =ROUND(E68*H68,2) -> 0 | K68: =ROUND(E68*J68,2) -> 0 | L68: 21 | M68: =G68*(1+L68/100) -> 0 | N68: 0 | O68: =ROUND(E68*N68,2) -> 0 | P68: 0 | Q68: =ROUND(E68*P68,2) -> 0 | R68: 800-721 | S68: RTS 19/ II | T68: RTS 19/ II | U68: 0.059 | V68: =ROUND(E68*U68,2) -> 0.03 | X68: Práce | AG68: POL1_
A69: 19 | B69: 998721201R00 | C69: Přesun hmot pro vnitřní kanalizaci v objektech výšky do 6 m | D69: % | G69: =ROUND(E69*F69,2) -> 0 | I69: =ROUND(E69*H69,2) -> 0 | K69: =ROUND(E69*J69,2) -> 0 | L69: 21 | M69: =G69*(1+L69/100) -> 0 | N69: 0 | O69: =ROUND(E69*N69,2) -> 0 | P69: 0 | Q69: =ROUND(E69*P69,2) -> 0 | R69: 800-721 | S69: RTS 19/ II | T69: RTS 19/ II | U69: 0 | V69: =ROUND(E69*U69,2) -> 0 | X69: Přesun hmot | AG69: POL7_
C70: 50 m vodorovně, měřeno od těžiště půdorysné plochy skládky do těžiště půdorysné plochy objektu | AG70: SPI
A71: Díl: | B71: 722 | C71: Vnitřní vodovod | G71: =SUMIF(AG72:AG81,"<>NOR",G72:G81) -> 0 | I71: =SUM(I72:I81) -> 0 | K71: =SUM(K72:K81) -> 0 | M71: =SUM(M72:M81) -> 0 | O71: =SUM(O72:O81) -> 0 | Q71: =SUM(Q72:Q81) -> 0 | V71: =SUM(V72:V81) -> 1.08 | AG71: DIL
A72: 20 | B72: 998722201R00 | C72: Přesun hmot pro vnitřní vodovod v objektech výšky do 6 m | D72: % | G72: =ROUND(E72*F72,2) -> 0 | I72: =ROUND(E72*H72,2) -> 0 | K72: =ROUND(E72*J72,2) -> 0 | L72: 21 | M72: =G72*(1+L72/100) -> 0 | N72: 0 | O72: =ROUND(E72*N72,2) -> 0 | P72: 0 | Q72: =ROUND(E72*P72,2) -> 0 | R72: 800-721 | S72: RTS 19/ II | T72: RTS 19/ II | U72: 0 | V72: =ROUND(E72*U72,2) -> 0 | X72: Přesun hmot | AG72: POL7_
C73: vodorovně do 50 m | AG73: SPI
A74: 21 | B74: 722172412R00 | C74: Potrubí z plastických hmot polypropylenové potrubí PP-R, D 25 mm, s 3,5 mm, PN 16, polyfúzně svařované, včetně zednických výpomocí | D74: m | E74: 0.5 | G74: =ROUND(E74*F74,2) -> 0 | I74: =ROUND(E74*H74,2) -> 0 | K74: =ROUND(E74*J74,2) -> 0 | L74: 21 | M74: =G74*(1+L74/100) -> 0 | N74: 0.00058 | O74: =ROUND(E74*N74,2) -> 0 | P74: 0 | Q74: =ROUND(E74*P74,2) -> 0 | R74: 800-721 | S74: RTS 19/ II | T74: RTS 19/ II | U74: 0.6159 | V74: =ROUND(E74*U74,2) -> 0.31 | X74: Práce | AG74: POL1_
C75: včetně tvarovek, bez zednických výpomocí | AG75: SPI
A76: 22 | B76: 722179191R00 | C76: Příplatky za malý rozsah za práce malého rozsahu na zakázce do 20 m rozvodu | D76: soubor | E76: 1 | G76: =ROUND(E76*F76,2) -> 0 | I76: =ROUND(E76*H76,2) -> 0 | K76: =ROUND(E76*J76,2) -> 0 | L76: 21 | M76: =G76*(1+L76/100) -> 0 | N76: 0 | O76: =ROUND(E76*N76,2) -> 0 | P76: 0 | Q76: =ROUND(E76*P76,2) -> 0 | R76: 800-721 | S76: RTS 19/ II | T76: RTS 19/ II | U76: 0.65566 | V76: =ROUND(E76*U76,2) -> 0.66 | X76: Práce | AG76: POL1_
A77: 23 | B77: 722181215RU1 | C77: Izolace vodovodního potrubí návleková z trubic z pěnového polyetylenu, tloušťka stěny 25 mm, d 32 mm | D77: m | E77: 0.5 | G77: =ROUND(E77*F77,2) -> 0 | I77: =ROUND(E77*H77,2) -> 0 | K77: =ROUND(E77*J77,2) -> 0 | L77: 21 | M77: =G77*(1+L77/100) -> 0 | N77: 8e-05 | O77: =ROUND(E77*N77,2) -> 0 | P77: 0 | Q77: =ROUND(E77*P77,2) -> 0 | R77: 800-721 | S77: RTS 19/ II | T77: RTS 19/ II | U77: 0.142 | V77: =ROUND(E77*U77,2) -> 0.07 | X77: Práce | AG77: POL1_
A78: 24 | B78: 72223 | C78: Kulový kohout vnit. záv. G1 PN42-185stC+vypo | D78: ks | E78: 1 | G78: =ROUND(E78*F78,2) -> 0 | I78: =ROUND(E78*H78,2) -> 0 | K78: =ROUND(E78*J78,2) -> 0 | L78: 21 | M78: =G78*(1+L78/100) -> 0 | N78: 0 | O78: =ROUND(E78*N78,2) -> 0 | P78: 0 | Q78: =ROUND(E78*P78,2) -> 0 | S78: Vlastní | T78: Indiv | U78: 0 | V78: =ROUND(E78*U78,2) -> 0 | X78: Práce | AG78: POL1_
A79: 25 | B79: 722280106R00 | C79: Tlakové zkoušky vodovodního potrubí do DN 32 | D79: m | E79: 0.5 | G79: =ROUND(E79*F79,2) -> 0 | I79: =ROUND(E79*H79,2) -> 0 | K79: =ROUND(E79*J79,2) -> 0 | L79: 21 | M79: =G79*(1+L79/100) -> 0 | N79: 0 | O79: =ROUND(E79*N79,2) -> 0 | P79: 0 | Q79: =ROUND(E79*P79,2) -> 0 | R79: 800-721 | S79: RTS 19/ II | T79: RTS 19/ II | U79: 0.029 | V79: =ROUND(E79*U79,2) -> 0.01 | X79: Práce | AG79: POL1_
A80: 26 | B80: 722290234R00 | C80: Proplach a dezinfekce vodovodního potrubí do DN 80 | D80: m | E80: 0.5 | G80: =ROUND(E80*F80,2) -> 0 | I80: =ROUND(E80*H80,2) -> 0 | K80: =ROUND(E80*J80,2) -> 0 | L80: 21 | M80: =G80*(1+L80/100) -> 0 | N80: 1e-05 | O80: =ROUND(E80*N80,2) -> 0 | P80: 0 | Q80: =ROUND(E80*P80,2) -> 0 | R80: 800-721 | S80: RTS 19/ II | T80: RTS 19/ II | U80: 0.062 | V80: =ROUND(E80*U80,2) -> 0.03 | X80: Práce | AG80: POL1_
A81: 27 | B81: 722 | C81: Tlaková hadice s rychlospojkou 3/4", dl. 0,50m | D81: ks | E81: 1 | G81: =ROUND(E81*F81,2) -> 0 | I81: =ROUND(E81*H81,2) -> 0 | K81: =ROUND(E81*J81,2) -> 0 | L81: 21 | M81: =G81*(1+L81/100) -> 0 | N81: 0 | O81: =ROUND(E81*N81,2) -> 0 | P81: 0 | Q81: =ROUND(E81*P81,2) -> 0 | S81: Vlastní | T81: Indiv | U81: 0 | V81: =ROUND(E81*U81,2) -> 0 | X81: Práce | AG81: POL1_
A82: Díl: | B82: 767 | C82: Konstrukce zámečnické | G82: =SUMIF(AG83:AG105,"<>NOR",G83:G105) -> 0 | I82: =SUM(I83:I105) -> 0 | K82: =SUM(K83:K105) -> 0 | M82: =SUM(M83:M105) -> 0 | O82: =SUM(O83:O105) -> 1.72 | Q82: =SUM(Q83:Q105) -> 0 | V82: =SUM(V83:V105) -> 47.28 | AG82: DIL
A83: 28 | B83: 767912120R00 | C83: Montáž oplocení z pletiva ostnatého drátu, ve výšce přes 2 m | D83: m | E83: 124.4 | G83: =ROUND(E83*F83,2) -> 0 | I83: =ROUND(E83*H83,2) -> 0 | K83: =ROUND(E83*J83,2) -> 0 | L83: 21 | M83: =G83*(1+L83/100) -> 0 | N83: 0 | O83: =ROUND(E83*N83,2) -> 0 | P83: 0 | Q83: =ROUND(E83*P83,2) -> 0 | R83: 800-767 | S83: RTS 19/ II | T83: RTS 19/ II | U83: 0.04 | V83: =ROUND(E83*U83,2) -> 4.98 | X83: Práce | AG83: POL1_7
A84: 29 | B84: 767916110R00 | C84: Montáž oplocení průběžného_x000D_ z plechu vlnitého nebo profilvého, o hnotnosti 1 m oplocení 30 kg | D84: m | E84: 124.4 | G84: =ROUND(E84*F84,2) -> 0 | I84: =ROUND(E84*H84,2) -> 0 | K84: =ROUND(E84*J84,2) -> 0 | L84: 21 | M84: =G84*(1+L84/100) -> 0 | N84: 0.00082 | O84: =ROUND(E84*N84,2) -> 0.1 | P84: 0 | Q84: =ROUND(E84*P84,2) -> 0 | R84: 800-767 | S84: RTS 19/ II | T84: RTS 19/ II | U84: 0.34 | V84: =ROUND(E84*U84,2) -> 42.3 | X84: Práce | AG84: POL1_7
A85: 30 | B85: 76701 | C85: D+M ochranná plechová skříňka 300/400/600mm vč. tep. izolace | D85: kompl. | E85: 1 | G85: =ROUND(E85*F85,2) -> 0 | I85: =ROUND(E85*H85,2) -> 0 | K85: =ROUND(E85*J85,2) -> 0 | L85: 21 | M85: =G85*(1+L85/100) -> 0 | N85: 0 | O85: =ROUND(E85*N85,2) -> 0 | P85: 0 | Q85: =ROUND(E85*P85,2) -> 0 | S85: Vlastní | T85: Indiv | U85: 0 | V85: =ROUND(E85*U85,2) -> 0 | X85: Práce | AG85: POL1_7
A86: 31 | B86: 76702 | C86: D+M ocel. brána pozink. vel. 6000/2200mm (o.k.+vlnitý plech pozink.+kování+zámek) | D86: kompl. | E86: 1 | G86: =ROUND(E86*F86,2) -> 0 | I86: =ROUND(E86*H86,2) -> 0 | K86: =ROUND(E86*J86,2) -> 0 | L86: 21 | M86: =G86*(1+L86/100) -> 0 | N86: 0 | O86: =ROUND(E86*N86,2) -> 0 | P86: 0 | Q86: =ROUND(E86*P86,2) -> 0 | S86: Vlastní | T86: Indiv | U86: 0 | V86: =ROUND(E86*U86,2) -> 0 | X86: Práce | AG86: POL1_7
A87: 32 | B87: 76703 | C87: D+M ocel. brána pozink. vel. 5000/2200mm (o.k.+vlnitý plech pozink.+kování+zámek) | D87: kompl. | E87: 1 | G87: =ROUND(E87*F87,2) -> 0 | I87: =ROUND(E87*H87,2) -> 0 | K87: =ROUND(E87*J87,2) -> 0 | L87: 21 | M87: =G87*(1+L87/100) -> 0 | N87: 0 | O87: =ROUND(E87*N87,2) -> 0 | P87: 0 | Q87: =ROUND(E87*P87,2) -> 0 | S87: Vlastní | T87: Indiv | U87: 0 | V87: =ROUND(E87*U87,2) -> 0 | X87: Práce | AG87: POL1_7
A88: 33 | B88: 76704 | C88: D+M ocel. konstr.pozink. pro oplocení | D88: kg | E88: 1673.6 | G88: =ROUND(E88*F88,2) -> 0 | I88: =ROUND(E88*H88,2) -> 0 | K88: =ROUND(E88*J88,2) -> 0 | L88: 21 | M88: =G88*(1+L88/100) -> 0 | N88: 0 | O88: =ROUND(E88*N88,2) -> 0 | P88: 0 | Q88: =ROUND(E88*P88,2) -> 0 | S88: Vlastní | T88: Indiv | U88: 0 | V88: =ROUND(E88*U88,2) -> 0 | X88: Práce | AG88: POL1_7
C89: Sloupky vč. víček:410,00 | AG89: POP
C90: Vzpěry:70,10 | AG90: POP
C91: Příčníky:1193,50 | AG91: POP
C92: Sloupky vč. víček : 410,00 | E92: 410 | AG92: VV | AH92: 0
C93: VZpěry : 70,10 | E93: 70.1 | AG93: VV | AH93: 0
C94: Příčníky : 1193,50 | E94: 1193.5 | AG94: VV | AH94: 0
A95: 34 | B95: 76705 | C95: D+M kotevní desky 150/150mm s pracnami pro sloupky pro pevnou část | D95: kg | E95: 94 | G95: =ROUND(E95*F95,2) -> 0 | I95: =ROUND(E95*H95,2) -> 0 | K95: =ROUND(E95*J95,2) -> 0 | L95: 21 | M95: =G95*(1+L95/100) -> 0 | N95: 0 | O95: =ROUND(E95*N95,2) -> 0 | P95: 0 | Q95: =ROUND(E95*P95,2) -> 0 | S95: Vlastní | T95: Indiv | U95: 0 | V95: =ROUND(E95*U95,2) -> 0 | X95: Práce | AG95: POL1_7
C96: 2,00*47 | AG96: POP
C97: 2,00*47 | E97: 94 | AG97: VV | AH97: 0
A98: 35 | B98: 76706 | C98: D+M kotev.desky 150/150mm s pracnou+trubkou rozebíratelná část - 2sloupky | D98: kg | E98: 5.5 | G98: =ROUND(E98*F98,2) -> 0 | I98: =ROUND(E98*H98,2) -> 0 | K98: =ROUND(E98*J98,2) -> 0 | L98: 21 | M98: =G98*(1+L98/100) -> 0 | N98: 0 | O98: =ROUND(E98*N98,2) -> 0 | P98: 0 | Q98: =ROUND(E98*P98,2) -> 0 | S98: Vlastní | T98: Indiv | U98: 0 | V98: =ROUND(E98*U98,2) -> 0 | X98: Práce | AG98: POL1_7
C99: 2,75*2 | AG99: POP
C100: 2,75*2 | E100: 5.5 | AG100: VV | AH100: 0
A101: 36 | B101: 13838727R | C101: plech ocelový válcovaný za studena 10004; tvar plechu vlnitý,vel.vlny100x30 mm; tl. 0,80 mm; povrchová úprava pozinkovaný, povlak 200 g/m2 | D101: t | E101: 1.62 | G101: =ROUND(E101*F101,2) -> 0 | I101: =ROUND(E101*H101,2) -> 0 | K101: =ROUND(E101*J101,2) -> 0 | L101: 21 | M101: =G101*(1+L101/100) -> 0 | N101: 1 | O101: =ROUND(E101*N101,2) -> 1.62 | P101: 0 | Q101: =ROUND(E101*P101,2) -> 0 | R101: SPCM | S101: RTS 19/ II | T101: RTS 19/ II | U101: 0 | V101: =ROUND(E101*U101,2) -> 0 | X101: Specifikace | AG101: POL3_0
C102: 180*9,00*0,001 | E102: 1.62 | AG102: VV | AH102: 0
...

Sheet 02 CAD-035_02 Pol
A1: Položkový soupis prací a dodávek | AG1: #TypZaznamu#
A2: S: | B2: CAD-039 | C2: Sběrné středisko odpadů, ul. Slaměníkova, Brno - CÚ 2019/II | AG2: STA
A3: O: | B3: 02 | C3: Přípojka vody a kanalizace | AC3: STA | AG3: OBJ
A4: R: | B4: CAD-035/02 | C4: SSO Slaměníkova, Brno - přípojka vody a kanalizace | AG4: ROZ
A6: P.č. | B6: Číslo položky | C6: Název položky | D6: MJ | E6: Množství | F6: Cena / MJ | G6: Celkem | H6: Dodávka | I6: Dodávka celk. | J6: Montáž | K6: Montáž celk. | L6: DPH | M6: Cena s DPH | N6: Hmotnost / MJ | O6: Hmotnost celk.(t) | P6: Dem. hmotnost / MJ | Q6: Dem. hmotnost celk.(t) | R6: Ceník | S6: Cen. soustava / platnost | T6: Cenová úroveň | U6: Nhod / MJ | V6: Nhod celk. | W6: Dodavatel | X6: Typ položky
A8: Díl: | B8: 1 | C8: Zemní práce | G8: =SUMIF(AG9:AG33,"<>NOR",G9:G33) -> 0 | I8: =SUM(I9:I33) -> 0 | K8: =SUM(K9:K33) -> 0 | M8: =SUM(M9:M33) -> 0 | O8: =SUM(O9:O33) -> 7.99 | Q8: =SUM(Q9:Q33) -> 3.25 | V8: =SUM(V9:V33) -> 145.57 | AG8: DIL
A9: 1 | B9: 113107305R00 | C9: Odstranění podkladů nebo krytů z kameniva těženého, v ploše jednotlivě do 50 m2, tloušťka vrstvy 50 mm | D9: m2 | E9: 29.52 | G9: =ROUND(E9*F9,2) -> 0 | I9: =ROUND(E9*H9,2) -> 0 | K9: =ROUND(E9*J9,2) -> 0 | L9: 21 | M9: =G9*(1+L9/100) -> 0 | N9: 0 | O9: =ROUND(E9*N9,2) -> 0 | P9: 0.11 | Q9: =ROUND(E9*P9,2) -> 3.25 | R9: 822-1 | S9: RTS 19/ II | T9: RTS 19/ II | U9: 0.1255 | V9: =ROUND(E9*U9,2) -> 3.7 | X9: Práce | AG9: POL1_1
C10: kanal: : 1,10*9 | E10: 9.9 | AG10: VV | AH10: 0
C11: voda: : (1,1*13,2)+(3*1,7) | E11: 19.62 | AG11: VV | AH11: 0
A12: 2 | B12: 130001101R00 | C12: v horninách jakékoliv třídy | D12: m3 | E12: 2.2 | G12: =ROUND(E12*F12,2) -> 0 | I12: =ROUND(E12*H12,2) -> 0 | K12: =ROUND(E12*J12,2) -> 0 | L12: 21 | M12: =G12*(1+L12/100) -> 0 | N12: 0 | O12: =ROUND(E12*N12,2) -> 0 | P12: 0 | Q12: =ROUND(E12*P12,2) -> 0 | S12: RTS 19/ II | T12: RTS 19/ II | U12: 1.763 | V12: =ROUND(E12*U12,2) -> 3.88 | X12: Práce | AG12: POL1_1
C13: 1,1*2 | E13: 2.2 | AG13: VV | AH13: 0
A14: 3 | B14: 132201210R00 | C14: Hloubení rýh šířky přes 60 do 200 cm do 50 m3, v hornině 3, hloubení strojně | D14: m3 | E14: 43.9704 | G14: =ROUND(E14*F14,2) -> 0 | I14: =ROUND(E14*H14,2) -> 0 | K14: =ROUND(E14*J14,2) -> 0 | L14: 21 | M14: =G14*(1+L14/100) -> 0 | N14: 0 | O14: =ROUND(E14*N14,2) -> 0 | P14: 0 | Q14: =ROUND(E14*P14,2) -> 0 | R14: 800-1 | S14: RTS 19/ II | T14: RTS 19/ II | U14: 0.365 | V14: =ROUND(E14*U14,2) -> 16.05 | X14: Práce | AG14: POL1_1
C15: zapažených i nezapažených, s urovnáním dna do předepsaného profilu a spádu, s případně nutným přehozením výkopku na vzdálenost do 3 m ve výkopišti, s přehozením výkopku na přilehlém terénu na vzdálenost do 5 m od podélné osy rýhy nebo s naložením výkopku na dopravní prostředek. | AG15: SPI | BA15: =C15 -> zapažených i nezapažených, s urovnáním dna do předepsaného profilu a spádu, s případně nutným přehozením výkopku na vzdálenost do 3 m ve výkopišti, s přehozením výkopku na přilehlém terénu na vzdálenost do 5 m od podélné osy rýhy nebo s naložením výkopku na dopravní prostředek.
C16: 1,78*13,2*1,1 | E16: 25.8456 | AG16: VV | AH16: 0
C17: 1,28*1,2*11,8 | E17: 18.1248 | AG17: VV | AH17: 0
A18: 4 | B18: 132201210R00 | C18: Hloubení rýh šířky přes 60 do 200 cm do 50 m3, v hornině 3, hloubení strojně | D18: m3 | E18: 43.9704 | G18: =ROUND(E18*F18,2) -> 0 | I18: =ROUND(E18*H18,2) -> 0 | K18: =ROUND(E18*J18,2) -> 0 | L18: 21 | M18: =G18*(1+L18/100) -> 0 | N18: 0 | O18: =ROUND(E18*N18,2) -> 0 | P18: 0 | Q18: =ROUND(E18*P18,2) -> 0 | R18: 800-1 | S18: RTS 19/ II | T18: RTS 19/ II | U18: 0.365 | V18: =ROUND(E18*U18,2) -> 16.05 | X18: Práce | AG18: POL1_1
C19: zapažených i nezapažených, s urovnáním dna do předepsaného profilu a spádu, s případně nutným přehozením výkopku na vzdálenost do 3 m ve výkopišti, s přehozením výkopku na přilehlém terénu na vzdálenost do 5 m od podélné osy rýhy nebo s naložením výkopku na dopravní prostředek. | AG19: SPI | BA19: =C19 -> zapažených i nezapažených, s urovnáním dna do předepsaného profilu a spádu, s případně nutným přehozením výkopku na vzdálenost do 3 m ve výkopišti, s přehozením výkopku na přilehlém terénu na vzdálenost do 5 m od podélné osy rýhy nebo s naložením výkopku na dopravní prostředek.
A20: 5 | B20: 133201101R00 | C20: do 100 m3 | D20: m3 | E20: 13.26 | G20: =ROUND(E20*F20,2) -> 0 | I20: =ROUND(E20*H20,2) -> 0 | K20: =ROUND(E20*J20,2) -> 0 | L20: 21 | M20: =G20*(1+L20/100) -> 0 | N20: 0 | O20: =ROUND(E20*N20,2) -> 0 | P20: 0 | Q20: =ROUND(E20*P20,2) -> 0 | S20: RTS 19/ II | T20: RTS 19/ II | U20: 3.131 | V20: =ROUND(E20*U20,2) -> 41.52 | X20: Práce | AG20: POL1_1
C21: (2,8-1,1)*3*2,6 : | AG21: VV | AH21: 0
C22: 13,26 | E22: 13.26 | AG22: VV | AH22: 0
A23: 6 | B23: 133201109R00 | C23: za lepivost horniny | D23: m3 | E23: 13.26 | G23: =ROUND(E23*F23,2) -> 0 | I23: =ROUND(E23*H23,2) -> 0 | K23: =ROUND(E23*J23,2) -> 0 | L23: 21 | M23: =G23*(1+L23/100) -> 0 | N23: 0 | O23: =ROUND(E23*N23,2) -> 0 | P23: 0 | Q23: =ROUND(E23*P23,2) -> 0 | S23: RTS 19/ II | T23: RTS 19/ II | U23: 0.474 | V23: =ROUND(E23*U23,2) -> 6.29 | X23: Práce | AG23: POL1_1
A24: 7 | B24: 151101101R00 | C24: příložné pro jakoukoliv mezerovitost, hloubky do 2 m | D24: m2 | E24: 77.2 | G24: =ROUND(E24*F24,2) -> 0 | I24: =ROUND(E24*H24,2) -> 0 | K24: =ROUND(E24*J24,2) -> 0 | L24: 21 | M24: =G24*(1+L24/100) -> 0 | N24: 0.00099 | O24: =ROUND(E24*N24,2) -> 0.08 | P24: 0 | Q24: =ROUND(E24*P24,2) -> 0 | S24: RTS 19/ II | T24: RTS 19/ II | U24: 0.236 | V24: =ROUND(E24*U24,2) -> 18.22 | X24: Práce | AG24: POL1_1
C25: voda: : 13,2*1,78*2 | E25: 46.992 | AG25: VV | AH25: 0
C26: kan: : 11,8*1,28*2 | E26: 30.208 | AG26: VV | AH26: 0
A27: 8 | B27: 151101111R00 | C27: příložné , hloubky do 2 m | D27: m2 | E27: 77.2 | G27: =ROUND(E27*F27,2) -> 0 | I27: =ROUND(E27*H27,2) -> 0 | K27: =ROUND(E27*J27,2) -> 0 | L27: 21 | M27: =G27*(1+L27/100) -> 0 | N27: 0 | O27: =ROUND(E27*N27,2) -> 0 | P27: 0 | Q27: =ROUND(E27*P27,2) -> 0 | S27: RTS 19/ II | T27: RTS 19/ II | U27: 0.07 | V27: =ROUND(E27*U27,2) -> 5.4 | X27: Práce | AG27: POL1_1
A28: 9 | B28: 161101101R00 | C28: z horniny 1 až 4, při hloubce výkopu přes 1 do 2,5 m | D28: m3 | E28: 43.97 | G28: =ROUND(E28*F28,2) -> 0 | I28: =ROUND(E28*H28,2) -> 0 | K28: =ROUND(E28*J28,2) -> 0 | L28: 21 | M28: =G28*(1+L28/100) -> 0 | N28: 0 | O28: =ROUND(E28*N28,2) -> 0 | P28: 0 | Q28: =ROUND(E28*P28,2) -> 0 | S28: RTS 19/ II | T28: RTS 19/ II | U28: 0.345 | V28: =ROUND(E28*U28,2) -> 15.17 | X28: Práce | AG28: POL1_1
A29: 10 | B29: 162201102R00 | C29: z horniny 1 až 4, na vzdálenost přes 20 do 50 m | D29: m3 | E29: 43.97 | G29: =ROUND(E29*F29,2) -> 0 | I29: =ROUND(E29*H29,2) -> 0 | K29: =ROUND(E29*J29,2) -> 0 | L29: 21 | M29: =G29*(1+L29/100) -> 0 | N29: 0 | O29: =ROUND(E29*N29,2) -> 0 | P29: 0 | Q29: =ROUND(E29*P29,2) -> 0 | S29: RTS 19/ II | T29: RTS 19/ II | U29: 0.074 | V29: =ROUND(E29*U29,2) -> 3.25 | X29: Práce | AG29: POL1_1
A30: 11 | B30: 199000005R00 | C30: Poplatky za skládku zeminy 1- 4 | D30: t | E30: 14.35 | G30: =ROUND(E30*F30,2) -> 0 | I30: =ROUND(E30*H30,2) -> 0 | K30: =ROUND(E30*J30,2) -> 0 | L30: 21 | M30: =G30*(1+L30/100) -> 0 | N30: 0 | O30: =ROUND(E30*N30,2) -> 0 | P30: 0 | Q30: =ROUND(E30*P30,2) -> 0 | R30: 800-1 | S30: RTS 19/ II | T30: RTS 19/ II | U30: 0 | V30: =ROUND(E30*U30,2) -> 0 | X30: Práce | AG30: POL1_1
A31: 12 | B31: 174101101R00 | C31: jam, šachet, rýh nebo kolem objektů v těchto vykopávkách | D31: m3 | E31: 42.88 | G31: =ROUND(E31*F31,2) -> 0 | I31: =ROUND(E31*H31,2) -> 0 | K31: =ROUND(E31*J31,2) -> 0 | L31: 21 | M31: =G31*(1+L31/100) -> 0 | N31: 0 | O31: =ROUND(E31*N31,2) -> 0 | P31: 0 | Q31: =ROUND(E31*P31,2) -> 0 | S31: RTS 19/ II | T31: RTS 19/ II | U31: 0.202 | V31: =ROUND(E31*U31,2) -> 8.66 | X31: Práce | AG31: POL1_1
C32: 43,97+13,26-14,35 | E32: 42.88 | AG32: VV | AH32: 0
A33: 13 | B33: 175101101RT2 | C33: bez prohození sypaniny, s dodáním štěrkopísku frakce 0 - 22 mm | D33: m3 | E33: 4.65 | G33: =ROUND(E33*F33,2) -> 0 | I33: =ROUND(E33*H33,2) -> 0 | K33: =ROUND(E33*J33,2) -> 0 | L33: 21 | M33: =G33*(1+L33/100) -> 0 | N33: 1.7 | O33: =ROUND(E33*N33,2) -> 7.91 | P33: 0 | Q33: =ROUND(E33*P33,2) -> 0 | S33: RTS 19/ II | T33: RTS 19/ II | U33: 1.587 | V33: =ROUND(E33*U33,2) -> 7.38 | X33: Práce | AG33: POL1_1
A34: Díl: | B34: 4 | C34: Vodorovné konstrukce | G34: =SUMIF(AG35:AG44,"<>NOR",G35:G44) -> 0 | I34: =SUM(I35:I44) -> 0 | K34: =SUM(K35:K44) -> 0 | M34: =SUM(M35:M44) -> 0 | O34: =SUM(O35:O44) -> 5.75 | Q34: =SUM(Q35:Q44) -> 0 | V34: =SUM(V35:V44) -> 6.07 | AG34: DIL
A35: 14 | B35: 451572111R00 | C35: Lože pod potrubí, stoky a drobné objekty z kameniva drobného těženého 0÷4 mm | D35: m3 | E35: 2.178 | G35: =ROUND(E35*F35,2) -> 0 | I35: =ROUND(E35*H35,2) -> 0 | K35: =ROUND(E35*J35,2) -> 0 | L35: 21 | M35: =G35*(1+L35/100) -> 0 | N35: 1.89077 | O35: =ROUND(E35*N35,2) -> 4.12 | P35: 0 | Q35: =ROUND(E35*P35,2) -> 0 | R35: 827-1 | S35: RTS 19/ II | T35: RTS 19/ II | U35: 1.695 | V35: =ROUND(E35*U35,2) -> 3.69 | X35: Práce | AG35: POL1_1
C36: v otevřeném výkopu, | AG36: SPI
C37: 13,20*1,1*0,15 | E37: 2.178 | AG37: VV | AH37: 0
A38: 15 | B38: 452111111R00 | C38: průřezové plochy do 25 000 mm2 | D38: kus | E38: 12 | G38: =ROUND(E38*F38,2) -> 0 | I38: =ROUND(E38*H38,2) -> 0 | K38: =ROUND(E38*J38,2) -> 0 | L38: 21 | M38: =G38*(1+L38/100) -> 0 | N38: 0.00165 | O38: =ROUND(E38*N38,2) -> 0.02 | P38: 0 | Q38: =ROUND(E38*P38,2) -> 0 | S38: RTS 19/ II | T38: RTS 19/ II | U38: 0.074 | V38: =ROUND(E38*U38,2) -> 0.89 | X38: Práce | AG38: POL1_1
A39: 16 | B39: 452111121R00 | C39: průřezové plochy přes 25 000 do 50 000 mm2 | D39: kus | E39: 1 | G39: =ROUND(E39*F39,2) -> 0 | I39: =ROUND(E39*H39,2) -> 0 | K39: =ROUND(E39*J39,2) -> 0 | L39: 21 | M39: =G39*(1+L39/100) -> 0 | N39: 0.00165 | O39: =ROUND(E39*N39,2) -> 0 | P39: 0 | Q39: =ROUND(E39*P39,2) -> 0 | S39: RTS 19/ II | T39: RTS 19/ II | U39: 0.147 | V39: =ROUND(E39*U39,2) -> 0.15 | X39: Práce | AG39: POL1_1
A40: 17 | B40: 452311151R00 | C40: desky pod potrubí, stoky a drobné objekty , z betonu prostého třídy C 20/25 | D40: m3 | E40: 0.3825 | G40: =ROUND(E40*F40,2) -> 0 | I40: =ROUND(E40*H40,2) -> 0 | K40: =ROUND(E40*J40,2) -> 0 | L40: 21 | M40: =G40*(1+L40/100) -> 0 | N40: 2.5 | O40: =ROUND(E40*N40,2) -> 0.96 | P40: 0 | Q40: =ROUND(E40*P40,2) -> 0 | S40: RTS 19/ II | T40: RTS 19/ II | U40: 1.449 | V40: =ROUND(E40*U40,2) -> 0.55 | X40: Práce | AG40: POL1_1
C41: 1,7*1,5*0,15 : 1,7*1,5*0,15 | E41: 0.3825 | AG41: VV | AH41: 0
A42: 18 | B42: 452351101R00 | C42: desek nebo sedlových loží pod potrubí, stoky a drobné objekty | D42: m2 | E42: 0.96 | G42: =ROUND(E42*F42,2) -> 0 | I42: =ROUND(E42*H42,2) -> 0 | K42: =ROUND(E42*J42,2) -> 0 | L42: 21 | M42: =G42*(1+L42/100) -> 0 | N42: 0.00441 | O42: =ROUND(E42*N42,2) -> 0 | P42: 0 | Q42: =ROUND(E42*P42,2) -> 0 | S42: RTS 19/ II | T42: RTS 19/ II | U42: 0.821 | V42: =ROUND(E42*U42,2) -> 0.79 | X42: Práce | AG42: POL1_1
C43: (1,70+1,50)*0,15*2 | E43: 0.96 | AG43: VV | AH43: 0
A44: 19 | B44: 59217001R | C44: obrubník parkový materiál beton; l = 1000,0 mm; š = 100,0 mm; h = 250,0 mm; barva přírodní | D44: kus | E44: 12 | G44: =ROUND(E44*F44,2) -> 0 | I44: =ROUND(E44*H44,2) -> 0 | K44: =ROUND(E44*J44,2) -> 0 | L44: 21 | M44: =G44*(1+L44/100) -> 0 | N44: 0.05417 | O44: =ROUND(E44*N44,2) -> 0.65 | P44: 0 | Q44: =ROUND(E44*P44,2) -> 0 | R44: SPCM | S44: RTS 19/ II | T44: RTS 19/ II | U44: 0 | V44: =ROUND(E44*U44,2) -> 0 | X44: Specifikace | AG44: POL3_0
A45: Díl: | B45: 5 | C45: Komunikace | G45: =SUMIF(AG46:AG48,"<>NOR",G46:G48) -> 0 | I45: =SUM(I46:I48) -> 0 | K45: =SUM(K46:K48) -> 0 | M45: =SUM(M46:M48) -> 0 | O45: =SUM(O46:O48) -> 41.51 | Q45: =SUM(Q46:Q48) -> 0 | V45: =SUM(V46:V48) -> 14.56 | AG45: DIL
A46: 20 | B46: 564751111R00 | C46: tloušťka po zhutnění 150 mm | D46: m2 | E46: 29.52 | G46: =ROUND(E46*F46,2) -> 0 | I46: =ROUND(E46*H46,2) -> 0 | K46: =ROUND(E46*J46,2) -> 0 | L46: 21 | M46: =G46*(1+L46/100) -> 0 | N46: 0.3225 | O46: =ROUND(E46*N46,2) -> 9.52 | P46: 0 | Q46: =ROUND(E46*P46,2) -> 0 | S46: RTS 19/ II | T46: RTS 19/ II | U46: 0.026 | V46: =ROUND(E46*U46,2) -> 0.77 | X46: Práce | AG46: POL1_1
A47: 21 | B47: 566904111R0X | C47: Vyspravení podkladu po překopech kam.obal.asfaltem | D47: m2 | E47: 29.52 | G47: =ROUND(E47*F47,2) -> 0 | I47: =ROUND(E47*H47,2) -> 0 | K47: =ROUND(E47*J47,2) -> 0 | L47: 21 | M47: =G47*(1+L47/100) -> 0 | N47: 1 | O47: =ROUND(E47*N47,2) -> 29.52 | P47: 0 | Q47: =ROUND(E47*P47,2) -> 0 | S47: Vlastní | T47: Indiv | U47: 0.406 | V47: =ROUND(E47*U47,2) -> 11.99 | X47: Práce | AG47: POL1_1
A48: 22 | B48: 572942112R00 | C48: litým asfaltem, po zhutnění tloušťky přes 40 do 60 mm | D48: m2 | E48: 19.52 | G48: =ROUND(E48*F48,2) -> 0 | I48: =ROUND(E48*H48,2) -> 0 | K48: =ROUND(E48*J48,2) -> 0 | L48: 21 | M48: =G48*(1+L48/100) -> 0 | N48: 0.1266 | O48: =ROUND(E48*N48,2) -> 2.47 | P48: 0 | Q48: =ROUND(E48*P48,2) -> 0 | S48: RTS 19/ II | T48: RTS 19/ II | U48: 0.092 | V48: =ROUND(E48*U48,2) -> 1.8 | X48: Práce | AG48: POL1_1
A49: Díl: | B49: 8 | C49: Trubní vedení | G49: =SUMIF(AG50:AG54,"<>NOR",G50:G54) -> 0 | I49: =SUM(I50:I54) -> 0 | K49: =SUM(K50:K54) -> 0 | M49: =SUM(M50:M54) -> 0 | O49: =SUM(O50:O54) -> 0.29 | Q49: =SUM(Q50:Q54) -> 0 | V49: =SUM(V50:V54) -> 8.47 | AG49: DIL
A50: 23 | B50: 817314111R00 | C50: DN 150 mm | D50: kus | E50: 1 | G50: =ROUND(E50*F50,2) -> 0 | I50: =ROUND(E50*H50,2) -> 0 | K50: =ROUND(E50*J50,2) -> 0 | L50: 21 | M50: =G50*(1+L50/100) -> 0 | N50: 0.00273 | O50: =ROUND(E50*N50,2) -> 0 | P50: 0 | Q50: =ROUND(E50*P50,2) -> 0 | S50: RTS 19/ II | T50: RTS 19/ II | U50: 1.516 | V50: =ROUND(E50*U50,2) -> 1.52 | X50: Práce | AG50: POL1_1
A51: 24 | B51: 831312121RT2 | C51: DN 150 mm, délky 1000 mm | D51: m | E51: 12 | G51: =ROUND(E51*F51,2) -> 0 | I51: =ROUND(E51*H51,2) -> 0 | K51: =ROUND(E51*J51,2) -> 0 | L51: 21 | M51: =G51*(1+L51/100) -> 0 | N51: 0.02438 | O51: =ROUND(E51*N51,2) -> 0.29 | P51: 0 | Q51: =ROUND(E51*P51,2) -> 0 | S51: RTS 19/ II | T51: RTS 19/ II | U51: 0.354 | V51: =ROUND(E51*U51,2) -> 4.25 | X51: Práce | AG51: POL1_1
A52: 25 | B52: 871161121R00 | C52: z tlakových trubek polyetylenových, vnějšího průměru 32 mm | D52: m | E52: 13.2 | G52: =ROUND(E52*F52,2) -> 0 | I52: =ROUND(E52*H52,2) -> 0 | K52: =ROUND(E52*J52,2) -> 0 | L52: 21 | M52: =G52*(1+L52/100) -> 0 | N52: 0 | O52: =ROUND(E52*N52,2) -> 0 | P52: 0 | Q52: =ROUND(E52*P52,2) -> 0 | S52: RTS 19/ II | T52: RTS 19/ II | U52: 0.034 | V52: =ROUND(E52*U52,2) -> 0.45 | X52: Práce | AG52: POL1_1
A53: 26 | B53: 877162121R00 | C53: Přirážka za 1 spoj elektrotvarovky, vnějšího průměru 32 mm | D53: kus | E53: 8 | G53: =ROUND(E53*F53,2) -> 0 | I53: =ROUND(E53*H53,2) -> 0 | K53: =ROUND(E53*J53,2) -> 0 | L53: 21 | M53: =G53*(1+L53/100) -> 0 | N53: 0 | O53: =ROUND(E53*N53,2) -> 0 | P53: 0 | Q53: =ROUND(E53*P53,2) -> 0 | S53: RTS 19/ II | T53: RTS 19/ II | U53: 0.16632 | V53: =ROUND(E53*U53,2) -> 1.33 | X53: Práce | AG53: POL1_1
A54: 27 | B54: 879172199R00 | C54: za montáž vodovodních přípojek , DN 32-80 mm | D54: kus | E54: 1 | G54: =ROUND(E54*F54,2) -> 0 | I54: =ROUND(E54*H54,2) -> 0 | K54: =ROUND(E54*J54,2) -> 0 | L54: 21 | M54: =G54*(1+L54/100) -> 0 | N54: 8e-05 | O54: =ROUND(E54*N54,2) -> 0 | P54: 0 | Q54: =ROUND(E54*P54,2) -> 0 | S54: RTS 19/ II | T54: RTS 19/ II | U54: 0.92 | V54: =ROUND(E54*U54,2) -> 0.92 | X54: Práce | AG54: POL1_1
A55: Díl: | B55: 721 | C55: Vnitřní kanalizace | G55: =SUMIF(AG56:AG56,"<>NOR",G56:G56) -> 0 | I55: =SUM(I56:I56) -> 0 | K55: =SUM(K56:K56) -> 0 | M55: =SUM(M56:M56) -> 0 | O55: =SUM(O56:O56) -> 2.5 | Q55: =SUM(Q56:Q56) -> 0 | V55: =SUM(V56:V56) -> 0 | AG55: DIL
A56: 28 | B56: 721100012Rxx | C56: Kanalizace vnitřní, PVC, D 125 mm, zemní práce | D56: m | E56: 11.5 | G56: =ROUND(E56*F56,2) -> 0 | I56: =ROUND(E56*H56,2) -> 0 | K56: =ROUND(E56*J56,2) -> 0 | L56: 21 | M56: =G56*(1+L56/100) -> 0 | N56: 0.21706 | O56: =ROUND(E56*N56,2) -> 2.5 | P56: 0 | Q56: =ROUND(E56*P56,2) -> 0 | S56: Vlastní | T56: RTS 19/ II | U56: 0 | V56: =ROUND(E56*U56,2) -> 0 | X56: Agregovaná položka | AG56: POL2_
A57: Díl: | B57: 8 | C57: Trubní vedení | G57: =SUMIF(AG58:AG85,"<>NOR",G58:G85) -> 0 | I57: =SUM(I58:I85) -> 0 | K57: =SUM(K58:K85) -> 0 | M57: =SUM(M58:M85) -> 0 | O57: =SUM(O58:O85) -> 8.42 | Q57: =SUM(Q58:Q85) -> 0 | V57: =SUM(V58:V85) -> 30.34 | AG57: DIL
A58: 29 | B58: 891163111R00 | C58: ventilů hlavních pro přípojky, DN 25 mm | D58: kus | E58: 1 | G58: =ROUND(E58*F58,2) -> 0 | I58: =ROUND(E58*H58,2) -> 0 | K58: =ROUND(E58*J58,2) -> 0 | L58: 21 | M58: =G58*(1+L58/100) -> 0 | N58: 2e-05 | O58: =ROUND(E58*N58,2) -> 0 | P58: 0 | Q58: =ROUND(E58*P58,2) -> 0 | S58: RTS 19/ II | T58: RTS 19/ II | U58: 0.384 | V58: =ROUND(E58*U58,2) -> 0.38 | X58: Práce | AG58: POL1_1
A59: 30 | B59: 891319111R00 | C59: navrtávacích pasů s ventilem Jt 1 Mpa na potrubí z trub osinkocementových, litinových, ocelových nebo plastických hmot, DN 150 mm | D59: kus | E59: 1 | G59: =ROUND(E59*F59,2) -> 0 | I59: =ROUND(E59*H59,2) -> 0 | K59: =ROUND(E59*J59,2) -> 0 | L59: 21 | M59: =G59*(1+L59/100) -> 0 | N59: 0 | O59: =ROUND(E59*N59,2) -> 0 | P59: 0 | Q59: =ROUND(E59*P59,2) -> 0 | S59: RTS 19/ II | T59: RTS 19/ II | U59: 3.592 | V59: =ROUND(E59*U59,2) -> 3.59 | X59: Práce | AG59: POL1_1
A60: 31 | B60: 892233111R00 | C60: DN od 40 do 70 mm | D60: m | E60: 13.2 | G60: =ROUND(E60*F60,2) -> 0 | I60: =ROUND(E60*H60,2) -> 0 | K60: =ROUND(E60*J60,2) -> 0 | L60: 21 | M60: =G60*(1+L60/100) -> 0 | N60: 0 | O60: =ROUND(E60*N60,2) -> 0 | P60: 0 | Q60: =ROUND(E60*P60,2) -> 0 | S60: RTS 19/ II | T60: RTS 19/ II | U60: 0.15 | V60: =ROUND(E60*U60,2) -> 1.98 | X60: Práce | AG60: POL1_1
A61: 32 | B61: 892241111R00 | C61: DN do 80 mm | D61: m | E61: 13.2 | G61: =ROUND(E61*F61,2) -> 0 | I61: =ROUND(E61*H61,2) -> 0 | K61: =ROUND(E61*J61,2) -> 0 | L61: 21 | M61: =G61*(1+L61/100) -> 0 | N61: 0 | O61: =ROUND(E61*N61,2) -> 0 | P61: 0 | Q61: =ROUND(E61*P61,2) -> 0 | S61: RTS 19/ II | T61: RTS 19/ II | U61: 0.044 | V61: =ROUND(E61*U61,2) -> 0.58 | X61: Práce | AG61: POL1_1
A62: 33 | B62: 892571111R00 | C62: do DN 200 mm | D62: m | E62: 11.8 | G62: =ROUND(E62*F62,2) -> 0 | I62: =ROUND(E62*H62,2) -> 0 | K62: =ROUND(E62*J62,2) -> 0 | L62: 21 | M62: =G62*(1+L62/100) -> 0 | N62: 0 | O62: =ROUND(E62*N62,2) -> 0 | P62: 0 | Q62: =ROUND(E62*P62,2) -> 0 | S62: RTS 19/ II | T62: RTS 19/ II | U62: 0.059 | V62: =ROUND(E62*U62,2) -> 0.7 | X62: Práce | AG62: POL1_1
A63: 34 | B63: 892573111R00 | C63: do DN 200 mm | D63: úsek | E63: 2 | G63: =ROUND(E63*F63,2) -> 0 | I63: =ROUND(E63*H63,2) -> 0 | K63: =ROUND(E63*J63,2) -> 0 | L63: 21 | M63: =G63*(1+L63/100) -> 0 | N63: 0.00013 | O63: =ROUND(E63*N63,2) -> 0 | P63: 0 | Q63: =ROUND(E63*P63,2) -> 0 | S63: RTS 19/ II | T63: RTS 19/ II | U63: 6.2 | V63: =ROUND(E63*U63,2) -> 12.4 | X63: Práce | AG63: POL1_1
A64: 35 | B64: 893152111R00 | C64: hranaté | D64: kus | E64: 1 | G64: =ROUND(E64*F64,2) -> 0 | I64: =ROUND(E64*H64,2) -> 0 | K64: =ROUND(E64*J64,2) -> 0 | L64: 21 | M64: =G64*(1+L64/100) -> 0 | N64: 0.40105 | O64: =ROUND(E64*N64,2) -> 0.4 | P64: 0 | Q64: =ROUND(E64*P64,2) -> 0 | S64: RTS 19/ II | T64: RTS 19/ II | U64: 1.09236 | V64: =ROUND(E64*U64,2) -> 1.09 | X64: Práce | AG64: POL1_1
A65: 36 | B65: 894432112R00 | C65: revizních průměr 425 mm | D65: kus | E65: 1 | G65: =ROUND(E65*F65,2) -> 0 | I65: =ROUND(E65*H65,2) -> 0 | K65: =ROUND(E65*J65,2) -> 0 | L65: 21 | M65: =G65*(1+L65/100) -> 0 | N65: 0 | O65: =ROUND(E65*N65,2) -> 0 | P65: 0 | Q65: =ROUND(E65*P65,2) -> 0 | S65: RTS 19/ II | T65: RTS 19/ II | U65: 0.65 | V65: =ROUND(E65*U65,2) -> 0.65 | X65: Práce | AG65: POL1_1
A66: 37 | B66: 899102111R00 | C66: o hmotnost jednotlivě přes 50 do 100 kg | D66: kus | E66: 1 | G66: =ROUND(E66*F66,2) -> 0 | I66: =ROUND(E66*H66,2) -> 0 | K66: =ROUND(E66*J66,2) -> 0 | L66: 21 | M66: =G66*(1+L66/100) -> 0 | N66: 0.00702 | O66: =ROUND(E66*N66,2) -> 0.01 | P66: 0 | Q66: =ROUND(E66*P66,2) -> 0 | S66: RTS 19/ II | T66: RTS 19/ II | U66: 1.094 | V66: =ROUND(E66*U66,2) -> 1.09 | X66: Práce | AG66: POL1_1
A67: 38 | B67: 899102111RT2 | C67: čtyřhranného 600 x 600 mm | D67: kus | E67: 1 | G67: =ROUND(E67*F67,2) -> 0 | I67: =ROUND(E67*H67,2) -> 0 | K67: =ROUND(E67*J67,2) -> 0 | L67: 21 | M67: =G67*(1+L67/100) -> 0 | N67: 0.04762 | O67: =ROUND(E67*N67,2) -> 0.05 | P67: 0 | Q67: =ROUND(E67*P67,2) -> 0 | S67: RTS 19/ II | T67: RTS 19/ II | U67: 1.094 | V67: =ROUND(E67*U67,2) -> 1.09 | X67: Práce | AG67: POL1_1
A68: 39 | B68: 899623131R00 | C68: třídy C 8/10 | D68: m3 | E68: 3.14 | G68: =ROUND(E68*F68,2) -> 0 | I68: =ROUND(E68*H68,2) -> 0 | K68: =ROUND(E68*J68,2) -> 0 | L68: 21 | M68: =G68*(1+L68/100) -> 0 | N68: 2.525 | O68: =ROUND(E68*N68,2) -> 7.93 | P68: 0 | Q68: =ROUND(E68*P68,2) -> 0 | S68: RTS 19/ II | T68: RTS 19/ II | U68: 1.303 | V68: =ROUND(E68*U68,2) -> 4.09 | X68: Práce | AG68: POL1_1
A69: 40 | B69: 899643111R00 | C69: v otevřeném příkopu | D69: m2 | E69: 2.124 | G69: =ROUND(E69*F69,2) -> 0 | I69: =ROUND(E69*H69,2) -> 0 | K69: =ROUND(E69*J69,2) -> 0 | L69: 21 | M69: =G69*(1+L69/100) -> 0 | N69: 0.00418 | O69: =ROUND(E69*N69,2) -> 0.01 | P69: 0 | Q69: =ROUND(E69*P69,2) -> 0 | S69: RTS 19/ II | T69: RTS 19/ II | U69: 0.963 | V69: =ROUND(E69*U69,2) -> 2.05 | X69: Práce | AG69: POL1_1
C70: 0,18*11,8 : | AG70: VV | AH70: 0
C71: 2,124 | E71: 2.124 | AG71: VV | AH71: 0
A72: 41 | B72: 899711121R00 | C72: výstražná fólie pro kanalizaci, šířka 22 cm | D72: m | E72: 13.2 | G72: =ROUND(E72*F72,2) -> 0 | I72: =ROUND(E72*H72,2) -> 0 | K72: =ROUND(E72*J72,2) -> 0 | L72: 21 | M72: =G72*(1+L72/100) -> 0 | N72: 0 | O72: =ROUND(E72*N72,2) -> 0 | P72: 0 | Q72: =ROUND(E72*P72,2) -> 0 | S72: RTS 19/ II | T72: RTS 19/ II | U72: 0.026 | V72: =ROUND(E72*U72,2) -> 0.34 | X72: Práce | AG72: POL1_1
A73: 42 | B73: 899711122R00 | C73: výstražná fólie pro kanalizaci, šířka 30 cm | D73: m | E73: 11.8 | G73: =ROUND(E73*F73,2) -> 0 | I73: =ROUND(E73*H73,2) -> 0 | K73: =ROUND(E73*J73,2) -> 0 | L73: 21 | M73: =G73*(1+L73/100) -> 0 | N73: 0 | O73: =ROUND(E73*N73,2) -> 0 | P73: 0 | Q73: =ROUND(E73*P73,2) -> 0 | S73: RTS 19/ II | T73: RTS 19/ II | U73: 0.026 | V73: =ROUND(E73*U73,2) -> 0.31 | X73: Práce | AG73: POL1_1
A74: 43 | B74: 286 | C74: elektrokoleno | D74: ks | E74: 4 | G74: =ROUND(E74*F74,2) -> 0 | I74: =ROUND(E74*H74,2) -> 0 | K74: =ROUND(E74*J74,2) -> 0 | L74: 21 | M74: =G74*(1+L74/100) -> 0 | N74: 0 | O74: =ROUND(E74*N74,2) -> 0 | P74: 0 | Q74: =ROUND(E74*P74,2) -> 0 | S74: Vlastní | T74: Indiv | U74: 0 | V74: =ROUND(E74*U74,2) -> 0 | X74: Práce | AG74: POL1_1
A75: 44 | B75: 28697 | C75: Kanalizační šachta | D75: kus | E75: 1 | G75: =ROUND(E75*F75,2) -> 0 | I75: =ROUND(E75*H75,2) -> 0 | K75: =ROUND(E75*J75,2) -> 0 | L75: 21 | M75: =G75*(1+L75/100) -> 0 | N75: 0 | O75: =ROUND(E75*N75,2) -> 0 | P75: 0 | Q75: =ROUND(E75*P75,2) -> 0 | S75: Vlastní | T75: Indiv | U75: 0 | V75: =ROUND(E75*U75,2) -> 0 | X75: Specifikace | AG75: POL3_0
A76: 45 | B76: 286972 | C76: Šachta vodoměrná VŠ HS v. 1500 mm vč.poklopu | D76: kus | E76: 1 | G76: =ROUND(E76*F76,2) -> 0 | I76: =ROUND(E76*H76,2) -> 0 | K76: =ROUND(E76*J76,2) -> 0 | L76: 21 | M76: =G76*(1+L76/100) -> 0 | N76: 0 | O76: =ROUND(E76*N76,2) -> 0 | P76: 0 | Q76: =ROUND(E76*P76,2) -> 0 | S76: Vlastní | T76: Indiv | U76: 0 | V76: =ROUND(E76*U76,2) -> 0 | X76: Specifikace | AG76: POL3_0
A77: 46 | B77: 42273320 | C77: HAWLE pas navrtávací 150 - 1" závitový | D77: kus | E77: 1 | G77: =ROUND(E77*F77,2) -> 0 | I77: =ROUND(E77*H77,2) -> 0 | K77: =ROUND(E77*J77,2) -> 0 | L77: 21 | M77: =G77*(1+L77/100) -> 0 | N77: 0 | O77: =ROUND(E77*N77,2) -> 0 | P77: 0 | Q77: =ROUND(E77*P77,2) -> 0 | S77: Vlastní | T77: Indiv | U77: 0 | V77: =ROUND(E77*U77,2) -> 0 | X77: Specifikace | AG77: POL3_0
A78: 47 | B78: 552430 | C78: Poklop 425 kruhový do teleskopu Wavin + prostup DN 100 s utěsněním | D78: kus | E78: 1 | G78: =ROUND(E78*F78,2) -> 0 | I78: =ROUND(E78*H78,2) -> 0 | K78: =ROUND(E78*J78,2) -> 0 | L78: 21 | M78: =G78*(1+L78/100) -> 0 | N78: 0 | O78: =ROUND(E78*N78,2) -> 0 | P78: 0 | Q78: =ROUND(E78*P78,2) -> 0 | S78: Vlastní | T78: Indiv | U78: 0 | V78: =ROUND(E78*U78,2) -> 0 | X78: Specifikace | AG78: POL3_0
A79: 48 | B79: 8 | C79: Chránička DN 300 | D79: m | E79: 3.2 | G79: =ROUND(E79*F79,2) -> 0 | I79: =ROUND(E79*H79,2) -> 0 | K79: =ROUND(E79*J79,2) -> 0 | L79: 21 | M79: =G79*(1+L79/100) -> 0 | N79: 0 | O79: =ROUND(E79*N79,2) -> 0 | P79: 0 | Q79: =ROUND(E79*P79,2) -> 0 | S79: Vlastní | T79: Indiv | U79: 0 | V79: =ROUND(E79*U79,2) -> 0 | X79: Specifikace | AG79: POL3_0
A80: 49 | B80: 893 | C80: Zákrytová deska ŽB + výztuž | D80: kus | E80: 1 | G80: =ROUND(E80*F80,2) -> 0 | I80: =ROUND(E80*H80,2) -> 0 | K80: =ROUND(E80*J80,2) -> 0 | L80: 21 | M80: =G80*(1+L80/100) -> 0 | N80: 0 | O80: =ROUND(E80*N80,2) -> 0 | P80: 0 | Q80: =ROUND(E80*P80,2) -> 0 | S80: Vlastní | T80: Indiv | U80: 0 | V80: =ROUND(E80*U80,2) -> 0 | X80: Specifikace | AG80: POL3_0
A81: 50 | B81: 28613760R | C81: trubka plastová vodovodní hladká; HDPE (PE 100); SDR 17,0; PN 10; D = 32,0 mm; s = 2,00 mm; l = 12 000,0 mm | D81: m | E81: 13.2 | G81: =ROUND(E81*F81,2) -> 0 | I81: =ROUND(E81*H81,2) -> 0 | K81: =ROUND(E81*J81,2) -> 0 | L81: 21 | M81: =G81*(1+L81/100) -> 0 | N81: 0.00019 | O81: =ROUND(E81*N81,2) -> 0 | P81: 0 | Q81: =ROUND(E81*P81,2) -> 0 | R81: SPCM | S81: RTS 19/ II | T81: RTS 19/ II | U81: 0 | V81: =ROUND(E81*U81,2) -> 0 | X81: Specifikace | AG81: POL3_0
A82: 51 | B82: 42228100R | C82: šoupátko pro domovní přípojky pro vodovod; DN 1"; provedení - na obou stranách s vnitřním závitem; PN 16; L = 120 mm; médium pitná voda; těleso tvárná litina | D82: kus | E82: 1 | G82: =ROUND(E82*F82,2) -> 0 | I82: =ROUND(E82*H82,2) -> 0 | K82: =ROUND(E82*J82,2) -> 0 | L82: 21 | M82: =G82*(1+L82/100) -> 0 | N82: 0.0025 | O82: =ROUND(E82*N82,2) -> 0 | P82: 0 | Q82: =ROUND(E82*P82,2) -> 0 | R82: SPCM | S82: RTS 19/ II | T82: RTS 19/ II | U82: 0 | V82: =ROUND(E82*U82,2) -> 0 | X82: Specifikace | AG82: POL3_0
A83: 52 | B83: 42291010R | C83: souprava zemní tuhá šoupátková; pro vodu; DN 50; krycí hloubka 1,5 m | D83: kus | E83: 1 | G83: =ROUND(E83*F83,2) -> 0 | I83: =ROUND(E83*H83,2) -> 0 | K83: =ROUND(E83*J83,2) -> 0 | L83: 21 | M83: =G83*(1+L83/100) -> 0 | N83: 0.0055 | O83: =ROUND(E83*N83,2) -> 0.01 | P83: 0 | Q83: =ROUND(E83*P83,2) -> 0 | R83: SPCM | S83: RTS 19/ II | T83: RTS 19/ II | U83: 0 | V83: =ROUND(E83*U83,2) -> 0 | X83: Specifikace | AG83: POL3_0
A84: 53 | B84: 422913521R | C84: poklop šoupátkový tvárná litina; použití pro vodu; vnitř.pr.D = 123 mm | D84: kus | E84: 1 | G84: =ROUND(E84*F84,2) -> 0 | I84: =ROUND(E84*H84,2) -> 0 | K84: =ROUND(E84*J84,2) -> 0 | L84: 21 | M84: =G84*(1+L84/100) -> 0 | N84: 0.012 | O84: =ROUND(E84*N84,2) -> 0.01 | P84: 0 | Q84: =ROUND(E84*P84,2) -> 0 | R84: SPCM | S84: RTS 19/ II | T84: RTS 19/ II | U84: 0 | V84: =ROUND(E84*U84,2) -> 0 | X84: Specifikace | AG84: POL3_0
A85: 54 | B85: 55118031R | C85: souprava vodoměrná zpětná klapka, ventily, vodoměrná matka; vodoměr 1"; souprava 1" | D85: kus | E85: 1 | G85: =ROUND(E85*F85,2) -> 0 | I85: =ROUND(E85*H85,2) -> 0 | K85: =ROUND(E85*J85,2) -> 0 | L85: 21 | M85: =G85*(1+L85/100) -> 0 | N85: 0.0016 | O85: =ROUND(E85*N85,2) -> 0 | P85: 0 | Q85: =ROUND(E85*P85,2) -> 0 | R85: SPCM | S85: RTS 19/ II | T85: RTS 19/ II | U85: 0 | V85: =ROUND(E85*U85,2) -> 0 | X85: Specifikace | AG85: POL3_0
A86: Díl: | B86: 91 | C86: Doplňující práce na komunikaci | G86: =SUMIF(AG87:AG89,"<>NOR",G87:G89) -> 0 | I86: =SUM(I87:I89) -> 0 | K86: =SUM(K87:K89) -> 0 | M86: =SUM(M87:M89) -> 0 | O86: =SUM(O87:O89) -> 0 | Q86: =SUM(Q87:Q89) -> 0 | V86: =SUM(V87:V89) -> 2.44 | AG86: DIL
A87: 55 | B87: 919735113R00 | C87: Řezání stávajících krytů nebo podkladů živičných, hloubky přes 100 do 150 mm | D87: m | E87: 44.4 | G87: =ROUND(E87*F87,2) -> 0 | I87: =ROUND(E87*H87,2) -> 0 | K87: =ROUND(E87*J87,2) -> 0 | L87: 21 | M87: =G87*(1+L87/100) -> 0 | N87: 0 | O87: =ROUND(E87*N87,2) -> 0 | P87: 0 | Q87: =ROUND(E87*P87,2) -> 0 | R87: 822-1 | S87: RTS 19/ II | T87: RTS 19/ II | U87: 0.055 | V87: =ROUND(E87*U87,2) -> 2.44 | X87: Práce | AG87: POL1_1
C88: včetně spotřeby vody | AG88: SPI
C89: (13,20+9,00)*2 | E89: 44.4 | AG89: VV | AH89: 0
A90: Díl: | B90: D96 | C90: Přesuny suti a vybouraných hmot | G90: =SUMIF(AG91:AG106,"<>NOR",G91:G106) -> 0 | I90: =SUM(I91:I106) -> 0 | K90: =SUM(K91:K106) -> 0 | M90: =SUM(M91:M106) -> 0 | O90: =SUM(O91:O106) -> 0 | Q90: =SUM(Q91:Q106) -> 0 | V90: =SUM(V91:V106) -> 3.82 | AG90: DIL
A91: 56 | B91: 979081111R00 | C91: do 1 km | D91: t | E91: 3.2472 | G91: =ROUND(E91*F91,2) -> 0 | I91: =ROUND(E91*H91,2) -> 0 | K91: =ROUND(E91*J91,2) -> 0 | L91: 21 | M91: =G91*(1+L91/100) -> 0 | N91: 0 | O91: =ROUND(E91*N91,2) -> 0 | P91: 0 | Q91: =ROUND(E91*P91,2) -> 0 | S91: RTS 19/ II | T91: RTS 19/ II | U91: 0.49 | V91: =ROUND(E91*U91,2) -> 1.59 | X91: Přesun suti | AG91: POL8_
C92: Demontážní hmotnosti z položek s pořadovými čísly: : | AG92: VV | AH92: 0
C93: 1, : | AG93: VV | AH93: 0
C94: Součet: : 3,24720 | E94: 3.2472 | AG94: VV | AH94: 0
A95: 57 | B95: 979081121R00 | C95: příplatek za každý další 1 km | D95: t | E95: 3.2472 | G95: =ROUND(E95*F95,2) -> 0 | I95: =ROUND(E95*H95,2) -> 0 | K95: =ROUND(E95*J95,2) -> 0 | L95: 21 | M95: =G95*(1+L95/100) -> 0 | N95: 0 | O95: =ROUND(E95*N95,2) -> 0 | P95: 0 | Q95: =ROUND(E95*P95,2) -> 0 | S95: RTS 19/ II | T95: RTS 19/ II | U95: 0 | V95: =ROUND(E95*U95,2) -> 0 | X95: Přesun suti | AG95: POL8_
C96: Demontážní hmotnosti z položek s pořadovými čísly: : | AG96: VV | AH96: 0
C97: 1, : | AG97: VV | AH97: 0
C98: Součet: : 3,24720 | E98: 3.2472 | AG98: VV | AH98: 0
A99: 58 | B99: 979087213R0X | C99: Nakládání vybour.hmot na dop.prostředky-komunikace+složení | D99: t | E99: 3.2472 | G99: =ROUND(E99*F99,2) -> 0 | I99: =ROUND(E99*H99,2) -> 0 | K99: =ROUND(E99*J99,2) -> 0 | L99: 21 | M99: =G99*(1+L99/100) -> 0 | N99: 0 | O99: =ROUND(E99*N99,2) -> 0 | P99: 0 | Q99: =ROUND(E99*P99,2) -> 0 | S99: Vlastní | T99: Indiv | U99: 0.688 | V99: =ROUND(E99*U99,2) -> 2.23 | X99: Přesun suti | AG99: POL8_
C100: Demontážní hmotnosti z položek s pořadovými čísly: : | AG100: VV | AH100: 0
C101: 1, : | AG101: VV | AH101: 0
C102: Součet: : 3,24720 | E102: 3.2472 | AG102: VV | AH102: 0
...

Sheet 03 CAD-035_03 Pol
A1: Položkový soupis prací a dodávek | AG1: #TypZaznamu#
A2: S: | B2: CAD-039 | C2: Sběrné středisko odpadů, ul. Slaměníkova, Brno - CÚ 2019/II | AG2: STA
A3: O: | B3: 03 | C3: Zpevněné plochy a doprava | AC3: STA | AG3: OBJ
A4: R: | B4: CAD-035/03 | C4: SSO Slaměníkova - zpevněné plochy a doprava | AG4: ROZ
A6: P.č. | B6: Číslo položky | C6: Název položky | D6: MJ | E6: Množství | F6: Cena / MJ | G6: Celkem | H6: Dodávka | I6: Dodávka celk. | J6: Montáž | K6: Montáž celk. | L6: DPH | M6: Cena s DPH | N6: Hmotnost / MJ | O6: Hmotnost celk.(t) | P6: Dem. hmotnost / MJ | Q6: Dem. hmotnost celk.(t) | R6: Ceník | S6: Cen. soustava / platnost | T6: Cenová úroveň | U6: Nhod / MJ | V6: Nhod celk. | W6: Dodavatel | X6: Typ položky
A8: Díl: | B8: 1 | C8: Zemní práce | G8: =SUMIF(AG9:AG9,"<>NOR",G9:G9) -> 0 | I8: =SUM(I9:I9) -> 0 | K8: =SUM(K9:K9) -> 0 | M8: =SUM(M9:M9) -> 0 | O8: =SUM(O9:O9) -> 0 | Q8: =SUM(Q9:Q9) -> 0 | V8: =SUM(V9:V9) -> 0.49 | AG8: DIL
A9: 1 | B9: 181101102R00 | C9: v hornině 1 až 4, se zhutněním | D9: m2 | E9: 27 | G9: =ROUND(E9*F9,2) -> 0 | I9: =ROUND(E9*H9,2) -> 0 | K9: =ROUND(E9*J9,2) -> 0 | L9: 21 | M9: =G9*(1+L9/100) -> 0 | N9: 0 | O9: =ROUND(E9*N9,2) -> 0 | P9: 0 | Q9: =ROUND(E9*P9,2) -> 0 | S9: RTS 19/ II | T9: RTS 19/ II | U9: 0.018 | V9: =ROUND(E9*U9,2) -> 0.49 | X9: Práce | AG9: POL1_1
A10: Díl: | B10: 5 | C10: Komunikace | G10: =SUMIF(AG11:AG14,"<>NOR",G11:G14) -> 0 | I10: =SUM(I11:I14) -> 0 | K10: =SUM(K11:K14) -> 0 | M10: =SUM(M11:M14) -> 0 | O10: =SUM(O11:O14) -> 35.88 | Q10: =SUM(Q11:Q14) -> 0 | V10: =SUM(V11:V14) -> 11.25 | AG10: DIL
A11: 2 | B11: 565161111R00 | C11: ACP 16+ až ACP 22+, v pruhu šířky do 3 m, třídy 1, tloušťka po zhutnění 80 mm | D11: m2 | E11: 57 | G11: =ROUND(E11*F11,2) -> 0 | I11: =ROUND(E11*H11,2) -> 0 | K11: =ROUND(E11*J11,2) -> 0 | L11: 21 | M11: =G11*(1+L11/100) -> 0 | N11: 0.211 | O11: =ROUND(E11*N11,2) -> 12.03 | P11: 0 | Q11: =ROUND(E11*P11,2) -> 0 | S11: RTS 19/ II | T11: RTS 19/ II | U11: 0.072 | V11: =ROUND(E11*U11,2) -> 4.1 | X11: Práce | AG11: POL1_1
A12: 3 | B12: 567132113R00 | C12: SC C8/10, tloušťka po zhutnění 180 mm | D12: m2 | E12: 27 | G12: =ROUND(E12*F12,2) -> 0 | I12: =ROUND(E12*H12,2) -> 0 | K12: =ROUND(E12*J12,2) -> 0 | L12: 21 | M12: =G12*(1+L12/100) -> 0 | N12: 0.45977 | O12: =ROUND(E12*N12,2) -> 12.41 | P12: 0 | Q12: =ROUND(E12*P12,2) -> 0 | S12: RTS 19/ II | T12: RTS 19/ II | U12: 0.026 | V12: =ROUND(E12*U12,2) -> 0.7 | X12: Práce | AG12: POL1_1
A13: 4 | B13: 573211111R00 | C13: z asfaltu silničního, v množství od 0,5 do 0,7 kg/m2 | D13: m2 | E13: 57 | G13: =ROUND(E13*F13,2) -> 0 | I13: =ROUND(E13*H13,2) -> 0 | K13: =ROUND(E13*J13,2) -> 0 | L13: 21 | M13: =G13*(1+L13/100) -> 0 | N13: 0.00061 | O13: =ROUND(E13*N13,2) -> 0.03 | P13: 0 | Q13: =ROUND(E13*P13,2) -> 0 | S13: RTS 19/ II | T13: RTS 19/ II | U13: 0.002 | V13: =ROUND(E13*U13,2) -> 0.11 | X13: Práce | AG13: POL1_1
A14: 5 | B14: 577141112R00 | C14: v pruhu šířky do 3 m, ACO 11+ nebo ACO 16+, tloušťky 50 mm, plochy přes 1000 m2 | D14: m2 | E14: 88 | G14: =ROUND(E14*F14,2) -> 0 | I14: =ROUND(E14*H14,2) -> 0 | K14: =ROUND(E14*J14,2) -> 0 | L14: 21 | M14: =G14*(1+L14/100) -> 0 | N14: 0.12966 | O14: =ROUND(E14*N14,2) -> 11.41 | P14: 0 | Q14: =ROUND(E14*P14,2) -> 0 | S14: RTS 19/ II | T14: RTS 19/ II | U14: 0.072 | V14: =ROUND(E14*U14,2) -> 6.34 | X14: Práce | AG14: POL1_1
A15: Díl: | B15: 91 | C15: Doplňující práce na komunikaci | G15: =SUMIF(AG16:AG37,"<>NOR",G16:G37) -> 0 | I15: =SUM(I16:I37) -> 0 | K15: =SUM(K16:K37) -> 0 | M15: =SUM(M16:M37) -> 0 | O15: =SUM(O16:O37) -> 11.64 | Q15: =SUM(Q16:Q37) -> 0 | V15: =SUM(V16:V37) -> 13.99 | AG15: DIL
A16: 6 | B16: 911340111R00 | C16: , výšky 500 mm | D16: m | E16: 50 | G16: =ROUND(E16*F16,2) -> 0 | I16: =ROUND(E16*H16,2) -> 0 | K16: =ROUND(E16*J16,2) -> 0 | L16: 21 | M16: =G16*(1+L16/100) -> 0 | N16: 0.001 | O16: =ROUND(E16*N16,2) -> 0.05 | P16: 0 | Q16: =ROUND(E16*P16,2) -> 0 | S16: RTS 19/ II | T16: RTS 19/ II | U16: 0.22346 | V16: =ROUND(E16*U16,2) -> 11.17 | X16: Práce | AG16: POL1_1
C17: CTB 501+502 : 2,00*17+1,00*10 | E17: 44 | AG17: VV | AH17: 0
C18: CTB 503 : 2,00*2+1,00*2 | E18: 6 | AG18: VV | AH18: 0
A19: 7 | B19: 919735111R00 | C19: živičných, hloubky do 50 mm | D19: m | E19: 88 | G19: =ROUND(E19*F19,2) -> 0 | I19: =ROUND(E19*H19,2) -> 0 | K19: =ROUND(E19*J19,2) -> 0 | L19: 21 | M19: =G19*(1+L19/100) -> 0 | N19: 0 | O19: =ROUND(E19*N19,2) -> 0 | P19: 0 | Q19: =ROUND(E19*P19,2) -> 0 | S19: RTS 19/ II | T19: RTS 19/ II | U19: 0.032 | V19: =ROUND(E19*U19,2) -> 2.82 | X19: Práce | AG19: POL1_1
A20: 8 | B20: 40445000.AR | C20: značka dopravní silniční svislá; upravující přenost P6; tvar osmiúhelník; 700 mm; štít z pozink.plechu s dvoj.ohybem,retroref.folie II.tř.; záruka 10 let | D20: kus | E20: 1 | G20: =ROUND(E20*F20,2) -> 0 | I20: =ROUND(E20*H20,2) -> 0 | K20: =ROUND(E20*J20,2) -> 0 | L20: 21 | M20: =G20*(1+L20/100) -> 0 | N20: 0.0051 | O20: =ROUND(E20*N20,2) -> 0.01 | P20: 0 | Q20: =ROUND(E20*P20,2) -> 0 | R20: SPCM | S20: RTS 19/ II | T20: RTS 19/ II | U20: 0 | V20: =ROUND(E20*U20,2) -> 0 | X20: Specifikace | AG20: POL3_
A21: 9 | B21: 40445005.AR | C21: značka dopravní silniční svislá; upravující přednost P7; tvar kruh; 500 mm; štít z pozink.plechu s dvoj.ohybem,retroref.folie I.tř.; záruka 7 let | D21: kus | E21: 1 | G21: =ROUND(E21*F21,2) -> 0 | I21: =ROUND(E21*H21,2) -> 0 | K21: =ROUND(E21*J21,2) -> 0 | L21: 21 | M21: =G21*(1+L21/100) -> 0 | N21: 0.0051 | O21: =ROUND(E21*N21,2) -> 0.01 | P21: 0 | Q21: =ROUND(E21*P21,2) -> 0 | R21: SPCM | S21: RTS 19/ II | T21: RTS 19/ II | U21: 0 | V21: =ROUND(E21*U21,2) -> 0 | X21: Specifikace | AG21: POL3_
A22: 10 | B22: 40445014.AR | C22: značka dopravní silniční svislá; upravující přednost P8; tvar čtverec; 500 mm; štít z pozink.plechu s dvoj.ohybem,retroref.folie I.tř.; záruka 7 let | D22: kus | E22: 1 | G22: =ROUND(E22*F22,2) -> 0 | I22: =ROUND(E22*H22,2) -> 0 | K22: =ROUND(E22*J22,2) -> 0 | L22: 21 | M22: =G22*(1+L22/100) -> 0 | N22: 0.0051 | O22: =ROUND(E22*N22,2) -> 0.01 | P22: 0 | Q22: =ROUND(E22*P22,2) -> 0 | R22: SPCM | S22: RTS 19/ II | T22: RTS 19/ II | U22: 0 | V22: =ROUND(E22*U22,2) -> 0 | X22: Specifikace | AG22: POL3_
A23: 11 | B23: 40445020.AR | C23: značka dopravní silniční svislá; zákazová B1-B34; tvar kruh; 500 mm; štít z pozink.plechu s dvoj.ohybem,retroref.folie I.tř.; záruka 7 let | D23: kus | E23: 3 | G23: =ROUND(E23*F23,2) -> 0 | I23: =ROUND(E23*H23,2) -> 0 | K23: =ROUND(E23*J23,2) -> 0 | L23: 21 | M23: =G23*(1+L23/100) -> 0 | N23: 0.0051 | O23: =ROUND(E23*N23,2) -> 0.02 | P23: 0 | Q23: =ROUND(E23*P23,2) -> 0 | R23: SPCM | S23: RTS 19/ II | T23: RTS 19/ II | U23: 0 | V23: =ROUND(E23*U23,2) -> 0 | X23: Specifikace | AG23: POL3_
A24: 12 | B24: 40445044.AR | C24: značka dopravní silniční svislá; informativní provozní IP4b-IP7,IP10; tvar čtverec; 500 mm; štít z pozink.plechu s dvoj.ohybem,retroref.folie I.tř.; záruka 7 let | D24: kus | E24: 1 | G24: =ROUND(E24*F24,2) -> 0 | I24: =ROUND(E24*H24,2) -> 0 | K24: =ROUND(E24*J24,2) -> 0 | L24: 21 | M24: =G24*(1+L24/100) -> 0 | N24: 0.0051 | O24: =ROUND(E24*N24,2) -> 0.01 | P24: 0 | Q24: =ROUND(E24*P24,2) -> 0 | R24: SPCM | S24: RTS 19/ II | T24: RTS 19/ II | U24: 0 | V24: =ROUND(E24*U24,2) -> 0 | X24: Specifikace | AG24: POL3_
A25: 13 | B25: 40444934.AR | C25: značka dopravní silniční svislá; výstražná A1-A30; tvar trojúhelník; 700 mm; štít z pozink.plechu s dvoj.ohybem okraje,retroref.folie I.tř.; záruka 7 let | D25: kus | E25: 2 | G25: =ROUND(E25*F25,2) -> 0 | I25: =ROUND(E25*H25,2) -> 0 | K25: =ROUND(E25*J25,2) -> 0 | L25: 21 | M25: =G25*(1+L25/100) -> 0 | N25: 0.0051 | O25: =ROUND(E25*N25,2) -> 0.01 | P25: 0 | Q25: =ROUND(E25*P25,2) -> 0 | R25: SPCM | S25: RTS 19/ II | T25: RTS 19/ II | U25: 0 | V25: =ROUND(E25*U25,2) -> 0 | X25: Specifikace | AG25: POL3_
A26: 14 | B26: 40445052.AR | C26: značka dopravní silniční svislá; informativní provozní IP14-IP25; tvar obdélník svislý; 1000x1500 mm; štít z pozink.plechu s dvoj.ohybem,retroref.folie I.tř.; záruka 7 let | D26: kus | E26: 2 | G26: =ROUND(E26*F26,2) -> 0 | I26: =ROUND(E26*H26,2) -> 0 | K26: =ROUND(E26*J26,2) -> 0 | L26: 21 | M26: =G26*(1+L26/100) -> 0 | N26: 0.0151 | O26: =ROUND(E26*N26,2) -> 0.03 | P26: 0 | Q26: =ROUND(E26*P26,2) -> 0 | R26: SPCM | S26: RTS 19/ II | T26: RTS 18/ II | U26: 0 | V26: =ROUND(E26*U26,2) -> 0 | X26: Specifikace | AG26: POL3_
A27: 15 | B27: 40445157.AR | C27: značka dopravní silniční svislá; dodatková tabule E8; tvar obdélník svislý; 500x150 mm; štít z pozink.plechu s dvoj.ohybem,retroref.folie I.tř.; záruka 7 let | D27: kus | E27: 2 | G27: =ROUND(E27*F27,2) -> 0 | I27: =ROUND(E27*H27,2) -> 0 | K27: =ROUND(E27*J27,2) -> 0 | L27: 21 | M27: =G27*(1+L27/100) -> 0 | N27: 0.002 | O27: =ROUND(E27*N27,2) -> 0 | P27: 0 | Q27: =ROUND(E27*P27,2) -> 0 | R27: SPCM | S27: RTS 19/ II | T27: RTS 19/ II | U27: 0 | V27: =ROUND(E27*U27,2) -> 0 | X27: Specifikace | AG27: POL3_
A28: 16 | B28: 404459501R | C28: příslušenství k dopr.značení sloupek Fe 60 pozinkovaný, délka 2000 mm | D28: kus | E28: 9 | G28: =ROUND(E28*F28,2) -> 0 | I28: =ROUND(E28*H28,2) -> 0 | K28: =ROUND(E28*J28,2) -> 0 | L28: 21 | M28: =G28*(1+L28/100) -> 0 | N28: 0 | O28: =ROUND(E28*N28,2) -> 0 | P28: 0 | Q28: =ROUND(E28*P28,2) -> 0 | R28: SPCM | S28: RTS 19/ II | T28: RTS 19/ II | U28: 0 | V28: =ROUND(E28*U28,2) -> 0 | X28: Specifikace | AG28: POL3_0
C29: 9 | E29: 9 | AG29: VV | AH29: 0
A30: 17 | B30: 59216140R | C30: stěna vodicí běžný díl; beton; š = 440 mm; h = 500,0 mm; l = 2 000 mm | D30: kus | E30: 11 | G30: =ROUND(E30*F30,2) -> 0 | I30: =ROUND(E30*H30,2) -> 0 | K30: =ROUND(E30*J30,2) -> 0 | L30: 21 | M30: =G30*(1+L30/100) -> 0 | N30: 0.51 | O30: =ROUND(E30*N30,2) -> 5.61 | P30: 0 | Q30: =ROUND(E30*P30,2) -> 0 | R30: SPCM | S30: RTS 19/ II | T30: RTS 19/ II | U30: 0 | V30: =ROUND(E30*U30,2) -> 0 | X30: Specifikace | AG30: POL3_0
A31: 18 | B31: 59216 | C31: Spojovací deska průběžná | D31: kus | E31: 30 | G31: =ROUND(E31*F31,2) -> 0 | I31: =ROUND(E31*H31,2) -> 0 | K31: =ROUND(E31*J31,2) -> 0 | L31: 21 | M31: =G31*(1+L31/100) -> 0 | N31: 0 | O31: =ROUND(E31*N31,2) -> 0 | P31: 0 | Q31: =ROUND(E31*P31,2) -> 0 | S31: Vlastní | T31: Indiv | U31: 0 | V31: =ROUND(E31*U31,2) -> 0 | X31: Specifikace | AG31: POL3_
A32: 19 | B32: 59217 | C32: Spojovací deska koncová | D32: kus | E32: 2 | G32: =ROUND(E32*F32,2) -> 0 | I32: =ROUND(E32*H32,2) -> 0 | K32: =ROUND(E32*J32,2) -> 0 | L32: 21 | M32: =G32*(1+L32/100) -> 0 | N32: 0 | O32: =ROUND(E32*N32,2) -> 0 | P32: 0 | Q32: =ROUND(E32*P32,2) -> 0 | S32: Vlastní | T32: Indiv | U32: 0 | V32: =ROUND(E32*U32,2) -> 0 | X32: Specifikace | AG32: POL3_
A33: 20 | B33: 592161410R | C33: stěna vodicí běžný díl, šrafovaný; beton; š = 440 mm; h = 500,0 mm; l = 1 000 mm | D33: kus | E33: 6 | G33: =ROUND(E33*F33,2) -> 0 | I33: =ROUND(E33*H33,2) -> 0 | K33: =ROUND(E33*J33,2) -> 0 | L33: 21 | M33: =G33*(1+L33/100) -> 0 | N33: 0.255 | O33: =ROUND(E33*N33,2) -> 1.53 | P33: 0 | Q33: =ROUND(E33*P33,2) -> 0 | R33: SPCM | S33: RTS 19/ II | T33: RTS 19/ II | U33: 0 | V33: =ROUND(E33*U33,2) -> 0 | X33: Specifikace | AG33: POL3_
A34: 21 | B34: 59216141R | C34: stěna vodicí běžný díl; beton; š = 440 mm; h = 500,0 mm; l = 1 000 mm | D34: kus | E34: 4 | G34: =ROUND(E34*F34,2) -> 0 | I34: =ROUND(E34*H34,2) -> 0 | K34: =ROUND(E34*J34,2) -> 0 | L34: 21 | M34: =G34*(1+L34/100) -> 0 | N34: 0.255 | O34: =ROUND(E34*N34,2) -> 1.02 | P34: 0 | Q34: =ROUND(E34*P34,2) -> 0 | R34: SPCM | S34: RTS 19/ II | T34: RTS 19/ II | U34: 0 | V34: =ROUND(E34*U34,2) -> 0 | X34: Specifikace | AG34: POL3_0
A35: 22 | B35: 592161410R | C35: stěna vodicí běžný díl, šrafovaný; beton; š = 440 mm; h = 500,0 mm; l = 1 000 mm | D35: kus | E35: 6 | G35: =ROUND(E35*F35,2) -> 0 | I35: =ROUND(E35*H35,2) -> 0 | K35: =ROUND(E35*J35,2) -> 0 | L35: 21 | M35: =G35*(1+L35/100) -> 0 | N35: 0.255 | O35: =ROUND(E35*N35,2) -> 1.53 | P35: 0 | Q35: =ROUND(E35*P35,2) -> 0 | R35: SPCM | S35: RTS 19/ II | T35: RTS 19/ II | U35: 0 | V35: =ROUND(E35*U35,2) -> 0 | X35: Specifikace | AG35: POL3_
A36: 23 | B36: 592161420R | C36: stěna vodicí krajní díl, šrafovaný; beton; š = 440 mm; h = 500,0 mm; l = 2 000 mm | D36: kus | E36: 2 | G36: =ROUND(E36*F36,2) -> 0 | I36: =ROUND(E36*H36,2) -> 0 | K36: =ROUND(E36*J36,2) -> 0 | L36: 21 | M36: =G36*(1+L36/100) -> 0 | N36: 0.45 | O36: =ROUND(E36*N36,2) -> 0.9 | P36: 0 | Q36: =ROUND(E36*P36,2) -> 0 | R36: SPCM | S36: RTS 19/ II | T36: RTS 19/ II | U36: 0 | V36: =ROUND(E36*U36,2) -> 0 | X36: Specifikace | AG36: POL3_0
A37: 24 | B37: 592161420R | C37: stěna vodicí krajní díl, šrafovaný; beton; š = 440 mm; h = 500,0 mm; l = 2 000 mm | D37: kus | E37: 2 | G37: =ROUND(E37*F37,2) -> 0 | I37: =ROUND(E37*H37,2) -> 0 | K37: =ROUND(E37*J37,2) -> 0 | L37: 21 | M37: =G37*(1+L37/100) -> 0 | N37: 0.45 | O37: =ROUND(E37*N37,2) -> 0.9 | P37: 0 | Q37: =ROUND(E37*P37,2) -> 0 | R37: SPCM | S37: RTS 19/ II | T37: RTS 19/ II | U37: 0 | V37: =ROUND(E37*U37,2) -> 0 | X37: Specifikace | AG37: POL3_
A38: Díl: | B38: 96 | C38: Bourání konstrukcí | G38: =SUMIF(AG39:AG39,"<>NOR",G39:G39) -> 0 | I38: =SUM(I39:I39) -> 0 | K38: =SUM(K39:K39) -> 0 | M38: =SUM(M39:M39) -> 0 | O38: =SUM(O39:O39) -> 0 | Q38: =SUM(Q39:Q39) -> 5.83 | V38: =SUM(V39:V39) -> 6.65 | AG38: DIL
A39: 25 | B39: 113107305R00 | C39: Odstranění podkladů nebo krytů z kameniva těženého, v ploše jednotlivě do 50 m2, tloušťka vrstvy 50 mm | D39: m2 | E39: 53 | G39: =ROUND(E39*F39,2) -> 0 | I39: =ROUND(E39*H39,2) -> 0 | K39: =ROUND(E39*J39,2) -> 0 | L39: 21 | M39: =G39*(1+L39/100) -> 0 | N39: 0 | O39: =ROUND(E39*N39,2) -> 0 | P39: 0.11 | Q39: =ROUND(E39*P39,2) -> 5.83 | R39: 822-1 | S39: RTS 19/ II | T39: RTS 19/ II | U39: 0.1255 | V39: =ROUND(E39*U39,2) -> 6.65 | X39: Práce | AG39: POL1_1
A40: Díl: | B40: 91 | C40: Doplňující práce na komunikaci | G40: =SUMIF(AG41:AG41,"<>NOR",G41:G41) -> 0 | I40: =SUM(I41:I41) -> 0 | K40: =SUM(K41:K41) -> 0 | M40: =SUM(M41:M41) -> 0 | O40: =SUM(O41:O41) -> 0 | Q40: =SUM(Q41:Q41) -> 0 | V40: =SUM(V41:V41) -> 0.8 | AG40: DIL
A41: 26 | B41: 914001125R00 | C41: Osazení a montáž svislých dopravních značek značka, na sloupek,sloup, konzolu nebo objekt, | D41: kus | E41: 4 | G41: =ROUND(E41*F41,2) -> 0 | I41: =ROUND(E41*H41,2) -> 0 | K41: =ROUND(E41*J41,2) -> 0 | L41: 21 | M41: =G41*(1+L41/100) -> 0 | N41: 0 | O41: =ROUND(E41*N41,2) -> 0 | P41: 0 | Q41: =ROUND(E41*P41,2) -> 0 | R41: 822-1 | S41: RTS 19/ II | T41: RTS 19/ II | U41: 0.2 | V41: =ROUND(E41*U41,2) -> 0.8 | X41: Práce | AG41: POL1_
A42: Díl: | B42: 96 | C42: Bourání konstrukcí | G42: =SUMIF(AG43:AG43,"<>NOR",G43:G43) -> 0 | I42: =SUM(I43:I43) -> 0 | K42: =SUM(K43:K43) -> 0 | M42: =SUM(M43:M43) -> 0 | O42: =SUM(O43:O43) -> 0 | Q42: =SUM(Q43:Q43) -> 6.16 | V42: =SUM(V43:V43) -> 2.41 | AG42: DIL
A43: 27 | B43: 113108405R00 | C43: živičných, v ploše jednotlivě nad 50 m2, tloušťka vrstvy 50 mm | D43: m2 | E43: 56 | G43: =ROUND(E43*F43,2) -> 0 | I43: =ROUND(E43*H43,2) -> 0 | K43: =ROUND(E43*J43,2) -> 0 | L43: 21 | M43: =G43*(1+L43/100) -> 0 | N43: 0 | O43: =ROUND(E43*N43,2) -> 0 | P43: 0.11 | Q43: =ROUND(E43*P43,2) -> 6.16 | S43: RTS 19/ II | T43: RTS 19/ II | U43: 0.043 | V43: =ROUND(E43*U43,2) -> 2.41 | X43: Práce | AG43: POL1_1
A44: Díl: | B44: 99 | C44: Staveništní přesun hmot | G44: =SUMIF(AG45:AG48,"<>NOR",G45:G48) -> 0 | I44: =SUM(I45:I48) -> 0 | K44: =SUM(K45:K48) -> 0 | M44: =SUM(M45:M48) -> 0 | O44: =SUM(O45:O48) -> 0 | Q44: =SUM(Q45:Q48) -> 0 | V44: =SUM(V45:V48) -> 0.76 | AG44: DIL
A45: 28 | B45: 998225111R00 | C45: jakékoliv délky objektu | D45: t | E45: 47.50574 | G45: =ROUND(E45*F45,2) -> 0 | I45: =ROUND(E45*H45,2) -> 0 | K45: =ROUND(E45*J45,2) -> 0 | L45: 21 | M45: =G45*(1+L45/100) -> 0 | N45: 0 | O45: =ROUND(E45*N45,2) -> 0 | P45: 0 | Q45: =ROUND(E45*P45,2) -> 0 | S45: RTS 19/ II | T45: RTS 19/ II | U45: 0.016 | V45: =ROUND(E45*U45,2) -> 0.76 | X45: Přesun hmot | AG45: POL7_
C46: Hmotnosti z položek s pořadovými čísly: : | AG46: VV | AH46: 0
C47: 2,3,4,5,6,8,9,10,11,12,13,14,15,17,20,21,22,23,24, : | AG47: VV | AH47: 0
C48: Součet: : 47,50574 | E48: 47.50574 | AG48: VV | AH48: 0
A49: Díl: | B49: D96 | C49: Přesuny suti a vybouraných hmot | G49: =SUMIF(AG50:AG65,"<>NOR",G50:G65) -> 0 | I49: =SUM(I50:I65) -> 0 | K49: =SUM(K50:K65) -> 0 | M49: =SUM(M50:M65) -> 0 | O49: =SUM(O50:O65) -> 0 | Q49: =SUM(Q50:Q65) -> 0 | V49: =SUM(V50:V65) -> 0.12 | AG49: DIL
A50: 29 | B50: 979990103R00 | C50: beton do 30x30 cm | D50: t | E50: 11.99 | G50: =ROUND(E50*F50,2) -> 0 | I50: =ROUND(E50*H50,2) -> 0 | K50: =ROUND(E50*J50,2) -> 0 | L50: 21 | M50: =G50*(1+L50/100) -> 0 | N50: 0 | O50: =ROUND(E50*N50,2) -> 0 | P50: 0 | Q50: =ROUND(E50*P50,2) -> 0 | S50: RTS 19/ II | T50: RTS 19/ II | U50: 0 | V50: =ROUND(E50*U50,2) -> 0 | X50: Přesun suti | AG50: POL8_
C51: Demontážní hmotnosti z položek s pořadovými čísly: : | AG51: VV | AH51: 0
C52: 25,27, : | AG52: VV | AH52: 0
C53: Součet: : 11,99000 | E53: 11.99 | AG53: VV | AH53: 0
A54: 30 | B54: 979990112R00 | C54: obalovaný asfalt | D54: t | E54: 11.99 | G54: =ROUND(E54*F54,2) -> 0 | I54: =ROUND(E54*H54,2) -> 0 | K54: =ROUND(E54*J54,2) -> 0 | L54: 21 | M54: =G54*(1+L54/100) -> 0 | N54: 0 | O54: =ROUND(E54*N54,2) -> 0 | P54: 0 | Q54: =ROUND(E54*P54,2) -> 0 | S54: RTS 19/ II | T54: RTS 19/ II | U54: 0 | V54: =ROUND(E54*U54,2) -> 0 | X54: Přesun suti | AG54: POL8_
C55: Demontážní hmotnosti z položek s pořadovými čísly: : | AG55: VV | AH55: 0
C56: 25,27, : | AG56: VV | AH56: 0
C57: Součet: : 11,99000 | E57: 11.99 | AG57: VV | AH57: 0
A58: 31 | B58: 979082213R00 | C58: bez naložení, ale se složením a hrubým urovnáním na vzdálenost do 1 km | D58: t | E58: 11.99 | G58: =ROUND(E58*F58,2) -> 0 | I58: =ROUND(E58*H58,2) -> 0 | K58: =ROUND(E58*J58,2) -> 0 | L58: 21 | M58: =G58*(1+L58/100) -> 0 | N58: 0 | O58: =ROUND(E58*N58,2) -> 0 | P58: 0 | Q58: =ROUND(E58*P58,2) -> 0 | S58: RTS 19/ II | T58: RTS 19/ II | U58: 0.01 | V58: =ROUND(E58*U58,2) -> 0.12 | X58: Přesun suti | AG58: POL8_
C59: Demontážní hmotnosti z položek s pořadovými čísly: : | AG59: VV | AH59: 0
C60: 25,27, : | AG60: VV | AH60: 0
C61: Součet: : 11,99000 | E61: 11.99 | AG61: VV | AH61: 0
A62: 32 | B62: 979082219R00 | C62: příplatek k ceně za každý další i započatý 1 km přes 1 km | D62: t | E62: 11.99 | G62: =ROUND(E62*F62,2) -> 0 | I62: =ROUND(E62*H62,2) -> 0 | K62: =ROUND(E62*J62,2) -> 0 | L62: 21 | M62: =G62*(1+L62/100) -> 0 | N62: 0 | O62: =ROUND(E62*N62,2) -> 0 | P62: 0 | Q62: =ROUND(E62*P62,2) -> 0 | S62: RTS 19/ II | T62: RTS 19/ II | U62: 0 | V62: =ROUND(E62*U62,2) -> 0 | X62: Přesun suti | AG62: POL8_
C63: Demontážní hmotnosti z položek s pořadovými čísly: : | AG63: VV | AH63: 0
C64: 25,27, : | AG64: VV | AH64: 0
C65: Součet: : 11,99000 | E65: 11.99 | AG65: VV | AH65: 0
A66: Díl: | B66: 91 | C66: Doplňující práce na komunikaci | G66: =SUMIF(AG67:AG67,"<>NOR",G67:G67) -> 0 | I66: =SUM(I67:I67) -> 0 | K66: =SUM(K67:K67) -> 0 | M66: =SUM(M67:M67) -> 0 | O66: =SUM(O67:O67) -> 2.26 | Q66: =SUM(Q67:Q67) -> 0 | V66: =SUM(V67:V67) -> 7.38 | AG66: DIL
A67: 33 | B67: 914001111R00 | C67: Osazení a montáž svislých dopravních značek sloupek, do betonového základu, | D67: kus | E67: 9 | G67: =ROUND(E67*F67,2) -> 0 | I67: =ROUND(E67*H67,2) -> 0 | K67: =ROUND(E67*J67,2) -> 0 | L67: 21 | M67: =G67*(1+L67/100) -> 0 | N67: 0.2508 | O67: =ROUND(E67*N67,2) -> 2.26 | P67: 0 | Q67: =ROUND(E67*P67,2) -> 0 | R67: 822-1 | S67: RTS 19/ II | T67: RTS 19/ II | U67: 0.82 | V67: =ROUND(E67*U67,2) -> 7.38 | X67: Práce | AG67: POL1_
AE68: 15 | AF68: 21 | AG68: DPH
B69: Celkem | G69: =G8+G10+G15+G38+G40+G42+G44+G49+G66 -> 0 | AE69: =SUMIF(L7:L67,AE68,G7:G67) -> 0 | AF69: =SUMIF(L7:L67,AF68,G7:G67) -> 0 | AG69: SUM
A70: JKSO:
B71: 822.2 | C71: Komunikace pozemní | AG71: JKSO
B72: m2 | C72: kryt (materiál konstrukce krytu) z kameniva obalovaného živicí | AG72: JKSOChar
AG73: JKSOAkce
AG75: END

Sheet 04 CAD-035_04 Pol
A1: Položkový soupis prací a dodávek | AG1: #TypZaznamu#
A2: S: | B2: CAD-039 | C2: Sběrné středisko odpadů, ul. Slaměníkova, Brno - CÚ 2019/II | AG2: STA
A3: O: | B3: 04 | C3: Osvětlení areálu - vnitřní | AC3: STA | AG3: OBJ
A4: R: | B4: CAD-035/04 | C4: SSO Slaměníkova - osvětlení areálu - vnitřní | AG4: ROZ
A6: P.č. | B6: Číslo položky | C6: Název položky | D6: MJ | E6: Množství | F6: Cena / MJ | G6: Celkem | H6: Dodávka | I6: Dodávka celk. | J6: Montáž | K6: Montáž celk. | L6: DPH | M6: Cena s DPH | N6: Hmotnost / MJ | O6: Hmotnost celk.(t) | P6: Dem. hmotnost / MJ | Q6: Dem. hmotnost celk.(t) | R6: Ceník | S6: Cen. soustava / platnost | T6: Cenová úroveň | U6: Nhod / MJ | V6: Nhod celk. | W6: Dodavatel | X6: Typ položky
A8: Díl: | B8: 1 | C8: Zemní práce | G8: =SUMIF(AG9:AG9,"<>NOR",G9:G9) -> 0 | I8: =SUM(I9:I9) -> 0 | K8: =SUM(K9:K9) -> 0 | M8: =SUM(M9:M9) -> 0 | O8: =SUM(O9:O9) -> 0 | Q8: =SUM(Q9:Q9) -> 13.2 | V8: =SUM(V9:V9) -> 12.54 | AG8: DIL
A9: 1 | B9: 113107330R00 | C9: z kameniva těženého, v ploše jednotlivě do 50 m2, tloušťka vrstvy 300 mm | D9: m2 | E9: 20 | G9: =ROUND(E9*F9,2) -> 0 | I9: =ROUND(E9*H9,2) -> 0 | K9: =ROUND(E9*J9,2) -> 0 | L9: 21 | M9: =G9*(1+L9/100) -> 0 | N9: 0 | O9: =ROUND(E9*N9,2) -> 0 | P9: 0.66 | Q9: =ROUND(E9*P9,2) -> 13.2 | S9: RTS 19/ II | T9: RTS 19/ II | U9: 0.627 | V9: =ROUND(E9*U9,2) -> 12.54 | X9: Práce | AG9: POL1_1
A10: Díl: | B10: M21 | C10: Elektromontáže | G10: =SUMIF(AG11:AG33,"<>NOR",G11:G33) -> 0 | I10: =SUM(I11:I33) -> 0 | K10: =SUM(K11:K33) -> 0 | M10: =SUM(M11:M33) -> 0 | O10: =SUM(O11:O33) -> 0.45 | Q10: =SUM(Q11:Q33) -> 0 | V10: =SUM(V11:V33) -> 3.43 | AG10: DIL
A11: 2 | B11: 210100001R00 | C11: Ukončení vodičů v rozvaděči + zapojení do 2,5 mm2 | D11: kus | E11: 24 | G11: =ROUND(E11*F11,2) -> 0 | I11: =ROUND(E11*H11,2) -> 0 | K11: =ROUND(E11*J11,2) -> 0 | L11: 21 | M11: =G11*(1+L11/100) -> 0 | N11: 0 | O11: =ROUND(E11*N11,2) -> 0 | P11: 0 | Q11: =ROUND(E11*P11,2) -> 0 | S11: RTS 19/ II | T11: Indiv | U11: 0 | V11: =ROUND(E11*U11,2) -> 0 | X11: Práce | AG11: POL1_9
A12: 3 | B12: 210100002R00 | C12: Ukončení vodičů v rozvaděči + zapojení do 6 mm2 | D12: kus | E12: 10 | G12: =ROUND(E12*F12,2) -> 0 | I12: =ROUND(E12*H12,2) -> 0 | K12: =ROUND(E12*J12,2) -> 0 | L12: 21 | M12: =G12*(1+L12/100) -> 0 | N12: 0 | O12: =ROUND(E12*N12,2) -> 0 | P12: 0 | Q12: =ROUND(E12*P12,2) -> 0 | S12: RTS 19/ II | T12: Indiv | U12: 0 | V12: =ROUND(E12*U12,2) -> 0 | X12: Práce | AG12: POL1_9
A13: 4 | B13: 210120401R00 | C13: Jistič vzduch.1pólový do 25 A | D13: kus | E13: 2 | G13: =ROUND(E13*F13,2) -> 0 | I13: =ROUND(E13*H13,2) -> 0 | K13: =ROUND(E13*J13,2) -> 0 | L13: 21 | M13: =G13*(1+L13/100) -> 0 | N13: 0 | O13: =ROUND(E13*N13,2) -> 0 | P13: 0 | Q13: =ROUND(E13*P13,2) -> 0 | S13: RTS 19/ II | T13: Indiv | U13: 0 | V13: =ROUND(E13*U13,2) -> 0 | X13: Práce | AG13: POL1_9
A14: 5 | B14: 210160711R00 | C14: Montáž spínacích hodin | D14: kus | E14: 1 | G14: =ROUND(E14*F14,2) -> 0 | I14: =ROUND(E14*H14,2) -> 0 | K14: =ROUND(E14*J14,2) -> 0 | L14: 21 | M14: =G14*(1+L14/100) -> 0 | N14: 0 | O14: =ROUND(E14*N14,2) -> 0 | P14: 0 | Q14: =ROUND(E14*P14,2) -> 0 | S14: RTS 19/ II | T14: Indiv | U14: 0 | V14: =ROUND(E14*U14,2) -> 0 | X14: Práce | AG14: POL1_9
A15: 6 | B15: 210202115R00 | C15: Montáž svítidla veřejného osvětlení, parkového | D15: kus | E15: 3 | G15: =ROUND(E15*F15,2) -> 0 | I15: =ROUND(E15*H15,2) -> 0 | K15: =ROUND(E15*J15,2) -> 0 | L15: 21 | M15: =G15*(1+L15/100) -> 0 | N15: 0 | O15: =ROUND(E15*N15,2) -> 0 | P15: 0 | Q15: =ROUND(E15*P15,2) -> 0 | R15: M21 | S15: RTS 19/ II | T15: RTS 19/ II | U15: 1.144 | V15: =ROUND(E15*U15,2) -> 3.43 | X15: Práce | AG15: POL1_9
A16: 7 | B16: 210204002R00 | C16: Stožár osvětlovací sadový - ocelový | D16: kus | E16: 3 | G16: =ROUND(E16*F16,2) -> 0 | I16: =ROUND(E16*H16,2) -> 0 | K16: =ROUND(E16*J16,2) -> 0 | L16: 21 | M16: =G16*(1+L16/100) -> 0 | N16: 0 | O16: =ROUND(E16*N16,2) -> 0 | P16: 0 | Q16: =ROUND(E16*P16,2) -> 0 | S16: RTS 19/ II | T16: Indiv | U16: 0 | V16: =ROUND(E16*U16,2) -> 0 | X16: Práce | AG16: POL1_9
A17: 8 | B17: 210204201R00 | C17: Elektrovýzbroj stožáru pro 1 okruh | D17: kus | E17: 3 | G17: =ROUND(E17*F17,2) -> 0 | I17: =ROUND(E17*H17,2) -> 0 | K17: =ROUND(E17*J17,2) -> 0 | L17: 21 | M17: =G17*(1+L17/100) -> 0 | N17: 0 | O17: =ROUND(E17*N17,2) -> 0 | P17: 0 | Q17: =ROUND(E17*P17,2) -> 0 | S17: RTS 19/ II | T17: Indiv | U17: 0 | V17: =ROUND(E17*U17,2) -> 0 | X17: Práce | AG17: POL1_9
A18: 9 | B18: 210220022RT1 | C18: Vedení uzemňovací v zemi FeZn, D 8 - 10 mm včetně drátu FeZn 10 mm | D18: m | E18: 50 | G18: =ROUND(E18*F18,2) -> 0 | I18: =ROUND(E18*H18,2) -> 0 | K18: =ROUND(E18*J18,2) -> 0 | L18: 21 | M18: =G18*(1+L18/100) -> 0 | N18: 0 | O18: =ROUND(E18*N18,2) -> 0 | P18: 0 | Q18: =ROUND(E18*P18,2) -> 0 | S18: RTS 19/ II | T18: Indiv | U18: 0 | V18: =ROUND(E18*U18,2) -> 0 | X18: Práce | AG18: POL1_9
A19: 10 | B19: 210220301RT2 | C19: Svorka hromosvodová do 2 šroubů /SS, SZ, SO/ včetně dodávky svorky SS | D19: kus | E19: 5 | G19: =ROUND(E19*F19,2) -> 0 | I19: =ROUND(E19*H19,2) -> 0 | K19: =ROUND(E19*J19,2) -> 0 | L19: 21 | M19: =G19*(1+L19/100) -> 0 | N19: 0 | O19: =ROUND(E19*N19,2) -> 0 | P19: 0 | Q19: =ROUND(E19*P19,2) -> 0 | S19: RTS 19/ II | T19: Indiv | U19: 0 | V19: =ROUND(E19*U19,2) -> 0 | X19: Práce | AG19: POL1_9
A20: 11 | B20: 210220302RT6 | C20: Svorka hromosvodová nad 2 šrouby /ST, SJ, SR, atd/ včetně dodávky svorky SP1 | D20: kus | E20: 10 | G20: =ROUND(E20*F20,2) -> 0 | I20: =ROUND(E20*H20,2) -> 0 | K20: =ROUND(E20*J20,2) -> 0 | L20: 21 | M20: =G20*(1+L20/100) -> 0 | N20: 0 | O20: =ROUND(E20*N20,2) -> 0 | P20: 0 | Q20: =ROUND(E20*P20,2) -> 0 | S20: RTS 19/ II | T20: Indiv | U20: 0 | V20: =ROUND(E20*U20,2) -> 0 | X20: Práce | AG20: POL1_9
A21: 12 | B21: 210810005RT3 | C21: Kabel CYKY-m 750 V 3 x 1,5 mm2 volně uložený, včetně dodávky CYKY 3Cx1.5 | D21: m | E21: 55 | G21: =ROUND(E21*F21,2) -> 0 | I21: =ROUND(E21*H21,2) -> 0 | K21: =ROUND(E21*J21,2) -> 0 | L21: 21 | M21: =G21*(1+L21/100) -> 0 | N21: 0.00017 | O21: =ROUND(E21*N21,2) -> 0.01 | P21: 0 | Q21: =ROUND(E21*P21,2) -> 0 | S21: RTS 19/ II | T21: Indiv | U21: 0 | V21: =ROUND(E21*U21,2) -> 0 | X21: Práce | AG21: POL1_9
A22: 13 | B22: 210810006RT1 | C22: Kabel CYKY-m 750 V 3 x 2,5 mm2 volně uložený, včetně dodávky kabelu | D22: m | E22: 15 | G22: =ROUND(E22*F22,2) -> 0 | I22: =ROUND(E22*H22,2) -> 0 | K22: =ROUND(E22*J22,2) -> 0 | L22: 21 | M22: =G22*(1+L22/100) -> 0 | N22: 0.00021 | O22: =ROUND(E22*N22,2) -> 0 | P22: 0 | Q22: =ROUND(E22*P22,2) -> 0 | S22: RTS 19/ II | T22: Indiv | U22: 0 | V22: =ROUND(E22*U22,2) -> 0 | X22: Práce | AG22: POL1_9
A23: 14 | B23: 210810007RT1 | C23: Kabel CYKY-m 750 V 3 x 4 mm2 volně uložený, včetně dodávky kabelu | D23: m | E23: 53 | G23: =ROUND(E23*F23,2) -> 0 | I23: =ROUND(E23*H23,2) -> 0 | K23: =ROUND(E23*J23,2) -> 0 | L23: 21 | M23: =G23*(1+L23/100) -> 0 | N23: 0.00032 | O23: =ROUND(E23*N23,2) -> 0.02 | P23: 0 | Q23: =ROUND(E23*P23,2) -> 0 | S23: RTS 19/ II | T23: Indiv | U23: 0 | V23: =ROUND(E23*U23,2) -> 0 | X23: Práce | AG23: POL1_9
A24: 15 | B24: 210810017RT2 | C24: Kabel CYKY-m 750 V 5 žil 4 až 16 mm, volně uložený, včetně dodávky kabelu 5x6 mm2 | D24: m | E24: 40 | G24: =ROUND(E24*F24,2) -> 0 | I24: =ROUND(E24*H24,2) -> 0 | K24: =ROUND(E24*J24,2) -> 0 | L24: 21 | M24: =G24*(1+L24/100) -> 0 | N24: 0.00056 | O24: =ROUND(E24*N24,2) -> 0.02 | P24: 0 | Q24: =ROUND(E24*P24,2) -> 0 | S24: RTS 19/ II | T24: Indiv | U24: 0 | V24: =ROUND(E24*U24,2) -> 0 | X24: Práce | AG24: POL1_9
A25: 16 | B25: 210950201R00 | C25: Příplatek na zatahování kabelů váhy do 0,75 kg | D25: m | E25: 68 | G25: =ROUND(E25*F25,2) -> 0 | I25: =ROUND(E25*H25,2) -> 0 | K25: =ROUND(E25*J25,2) -> 0 | L25: 21 | M25: =G25*(1+L25/100) -> 0 | N25: 0 | O25: =ROUND(E25*N25,2) -> 0 | P25: 0 | Q25: =ROUND(E25*P25,2) -> 0 | S25: RTS 19/ II | T25: Indiv | U25: 0 | V25: =ROUND(E25*U25,2) -> 0 | X25: Práce | AG25: POL1_9
A26: 17 | B26: 210100173U00 | C26: Ukončení kabelů páska žíly 3x4mm2 | D26: kus | E26: 6 | G26: =ROUND(E26*F26,2) -> 0 | I26: =ROUND(E26*H26,2) -> 0 | K26: =ROUND(E26*J26,2) -> 0 | L26: 21 | M26: =G26*(1+L26/100) -> 0 | N26: 0 | O26: =ROUND(E26*N26,2) -> 0 | P26: 0 | Q26: =ROUND(E26*P26,2) -> 0 | S26: URS | T26: Indiv | U26: 0 | V26: =ROUND(E26*U26,2) -> 0 | X26: Práce | AG26: POL1_9
A27: 18 | B27: 210110029U00 | C27: Mtž čidlo nástěnné venkovní | D27: kus | E27: 1 | G27: =ROUND(E27*F27,2) -> 0 | I27: =ROUND(E27*H27,2) -> 0 | K27: =ROUND(E27*J27,2) -> 0 | L27: 21 | M27: =G27*(1+L27/100) -> 0 | N27: 0 | O27: =ROUND(E27*N27,2) -> 0 | P27: 0 | Q27: =ROUND(E27*P27,2) -> 0 | S27: URS | T27: Indiv | U27: 0 | V27: =ROUND(E27*U27,2) -> 0 | X27: Práce | AG27: POL1_9
... A31: 22 | B31: 345220109T | C31: Dohlížecí kamerový systém, kamera, přenos dat | D31: soubor | E31: 1 | G31: =ROUND(E31*F31,2) -> 0 | I31: =ROUND(E31*H31,2) -> 0 | K31: =ROUND(E31*J31,2) -> 0 | L31: 21 | M31: =G31*(1+L31/100) -> 0 | N31: 0.398 | O31: =ROUND(E31*N31,2) -> 0.4 | P31: 0 | Q31: =ROUND(E31*P31,2) -> 0 | S31: Vlastní | T31: Indiv | U31: 0 | V31: =ROUND(E31*U31,2) -> 0 | X31: Specifikace | AG31: POL3_0
A32: 23 | B32: 35822001013R | C32: jistič modulární jmen.proud 10,00 A; charakt. B; počet pólů 1; jmenovitá zkratová schopnost/230 V a.c. 10 kA; tepl.okolí -25 do + 55 °C; IP 20 | D32: kus | E32: 1 | G32: =ROUND(E32*F32,2) -> 0 | I32: =ROUND(E32*H32,2) -> 0 | K32: =ROUND(E32*J32,2) -> 0 | L32: 21 | M32: =G32*(1+L32/100) -> 0 | N32: 0.00018 | O32: =ROUND(E32*N32,2) -> 0 | P32: 0 | Q32: =ROUND(E32*P32,2) -> 0 | R32: SPCM | S32: RTS 19/ II | T32: RTS 19/ II | U32: 0 | V32: =ROUND(E32*U32,2) -> 0 | X32: Specifikace | AG32: POL3_0
A33: 24 | B33: 35822001015R | C33: jistič modulární jmen.proud 16,00 A; charakt. B; počet pólů 1; jmenovitá zkratová schopnost/230 V a.c. 10 kA; tepl.okolí -25 do + 55 °C; IP 20 | D33: kus | E33: 1 | G33: =ROUND(E33*F33,2) -> 0 | I33: =ROUND(E33*H33,2) -> 0 | K33: =ROUND(E33*J33,2) -> 0 | L33: 21 | M33: =G33*(1+L33/100) -> 0 | N33: 0.00018 | O33: =ROUND(E33*N33,2) -> 0 | P33: 0 | Q33: =ROUND(E33*P33,2) -> 0 | R33: SPCM | S33: RTS 19/ II | T33: RTS 19/ II | U33: 0 | V33: =ROUND(E33*U33,2) -> 0 | X33: Specifikace | AG33: POL3_0
A34: Díl: | B34: M21.P | C34: Provizorní přípojka NN | G34: =SUMIF(AG35:AG43,"<>NOR",G35:G43) -> 0 | I34: =SUM(I35:I43) -> 0 | K34: =SUM(K35:K43) -> 0 | M34: =SUM(M35:M43) -> 0 | O34: =SUM(O35:O43) -> 3.82 | Q34: =SUM(Q35:Q43) -> 0 | V34: =SUM(V35:V43) -> 0 | AG34: DIL
A35: 25 | B35: 210040021R00 | C35: Stožár dřevěný impregnovaný - Ip stožár | D35: kus | E35: 2 | G35: =ROUND(E35*F35,2) -> 0 | I35: =ROUND(E35*H35,2) -> 0 | K35: =ROUND(E35*J35,2) -> 0 | L35: 21 | M35: =G35*(1+L35/100) -> 0 | N35: 0 | O35: =ROUND(E35*N35,2) -> 0 | P35: 0 | Q35: =ROUND(E35*P35,2) -> 0 | S35: RTS 19/ II | T35: Indiv | U35: 0 | V35: =ROUND(E35*U35,2) -> 0 | X35: Práce | AG35: POL1_9
A36: 26 | B36: 460050004RT1 | C36: Jáma pro stožár J nepatk. do 8 m, v rovině, hor. 4, ruční výkop jámy | D36: kus | E36: 2 | G36: =ROUND(E36*F36,2) -> 0 | I36: =ROUND(E36*H36,2) -> 0 | K36: =ROUND(E36*J36,2) -> 0 | L36: 21 | M36: =G36*(1+L36/100) -> 0 | N36: 0 | O36: =ROUND(E36*N36,2) -> 0 | P36: 0 | Q36: =ROUND(E36*P36,2) -> 0 | S36: RTS 19/ II | T36: Indiv | U36: 0 | V36: =ROUND(E36*U36,2) -> 0 | X36: Práce | AG36: POL1_9
A37: 27 | B37: 460050602RT1 | C37: Jáma pro skříňě, hornina třídy 3-4, ruční výkop jámy | D37: m3 | E37: 0.5 | G37: =ROUND(E37*F37,2) -> 0 | I37: =ROUND(E37*H37,2) -> 0 | K37: =ROUND(E37*J37,2) -> 0 | L37: 21 | M37: =G37*(1+L37/100) -> 0 | N37: 0 | O37: =ROUND(E37*N37,2) -> 0 | P37: 0 | Q37: =ROUND(E37*P37,2) -> 0 | S37: RTS 19/ II | T37: Indiv | U37: 0 | V37: =ROUND(E37*U37,2) -> 0 | X37: Práce | AG37: POL1_9
A38: 28 | B38: 460080002RT1 | C38: Betonový základ do bednění, uložení betonu do dřevěného bednění | D38: m3 | E38: 1 | G38: =ROUND(E38*F38,2) -> 0 | I38: =ROUND(E38*H38,2) -> 0 | K38: =ROUND(E38*J38,2) -> 0 | L38: 21 | M38: =G38*(1+L38/100) -> 0 | N38: 2.55892 | O38: =ROUND(E38*N38,2) -> 2.56 | P38: 0 | Q38: =ROUND(E38*P38,2) -> 0 | S38: RTS 19/ II | T38: Indiv | U38: 0 | V38: =ROUND(E38*U38,2) -> 0 | X38: Práce | AG38: POL1_9
A39: 29 | B39: 34113810R | C39: Kabel silový s Al jádrem 1-AES 4x16 mm2 | D39: m | E39: 68 | G39: =ROUND(E39*F39,2) -> 0 | I39: =ROUND(E39*H39,2) -> 0 | K39: =ROUND(E39*J39,2) -> 0 | L39: 21 | M39: =G39*(1+L39/100) -> 0 | N39: 0.00168 | O39: =ROUND(E39*N39,2) -> 0.11 | P39: 0 | Q39: =ROUND(E39*P39,2) -> 0 | R39: SPCM | S39: RTS 19/ II | T39: Indiv | U39: 0 | V39: =ROUND(E39*U39,2) -> 0 | X39: Specifikace | AG39: POL3_0
A40: 30 | B40: 35711717T | C40: Skříň přípojková plastová SP 100 na sloup NSP1P | D40: kus | E40: 1 | G40: =ROUND(E40*F40,2) -> 0 | I40: =ROUND(E40*H40,2) -> 0 | K40: =ROUND(E40*J40,2) -> 0 | L40: 21 | M40: =G40*(1+L40/100) -> 0 | N40: 0.008 | O40: =ROUND(E40*N40,2) -> 0.01 | P40: 0 | Q40: =ROUND(E40*P40,2) -> 0 | S40: Vlastní | T40: Indiv | U40: 0 | V40: =ROUND(E40*U40,2) -> 0 | X40: Specifikace | AG40: POL3_0
A41: 31 | B41: 35713852T | C41: Rozvodnice elektroměrové RE 2, pilířové provedení | D41: kus | E41: 1 | G41: =ROUND(E41*F41,2) -> 0 | I41: =ROUND(E41*H41,2) -> 0 | K41: =ROUND(E41*J41,2) -> 0 | L41: 21 | M41: =G41*(1+L41/100) -> 0 | N41: 0.0178 | O41: =ROUND(E41*N41,2) -> 0.02 | P41: 0 | Q41: =ROUND(E41*P41,2) -> 0 | S41: Vlastní | T41: Indiv | U41: 0 | V41: =ROUND(E41*U41,2) -> 0 | X41: Specifikace | AG41: POL3_0
A42: 32 | B42: 210040521R00 | C42: Vaz vodičů AlFe - třmenový | D42: kus | E42: 68 | G42: =ROUND(E42*F42,2) -> 0 | I42: =ROUND(E42*H42,2) -> 0 | K42: =ROUND(E42*J42,2) -> 0 | L42: 21 | M42: =G42*(1+L42/100) -> 0 | N42: 0 | O42: =ROUND(E42*N42,2) -> 0 | P42: 0 | Q42: =ROUND(E42*P42,2) -> 0 | S42: Vlastní | T42: Indiv | U42: 0 | V42: =ROUND(E42*U42,2) -> 0 | X42: Práce | AG42: POL1_
A43: 33 | B43: 60838176R | C43: sloup dřevěný SM; l = 8000,0 mm; čepový d 160 až 180 mm; impregnace | D43: m3 | E43: 2 | G43: =ROUND(E43*F43,2) -> 0 | I43: =ROUND(E43*H43,2) -> 0 | K43: =ROUND(E43*J43,2) -> 0 | L43: 21 | M43: =G43*(1+L43/100) -> 0 | N43: 0.559 | O43: =ROUND(E43*N43,2) -> 1.12 | P43: 0 | Q43: =ROUND(E43*P43,2) -> 0 | R43: SPCM | S43: RTS 19/ II | T43: RTS 19/ II | U43: 0 | V43: =ROUND(E43*U43,2) -> 0 | X43: Specifikace | AG43: POL3_0
A44: Díl: | B44: M210 | C44: Materiál | G44: =SUMIF(AG45:AG54,"<>NOR",G45:G54) -> 0 | I44: =SUM(I45:I54) -> 0 | K44: =SUM(K45:K54) -> 0 | M44: =SUM(M45:M54) -> 0 | O44: =SUM(O45:O54) -> 3 | Q44: =SUM(Q45:Q54) -> 0 | V44: =SUM(V45:V54) -> 0 | AG44: DIL
A45: 34 | B45: 31673553T | C45: Stožár osvětlovací sadový, ocelový výšky 5 m nad zemí, žár.zinem, ochranná manžeta, pr. trubek, 133/89/60 mm | D45: ks | E45: 3 | G45: =ROUND(E45*F45,2) -> 0 | I45: =ROUND(E45*H45,2) -> 0 | K45: =ROUND(E45*J45,2) -> 0 | L45: 21 | M45: =G45*(1+L45/100) -> 0 | N45: 0 | O45: =ROUND(E45*N45,2) -> 0 | P45: 0 | Q45: =ROUND(E45*P45,2) -> 0 | S45: Vlastní | T45: Indiv | U45: 0 | V45: =ROUND(E45*U45,2) -> 0 | X45: Specifikace | AG45: POL3_0
A46: 35 | B46: 31672500AT | C46: Termoplastická úprava konc. dílu stožáru | D46: m2 | E46: 2.34 | G46: =ROUND(E46*F46,2) -> 0 | I46: =ROUND(E46*H46,2) -> 0 | K46: =ROUND(E46*J46,2) -> 0 | L46: 21 | M46: =G46*(1+L46/100) -> 0 | N46: 1.28 | O46: =ROUND(E46*N46,2) -> 3 | P46: 0 | Q46: =ROUND(E46*P46,2) -> 0 | S46: Vlastní | T46: Indiv | U46: 0 | V46: =ROUND(E46*U46,2) -> 0 | X46: Specifikace | AG46: POL3_0
A47: 36 | B47: 316786119T | C47: Rozvodnice stožárová jednopojistková GURO EKM 2035 1D2 | D47: kus | E47: 3 | G47: =ROUND(E47*F47,2) -> 0 | I47: =ROUND(E47*H47,2) -> 0 | K47: =ROUND(E47*J47,2) -> 0 | L47: 21 | M47: =G47*(1+L47/100) -> 0 | N47: 0 | O47: =ROUND(E47*N47,2) -> 0 | P47: 0 | Q47: =ROUND(E47*P47,2) -> 0 | S47: Vlastní | T47: Indiv | U47: 0 | V47: =ROUND(E47*U47,2) -> 0 | X47: Specifikace | AG47: POL3_0
A48: 37 | B48: 345000504 | C48: Pojistka 6A E27 komplet | D48: ks | E48: 3 | G48: =ROUND(E48*F48,2) -> 0 | I48: =ROUND(E48*H48,2) -> 0 | K48: =ROUND(E48*J48,2) -> 0 | L48: 21 | M48: =G48*(1+L48/100) -> 0 | N48: 0 | O48: =ROUND(E48*N48,2) -> 0 | P48: 0 | Q48: =ROUND(E48*P48,2) -> 0 | S48: Vlastní | T48: Indiv | U48: 0 | V48: =ROUND(E48*U48,2) -> 0 | X48: Práce | AG48: POL1_9
A49: 38 | B49: 345000600 | C49: Trubička smršťovací z/žl RPZ 32/12 | D49: m | E49: 1.5 | G49: =ROUND(E49*F49,2) -> 0 | I49: =ROUND(E49*H49,2) -> 0 | K49: =ROUND(E49*J49,2) -> 0 | L49: 21 | M49: =G49*(1+L49/100) -> 0 | N49: 0 | O49: =ROUND(E49*N49,2) -> 0 | P49: 0 | Q49: =ROUND(E49*P49,2) -> 0 | S49: Vlastní | T49: Indiv | U49: 0 | V49: =ROUND(E49*U49,2) -> 0 | X49: Práce | AG49: POL1_9
A50: 39 | B50: 345732623T | C50: Hodiny spínací - týdenní nastavení | D50: 1C | E50: 1 | G50: =ROUND(E50*F50,2) -> 0 | I50: =ROUND(E50*H50,2) -> 0 | K50: =ROUND(E50*J50,2) -> 0 | L50: 21 | M50: =G50*(1+L50/100) -> 0 | N50: 0 | O50: =ROUND(E50*N50,2) -> 0 | P50: 0 | Q50: =ROUND(E50*P50,2) -> 0 | S50: Vlastní | T50: Indiv | U50: 0 | V50: =ROUND(E50*U50,2) -> 0 | X50: Specifikace | AG50: POL3_0
A51: 40 | B51: 348sla002T | C51: Svítidlo LED Guida XS - GXS-3H-WA4 | D51: ks | E51: 3 | G51: =ROUND(E51*F51,2) -> 0 | I51: =ROUND(E51*H51,2) -> 0 | K51: =ROUND(E51*J51,2) -> 0 | L51: 21 | M51: =G51*(1+L51/100) -> 0 | N51: 0 | O51: =ROUND(E51*N51,2) -> 0 | P51: 0 | Q51: =ROUND(E51*P51,2) -> 0 | S51: Vlastní | T51: Indiv | U51: 0 | V51: =ROUND(E51*U51,2) -> 0 | X51: Specifikace | AG51: POL3_0
A52: 41 | B52: 35811422T | C52: Instalační stykač S25-40 | D52: ks | E52: 1 | G52: =ROUND(E52*F52,2) -> 0 | I52: =ROUND(E52*H52,2) -> 0 | K52: =ROUND(E52*J52,2) -> 0 | L52: 21 | M52: =G52*(1+L52/100) -> 0 | N52: 0 | O52: =ROUND(E52*N52,2) -> 0 | P52: 0 | Q52: =ROUND(E52*P52,2) -> 0 | S52: Vlastní | T52: Indiv | U52: 0 | V52: =ROUND(E52*U52,2) -> 0 | X52: Specifikace | AG52: POL3_0
A53: 42 | B53: 35811930T | C53: přepínač na lištu dIn 1-0-2 | D53: ks | E53: 1 | G53: =ROUND(E53*F53,2) -> 0 | I53: =ROUND(E53*H53,2) -> 0 | K53: =ROUND(E53*J53,2) -> 0 | L53: 21 | M53: =G53*(1+L53/100) -> 0 | N53: 0 | O53: =ROUND(E53*N53,2) -> 0 | P53: 0 | Q53: =ROUND(E53*P53,2) -> 0 | S53: Vlastní | T53: Indiv | U53: 0 | V53: =ROUND(E53*U53,2) -> 0 | X53: Práce | AG53: POL1_9
A54: 43 | B54: 35814501T | C54: Spínač soumrakový na DIN lištu vč. čidla | D54: kus | E54: 1 | G54: =ROUND(E54*F54,2) -> 0 | I54: =ROUND(E54*H54,2) -> 0 | K54: =ROUND(E54*J54,2) -> 0 | L54: 21 | M54: =G54*(1+L54/100) -> 0 | N54: 0 | O54: =ROUND(E54*N54,2) -> 0 | P54: 0 | Q54: =ROUND(E54*P54,2) -> 0 | S54: Vlastní | T54: Indiv | U54: 0 | V54: =ROUND(E54*U54,2) -> 0 | X54: Specifikace | AG54: POL3_0
A55: Díl: | B55: M46 | C55: Zemní práce při montážích | G55: =SUMIF(AG56:AG74,"<>NOR",G56:G74) -> 0 | I55: =SUM(I56:I74) -> 0 | K55: =SUM(K56:K74) -> 0 | M55: =SUM(M56:M74) -> 0 | O55: =SUM(O56:O74) -> 0.34 | Q55: =SUM(Q56:Q74) -> 0 | V55: =SUM(V56:V74) -> 0 | AG55: DIL
A56: 44 | B56: 460010024RT2 | C56: Vytýčení kabelové trasy v zastavěném prostoru, délka trasy do 500 m, vytyčení inženýrských sítí | D56: km | E56: 0.1 | G56: =ROUND(E56*F56,2) -> 0 | I56: =ROUND(E56*H56,2) -> 0 | K56: =ROUND(E56*J56,2) -> 0 | L56: 21 | M56: =G56*(1+L56/100) -> 0 | N56: 0.03421 | O56: =ROUND(E56*N56,2) -> 0 | P56: 0 | Q56: =ROUND(E56*P56,2) -> 0 | S56: RTS 19/ II | T56: Indiv | U56: 0 | V56: =ROUND(E56*U56,2) -> 0 | X56: Práce | AG56: POL1_9
A57: 45 | B57: 460030071RT3 | C57: Bourání živičných povrchů tl. vrstvy do 5 cm, v ploše nad 10 m2 | D57: m2 | E57: 28 | G57: =ROUND(E57*F57,2) -> 0 | I57: =ROUND(E57*H57,2) -> 0 | K57: =ROUND(E57*J57,2) -> 0 | L57: 21 | M57: =G57*(1+L57/100) -> 0 | N57: 0 | O57: =ROUND(E57*N57,2) -> 0 | P57: 0 | Q57: =ROUND(E57*P57,2) -> 0 | S57: RTS 19/ II | T57: Indiv | U57: 0 | V57: =ROUND(E57*U57,2) -> 0 | X57: Práce | AG57: POL1_9
A58: 46 | B58: 460030081RT1 | C58: Řezání spáry v asfaltu nebo betonu, v tloušťce vrstvy do 5 cm | D58: m | E58: 112 | G58: =ROUND(E58*F58,2) -> 0 | I58: =ROUND(E58*H58,2) -> 0 | K58: =ROUND(E58*J58,2) -> 0 | L58: 21 | M58: =G58*(1+L58/100) -> 0 | N58: 0 | O58: =ROUND(E58*N58,2) -> 0 | P58: 0 | Q58: =ROUND(E58*P58,2) -> 0 | S58: RTS 19/ II | T58: Indiv | U58: 0 | V58: =ROUND(E58*U58,2) -> 0 | X58: Práce | AG58: POL1_9
A59: 47 | B59: 460050704R00 | C59: Jáma do 2 m3 pro stožár veřejného osvětlení, hor.4 | D59: m3 | E59: 2.4 | G59: =ROUND(E59*F59,2) -> 0 | I59: =ROUND(E59*H59,2) -> 0 | K59: =ROUND(E59*J59,2) -> 0 | L59: 21 | M59: =G59*(1+L59/100) -> 0 | N59: 0 | O59: =ROUND(E59*N59,2) -> 0 | P59: 0 | Q59: =ROUND(E59*P59,2) -> 0 | S59: RTS 19/ II | T59: Indiv | U59: 0 | V59: =ROUND(E59*U59,2) -> 0 | X59: Práce | AG59: POL1_9
A60: 48 | B60: 460100044R00 | C60: Pouzdrový základ "Zelený utopenec" 800x800, v.675 | D60: kus | E60: 3 | G60: =ROUND(E60*F60,2) -> 0 | I60: =ROUND(E60*H60,2) -> 0 | K60: =ROUND(E60*J60,2) -> 0 | L60: 21 | M60: =G60*(1+L60/100) -> 0 | N60: 0 | O60: =ROUND(E60*N60,2) -> 0 | P60: 0 | Q60: =ROUND(E60*P60,2) -> 0 | S60: RTS 19/ II | T60: Indiv | U60: 0 | V60: =ROUND(E60*U60,2) -> 0 | X60: Práce | AG60: POL1_9
A61: 49 | B61: 460200144RT2 | C61: Výkop kabelové rýhy 35/60 cm hor.4, ruční výkop rýhy | D61: m | E61: 56 | G61: =ROUND(E61*F61,2) -> 0 | I61: =ROUND(E61*H61,2) -> 0 | K61: =ROUND(E61*J61,2) -> 0 | L61: 21 | M61: =G61*(1+L61/100) -> 0 | N61: 0 | O61: =ROUND(E61*N61,2) -> 0 | P61: 0 | Q61: =ROUND(E61*P61,2) -> 0 | S61: RTS 19/ II | T61: Indiv | U61: 0 | V61: =ROUND(E61*U61,2) -> 0 | X61: Práce | AG61: POL1_9
A62: 50 | B62: 460420022R00 | C62: Zřízení kab.lože v rýze do 65 cm z písku 10 cm | D62: m | E62: 56 | G62: =ROUND(E62*F62,2) -> 0 | I62: =ROUND(E62*H62,2) -> 0 | K62: =ROUND(E62*J62,2) -> 0 | L62: 21 | M62: =G62*(1+L62/100) -> 0 | N62: 0 | O62: =ROUND(E62*N62,2) -> 0 | P62: 0 | Q62: =ROUND(E62*P62,2) -> 0 | S62: RTS 19/ II | T62: Indiv | U62: 0 | V62: =ROUND(E62*U62,2) -> 0 | X62: Práce | AG62: POL1_9
A63: 51 | B63: 460490012RT1 | C63: Zakrytí kabelu výstražnou folií PVC, šířka 33 cm fólie PVC šířka 33 cm | D63: m | E63: 56 | G63: =ROUND(E63*F63,2) -> 0 | I63: =ROUND(E63*H63,2) -> 0 | K63: =ROUND(E63*J63,2) -> 0 | L63: 21 | M63: =G63*(1+L63/100) -> 0 | N63: 0 | O63: =ROUND(E63*N63,2) -> 0 | P63: 0 | Q63: =ROUND(E63*P63,2) -> 0 | S63: RTS 19/ II | T63: Indiv | U63: 0 | V63: =ROUND(E63*U63,2) -> 0 | X63: Práce | AG63: POL1_9
A64: 52 | B64: 460510021RT1 | C64: Kabelový prostup z plast.trub, DN do 10,5 cm, včetně dodávky trub DN 63 | D64: m | E64: 66 | G64: =ROUND(E64*F64,2) -> 0 | I64: =ROUND(E64*H64,2) -> 0 | K64: =ROUND(E64*J64,2) -> 0 | L64: 21 | M64: =G64*(1+L64/100) -> 0 | N64: 0.00048 | O64: =ROUND(E64*N64,2) -> 0.03 | P64: 0 | Q64: =ROUND(E64*P64,2) -> 0 | S64: RTS 19/ II | T64: Indiv | U64: 0 | V64: =ROUND(E64*U64,2) -> 0 | X64: Práce | AG64: POL1_9
A65: 53 | B65: 460510021RT2 | C65: Kabelový prostup z plast.trub, DN do 10,5 cm, včetně dodávky trub DN 110 | D65: m | E65: 56 | G65: =ROUND(E65*F65,2) -> 0 | I65: =ROUND(E65*H65,2) -> 0 | K65: =ROUND(E65*J65,2) -> 0 | L65: 21 | M65: =G65*(1+L65/100) -> 0 | N65: 0.00109 | O65: =ROUND(E65*N65,2) -> 0.06 | P65: 0 | Q65: =ROUND(E65*P65,2) -> 0 | S65: RTS 19/ II | T65: Indiv | U65: 0 | V65: =ROUND(E65*U65,2) -> 0 | X65: Práce | AG65: POL1_9
A66: 54 | B66: 460570144R00 | C66: Zához rýhy 35/60 cm, hornina třídy 4, se zhutněním | D66: m | E66: 56 | G66: =ROUND(E66*F66,2) -> 0 | I66: =ROUND(E66*H66,2) -> 0 | K66: =ROUND(E66*J66,2) -> 0 | L66: 21 | M66: =G66*(1+L66/100) -> 0 | N66: 0 | O66: =ROUND(E66*N66,2) -> 0 | P66: 0 | Q66: =ROUND(E66*P66,2) -> 0 | S66: RTS 19/ II | T66: Indiv | U66: 0 | V66: =ROUND(E66*U66,2) -> 0 | X66: Práce | AG66: POL1_9
A67: 55 | B67: 460600001R00 | C67: Naložení a odvoz zeminy do vzdálenosti 1km | D67: m3 | E67: 2 | G67: =ROUND(E67*F67,2) -> 0 | I67: =ROUND(E67*H67,2) -> 0 | K67: =ROUND(E67*J67,2) -> 0 | L67: 21 | M67: =G67*(1+L67/100) -> 0 | N67: 0 | O67: =ROUND(E67*N67,2) -> 0 | P67: 0 | Q67: =ROUND(E67*P67,2) -> 0 | S67: RTS 19/ II | T67: Indiv | U67: 0 | V67: =ROUND(E67*U67,2) -> 0 | X67: Práce | AG67: POL1_9
... A74: 62 | B74: 460996666 | C74: Geodetické zaměření | D74: soubor | E74: 1 | G74: =ROUND(E74*F74,2) -> 0 | I74: =ROUND(E74*H74,2) -> 0 | K74: =ROUND(E74*J74,2) -> 0 | L74: 21 | M74: =G74*(1+L74/100) -> 0 | N74: 0 | O74: =ROUND(E74*N74,2) -> 0 | P74: 0 | Q74: =ROUND(E74*P74,2) -> 0 | S74: Vlastní | T74: Indiv | U74: 0 | V74: =ROUND(E74*U74,2) -> 0 | X74: Práce | AG74: POL1_9
AE75: 15 | AF75: 21 | AG75: DPH
B76: Celkem | G76: =G8+G10+G34+G44+G55 -> 0 | AE76: =SUMIF(L7:L74,AE75,G7:G74) -> 0 | AF76: =SUMIF(L7:L74,AF75,G7:G74) -> 0 | AG76: SUM
AG77: END
