Workbook
Name CelkemDPHVypocet: Stavba!$H$43
Name CenaCelkem: Stavba!$G$29
Name CenaCelkemBezDPH: Stavba!$G$28
Name CenaCelkemVypocet: Stavba!$I$43
Name cisloobjektu: Stavba!$D$3
Name CisloRozpoctu: '[1]Krycí list'!$C$2
Name CisloStavby: Stavba!$D$2
Name cislostavby: '[1]Krycí list'!$A$7
Name CisloStavebnihoRozpoctu: Stavba!$D$4
Name dadresa: Stavba!$D$12:$G$12
Name DIČ: Stavba!$I$12
Name dmisto: Stavba!$E$13:$G$13
Name DPHSni: Stavba!$G$24
Name DPHZakl: Stavba!$G$26
Name dpsc: Stavba!$D$13
Name IČO: Stavba!$I$11
Name Mena: Stavba!$J$29
Name MistoStavby: Stavba!$D$4
Name nazevobjektu: Stavba!$E$3
Name NazevRozpoctu: '[1]Krycí list'!$D$2
Name NazevStavby: Stavba!$E$2
Name nazevstavby: '[1]Krycí list'!$C$7
Name NazevStavebnihoRozpoctu: Stavba!$E$4
Name oadresa: Stavba!$D$6
Name Objednatel: Stavba!$D$5
Name Objekt: Stavba!$B$38
Name odic: Stavba!$I$6
Name oico: Stavba!$I$5
Name omisto: Stavba!$E$7
Name onazev: Stavba!$D$6
Name opsc: Stavba!$D$7
Name padresa: Stavba!$D$9
Name pdic: Stavba!$I$9
Name pico: Stavba!$I$8
Name pmisto: Stavba!$E$10
Name PocetMJ: #REF!
Name PoptavkaID: Stavba!$A$1
Name pPSC: Stavba!$D$10
Name Projektant: Stavba!$D$8
Name SazbaDPH1: Stavba!$E$23
Name SazbaDPH1: '[1]Krycí list'!$C$30
Name SazbaDPH2: Stavba!$E$25
Name SazbaDPH2: '[1]Krycí list'!$C$32
Name SloupecCC: #REF!
Name SloupecCisloPol: #REF!
Name SloupecJC: #REF!
Name SloupecMJ: #REF!
Name SloupecMnozstvi: #REF!
Name SloupecNazPol: #REF!
Name SloupecPC: #REF!
Name Vypracoval: Stavba!$D$14
Name ZakladDPHSni: Stavba!$G$23
Name ZakladDPHSniVypocet: Stavba!$F$43
Name ZakladDPHZakl: Stavba!$G$25
Name ZakladDPHZaklVypocet: Stavba!$G$43
Name ZaObjednatele: Stavba!$G$34
Name Zaokrouhleni: Stavba!$G$27
Name ZaZhotovitele: Stavba!$D$34
Name Zhotovitel: Stavba!$D$11:$G$11

Sheet Pokyny pro vyplnění
A1: Pokyny pro vyplnění
A2: Ve všech listech tohoto souboru můžete měnit pouze buňky s modrým pozadím. Jedná se o tyto údaje : - údaje o firmě - jednotkové ceny položek zadané na maximálně dvě desetinná místa

Sheet Stavba
A1: #RTSROZP# | B1: Soupis stavebních prací, dodávek a služeb
B2: Stavba: | D2: 272/2020/04 | E2: Žerotínovo nám. 6 změna užívání zdrav. zařízení
B3: Objekt: | D3: 2a | E3: dodatečné informace
A4: 4108 | B4: Rozpočet: | D4: 01 | E4: projektový
B5: Zadavatel | H5: IČO:
H6: DIČ:
B8: Projektant: | H8: IČO:
H9: DIČ:
B11: Zhotovitel: | H11: IČO:
H12: DIČ:
B14: Vypracoval: | D14: Marečková
B15: Rozpis ceny | I15: Celkem
A16: HSV | B16: HSV | I16: =SUMIF(F50:F58,A16,I50:I58)+SUMIF(F50:F58,"PSU",I50:I58) -> 0
A17: PSV | B17: PSV | I17: =SUMIF(F50:F58,A17,I50:I58) -> 0
A18: MON | B18: MON | I18: =SUMIF(F50:F58,A18,I50:I58) -> 0
A19: VN | B19: Vedlejší náklady | I19: =SUMIF(F50:F58,A19,I50:I58) -> 0
A20: ON | B20: Ostatní náklady | I20: =SUMIF(F50:F58,A20,I50:I58) -> 0
B21: Celkem | I21: =SUM(I16:J20) -> 0
B22: Rekapitulace daní
A23: =ZakladDPHSni*SazbaDPH1/100 -> 0 | B23: Základ pro sníženou DPH | E23: 15 | F23: % | G23: =ZakladDPHSniVypocet -> 0 | J23: =Mena -> CZK
A24: =(A23-INT(A23))*100 -> 0 | B24: Snížená DPH | E24: =SazbaDPH1 -> 15 | F24: % | G24: =A23 -> 0 | J24: =Mena -> CZK
A25: =ZakladDPHZakl*SazbaDPH2/100 -> 0 | B25: Základ pro základní DPH | E25: 21 | F25: % | G25: =ZakladDPHZaklVypocet -> 0 | J25: =Mena -> CZK
A26: =(A25-INT(A25))*100 -> 0 | B26: Základní DPH | E26: =SazbaDPH2 -> 21 | F26: % | G26: =A25 -> 0 | J26: =Mena -> CZK
A27: =ZakladDPHSni+DPHSni+ZakladDPHZakl+DPHZakl -> 0 | B27: Zaokrouhlení | G27: =CenaCelkem-(ZakladDPHSni+DPHSni+ZakladDPHZakl+DPHZakl) -> 0 | J27: =Mena -> CZK
B28: Cena celkem bez DPH | G28: =ZakladDPHSniVypocet+ZakladDPHZaklVypocet -> 0 | J28: =Mena -> CZK
A29: =(A27-INT(A27))*100 -> 0 | B29: Cena celkem s DPH | G29: =A27 -> 0 | J29: CZK
C32: v | F32: dne
D34: sdfsdf | G34: OSM MMB
D35: Za zhotovitele | H35: Za objednatele
B37: Rekapitulace dílčích částí
A38: #CASTI>> | B38: Číslo | C38: Název | F38: =B23 -> Základ pro sníženou DPH | G38: =B25 -> Základ pro základní DPH | H38: DPH celkem | I38: Cena celkem | J38: %
A39: 1 | B39: Stavba | F39: ='2a 01 Pol'!AE69 -> 0 | G39: ='2a 01 Pol'!AF69 -> 0 | H39: =(F39*SazbaDPH1/100)+(G39*SazbaDPH2/100) -> 0 | I39: =F39+G39+H39 -> 0 | J39: =IF(CenaCelkemVypocet=0,"",I39/CenaCelkemVypocet*100)
A40: 2 | C40: Stavební objekt | H40: =(F40*SazbaDPH1/100)+(G40*SazbaDPH2/100) -> 0 | I40: =F40+G40+H40 -> 0 | J40: =IF(CenaCelkemVypocet=0,"",I40/CenaCelkemVypocet*100)
A41: 2 | B41: 2a | C41: dodatečné informace | F41: ='2a 01 Pol'!AE69 -> 0 | G41: ='2a 01 Pol'!AF69 -> 0 | H41: =(F41*SazbaDPH1/100)+(G41*SazbaDPH2/100) -> 0 | I41: =F41+G41+H41 -> 0 | J41: =IF(CenaCelkemVypocet=0,"",I41/CenaCelkemVypocet*100)
A42: 3 | B42: 01 | C42: projektový | F42: ='2a 01 Pol'!AE69 -> 0 | G42: ='2a 01 Pol'!AF69 -> 0 | H42: =(F42*SazbaDPH1/100)+(G42*SazbaDPH2/100) -> 0 | I42: =F42+G42+H42 -> 0 | J42: =IF(CenaCelkemVypocet=0,"",I42/CenaCelkemVypocet*100)
B43: Celkem za stavbu | F43: =SUMIF(A39:A42,"=1",F39:F42) -> 0 | G43: =SUMIF(A39:A42,"=1",G39:G42) -> 0 | H43: =SUMIF(A39:A42,"=1",H39:H42) -> 0 | I43: =SUMIF(A39:A42,"=1",I39:I42) -> 0 | J43: =SUMIF(A39:A42,"=1",J39:J42) -> 0
B47: Rekapitulace dílů
B49: Číslo | C49: Název | F49: Typ dílu | I49: Celkem | J49: %
B50: 3 | C50: Svislé a kompletní konstrukce | F50: HSV | I50: ='2a 01 Pol'!G8 -> 0 | J50: =IF(I59=0,"",I50/I59*100)
B51: 4 | C51: Vodorovné konstrukce | F51: HSV | I51: ='2a 01 Pol'!G12 -> 0 | J51: =IF(I59=0,"",I51/I59*100)
...

Sheet VzorPolozky
A1: Položkový rozpočet
A2: S:
A3: O:
A4: R:

Sheet 2a 01 Pol
A1: Položkový soupis prací a dodávek | AG1: #TypZaznamu#
A2: S: | B2: 272/2020/04 | C2: Žerotínovo nám. 6 změna užívání zdrav. zařízení | AG2: STA
A3: O: | B3: 2a | C3: dodatečné informace | AC3: STA | AG3: OBJ
A4: R: | B4: 01 | C4: projektový | AG4: ROZ
A6: P.č. | B6: Číslo položky | C6: Název položky | D6: MJ | E6: Množství | F6: Cena / MJ | G6: Celkem | H6: Dodávka | I6: Dodávka celk. | J6: Montáž | K6: Montáž celk. | L6: DPH | M6: Cena s DPH | N6: Hmotnost / MJ | O6: Hmotnost celk.(t) | P6: Dem. hmotnost / MJ | Q6: Dem. hmotnost celk.(t) | R6: Ceník | S6: Cen. soustava / platnost | T6: Cenová úroveň | U6: Nhod / MJ | V6: Nhod celk. | W6: Dodavatel | X6: Typ položky
A8: Díl: | B8: 3 | C8: Svislé a kompletní konstrukce | G8: =SUMIF(AG9:AG11,"<>NOR",G9:G11) -> 0 | I8: =SUM(I9:I11) -> 0 | K8: =SUM(K9:K11) -> 0 | M8: =SUM(M9:M11) -> 0 | O8: =SUM(O9:O11) -> 0.26 | Q8: =SUM(Q9:Q11) -> 0 | V8: =SUM(V9:V11) -> 1.16 | AG8: DIL
A9: 1 | B9: 310236241R00 | C9: Zazdívka otvorů o ploše přes 0,0225 m2 do 0,09 m2 ve zdivu nadzákladovém cihlami pálenými o tloušťce zdi do 300 mm | D9: kus | E9: 5 | G9: =ROUND(E9*F9,2) -> 0 | I9: =ROUND(E9*H9,2) -> 0 | K9: =ROUND(E9*J9,2) -> 0 | L9: 21 | M9: =G9*(1+L9/100) -> 0 | N9: 0.0515 | O9: =ROUND(E9*N9,2) -> 0.26 | P9: 0 | Q9: =ROUND(E9*P9,2) -> 0 | R9: 801-4 | S9: RTS 20/ I | T9: RTS 20/ I | U9: 0.231 | V9: =ROUND(E9*U9,2) -> 1.16 | X9: Práce | AG9: POL1_
C10: včetně pomocného pracovního lešení | AG10: SPI
AG11: SPU
A12: Díl: | B12: 4 | C12: Vodorovné konstrukce | G12: =SUMIF(AG13:AG15,"<>NOR",G13:G15) -> 0 | I12: =SUM(I13:I15) -> 0 | K12: =SUM(K13:K15) -> 0 | M12: =SUM(M13:M15) -> 0 | O12: =SUM(O13:O15) -> 0.05 | Q12: =SUM(Q13:Q15) -> 0 | V12: =SUM(V13:V15) -> 0.43 | AG12: DIL
A13: 2 | B13: 411388531R00 | C13: Zabetonování otvorů do 1 m2 ve stropech železobetonových, tvárnicových a prefabrikátových | D13: m3 | E13: 0.02 | G13: =ROUND(E13*F13,2) -> 0 | I13: =ROUND(E13*H13,2) -> 0 | K13: =ROUND(E13*J13,2) -> 0 | L13: 21 | M13: =G13*(1+L13/100) -> 0 | N13: 2.69752 | O13: =ROUND(E13*N13,2) -> 0.05 | P13: 0 | Q13: =ROUND(E13*P13,2) -> 0 | R13: 801-4 | S13: RTS 20/ I | T13: RTS 20/ I | U13: 21.586 | V13: =ROUND(E13*U13,2) -> 0.43 | X13: Práce | AG13: POL1_
C14: včetně bednění, odbednění a výztuže (s dodáním hmot), z pomocného pracovního lešení o výšce podlahy do 1900 mm a pro zatížení do 1,5 kPa, | AG14: SPI | BA14: =C14 -> včetně bednění, odbednění a výztuže (s dodáním hmot), z pomocného pracovního lešení o výšce podlahy do 1900 mm a pro zatížení do 1,5 kPa,
AG15: SPU
A16: Díl: | B16: 96 | C16: Bourání konstrukcí | G16: =SUMIF(AG17:AG22,"<>NOR",G17:G22) -> 0 | I16: =SUM(I17:I22) -> 0 | K16: =SUM(K17:K22) -> 0 | M16: =SUM(M17:M22) -> 0 | O16: =SUM(O17:O22) -> 0 | Q16: =SUM(Q17:Q22) -> 0.13 | V16: =SUM(V17:V22) -> 1.35 | AG16: DIL
A17: 3 | B17: 971033331R00 | C17: Vybourání otvorů ve zdivu cihelném z jakýchkoliv cihel pálených_x000D_ na jakoukoliv maltu vápenou nebo vápenocementovou, plochy do 0,09 m2, tloušťky do 150 mm | D17: kus | E17: 5 | G17: =ROUND(E17*F17,2) -> 0 | I17: =ROUND(E17*H17,2) -> 0 | K17: =ROUND(E17*J17,2) -> 0 | L17: 21 | M17: =G17*(1+L17/100) -> 0 | N17: 0.00034 | O17: =ROUND(E17*N17,2) -> 0 | P17: 0.025 | Q17: =ROUND(E17*P17,2) -> 0.13 | R17: 801-3 | S17: RTS 20/ I | T17: RTS 20/ I | U17: 0.21 | V17: =ROUND(E17*U17,2) -> 1.05 | X17: Práce | AG17: POL1_
C18: základovém nebo nadzákladovém, | AG18: SPI
AG19: SPU
A20: 4 | B20: 972012211R00 | C20: Vybourání otvorů z lehkých betonů v prefabrikovaných stropech tloušťky přes 120 mm, plochy do 0,09 m2 | D20: kus | E20: 1 | G20: =ROUND(E20*F20,2) -> 0 | I20: =ROUND(E20*H20,2) -> 0 | K20: =ROUND(E20*J20,2) -> 0 | L20: 21 | M20: =G20*(1+L20/100) -> 0 | N20: 0.00133 | O20: =ROUND(E20*N20,2) -> 0 | P20: 0.002 | Q20: =ROUND(E20*P20,2) -> 0 | R20: 801-3 | S20: RTS 20/ I | T20: RTS 20/ I | U20: 0.301 | V20: =ROUND(E20*U20,2) -> 0.3 | X20: Práce | AG20: POL1_
C21: včetně pomocného lešení o výšce podlahy do 1900 mm a pro zatížení do 1,5 kPa (150 kg/m2), | AG21: SPI
AG22: SPU
A23: Díl: | B23: 99 | C23: Staveništní přesun hmot | G23: =SUMIF(AG24:AG26,"<>NOR",G24:G26) -> 0 | I23: =SUM(I24:I26) -> 0 | K23: =SUM(K24:K26) -> 0 | M23: =SUM(M24:M26) -> 0 | O23: =SUM(O24:O26) -> 0 | Q23: =SUM(Q24:Q26) -> 0 | V23: =SUM(V24:V26) -> 0.81 | AG23: DIL
A24: 5 | B24: 999281111R00 | C24: Přesun hmot pro opravy a údržbu objektů pro opravy a údržbu dosavadních objektů včetně vnějších plášťů_x000D_ výšky do 25 m, | D24: t | E24: 0.31448 | G24: =ROUND(E24*F24,2) -> 0 | I24: =ROUND(E24*H24,2) -> 0 | K24: =ROUND(E24*J24,2) -> 0 | L24: 21 | M24: =G24*(1+L24/100) -> 0 | N24: 0 | O24: =ROUND(E24*N24,2) -> 0 | P24: 0 | Q24: =ROUND(E24*P24,2) -> 0 | R24: 801-4 | S24: RTS 20/ I | T24: RTS 20/ I | U24: 2.577 | V24: =ROUND(E24*U24,2) -> 0.81 | X24: Přesun hmot | AG24: POL7_
C25: oborů 801, 803, 811 a 812 | AG25: SPI
AG26: SPU
A27: Díl: | B27: 721 | C27: Vnitřní kanalizace | G27: =SUMIF(AG28:AG38,"<>NOR",G28:G38) -> 0 | I27: =SUM(I28:I38) -> 0 | K27: =SUM(K28:K38) -> 0 | M27: =SUM(M28:M38) -> 0 | O27: =SUM(O28:O38) -> 0 | Q27: =SUM(Q28:Q38) -> 0 | V27: =SUM(V28:V38) -> 22.31 | AG27: DIL
A28: 6 | B28: 721176103R00 | C28: Potrubí HT připojovací vnější průměr D 50 mm, tloušťka stěny 1,8 mm, DN 50 | D28: m | E28: 4 | G28: =ROUND(E28*F28,2) -> 0 | I28: =ROUND(E28*H28,2) -> 0 | K28: =ROUND(E28*J28,2) -> 0 | L28: 21 | M28: =G28*(1+L28/100) -> 0 | N28: 0.00047 | O28: =ROUND(E28*N28,2) -> 0 | P28: 0 | Q28: =ROUND(E28*P28,2) -> 0 | R28: 800-721 | S28: RTS 20/ I | T28: RTS 20/ I | U28: 0.359 | V28: =ROUND(E28*U28,2) -> 1.44 | X28: Práce | AG28: POL1_
C29: včetně tvarovek, objímek. Bez zednických výpomocí. | AG29: SPI
AG30: SPU
A31: 7 | B31: 721176134R00 | C31: Potrubí svodné (ležaté) zavěšené vnější průměr D 75 mm, tloušťka stěny 1,9 mm, DN 70 | D31: m | E31: 6 | G31: =ROUND(E31*F31,2) -> 0 | I31: =ROUND(E31*H31,2) -> 0 | K31: =ROUND(E31*J31,2) -> 0 | L31: 21 | M31: =G31*(1+L31/100) -> 0 | N31: 0.00074 | O31: =ROUND(E31*N31,2) -> 0 | P31: 0 | Q31: =ROUND(E31*P31,2) -> 0 | R31: 800-721 | S31: RTS 20/ I | T31: RTS 20/ I | U31: 0.6682 | V31: =ROUND(E31*U31,2) -> 4.01 | X31: Práce | AG31: POL1_
C32: včetně tvarovek, objímek. Bez zednických výpomocí. | AG32: SPI
AG33: SPU
A34: 8 | B34: 721194106R00 | C34: Zřízení přípojek na potrubí D 63 mm, materiál ve specifikaci | D34: kus | E34: 2 | G34: =ROUND(E34*F34,2) -> 0 | I34: =ROUND(E34*H34,2) -> 0 | K34: =ROUND(E34*J34,2) -> 0 | L34: 21 | M34: =G34*(1+L34/100) -> 0 | N34: 0 | O34: =ROUND(E34*N34,2) -> 0 | P34: 0 | Q34: =ROUND(E34*P34,2) -> 0 | R34: 800-721 | S34: RTS 20/ I | T34: RTS 20/ I | U34: 0.205 | V34: =ROUND(E34*U34,2) -> 0.41 | X34: Práce | AG34: POL1_
C35: vyvedení a upevnění odpadních výpustek, | AG35: SPI
AG36: SPU
A37: 9 | B37: 210020911R00 | C37: Montáž požární ucpávky průchodu stropem, , tloušťky 20 cm | D37: m2 | E37: 1 | G37: =ROUND(E37*F37,2) -> 0 | I37: =ROUND(E37*H37,2) -> 0 | K37: =ROUND(E37*J37,2) -> 0 | L37: 21 | M37: =G37*(1+L37/100) -> 0 | N37: 0 | O37: =ROUND(E37*N37,2) -> 0 | P37: 0 | Q37: =ROUND(E37*P37,2) -> 0 | R37: M21 | S37: RTS 20/ I | T37: RTS 20/ I | U37: 16.45 | V37: =ROUND(E37*U37,2) -> 16.45 | X37: Práce | AG37: POL1_
AG38: SPU
A39: Díl: | B39: 722 | C39: Vnitřní vodovod | G39: =SUMIF(AG40:AG46,"<>NOR",G40:G46) -> 0 | I39: =SUM(I40:I46) -> 0 | K39: =SUM(K40:K46) -> 0 | M39: =SUM(M40:M46) -> 0 | O39: =SUM(O40:O46) -> 0.05 | Q39: =SUM(Q40:Q46) -> 0 | V39: =SUM(V40:V46) -> 7.97 | AG39: DIL
A40: 10 | B40: 722172313R00 | C40: Potrubí z plastických hmot polypropylenové potrubí PP-R, D 32 mm, s 4,4 mm, PN 16, polyfúzně svařované, včetně zednických výpomocí | D40: m | E40: 10 | G40: =ROUND(E40*F40,2) -> 0 | I40: =ROUND(E40*H40,2) -> 0 | K40: =ROUND(E40*J40,2) -> 0 | L40: 21 | M40: =G40*(1+L40/100) -> 0 | N40: 0.00535 | O40: =ROUND(E40*N40,2) -> 0.05 | P40: 0 | Q40: =ROUND(E40*P40,2) -> 0 | R40: 800-721 | S40: RTS 20/ I | T40: RTS 20/ I | U40: 0.6828 | V40: =ROUND(E40*U40,2) -> 6.83 | X40: Práce | AG40: POL1_
C41: včetně tvarovek, bez zednických výpomocí | AG41: SPI
AG42: SPU
...
