Workbook
Name CelkemDPHVypocet: Stavba!$H$42
Name CenaCelkem: Stavba!$G$29
Name CenaCelkemBezDPH: Stavba!$G$28
Name CenaCelkemVypocet: Stavba!$I$42
Name cisloobjektu: Stavba!$D$3
Name CisloRozpoctu: '[1]Krycí list'!$C$2
Name CisloStavby: Stavba!$D$2
Name cislostavby: '[1]Krycí list'!$A$7
Name CisloStavebnihoRozpoctu: Stavba!$D$4
Name dadresa: Stavba!$D$12:$G$12
Name DIČ: Stavba!$I$12
Name dmisto: Stavba!$E$13:$G$13
Name DPHSni: Stavba!$G$24
Name DPHZakl: Stavba!$G$26
Name dpsc: Stavba!$D$13
Name IČO: Stavba!$I$11
Name Mena: Stavba!$J$29
Name MistoStavby: Stavba!$D$4
Name nazevobjektu: Stavba!$E$3
Name NazevRozpoctu: '[1]Krycí list'!$D$2
Name NazevStavby: Stavba!$E$2
Name nazevstavby: '[1]Krycí list'!$C$7
Name NazevStavebnihoRozpoctu: Stavba!$E$4
Name oadresa: Stavba!$D$6
Name Objednatel: Stavba!$D$5
Name Objekt: Stavba!$B$38
Name odic: Stavba!$I$6
Name oico: Stavba!$I$5
Name omisto: Stavba!$E$7
Name onazev: Stavba!$D$6
Name opsc: Stavba!$D$7
Name padresa: Stavba!$D$9
Name pdic: Stavba!$I$9
Name pico: Stavba!$I$8
Name pmisto: Stavba!$E$10
Name PocetMJ: #REF!
Name PoptavkaID: Stavba!$A$1
Name pPSC: Stavba!$D$10
Name Projektant: Stavba!$D$8
Name SazbaDPH1: Stavba!$E$23
Name SazbaDPH1: '[1]Krycí list'!$C$30
Name SazbaDPH2: Stavba!$E$25
Name SazbaDPH2: '[1]Krycí list'!$C$32
Name SloupecCC: #REF!
Name SloupecCisloPol: #REF!
Name SloupecJC: #REF!
Name SloupecMJ: #REF!
Name SloupecMnozstvi: #REF!
Name SloupecNazPol: #REF!
Name SloupecPC: #REF!
Name Vypracoval: Stavba!$D$14
Name ZakladDPHSni: Stavba!$G$23
Name ZakladDPHSniVypocet: Stavba!$F$42
Name ZakladDPHZakl: Stavba!$G$25
Name ZakladDPHZaklVypocet: Stavba!$G$42
Name ZaObjednatele: Stavba!$G$34
Name Zaokrouhleni: Stavba!$G$27
Name ZaZhotovitele: Stavba!$D$34
Name Zhotovitel: Stavba!$D$11:$G$11

Sheet Pokyny pro vyplnění
A1: Pokyny pro vyplnění
A2: Ve všech listech tohoto souboru můžete měnit pouze buňky s modrým pozadím. Jedná se o tyto údaje : - údaje o firmě - jednotkové ceny položek zadané na maximálně dvě desetinná místa

Sheet Stavba
A1: #RTSROZP# | B1: Položkový rozpočet stavby
B2: Stavba: | D2: 507/2020/02 | E2: Kounicova 67a výměna žaluzií
B3: Objekt: | D3: 507/2020/02 | E3: Kounicova 67a výměna žaluzií
A4: 3973 | B4: Rozpočet: | D4: 507/2020/02 | E4: Kounicova 67a výměna žaluzií
B5: Objednatel: | H5: IČO:
H6: DIČ:
B8: Projektant: | H8: IČO:
H9: DIČ:
B11: Zhotovitel: | H11: IČO:
H12: DIČ:
B14: Vypracoval: | D14: Marečková
B15: Rozpis ceny | I15: Celkem
A16: HSV | B16: HSV | I16: =SUMIF(F49:F49,A16,I49:I49)+SUMIF(F49:F49,"PSU",I49:I49) -> 0
A17: PSV | B17: PSV | I17: =SUMIF(F49:F49,A17,I49:I49) -> 0
A18: MON | B18: MON | I18: =SUMIF(F49:F49,A18,I49:I49) -> 0
A19: VN | B19: Vedlejší náklady | I19: =SUMIF(F49:F49,A19,I49:I49) -> 0
A20: ON | B20: Ostatní náklady | I20: =SUMIF(F49:F49,A20,I49:I49) -> 0
B21: Celkem | I21: =SUM(I16:J20) -> 0
B22: Rekapitulace daní
A23: =ZakladDPHSni*SazbaDPH1/100 -> 0 | B23: Základ pro sníženou DPH | E23: 15 | F23: % | G23: =ZakladDPHSniVypocet -> 0 | J23: =Mena -> CZK
A24: =(A23-INT(A23))*100 -> 0 | B24: Snížená DPH | E24: =SazbaDPH1 -> 15 | F24: % | G24: =A23 -> 0 | J24: =Mena -> CZK
A25: =ZakladDPHZakl*SazbaDPH2/100 -> 0 | B25: Základ pro základní DPH | E25: 21 | F25: % | G25: =ZakladDPHZaklVypocet -> 0 | J25: =Mena -> CZK
A26: =(A25-INT(A25))*100 -> 0 | B26: Základní DPH | E26: =SazbaDPH2 -> 21 | F26: % | G26: =A25 -> 0 | J26: =Mena -> CZK
A27: =ZakladDPHSni+DPHSni+ZakladDPHZakl+DPHZakl -> 0 | B27: Zaokrouhlení | G27: =CenaCelkem-(ZakladDPHSni+DPHSni+ZakladDPHZakl+DPHZakl) -> 0 | J27: =Mena -> CZK
B28: Cena celkem bez DPH | G28: =ZakladDPHSniVypocet+ZakladDPHZaklVypocet -> 0 | J28: =Mena -> CZK
A29: =(A27-INT(A27))*100 -> 0 | B29: Cena celkem s DPH | G29: =A27 -> 0 | J29: CZK
C32: v | F32: dne
D34: sdfsdf | G34: OSM MMB
D35: Za zhotovitele | H35: Za objednatele
B37: Rekapitulace dílčích částí
A38: #CASTI>> | B38: Číslo | C38: Název | F38: =B23 -> Základ pro sníženou DPH | G38: =B25 -> Základ pro základní DPH | H38: DPH celkem | I38: Cena celkem | J38: %
A39: 1 | B39: Stavba | F39: ='507_2020_02 507_2020_02 Pol'!AE21 -> 0 | G39: ='507_2020_02 507_2020_02 Pol'!AF21 -> 0 | H39: =(F39*SazbaDPH1/100)+(G39*SazbaDPH2/100) -> 0 | I39: =F39+G39+H39 -> 0 | J39: =IF(CenaCelkemVypocet=0,"",I39/CenaCelkemVypocet*100)
A40: 2 | B40: 507/2020/02 | C40: Kounicova 67a výměna žaluzií | F40: ='507_2020_02 507_2020_02 Pol'!AE21 -> 0 | G40: ='507_2020_02 507_2020_02 Pol'!AF21 -> 0 | H40: =(F40*SazbaDPH1/100)+(G40*SazbaDPH2/100) -> 0 | I40: =F40+G40+H40 -> 0 | J40: =IF(CenaCelkemVypocet=0,"",I40/CenaCelkemVypocet*100)
A41: 3 | B41: 507/2020/02 | C41: Kounicova 67a výměna žaluzií | F41: ='507_2020_02 507_2020_02 Pol'!AE21 -> 0 | G41: ='507_2020_02 507_2020_02 Pol'!AF21 -> 0 | H41: =(F41*SazbaDPH1/100)+(G41*SazbaDPH2/100) -> 0 | I41: =F41+G41+H41 -> 0 | J41: =IF(CenaCelkemVypocet=0,"",I41/CenaCelkemVypocet*100)
B42: Celkem za stavbu | F42: =SUMIF(A39:A41,"=1",F39:F41) -> 0 | G42: =SUMIF(A39:A41,"=1",G39:G41) -> 0 | H42: =SUMIF(A39:A41,"=1",H39:H41) -> 0 | I42: =SUMIF(A39:A41,"=1",I39:I41) -> 0 | J42: =SUMIF(A39:A41,"=1",J39:J41) -> 0
B46: Rekapitulace dílů
B48: Číslo | C48: Název | F48: Typ dílu | I48: Celkem | J48: %
B49: 786 | C49: Zastiňující technika | F49: PSV | I49: ='507_2020_02 507_2020_02 Pol'!G8 -> 0 | J49: =IF(I50=0,"",I49/I50*100)
B50: Cena celkem | I50: =I49 -> 0 | J50: =J49

Sheet VzorPolozky
A1: Položkový rozpočet
A2: S:
A3: O:
A4: R:

Sheet 507_2020_02 507_2020_02 Pol
A1: Položkový rozpočet | AG1: #TypZaznamu#
A2: S: | B2: 507/2020/02 | C2: Kounicova 67a výměna žaluzií | AG2: STA
A3: O: | B3: 507/2020/02 | C3: Kounicova 67a výměna žaluzií | AC3: STA | AG3: OBJ
A4: R: | B4: 507/2020/02 | C4: Kounicova 67a výměna žaluzií | AG4: ROZ
A6: P.č. | B6: Číslo položky | C6: Název položky | D6: MJ | E6: Množství | F6: Cena / MJ | G6: Celkem | H6: Dodávka | I6: Dodávka celk. | J6: Montáž | K6: Montáž celk. | L6: DPH | M6: Cena s DPH | N6: Hmotnost / MJ | O6: Hmotnost celk.(t) | P6: Dem. hmotnost / MJ | Q6: Dem. hmotnost celk.(t) | R6: Ceník | S6: Cen. soustava / platnost | T6: Cenová úroveň | U6: Nhod / MJ | V6: Nhod celk. | W6: Dodavatel | X6: Typ položky
A8: Díl: | B8: 786 | C8: Zastiňující technika | G8: =SUMIF(AG9:AG19,"<>NOR",G9:G19) -> 0 | I8: =SUM(I9:I19) -> 0 | K8: =SUM(K9:K19) -> 0 | M8: =SUM(M9:M19) -> 0 | O8: =SUM(O9:O19) -> 0.41 | Q8: =SUM(Q9:Q19) -> 1.76 | V8: =SUM(V9:V19) -> 320.28 | AG8: DIL
A9: 1 | B9: 786611811R00 | C9: Dmtž předokenních žaluzií s viditelným boxem | D9: kus | E9: 110 | G9: =ROUND(E9*F9,2) -> 0 | I9: =ROUND(E9*H9,2) -> 0 | K9: =ROUND(E9*J9,2) -> 0 | L9: 21 | M9: =G9*(1+L9/100) -> 0 | N9: 0 | O9: =ROUND(E9*N9,2) -> 0 | P9: 0.016 | Q9: =ROUND(E9*P9,2) -> 1.76 | S9: RTS 20/ I | T9: RTS 20/ I | U9: 0.63 | V9: =ROUND(E9*U9,2) -> 69.3 | X9: Práce | AG9: POL1_
C10: 96 | E10: 96 | AG10: VV | AH10: 0
C11: 14 | E11: 14 | AG11: VV | AH11: 0
A12: 2 | B12: 786621211R00 | C12: Žaluzie lamelová 25 oken zdvoj. kyv. ,ventil. dřevěných, včetně montáže a příslušenství | D12: m2 | E12: 210.24 | G12: =ROUND(E12*F12,2) -> 0 | I12: =ROUND(E12*H12,2) -> 0 | K12: =ROUND(E12*J12,2) -> 0 | L12: 21 | M12: =G12*(1+L12/100) -> 0 | N12: 0.00196 | O12: =ROUND(E12*N12,2) -> 0.41 | P12: 0 | Q12: =ROUND(E12*P12,2) -> 0 | S12: RTS 20/ I | T12: RTS 20/ I | U12: 1.17 | V12: =ROUND(E12*U12,2) -> 245.98 | X12: Práce | AG12: POL1_
C13: (1,1*0,5+1,1*1,3)*96 | E13: 190.08 | AG13: VV | AH13: 0
C14: (0,8*0,5+0,8*1,3)*14 | E14: 20.16 | AG14: VV | AH14: 0
A15: 3 | B15: 901 R00 | C15: Hzs-předběžná obhlídka přesné zaměření | D15: h | E15: 5 | G15: =ROUND(E15*F15,2) -> 0 | I15: =ROUND(E15*H15,2) -> 0 | K15: =ROUND(E15*J15,2) -> 0 | L15: 21 | M15: =G15*(1+L15/100) -> 0 | N15: 0 | O15: =ROUND(E15*N15,2) -> 0 | P15: 0 | Q15: =ROUND(E15*P15,2) -> 0 | R15: Prav.M | S15: RTS 20/ I | T15: RTS 20/ I | U15: 1 | V15: =ROUND(E15*U15,2) -> 5 | X15: HZS | AG15: POL10_
C16: přesné zaměření : 5 | E16: 5 | AG16: VV | AH16: 0
A17: 4 | B17: 998786202R00 | C17: Přesun hmot pro zastiň. techniku, výšky do 12 m | D17: % | G17: =ROUND(E17*F17,2) -> 0 | I17: =ROUND(E17*H17,2) -> 0 | K17: =ROUND(E17*J17,2) -> 0 | L17: 21 | M17: =G17*(1+L17/100) -> 0 | N17: 0 | O17: =ROUND(E17*N17,2) -> 0 | P17: 0 | Q17: =ROUND(E17*P17,2) -> 0 | S17: RTS 20/ I | T17: RTS 20/ I | U17: 0 | V17: =ROUND(E17*U17,2) -> 0 | X17: Přesun hmot | AG17: POL7_
A18: 5 | B18: 998786294R00 | C18: Příplatek zvětš. přesun, zastiň.technika, do 1 km | D18: % | G18: =ROUND(E18*F18,2) -> 0 | I18: =ROUND(E18*H18,2) -> 0 | K18: =ROUND(E18*J18,2) -> 0 | L18: 21 | M18: =G18*(1+L18/100) -> 0 | N18: 0 | O18: =ROUND(E18*N18,2) -> 0 | P18: 0 | Q18: =ROUND(E18*P18,2) -> 0 | S18: RTS 20/ I | T18: RTS 20/ I | U18: 0 | V18: =ROUND(E18*U18,2) -> 0 | X18: Přesun hmot | AG18: POL7_
A19: 6 | B19: 998786299R00 | C19: Příplatek zvětš. přesun,zastiň.technika, další 1km | D19: % | G19: =ROUND(E19*F19,2) -> 0 | I19: =ROUND(E19*H19,2) -> 0 | K19: =ROUND(E19*J19,2) -> 0 | L19: 21 | M19: =G19*(1+L19/100) -> 0 | N19: 0 | O19: =ROUND(E19*N19,2) -> 0 | P19: 0 | Q19: =ROUND(E19*P19,2) -> 0 | S19: RTS 20/ I | T19: RTS 20/ I | U19: 0 | V19: =ROUND(E19*U19,2) -> 0 | X19: Přesun hmot | AG19: POL7_
AE20: 15 | AF20: 21 | AG20: DPH
B21: Celkem | G21: =G8 -> 0 | AE21: =SUMIF(L7:L19,AE20,G7:G19) -> 0 | AF21: =SUMIF(L7:L19,AF20,G7:G19) -> 0 | AG21: SUM
A24: Poznámky uchazeče k zadání
AG25: POPUZIV
AG31: END
