Workbook
Name CelkemDPHVypocet: Stavba!$H$43
Name CenaCelkem: Stavba!$G$29
Name CenaCelkemBezDPH: Stavba!$G$28
Name CenaCelkemVypocet: Stavba!$I$43
Name cisloobjektu: Stavba!$D$3
Name CisloRozpoctu: '[1]Krycí list'!$C$2
Name CisloStavby: Stavba!$D$2
Name cislostavby: '[1]Krycí list'!$A$7
Name CisloStavebnihoRozpoctu: Stavba!$D$4
Name dadresa: Stavba!$D$12:$G$12
Name DIČ: Stavba!$I$12
Name dmisto: Stavba!$E$13:$G$13
Name DPHSni: Stavba!$G$24
Name DPHZakl: Stavba!$G$26
Name dpsc: Stavba!$D$13
Name IČO: Stavba!$I$11
Name Mena: Stavba!$J$29
Name MistoStavby: Stavba!$D$4
Name nazevobjektu: Stavba!$E$3
Name NazevRozpoctu: '[1]Krycí list'!$D$2
Name NazevStavby: Stavba!$E$2
Name nazevstavby: '[1]Krycí list'!$C$7
Name NazevStavebnihoRozpoctu: Stavba!$E$4
Name oadresa: Stavba!$D$6
Name Objednatel: Stavba!$D$5
Name Objekt: Stavba!$B$38
Name odic: Stavba!$I$6
Name oico: Stavba!$I$5
Name omisto: Stavba!$E$7
Name onazev: Stavba!$D$6
Name opsc: Stavba!$D$7
Name padresa: Stavba!$D$9
Name pdic: Stavba!$I$9
Name pico: Stavba!$I$8
Name pmisto: Stavba!$E$10
Name PocetMJ: #REF!
Name PoptavkaID: Stavba!$A$1
Name pPSC: Stavba!$D$10
Name Projektant: Stavba!$D$8
Name SazbaDPH1: Stavba!$E$23
Name SazbaDPH1: '[1]Krycí list'!$C$30
Name SazbaDPH2: Stavba!$E$25
Name SazbaDPH2: '[1]Krycí list'!$C$32
Name SloupecCC: #REF!
Name SloupecCisloPol: #REF!
Name SloupecJC: #REF!
Name SloupecMJ: #REF!
Name SloupecMnozstvi: #REF!
Name SloupecNazPol: #REF!
Name SloupecPC: #REF!
Name Vypracoval: Stavba!$D$14
Name ZakladDPHSni: Stavba!$G$23
Name ZakladDPHSniVypocet: Stavba!$F$43
Name ZakladDPHZakl: Stavba!$G$25
Name ZakladDPHZaklVypocet: Stavba!$G$43
Name ZaObjednatele: Stavba!$G$34
Name Zaokrouhleni: Stavba!$G$27
Name ZaZhotovitele: Stavba!$D$34
Name Zhotovitel: Stavba!$D$11:$G$11

Sheet Pokyny pro vyplnění
A1: Pokyny pro vyplnění
A2: Ve všech listech tohoto souboru můžete měnit pouze buňky s modrým pozadím. Jedná se o tyto údaje : - údaje o firmě - jednotkové ceny položek zadané na maximálně dvě desetinná místa

Sheet Stavba
A1: #RTSROZP# | B1: Soupis stavebních prací, dodávek a služeb
B2: Stavba: | D2: 507/2020/05 | E2: Kounicova 67 stavební opravy místnost č. 113
B3: Objekt: | D3: 507/2020/05 | E3: Kounicova 67 stavební opravy místnost č. 113
A4: 4119 | B4: Rozpočet: | D4: 507/2020/05 | E4: Kounicova 67 stavební opravy místnost č. 113
B5: Zadavatel | H5: IČO:
H6: DIČ:
B8: Projektant: | H8: IČO:
H9: DIČ:
B11: Zhotovitel: | H11: IČO:
H12: DIČ:
B14: Vypracoval: | D14: Marečková
B15: Rozpis ceny | I15: Celkem
A16: HSV | B16: HSV | I16: =SUMIF(F50:F57,A16,I50:I57)+SUMIF(F50:F57,"PSU",I50:I57) -> 0
A17: PSV | B17: PSV | I17: =SUMIF(F50:F57,A17,I50:I57) -> 0
A18: MON | B18: MON | I18: =SUMIF(F50:F57,A18,I50:I57) -> 0
A19: VN | B19: Vedlejší náklady | I19: =SUMIF(F50:F57,A19,I50:I57) -> 0
A20: ON | B20: Ostatní náklady | I20: =SUMIF(F50:F57,A20,I50:I57) -> 0
B21: Celkem | I21: =SUM(I16:J20) -> 0
B22: Rekapitulace daní
A23: =ZakladDPHSni*SazbaDPH1/100 -> 0 | B23: Základ pro sníženou DPH | E23: 15 | F23: % | G23: =ZakladDPHSniVypocet -> 0 | J23: =Mena -> CZK
A24: =(A23-INT(A23))*100 -> 0 | B24: Snížená DPH | E24: =SazbaDPH1 -> 15 | F24: % | G24: =A23 -> 0 | J24: =Mena -> CZK
A25: =ZakladDPHZakl*SazbaDPH2/100 -> 0 | B25: Základ pro základní DPH | E25: 21 | F25: % | G25: =ZakladDPHZaklVypocet -> 0 | J25: =Mena -> CZK
A26: =(A25-INT(A25))*100 -> 0 | B26: Základní DPH | E26: =SazbaDPH2 -> 21 | F26: % | G26: =A25 -> 0 | J26: =Mena -> CZK
A27: =ZakladDPHSni+DPHSni+ZakladDPHZakl+DPHZakl -> 0 | B27: Zaokrouhlení | G27: =CenaCelkem-(ZakladDPHSni+DPHSni+ZakladDPHZakl+DPHZakl) -> 0 | J27: =Mena -> CZK
B28: Cena celkem bez DPH | G28: =ZakladDPHSniVypocet+ZakladDPHZaklVypocet -> 0 | J28: =Mena -> CZK
A29: =(A27-INT(A27))*100 -> 0 | B29: Cena celkem s DPH | G29: =A27 -> 0 | J29: CZK
C32: v | F32: dne
D34: sdfsdf | G34: OSM MMB
D35: Za zhotovitele | H35: Za objednatele
B37: Rekapitulace dílčích částí
A38: #CASTI>> | B38: Číslo | C38: Název | F38: =B23 -> Základ pro sníženou DPH | G38: =B25 -> Základ pro základní DPH | H38: DPH celkem | I38: Cena celkem | J38: %
A39: 1 | B39: Stavba | F39: ='507_2020_05 507_2020_05 Pol'!AE90 -> 0 | G39: ='507_2020_05 507_2020_05 Pol'!AF90 -> 0 | H39: =(F39*SazbaDPH1/100)+(G39*SazbaDPH2/100) -> 0 | I39: =F39+G39+H39 -> 0 | J39: =IF(CenaCelkemVypocet=0,"",I39/CenaCelkemVypocet*100)
A40: 2 | C40: Stavební objekt | H40: =(F40*SazbaDPH1/100)+(G40*SazbaDPH2/100) -> 0 | I40: =F40+G40+H40 -> 0 | J40: =IF(CenaCelkemVypocet=0,"",I40/CenaCelkemVypocet*100)
A41: 2 | B41: 507/2020/05 | C41: Kounicova 67 stavební opravy místnost č. 113 | F41: ='507_2020_05 507_2020_05 Pol'!AE90 -> 0 | G41: ='507_2020_05 507_2020_05 Pol'!AF90 -> 0 | H41: =(F41*SazbaDPH1/100)+(G41*SazbaDPH2/100) -> 0 | I41: =F41+G41+H41 -> 0 | J41: =IF(CenaCelkemVypocet=0,"",I41/CenaCelkemVypocet*100)
A42: 3 | B42: 507/2020/05 | C42: Kounicova 67 stavební opravy místnost č. 113 | F42: ='507_2020_05 507_2020_05 Pol'!AE90 -> 0 | G42: ='507_2020_05 507_2020_05 Pol'!AF90 -> 0 | H42: =(F42*SazbaDPH1/100)+(G42*SazbaDPH2/100) -> 0 | I42: =F42+G42+H42 -> 0 | J42: =IF(CenaCelkemVypocet=0,"",I42/CenaCelkemVypocet*100)
B43: Celkem za stavbu | F43: =SUMIF(A39:A42,"=1",F39:F42) -> 0 | G43: =SUMIF(A39:A42,"=1",G39:G42) -> 0 | H43: =SUMIF(A39:A42,"=1",H39:H42) -> 0 | I43: =SUMIF(A39:A42,"=1",I39:I42) -> 0 | J43: =SUMIF(A39:A42,"=1",J39:J42) -> 0
B47: Rekapitulace dílů
B49: Číslo | C49: Název | F49: Typ dílu | I49: Celkem | J49: %
B50: 3 | C50: Svislé a kompletní konstrukce | F50: HSV | I50: ='507_2020_05 507_2020_05 Pol'!G8 -> 0 | J50: =IF(I58=0,"",I50/I58*100)
B51: 61 | C51: Úpravy povrchů vnitřní | F51: HSV | I51: ='507_2020_05 507_2020_05 Pol'!G15 -> 0 | J51: =IF(I58=0,"",I51/I58*100)
B52: 64 | C52: Výplně otvorů | F52: HSV | I52: ='507_2020_05 507_2020_05 Pol'!G20 -> 0 | J52: =IF(I58=0,"",I52/I58*100)
B53: 766 | C53: Konstrukce truhlářské | F53: PSV | I53: ='507_2020_05 507_2020_05 Pol'!G29 -> 0 | J53: =IF(I58=0,"",I53/I58*100)
B54: 767 | C54: Konstrukce zámečnické | F54: PSV | I54: ='507_2020_05 507_2020_05 Pol'!G38 -> 0 | J54: =IF(I58=0,"",I54/I58*100)
B55: 783 | C55: Nátěry | F55: PSV | I55: ='507_2020_05 507_2020_05 Pol'!G43 -> 0 | J55: =IF(I58=0,"",I55/I58*100)
B56: 784 | C56: Malby | F56: PSV | I56: ='507_2020_05 507_2020_05 Pol'!G49 -> 0 | J56: =IF(I58=0,"",I56/I58*100)
B57: M21 | C57: Elektromontáže | F57: MON | I57: ='507_2020_05 507_2020_05 Pol'!G75 -> 0 | J57: =IF(I58=0,"",I57/I58*100)
B58: Cena celkem | I58: =SUM(I50:I57) -> 0 | J58: =SUM(J50:J57) -> 0

Sheet VzorPolozky
A1: Položkový rozpočet
A2: S:
A3: O:
A4: R:

Sheet 507_2020_05 507_2020_05 Pol
A1: Položkový soupis prací a dodávek | AG1: #TypZaznamu#
A2: S: | B2: 507/2020/05 | C2: Kounicova 67 stavební opravy místnost č. 113 | AG2: STA
A3: O: | B3: 507/2020/05 | C3: Kounicova 67 stavební opravy místnost č. 113 | AC3: STA | AG3: OBJ
A4: R: | B4: 507/2020/05 | C4: Kounicova 67 stavební opravy místnost č. 113 | AG4: ROZ
A6: P.č. | B6: Číslo položky | C6: Název položky | D6: MJ | E6: Množství | F6: Cena / MJ | G6: Celkem | H6: Dodávka | I6: Dodávka celk. | J6: Montáž | K6: Montáž celk. | L6: DPH | M6: Cena s DPH | N6: Hmotnost / MJ | O6: Hmotnost celk.(t) | P6: Dem. hmotnost / MJ | Q6: Dem. hmotnost celk.(t) | R6: Ceník | S6: Cen. soustava / platnost | T6: Cenová úroveň | U6: Nhod / MJ | V6: Nhod celk. | W6: Dodavatel | X6: Typ položky
A8: Díl: | B8: 3 | C8: Svislé a kompletní konstrukce | G8: =SUMIF(AG9:AG14,"<>NOR",G9:G14) -> 0 | I8: =SUM(I9:I14) -> 0 | K8: =SUM(K9:K14) -> 0 | M8: =SUM(M9:M14) -> 0 | O8: =SUM(O9:O14) -> 3.19 | Q8: =SUM(Q9:Q14) -> 0 | V8: =SUM(V9:V14) -> 106.56 | AG8: DIL
A9: 1 | B9: 342016121R00 | C9: Příčky z desek sádrokartonových dvojité opláštění, dvojitá konstrukce CW 50 tloušťka příčky 155 mm, desky standard, tloušťky 12,5 mm, tloušťka izolace 50 mm, požární odolnost EI 60 | D9: m2 | E9: 62.55 | G9: =ROUND(E9*F9,2) -> 0 | I9: =ROUND(E9*H9,2) -> 0 | K9: =ROUND(E9*J9,2) -> 0 | L9: 21 | M9: =G9*(1+L9/100) -> 0 | N9: 0.05035 | O9: =ROUND(E9*N9,2) -> 3.15 | P9: 0 | Q9: =ROUND(E9*P9,2) -> 0 | R9: 801-1 | S9: RTS 20/ I | T9: Indiv | U9: 1.67 | V9: =ROUND(E9*U9,2) -> 104.46 | X9: Práce | AG9: POL1_
C10: zřízení nosné konstrukce příčky, vložení tepelné izolace tl. do 5 cm, montáž desek, tmelení spár Q2 a úprava rohů. Včetně dodávek materiálu. | AG10: SPI | BA10: =C10 -> zřízení nosné konstrukce příčky, vložení tepelné izolace tl. do 5 cm, montáž desek, tmelení spár Q2 a úprava rohů. Včetně dodávek materiálu.
C11: 9,25*3+9,1*3+2,5*3 | E11: 62.55 | AG11: VV | AH11: 0
AG12: SPU
A13: 2 | B13: 342090211R00 | C13: Úprava nosné konstrukce a opláštění SDK příčky pro zřízení otvoru pro dveře jednokřídlé, při hmotnosti jednoho křídla od 25 kg do 50 kg, v SDK příčce z UA profilů š. 50 mm, 1 x opláštěné | D13: kus | E13: 3 | G13: =ROUND(E13*F13,2) -> 0 | I13: =ROUND(E13*H13,2) -> 0 | K13: =ROUND(E13*J13,2) -> 0 | L13: 21 | M13: =G13*(1+L13/100) -> 0 | N13: 0.0137 | O13: =ROUND(E13*N13,2) -> 0.04 | P13: 0 | Q13: =ROUND(E13*P13,2) -> 0 | R13: 801-1 | S13: RTS 20/ I | T13: RTS 20/ I | U13: 0.7 | V13: =ROUND(E13*U13,2) -> 2.1 | X13: Práce | AG13: POL1_
AG14: SPU
A15: Díl: | B15: 61 | C15: Úpravy povrchů vnitřní | G15: =SUMIF(AG16:AG19,"<>NOR",G16:G19) -> 0 | I15: =SUM(I16:I19) -> 0 | K15: =SUM(K16:K19) -> 0 | M15: =SUM(M16:M19) -> 0 | O15: =SUM(O16:O19) -> 0.23 | Q15: =SUM(Q16:Q19) -> 0 | V15: =SUM(V16:V19) -> 36.28 | AG15: DIL
A16: 3 | B16: 612445302R00 | C16: Omítky a stěrky sádrové ze suchých směsí stěrka sádrová, tloušťky 2 mm | D16: m2 | E16: 125.1 | G16: =ROUND(E16*F16,2) -> 0 | I16: =ROUND(E16*H16,2) -> 0 | K16: =ROUND(E16*J16,2) -> 0 | L16: 21 | M16: =G16*(1+L16/100) -> 0 | N16: 0.00183 | O16: =ROUND(E16*N16,2) -> 0.23 | P16: 0 | Q16: =ROUND(E16*P16,2) -> 0 | R16: 801-1 | S16: RTS 20/ I | T16: RTS 20/ I | U16: 0.29 | V16: =ROUND(E16*U16,2) -> 36.28 | X16: Práce | AG16: POL1_
C17: s penetrací podkladu | AG17: SPI
C18: 9,25*3*2+9,1*3*2+2,5*3*2 | E18: 125.1 | AG18: VV | AH18: 0
AG19: SPU
A20: Díl: | B20: 64 | C20: Výplně otvorů | G20: =SUMIF(AG21:AG28,"<>NOR",G21:G28) -> 0 | I20: =SUM(I21:I28) -> 0 | K20: =SUM(K21:K28) -> 0 | M20: =SUM(M21:M28) -> 0 | O20: =SUM(O21:O28) -> 0.15 | Q20: =SUM(Q21:Q28) -> 0 | V20: =SUM(V21:V28) -> 8.73 | AG20: DIL
A21: 4 | B21: 642942111RU4 | C21: Osazení zárubní dveřních ocelových bez dveřních křídel, do zdiva včetně kotvení, na jakoukoliv cementovou maltu, s vybetonováním prahu v zárubni a s osazením špalíků nebo latí pro dřevěný práh_x000D_ včetně dodávky zárubní_x000D_ 80 x 197 x 16 cm | D21: kus | E21: 3 | G21: =ROUND(E21*F21,2) -> 0 | I21: =ROUND(E21*H21,2) -> 0 | K21: =ROUND(E21*J21,2) -> 0 | L21: 21 | M21: =G21*(1+L21/100) -> 0 | N21: 0.03207 | O21: =ROUND(E21*N21,2) -> 0.1 | P21: 0 | Q21: =ROUND(E21*P21,2) -> 0 | R21: 801-1 | S21: RTS 20/ I | T21: RTS 20/ I | U21: 1.86 | V21: =ROUND(E21*U21,2) -> 5.58 | X21: Práce | AG21: POL1_
AG22: SPU
A23: 5 | B23: 642942214R00 | C23: Osazení zárubní dveřních ocelových do sádrokartonové příčky_x000D_ tloušťky 150 mm šířky 700 mm, bez dodávky zárubně | D23: kus | E23: 3 | G23: =ROUND(E23*F23,2) -> 0 | I23: =ROUND(E23*H23,2) -> 0 | K23: =ROUND(E23*J23,2) -> 0 | L23: 21 | M23: =G23*(1+L23/100) -> 0 | N23: 0 | O23: =ROUND(E23*N23,2) -> 0 | P23: 0 | Q23: =ROUND(E23*P23,2) -> 0 | R23: 801-1 | S23: RTS 20/ I | T23: RTS 20/ I | U23: 1.05 | V23: =ROUND(E23*U23,2) -> 3.15 | X23: Práce | AG23: POL1_
AG24: SPU
A25: 6 | B25: 55330475R | C25: zárubeň kovová pro sádrokarton; š profilu 150 mm; š průchodu 800 mm; h průchodu 1 970 mm; L; závěsy pevné | D25: kus | E25: 2 | G25: =ROUND(E25*F25,2) -> 0 | I25: =ROUND(E25*H25,2) -> 0 | K25: =ROUND(E25*J25,2) -> 0 | L25: 21 | M25: =G25*(1+L25/100) -> 0 | N25: 0.01607 | O25: =ROUND(E25*N25,2) -> 0.03 | P25: 0 | Q25: =ROUND(E25*P25,2) -> 0 | R25: SPCM | S25: RTS 20/ I | T25: RTS 20/ I | U25: 0 | V25: =ROUND(E25*U25,2) -> 0 | X25: Specifikace | AG25: POL3_
AG26: SPU
A27: 7 | B27: 55330476R | C27: zárubeň kovová pro sádrokarton; š profilu 150 mm; š průchodu 800 mm; h průchodu 1 970 mm; P; závěsy pevné | D27: kus | E27: 1 | G27: =ROUND(E27*F27,2) -> 0 | I27: =ROUND(E27*H27,2) -> 0 | K27: =ROUND(E27*J27,2) -> 0 | L27: 21 | M27: =G27*(1+L27/100) -> 0 | N27: 0.01607 | O27: =ROUND(E27*N27,2) -> 0.02 | P27: 0 | Q27: =ROUND(E27*P27,2) -> 0 | R27: SPCM | S27: RTS 20/ I | T27: RTS 20/ I | U27: 0 | V27: =ROUND(E27*U27,2) -> 0 | X27: Specifikace | AG27: POL3_
AG28: SPU
A29: Díl: | B29: 766 | C29: Konstrukce truhlářské | G29: =SUMIF(AG30:AG37,"<>NOR",G30:G37) -> 0 | I29: =SUM(I30:I37) -> 0 | K29: =SUM(K30:K37) -> 0 | M29: =SUM(M30:M37) -> 0 | O29: =SUM(O30:O37) -> 0.05 | Q29: =SUM(Q30:Q37) -> 0 | V29: =SUM(V30:V37) -> 5.19 | AG29: DIL
A30: 8 | B30: 766661112R00 | C30: Montáž dveřních křídel kompletizovaných otevíravých , , do ocelové nebo fošnové zárubně, jednokřídlových, šířky do 800 mm | D30: kus | E30: 3 | G30: =ROUND(E30*F30,2) -> 0 | I30: =ROUND(E30*H30,2) -> 0 | K30: =ROUND(E30*J30,2) -> 0 | L30: 21 | M30: =G30*(1+L30/100) -> 0 | N30: 0 | O30: =ROUND(E30*N30,2) -> 0 | P30: 0 | Q30: =ROUND(E30*P30,2) -> 0 | R30: 800-766 | S30: RTS 20/ I | T30: RTS 20/ I | U30: 1.45 | V30: =ROUND(E30*U30,2) -> 4.35 | X30: Práce | AG30: POL1_
AG31: SPU
A32: 9 | B32: 766695213R00 | C32: Ostatní montáž prahů dveří_x000D_ jednokřídlých, šířky přes 100 mm | D32: kus | E32: 3 | G32: =ROUND(E32*F32,2) -> 0 | I32: =ROUND(E32*H32,2) -> 0 | K32: =ROUND(E32*J32,2) -> 0 | L32: 21 | M32: =G32*(1+L32/100) -> 0 | N32: 1e-05 | O32: =ROUND(E32*N32,2) -> 0 | P32: 0 | Q32: =ROUND(E32*P32,2) -> 0 | R32: 800-766 | S32: RTS 20/ I | T32: RTS 20/ I | U32: 0.28 | V32: =ROUND(E32*U32,2) -> 0.84 | X32: Práce | AG32: POL1_
AG33: SPU
A34: 10 | B34: 61160103R | C34: dveře vnitřní š = 800 mm; h = 1 970,0 mm; hladké; otevíravé; počet křídel 1; plné; povrch. úprava bílá barva | D34: kus | E34: 3 | G34: =ROUND(E34*F34,2) -> 0 | I34: =ROUND(E34*H34,2) -> 0 | K34: =ROUND(E34*J34,2) -> 0 | L34: 21 | M34: =G34*(1+L34/100) -> 0 | N34: 0.016 | O34: =ROUND(E34*N34,2) -> 0.05 | P34: 0 | Q34: =ROUND(E34*P34,2) -> 0 | R34: SPCM | S34: RTS 20/ I | T34: RTS 20/ I | U34: 0 | V34: =ROUND(E34*U34,2) -> 0 | X34: Specifikace | AG34: POL3_
AG35: SPU
A36: 11 | B36: 61187161R | C36: práh dub; š = 150 mm; l = 800,0 mm; tl = 20,0 mm | D36: kus | E36: 3 | G36: =ROUND(E36*F36,2) -> 0 | I36: =ROUND(E36*H36,2) -> 0 | K36: =ROUND(E36*J36,2) -> 0 | L36: 21 | M36: =G36*(1+L36/100) -> 0 | N36: 0.00161 | O36: =ROUND(E36*N36,2) -> 0 | P36: 0 | Q36: =ROUND(E36*P36,2) -> 0 | R36: SPCM | S36: RTS 20/ I | T36: RTS 20/ I | U36: 0 | V36: =ROUND(E36*U36,2) -> 0 | X36: Specifikace | AG36: POL3_
AG37: SPU
A38: Díl: | B38: 767 | C38: Konstrukce zámečnické | G38: =SUMIF(AG39:AG42,"<>NOR",G39:G42) -> 0 | I38: =SUM(I39:I42) -> 0 | K38: =SUM(K39:K42) -> 0 | M38: =SUM(M39:M42) -> 0 | O38: =SUM(O39:O42) -> 1.25 | Q38: =SUM(Q39:Q42) -> 0 | V38: =SUM(V39:V42) -> 27.5 | AG38: DIL
A39: 12 | B39: 767995104R00 | C39: Výroba a montáž atypických kovovových doplňků staveb hmotnosti přes 20 do 50 kg | D39: kg | E39: 25 | G39: =ROUND(E39*F39,2) -> 0 | I39: =ROUND(E39*H39,2) -> 0 | K39: =ROUND(E39*J39,2) -> 0 | L39: 21 | M39: =G39*(1+L39/100) -> 0 | N39: 5e-05 | O39: =ROUND(E39*N39,2) -> 0 | P39: 0 | Q39: =ROUND(E39*P39,2) -> 0 | R39: 800-767 | S39: RTS 20/ I | T39: RTS 20/ I | U39: 0.1 | V39: =ROUND(E39*U39,2) -> 2.5 | X39: Práce | AG39: POL1_
AG40: SPU
A41: 13 | B41: 767995109 | C41: Konstrukce pro upevnění SDK příčky ke stropu | D41: kg | E41: 25 | G41: =ROUND(E41*F41,2) -> 0 | I41: =ROUND(E41*H41,2) -> 0 | K41: =ROUND(E41*J41,2) -> 0 | L41: 21 | M41: =G41*(1+L41/100) -> 0 | N41: 0.05 | O41: =ROUND(E41*N41,2) -> 1.25 | P41: 0 | Q41: =ROUND(E41*P41,2) -> 0 | S41: Vlastní | T41: Indiv | U41: 1 | V41: =ROUND(E41*U41,2) -> 25 | X41: Práce | AG41: POL1_
AG42: SPU
A43: Díl: | B43: 783 | C43: Nátěry | G43: =SUMIF(AG44:AG48,"<>NOR",G44:G48) -> 0 | I43: =SUM(I44:I48) -> 0 | K43: =SUM(K44:K48) -> 0 | M43: =SUM(M44:M48) -> 0 | O43: =SUM(O44:O48) -> 0 | Q43: =SUM(Q44:Q48) -> 0 | V43: =SUM(V44:V48) -> 1.34 | AG43: DIL
A44: 14 | B44: 783225600R00 | C44: Nátěry kov.stavebních doplňk.konstrukcí syntetické 2x email, | D44: m2 | E44: 2.88 | G44: =ROUND(E44*F44,2) -> 0 | I44: =ROUND(E44*H44,2) -> 0 | K44: =ROUND(E44*J44,2) -> 0 | L44: 21 | M44: =G44*(1+L44/100) -> 0 | N44: 0.00028 | O44: =ROUND(E44*N44,2) -> 0 | P44: 0 | Q44: =ROUND(E44*P44,2) -> 0 | R44: 800-783 | S44: RTS 20/ I | T44: RTS 20/ I | U44: 0.31 | V44: =ROUND(E44*U44,2) -> 0.89 | X44: Práce | AG44: POL1_
AG45: SPU
A46: 15 | B46: 783226100R00 | C46: Nátěry kov.stavebních doplňk.konstrukcí syntetické základní, | D46: m2 | E46: 2.88 | G46: =ROUND(E46*F46,2) -> 0 | I46: =ROUND(E46*H46,2) -> 0 | K46: =ROUND(E46*J46,2) -> 0 | L46: 21 | M46: =G46*(1+L46/100) -> 0 | N46: 8e-05 | O46: =ROUND(E46*N46,2) -> 0 | P46: 0 | Q46: =ROUND(E46*P46,2) -> 0 | R46: 800-783 | S46: RTS 20/ I | T46: RTS 20/ I | U46: 0.156 | V46: =ROUND(E46*U46,2) -> 0.45 | X46: Práce | AG46: POL1_
C47: zárubně : (2*2+0,8)*3*0,2 | E47: 2.88 | AG47: VV | AH47: 0
AG48: SPU
A49: Díl: | B49: 784 | C49: Malby | G49: =SUMIF(AG50:AG74,"<>NOR",G50:G74) -> 0 | I49: =SUM(I50:I74) -> 0 | K49: =SUM(K50:K74) -> 0 | M49: =SUM(M50:M74) -> 0 | O49: =SUM(O50:O74) -> 0.12 | Q49: =SUM(Q50:Q74) -> 0 | V49: =SUM(V50:V74) -> 111.77 | AG49: DIL
A50: 16 | B50: 784402801R00 | C50: Odstranění maleb oškrabáním, v místnostech do 3,8 m | D50: m2 | E50: 379.1875 | G50: =ROUND(E50*F50,2) -> 0 | I50: =ROUND(E50*H50,2) -> 0 | K50: =ROUND(E50*J50,2) -> 0 | L50: 21 | M50: =G50*(1+L50/100) -> 0 | N50: 0 | O50: =ROUND(E50*N50,2) -> 0 | P50: 0 | Q50: =ROUND(E50*P50,2) -> 0 | R50: 800-784 | S50: RTS 20/ I | T50: RTS 20/ I | U50: 0.07 | V50: =ROUND(E50*U50,2) -> 26.54 | X50: Práce | AG50: POL1_
C51: původní stěny a stropy : | AG51: VV | AH51: 0
C52: 113 : (9,05+11,75)*2*3 +(9,05*11,75) | E52: 231.1375 | AG52: VV | AH52: 0
C53: 120a : (15+6,15)*2*3+(15+6,15) | E53: 148.05 | AG53: VV | AH53: 0
AG54: SPU
A55: 17 | B55: 784191201R00 | C55: Příprava povrchu Penetrace (napouštění) podkladu disperzní, jednonásobná | D55: m2 | E55: 519.5875 | G55: =ROUND(E55*F55,2) -> 0 | I55: =ROUND(E55*H55,2) -> 0 | K55: =ROUND(E55*J55,2) -> 0 | L55: 21 | M55: =G55*(1+L55/100) -> 0 | N55: 7e-05 | O55: =ROUND(E55*N55,2) -> 0.04 | P55: 0 | Q55: =ROUND(E55*P55,2) -> 0 | R55: 800-784 | S55: RTS 20/ I | T55: RTS 20/ I | U55: 0.03 | V55: =ROUND(E55*U55,2) -> 15.59 | X55: Práce | AG55: POL1_
C56: stropy : | AG56: VV | AH56: 0
C57: 113 : 9,05*11,75 | E57: 106.3375 | AG57: VV | AH57: 0
C58: 120a : 15*6,15 | E58: 92.25 | AG58: VV | AH58: 0
C59: stěny : | AG59: VV | AH59: 0
C60: 113 : (4,6+9,25)*2*3 | E60: 83.1 | AG60: VV | AH60: 0
C61: (4,45+9,25)*2*3 | E61: 82.2 | AG61: VV | AH61: 0
C62: (2,3+2,5)*2*3 | E62: 28.8 | AG62: VV | AH62: 0
C63: 120a : | AG63: VV | AH63: 0
C64: (15+6,15)*2*3 | E64: 126.9 | AG64: VV | AH64: 0
AG65: SPU
A66: 18 | B66: 784195112R00 | C66: Malby z malířských směsí hlinkových, , bělost 77 %, dvojnásobné | D66: m2 | E66: 519.5875 | G66: =ROUND(E66*F66,2) -> 0 | I66: =ROUND(E66*H66,2) -> 0 | K66: =ROUND(E66*J66,2) -> 0 | L66: 21 | M66: =G66*(1+L66/100) -> 0 | N66: 0.00014 | O66: =ROUND(E66*N66,2) -> 0.07 | P66: 0 | Q66: =ROUND(E66*P66,2) -> 0 | R66: 800-784 | S66: RTS 20/ I | T66: RTS 20/ I | U66: 0.10191 | V66: =ROUND(E66*U66,2) -> 52.95 | X66: Práce | AG66: POL1_
C67: viz položka č. 15 : 519,5875 | E67: 519.5875 | AG67: VV | AH67: 0
AG68: SPU
A69: 19 | B69: 784497941R00 | C69: Ostatní práce rozmývání podkladu, v místnostech do 3,8 m | D69: m2 | E69: 379.1875 | G69: =ROUND(E69*F69,2) -> 0 | I69: =ROUND(E69*H69,2) -> 0 | K69: =ROUND(E69*J69,2) -> 0 | L69: 21 | M69: =G69*(1+L69/100) -> 0 | N69: 0 | O69: =ROUND(E69*N69,2) -> 0 | P69: 0 | Q69: =ROUND(E69*P69,2) -> 0 | R69: 800-784 | S69: RTS 20/ I | T69: RTS 20/ I | U69: 0.03 | V69: =ROUND(E69*U69,2) -> 11.38 | X69: Práce | AG69: POL1_
C70: viz položka 14 : 379,1875 | E70: 379.1875 | AG70: VV | AH70: 0
AG71: SPU
A72: 20 | B72: 784498911R00 | C72: Ostatní práce vyhlazení malířskou masou jednonásobné, v místnostech výšky nebo na schodišti o výšce podlaží do 3,8 m | D72: m2 | E72: 37.91875 | G72: =ROUND(E72*F72,2) -> 0 | I72: =ROUND(E72*H72,2) -> 0 | K72: =ROUND(E72*J72,2) -> 0 | L72: 21 | M72: =G72*(1+L72/100) -> 0 | N72: 0.00034 | O72: =ROUND(E72*N72,2) -> 0.01 | P72: 0 | Q72: =ROUND(E72*P72,2) -> 0 | R72: 800-784 | S72: RTS 20/ I | T72: RTS 20/ I | U72: 0.14 | V72: =ROUND(E72*U72,2) -> 5.31 | X72: Práce | AG72: POL1_
C73: 10% z plochy původní malby : 379,1875*0,10 | E73: 37.91875 | AG73: VV | AH73: 0
AG74: SPU
A75: Díl: | B75: M21 | C75: Elektromontáže | G75: =SUMIF(AG76:AG88,"<>NOR",G76:G88) -> 0 | I75: =SUM(I76:I88) -> 0 | K75: =SUM(K76:K88) -> 0 | M75: =SUM(M76:M88) -> 0 | O75: =SUM(O76:O88) -> 0.03 | Q75: =SUM(Q76:Q88) -> 0 | V75: =SUM(V76:V88) -> 16.56 | AG75: DIL
A76: 21 | B76: 210100065R00 | C76: Ukončení vodičů v krabici včetně zapojení , , průřez do 25 mm2 | D76: kus | E76: 6 | G76: =ROUND(E76*F76,2) -> 0 | I76: =ROUND(E76*H76,2) -> 0 | K76: =ROUND(E76*J76,2) -> 0 | L76: 21 | M76: =G76*(1+L76/100) -> 0 | N76: 0 | O76: =ROUND(E76*N76,2) -> 0 | P76: 0 | Q76: =ROUND(E76*P76,2) -> 0 | R76: M21 | S76: RTS 20/ I | T76: RTS 20/ I | U76: 0.18 | V76: =ROUND(E76*U76,2) -> 1.08 | X76: Práce | AG76: POL1_
AG77: SPU
A78: 22 | B78: 210110001RT2 | C78: Montáž spínače nástěnného pro prostředí obyčejné nebo vlhké včetně zapojení a dodávky spínače, jednopólového, , řazení 1 | D78: kus | E78: 5 | G78: =ROUND(E78*F78,2) -> 0 | I78: =ROUND(E78*H78,2) -> 0 | K78: =ROUND(E78*J78,2) -> 0 | L78: 21 | M78: =G78*(1+L78/100) -> 0 | N78: 4e-05 | O78: =ROUND(E78*N78,2) -> 0 | P78: 0 | Q78: =ROUND(E78*P78,2) -> 0 | R78: M21 | S78: RTS 20/ I | T78: RTS 20/ I | U78: 0.30567 | V78: =ROUND(E78*U78,2) -> 1.53 | X78: Práce | AG78: POL1_
AG79: SPU
A80: 23 | B80: 210201523R00 | C80: Montáž svítidla LED do technických prostor, stropního závěsného, na dva upevňovací body | D80: kus | E80: 15 | G80: =ROUND(E80*F80,2) -> 0 | I80: =ROUND(E80*H80,2) -> 0 | K80: =ROUND(E80*J80,2) -> 0 | L80: 21 | M80: =G80*(1+L80/100) -> 0 | N80: 0 | O80: =ROUND(E80*N80,2) -> 0 | P80: 0 | Q80: =ROUND(E80*P80,2) -> 0 | R80: M21 | S80: RTS 20/ I | T80: RTS 20/ I | U80: 0.66 | V80: =ROUND(E80*U80,2) -> 9.9 | X80: Práce | AG80: POL1_
C81: s vestavěným LED modulem | AG81: SPI
AG82: SPU
A83: 24 | B83: 650801113R00 | C83: Demontáž svítidla stropního přisazeného | D83: kus | E83: 15 | G83: =ROUND(E83*F83,2) -> 0 | I83: =ROUND(E83*H83,2) -> 0 | K83: =ROUND(E83*J83,2) -> 0 | L83: 21 | M83: =G83*(1+L83/100) -> 0 | N83: 0 | O83: =ROUND(E83*N83,2) -> 0 | P83: 0 | Q83: =ROUND(E83*P83,2) -> 0 | S83: RTS 20/ I | T83: RTS 20/ I | U83: 0.27 | V83: =ROUND(E83*U83,2) -> 4.05 | X83: Práce | AG83: POL1_
AG84: SPU
A85: 25 | B85: 348360171R | C85: LED svítidlo hliníkové průmyslové, prachotěsné, vodotěsné; IP 66; 10 W; typ modulu 1 x 1300 lm, spektrum 840; max.teplota okolí 35 °C; min.teplota okolí -25 °C; použití: pro průmyslové vnitřní i venkovní zastřešené prostory, sklady, garáže, dílny; mat.tělesa hliníkový plech, nárazuvzdorný, chemicky odolný; difuzor (světelně činný kryt) tepelně tvrzené bezpečnostní sklo; upevnění pomocí vrutů přímo na strop nebo stěnu, zavěšením na strop pomocí lankových závěsů; délka 624 mm; šířka 105 mm; výška 75 mm | D85: kus | E85: 15 | G85: =ROUND(E85*F85,2) -> 0 | I85: =ROUND(E85*H85,2) -> 0 | K85: =ROUND(E85*J85,2) -> 0 | L85: 21 | M85: =G85*(1+L85/100) -> 0 | N85: 0.0022 | O85: =ROUND(E85*N85,2) -> 0.03 | P85: 0 | Q85: =ROUND(E85*P85,2) -> 0 | R85: SPCM | S85: RTS 20/ I | T85: RTS 20/ I | U85: 0 | V85: =ROUND(E85*U85,2) -> 0 | X85: Specifikace | AG85: POL3_
C86: 113 : 7 | E86: 7 | AG86: VV | AH86: 0
C87: 120a : 8 | E87: 8 | AG87: VV | AH87: 0
AG88: SPU
AE89: 15 | AF89: 21 | AG89: DPH
B90: Celkem | G90: =G8+G15+G20+G29+G38+G43+G49+G75 -> 0 | AE90: =SUMIF(L7:L88,AE89,G7:G88) -> 0 | AF90: =SUMIF(L7:L88,AF89,G7:G88) -> 0 | AG90: SUM
AG91: END
