Workbook
Name CelkemDPHVypocet: Stavba!$H$43
Name CenaCelkem: Stavba!$G$29
Name CenaCelkemBezDPH: Stavba!$G$28
Name CenaCelkemVypocet: Stavba!$I$43
Name cisloobjektu: Stavba!$D$3
Name CisloRozpoctu: '[1]Krycí list'!$C$2
Name CisloStavby: Stavba!$D$2
Name cislostavby: '[1]Krycí list'!$A$7
Name CisloStavebnihoRozpoctu: Stavba!$D$4
Name dadresa: Stavba!$D$12:$G$12
Name DIČ: Stavba!$I$12
Name dmisto: Stavba!$E$13:$G$13
Name DPHSni: Stavba!$G$24
Name DPHZakl: Stavba!$G$26
Name dpsc: Stavba!$D$13
Name IČO: Stavba!$I$11
Name Mena: Stavba!$J$29
Name MistoStavby: Stavba!$D$4
Name nazevobjektu: Stavba!$E$3
Name NazevRozpoctu: '[1]Krycí list'!$D$2
Name NazevStavby: Stavba!$E$2
Name nazevstavby: '[1]Krycí list'!$C$7
Name NazevStavebnihoRozpoctu: Stavba!$E$4
Name oadresa: Stavba!$D$6
Name Objednatel: Stavba!$D$5
Name Objekt: Stavba!$B$38
Name odic: Stavba!$I$6
Name oico: Stavba!$I$5
Name omisto: Stavba!$E$7
Name onazev: Stavba!$D$6
Name opsc: Stavba!$D$7
Name padresa: Stavba!$D$9
Name pdic: Stavba!$I$9
Name pico: Stavba!$I$8
Name pmisto: Stavba!$E$10
Name PocetMJ: #REF!
Name PoptavkaID: Stavba!$A$1
Name pPSC: Stavba!$D$10
Name Projektant: Stavba!$D$8
Name SazbaDPH1: Stavba!$E$23
Name SazbaDPH1: '[1]Krycí list'!$C$30
Name SazbaDPH2: Stavba!$E$25
Name SazbaDPH2: '[1]Krycí list'!$C$32
Name SloupecCC: #REF!
Name SloupecCisloPol: #REF!
Name SloupecJC: #REF!
Name SloupecMJ: #REF!
Name SloupecMnozstvi: #REF!
Name SloupecNazPol: #REF!
Name SloupecPC: #REF!
Name Vypracoval: Stavba!$D$14
Name ZakladDPHSni: Stavba!$G$23
Name ZakladDPHSniVypocet: Stavba!$F$43
Name ZakladDPHZakl: Stavba!$G$25
Name ZakladDPHZaklVypocet: Stavba!$G$43
Name ZaObjednatele: Stavba!$G$34
Name Zaokrouhleni: Stavba!$G$27
Name ZaZhotovitele: Stavba!$D$34
Name Zhotovitel: Stavba!$D$11:$G$11

Sheet Pokyny pro vyplnění
A1: Pokyny pro vyplnění
A2: Ve všech listech tohoto souboru můžete měnit pouze buňky s modrým pozadím. Jedná se o tyto údaje : - údaje o firmě - jednotkové ceny položek zadané na maximálně dvě desetinná místa

Sheet Stavba
A1: #RTSROZP# | B1: Soupis stavebních prací, dodávek a služeb
B2: Stavba: | D2: 507/2020/05 | E2: Kounicova 67 stavební opravy místnost č. 113
B3: Objekt: | D3: 507/2020/05 | E3: Kounicova 67 stavební opravy místnost č. 113
A4: 4119 | B4: Rozpočet: | D4: 507/2020/05 | E4: Kounicova 67 stavební opravy místnost č. 113
B5: Zadavatel | H5: IČO:
H6: DIČ:
B8: Projektant: | H8: IČO:
H9: DIČ:
B11: Zhotovitel: | H11: IČO:
H12: DIČ:
B14: Vypracoval: | D14: Marečková
B15: Rozpis ceny | I15: Celkem
A16: HSV | B16: HSV | I16: =SUMIF(F50:F57,A16,I50:I57)+SUMIF(F50:F57,"PSU",I50:I57) -> 0
A17: PSV | B17: PSV | I17: =SUMIF(F50:F57,A17,I50:I57) -> 0
A18: MON | B18: MON | I18: =SUMIF(F50:F57,A18,I50:I57) -> 0
A19: VN | B19: Vedlejší náklady | I19: =SUMIF(F50:F57,A19,I50:I57) -> 0
A20: ON | B20: Ostatní náklady | I20: =SUMIF(F50:F57,A20,I50:I57) -> 0
B21: Celkem | I21: =SUM(I16:J20) -> 0
B22: Rekapitulace daní
A23: =ZakladDPHSni*SazbaDPH1/100 -> 0 | B23: Základ pro sníženou DPH | E23: 15 | F23: % | G23: =ZakladDPHSniVypocet -> 0 | J23: =Mena -> CZK
A24: =(A23-INT(A23))*100 -> 0 | B24: Snížená DPH | E24: =SazbaDPH1 -> 15 | F24: % | G24: =A23 -> 0 | J24: =Mena -> CZK
A25: =ZakladDPHZakl*SazbaDPH2/100 -> 0 | B25: Základ pro základní DPH | E25: 21 | F25: % | G25: =ZakladDPHZaklVypocet -> 0 | J25: =Mena -> CZK
A26: =(A25-INT(A25))*100 -> 0 | B26: Základní DPH | E26: =SazbaDPH2 -> 21 | F26: % | G26: =A25 -> 0 | J26: =Mena -> CZK
A27: =ZakladDPHSni+DPHSni+ZakladDPHZakl+DPHZakl -> 0 | B27: Zaokrouhlení | G27: =CenaCelkem-(ZakladDPHSni+DPHSni+ZakladDPHZakl+DPHZakl) -> 0 | J27: =Mena -> CZK
B28: Cena celkem bez DPH | G28: =ZakladDPHSniVypocet+ZakladDPHZaklVypocet -> 0 | J28: =Mena -> CZK
A29: =(A27-INT(A27))*100 -> 0 | B29: Cena celkem s DPH | G29: =A27 -> 0 | J29: CZK
C32: v | F32: dne
D34: sdfsdf | G34: OSM MMB
D35: Za zhotovitele | H35: Za objednatele
B37: Rekapitulace dílčích částí
A38: #CASTI>> | B38: Číslo | C38: Název | F38: =B23 -> Základ pro sníženou DPH | G38: =B25 -> Základ pro základní DPH | H38: DPH celkem | I38: Cena celkem | J38: %
A39: 1 | B39: Stavba | F39: ='507_2020_05 507_2020_05 Pol'!AE90 -> 0 | G39: ='507_2020_05 507_2020_05 Pol'!AF90 -> 0 | H39: =(F39*SazbaDPH1/100)+(G39*SazbaDPH2/100) -> 0 | I39: =F39+G39+H39 -> 0 | J39: =IF(CenaCelkemVypocet=0,"",I39/CenaCelkemVypocet*100)
A40: 2 | C40: Stavební objekt | H40: =(F40*SazbaDPH1/100)+(G40*SazbaDPH2/100) -> 0 | I40: =F40+G40+H40 -> 0 | J40: =IF(CenaCelkemVypocet=0,"",I40/CenaCelkemVypocet*100)
A41: 2 | B41: 507/2020/05 | C41: Kounicova 67 stavební opravy místnost č. 113 | F41: ='507_2020_05 507_2020_05 Pol'!AE90 -> 0 | G41: ='507_2020_05 507_2020_05 Pol'!AF90 -> 0 | H41: =(F41*SazbaDPH1/100)+(G41*SazbaDPH2/100) -> 0 | I41: =F41+G41+H41 -> 0 | J41: =IF(CenaCelkemVypocet=0,"",I41/CenaCelkemVypocet*100)
A42: 3 | B42: 507/2020/05 | C42: Kounicova 67 stavební opravy místnost č. 113 | F42: ='507_2020_05 507_2020_05 Pol'!AE90 -> 0 | G42: ='507_2020_05 507_2020_05 Pol'!AF90 -> 0 | H42: =(F42*SazbaDPH1/100)+(G42*SazbaDPH2/100) -> 0 | I42: =F42+G42+H42 -> 0 | J42: =IF(CenaCelkemVypocet=0,"",I42/CenaCelkemVypocet*100)
B43: Celkem za stavbu | F43: =SUMIF(A39:A42,"=1",F39:F42) -> 0 | G43: =SUMIF(A39:A42,"=1",G39:G42) -> 0 | H43: =SUMIF(A39:A42,"=1",H39:H42) -> 0 | I43: =SUMIF(A39:A42,"=1",I39:I42) -> 0 | J43: =SUMIF(A39:A42,"=1",J39:J42) -> 0
B47: Rekapitulace dílů
B49: Číslo | C49: Název | F49: Typ dílu | I49: Celkem | J49: %
B50: 3 | C50: Svislé a kompletní konstrukce | F50: HSV | I50: ='507_2020_05 507_2020_05 Pol'!G8 -> 0 | J50: =IF(I58=0,"",I50/I58*100)
B51: 61 | C51: Úpravy povrchů vnitřní | F51: HSV | I51: ='507_2020_05 507_2020_05 Pol'!G15 -> 0 | J51: =IF(I58=0,"",I51/I58*100)
...

Sheet VzorPolozky
A1: Položkový rozpočet
A2: S:
A3: O:
A4: R:

Sheet 507_2020_05 507_2020_05 Pol
A1: Položkový soupis prací a dodávek | AG1: #TypZaznamu#
A2: S: | B2: 507/2020/05 | C2: Kounicova 67 stavební opravy místnost č. 113 | AG2: STA
A3: O: | B3: 507/2020/05 | C3: Kounicova 67 stavební opravy místnost č. 113 | AC3: STA | AG3: OBJ
A4: R: | B4: 507/2020/05 | C4: Kounicova 67 stavební opravy místnost č. 113 | AG4: ROZ
A6: P.č. | B6: Číslo položky | C6: Název položky | D6: MJ | E6: Množství | F6: Cena / MJ | G6: Celkem | H6: Dodávka | I6: Dodávka celk. | J6: Montáž | K6: Montáž celk. | L6: DPH | M6: Cena s DPH | N6: Hmotnost / MJ | O6: Hmotnost celk.(t) | P6: Dem. hmotnost / MJ | Q6: Dem. hmotnost celk.(t) | R6: Ceník | S6: Cen. soustava / platnost | T6: Cenová úroveň | U6: Nhod / MJ | V6: Nhod celk. | W6: Dodavatel | X6: Typ položky
A8: Díl: | B8: 3 | C8: Svislé a kompletní konstrukce | G8: =SUMIF(AG9:AG14,"<>NOR",G9:G14) -> 0 | I8: =SUM(I9:I14) -> 0 | K8: =SUM(K9:K14) -> 0 | M8: =SUM(M9:M14) -> 0 | O8: =SUM(O9:O14) -> 3.19 | Q8: =SUM(Q9:Q14) -> 0 | V8: =SUM(V9:V14) -> 106.56 | AG8: DIL
A9: 1 | B9: 342016121R00 | C9: Příčky z desek sádrokartonových dvojité opláštění, dvojitá konstrukce CW 50 tloušťka příčky 155 mm, desky standard, tloušťky 12,5 mm, tloušťka izolace 50 mm, požární odolnost EI 60 | D9: m2 | E9: 62.55 | G9: =ROUND(E9*F9,2) -> 0 | I9: =ROUND(E9*H9,2) -> 0 | K9: =ROUND(E9*J9,2) -> 0 | L9: 21 | M9: =G9*(1+L9/100) -> 0 | N9: 0.05035 | O9: =ROUND(E9*N9,2) -> 3.15 | P9: 0 | Q9: =ROUND(E9*P9,2) -> 0 | R9: 801-1 | S9: RTS 20/ I | T9: Indiv | U9: 1.67 | V9: =ROUND(E9*U9,2) -> 104.46 | X9: Práce | AG9: POL1_
C10: zřízení nosné konstrukce příčky, vložení tepelné izolace tl. do 5 cm, montáž desek, tmelení spár Q2 a úprava rohů. Včetně dodávek materiálu. | AG10: SPI | BA10: =C10 -> zřízení nosné konstrukce příčky, vložení tepelné izolace tl. do 5 cm, montáž desek, tmelení spár Q2 a úprava rohů. Včetně dodávek materiálu.
C11: 9,25*3+9,1*3+2,5*3 | E11: 62.55 | AG11: VV | AH11: 0
AG12: SPU
A13: 2 | B13: 342090211R00 | C13: Úprava nosné konstrukce a opláštění SDK příčky pro zřízení otvoru pro dveře jednokřídlé, při hmotnosti jednoho křídla od 25 kg do 50 kg, v SDK příčce z UA profilů š. 50 mm, 1 x opláštěné | D13: kus | E13: 3 | G13: =ROUND(E13*F13,2) -> 0 | I13: =ROUND(E13*H13,2) -> 0 | K13: =ROUND(E13*J13,2) -> 0 | L13: 21 | M13: =G13*(1+L13/100) -> 0 | N13: 0.0137 | O13: =ROUND(E13*N13,2) -> 0.04 | P13: 0 | Q13: =ROUND(E13*P13,2) -> 0 | R13: 801-1 | S13: RTS 20/ I | T13: RTS 20/ I | U13: 0.7 | V13: =ROUND(E13*U13,2) -> 2.1 | X13: Práce | AG13: POL1_
AG14: SPU
A15: Díl: | B15: 61 | C15: Úpravy povrchů vnitřní | G15: =SUMIF(AG16:AG19,"<>NOR",G16:G19) -> 0 | I15: =SUM(I16:I19) -> 0 | K15: =SUM(K16:K19) -> 0 | M15: =SUM(M16:M19) -> 0 | O15: =SUM(O16:O19) -> 0.23 | Q15: =SUM(Q16:Q19) -> 0 | V15: =SUM(V16:V19) -> 36.28 | AG15: DIL
A16: 3 | B16: 612445302R00 | C16: Omítky a stěrky sádrové ze suchých směsí stěrka sádrová, tloušťky 2 mm | D16: m2 | E16: 125.1 | G16: =ROUND(E16*F16,2) -> 0 | I16: =ROUND(E16*H16,2) -> 0 | K16: =ROUND(E16*J16,2) -> 0 | L16: 21 | M16: =G16*(1+L16/100) -> 0 | N16: 0.00183 | O16: =ROUND(E16*N16,2) -> 0.23 | P16: 0 | Q16: =ROUND(E16*P16,2) -> 0 | R16: 801-1 | S16: RTS 20/ I | T16: RTS 20/ I | U16: 0.29 | V16: =ROUND(E16*U16,2) -> 36.28 | X16: Práce | AG16: POL1_
C17: s penetrací podkladu | AG17: SPI
C18: 9,25*3*2+9,1*3*2+2,5*3*2 | E18: 125.1 | AG18: VV | AH18: 0
AG19: SPU
A20: Díl: | B20: 64 | C20: Výplně otvorů | G20: =SUMIF(AG21:AG28,"<>NOR",G21:G28) -> 0 | I20: =SUM(I21:I28) -> 0 | K20: =SUM(K21:K28) -> 0 | M20: =SUM(M21:M28) -> 0 | O20: =SUM(O21:O28) -> 0.15 | Q20: =SUM(Q21:Q28) -> 0 | V20: =SUM(V21:V28) -> 8.73 | AG20: DIL
A21: 4 | B21: 642942111RU4 | C21: Osazení zárubní dveřních ocelových bez dveřních křídel, do zdiva včetně kotvení, na jakoukoliv cementovou maltu, s vybetonováním prahu v zárubni a s osazením špalíků nebo latí pro dřevěný práh_x000D_ včetně dodávky zárubní_x000D_ 80 x 197 x 16 cm | D21: kus | E21: 3 | G21: =ROUND(E21*F21,2) -> 0 | I21: =ROUND(E21*H21,2) -> 0 | K21: =ROUND(E21*J21,2) -> 0 | L21: 21 | M21: =G21*(1+L21/100) -> 0 | N21: 0.03207 | O21: =ROUND(E21*N21,2) -> 0.1 | P21: 0 | Q21: =ROUND(E21*P21,2) -> 0 | R21: 801-1 | S21: RTS 20/ I | T21: RTS 20/ I | U21: 1.86 | V21: =ROUND(E21*U21,2) -> 5.58 | X21: Práce | AG21: POL1_
AG22: SPU
A23: 5 | B23: 642942214R00 | C23: Osazení zárubní dveřních ocelových do sádrokartonové příčky_x000D_ tloušťky 150 mm šířky 700 mm, bez dodávky zárubně | D23: kus | E23: 3 | G23: =ROUND(E23*F23,2) -> 0 | I23: =ROUND(E23*H23,2) -> 0 | K23: =ROUND(E23*J23,2) -> 0 | L23: 21 | M23: =G23*(1+L23/100) -> 0 | N23: 0 | O23: =ROUND(E23*N23,2) -> 0 | P23: 0 | Q23: =ROUND(E23*P23,2) -> 0 | R23: 801-1 | S23: RTS 20/ I | T23: RTS 20/ I | U23: 1.05 | V23: =ROUND(E23*U23,2) -> 3.15 | X23: Práce | AG23: POL1_
AG24: SPU
A25: 6 | B25: 55330475R | C25: zárubeň kovová pro sádrokarton; š profilu 150 mm; š průchodu 800 mm; h průchodu 1 970 mm; L; závěsy pevné | D25: kus | E25: 2 | G25: =ROUND(E25*F25,2) -> 0 | I25: =ROUND(E25*H25,2) -> 0 | K25: =ROUND(E25*J25,2) -> 0 | L25: 21 | M25: =G25*(1+L25/100) -> 0 | N25: 0.01607 | O25: =ROUND(E25*N25,2) -> 0.03 | P25: 0 | Q25: =ROUND(E25*P25,2) -> 0 | R25: SPCM | S25: RTS 20/ I | T25: RTS 20/ I | U25: 0 | V25: =ROUND(E25*U25,2) -> 0 | X25: Specifikace | AG25: POL3_
AG26: SPU
A27: 7 | B27: 55330476R | C27: zárubeň kovová pro sádrokarton; š profilu 150 mm; š průchodu 800 mm; h průchodu 1 970 mm; P; závěsy pevné | D27: kus | E27: 1 | G27: =ROUND(E27*F27,2) -> 0 | I27: =ROUND(E27*H27,2) -> 0 | K27: =ROUND(E27*J27,2) -> 0 | L27: 21 | M27: =G27*(1+L27/100) -> 0 | N27: 0.01607 | O27: =ROUND(E27*N27,2) -> 0.02 | P27: 0 | Q27: =ROUND(E27*P27,2) -> 0 | R27: SPCM | S27: RTS 20/ I | T27: RTS 20/ I | U27: 0 | V27: =ROUND(E27*U27,2) -> 0 | X27: Specifikace | AG27: POL3_
AG28: SPU
A29: Díl: | B29: 766 | C29: Konstrukce truhlářské | G29: =SUMIF(AG30:AG37,"<>NOR",G30:G37) -> 0 | I29: =SUM(I30:I37) -> 0 | K29: =SUM(K30:K37) -> 0 | M29: =SUM(M30:M37) -> 0 | O29: =SUM(O30:O37) -> 0.05 | Q29: =SUM(Q30:Q37) -> 0 | V29: =SUM(V30:V37) -> 5.19 | AG29: DIL
A30: 8 | B30: 766661112R00 | C30: Montáž dveřních křídel kompletizovaných otevíravých , , do ocelové nebo fošnové zárubně, jednokřídlových, šířky do 800 mm | D30: kus | E30: 3 | G30: =ROUND(E30*F30,2) -> 0 | I30: =ROUND(E30*H30,2) -> 0 | K30: =ROUND(E30*J30,2) -> 0 | L30: 21 | M30: =G30*(1+L30/100) -> 0 | N30: 0 | O30: =ROUND(E30*N30,2) -> 0 | P30: 0 | Q30: =ROUND(E30*P30,2) -> 0 | R30: 800-766 | S30: RTS 20/ I | T30: RTS 20/ I | U30: 1.45 | V30: =ROUND(E30*U30,2) -> 4.35 | X30: Práce | AG30: POL1_
AG31: SPU
A32: 9 | B32: 766695213R00 | C32: Ostatní montáž prahů dveří_x000D_ jednokřídlých, šířky přes 100 mm | D32: kus | E32: 3 | G32: =ROUND(E32*F32,2) -> 0 | I32: =ROUND(E32*H32,2) -> 0 | K32: =ROUND(E32*J32,2) -> 0 | L32: 21 | M32: =G32*(1+L32/100) -> 0 | N32: 1e-05 | O32: =ROUND(E32*N32,2) -> 0 | P32: 0 | Q32: =ROUND(E32*P32,2) -> 0 | R32: 800-766 | S32: RTS 20/ I | T32: RTS 20/ I | U32: 0.28 | V32: =ROUND(E32*U32,2) -> 0.84 | X32: Práce | AG32: POL1_
AG33: SPU
A34: 10 | B34: 61160103R | C34: dveře vnitřní š = 800 mm; h = 1 970,0 mm; hladké; otevíravé; počet křídel 1; plné; povrch. úprava bílá barva | D34: kus | E34: 3 | G34: =ROUND(E34*F34,2) -> 0 | I34: =ROUND(E34*H34,2) -> 0 | K34: =ROUND(E34*J34,2) -> 0 | L34: 21 | M34: =G34*(1+L34/100) -> 0 | N34: 0.016 | O34: =ROUND(E34*N34,2) -> 0.05 | P34: 0 | Q34: =ROUND(E34*P34,2) -> 0 | R34: SPCM | S34: RTS 20/ I | T34: RTS 20/ I | U34: 0 | V34: =ROUND(E34*U34,2) -> 0 | X34: Specifikace | AG34: POL3_
AG35: SPU
A36: 11 | B36: 61187161R | C36: práh dub; š = 150 mm; l = 800,0 mm; tl = 20,0 mm | D36: kus | E36: 3 | G36: =ROUND(E36*F36,2) -> 0 | I36: =ROUND(E36*H36,2) -> 0 | K36: =ROUND(E36*J36,2) -> 0 | L36: 21 | M36: =G36*(1+L36/100) -> 0 | N36: 0.00161 | O36: =ROUND(E36*N36,2) -> 0 | P36: 0 | Q36: =ROUND(E36*P36,2) -> 0 | R36: SPCM | S36: RTS 20/ I | T36: RTS 20/ I | U36: 0 | V36: =ROUND(E36*U36,2) -> 0 | X36: Specifikace | AG36: POL3_
AG37: SPU
A38: Díl: | B38: 767 | C38: Konstrukce zámečnické | G38: =SUMIF(AG39:AG42,"<>NOR",G39:G42) -> 0 | I38: =SUM(I39:I42) -> 0 | K38: =SUM(K39:K42) -> 0 | M38: =SUM(M39:M42) -> 0 | O38: =SUM(O39:O42) -> 1.25 | Q38: =SUM(Q39:Q42) -> 0 | V38: =SUM(V39:V42) -> 27.5 | AG38: DIL
A39: 12 | B39: 767995104R00 | C39: Výroba a montáž atypických kovovových doplňků staveb hmotnosti přes 20 do 50 kg | D39: kg | E39: 25 | G39: =ROUND(E39*F39,2) -> 0 | I39: =ROUND(E39*H39,2) -> 0 | K39: =ROUND(E39*J39,2) -> 0 | L39: 21 | M39: =G39*(1+L39/100) -> 0 | N39: 5e-05 | O39: =ROUND(E39*N39,2) -> 0 | P39: 0 | Q39: =ROUND(E39*P39,2) -> 0 | R39: 800-767 | S39: RTS 20/ I | T39: RTS 20/ I | U39: 0.1 | V39: =ROUND(E39*U39,2) -> 2.5 | X39: Práce | AG39: POL1_
AG40: SPU
A41: 13 | B41: 767995109 | C41: Konstrukce pro upevnění SDK příčky ke stropu | D41: kg | E41: 25 | G41: =ROUND(E41*F41,2) -> 0 | I41: =ROUND(E41*H41,2) -> 0 | K41: =ROUND(E41*J41,2) -> 0 | L41: 21 | M41: =G41*(1+L41/100) -> 0 | N41: 0.05 | O41: =ROUND(E41*N41,2) -> 1.25 | P41: 0 | Q41: =ROUND(E41*P41,2) -> 0 | S41: Vlastní | T41: Indiv | U41: 1 | V41: =ROUND(E41*U41,2) -> 25 | X41: Práce | AG41: POL1_
AG42: SPU
...
