Workbook

Sheet Rekapitulace stavby
A1: Export Komplet | BA1: 2.0 | BT1: False | BU1: False | BV1: {a5c29e7e-26c5-4f97-8aa3-f483c16422a4}
AR2: >> skryté sloupce << | BS2: 0,1 | BT2: 21
BS3: 0,1 | BT3: 15
D4: REKAPITULACE STAVBY | AS4: v --- níže se nacházejí doplnkové a pomocné údaje k sestavám --- v | BS4: 0,1
D5: Kód: | K5: 015-000321 | BS5: 0,1
D6: Stavba: | K6: Doplnění chodníku v ulici Maříkově | BS6: 0,1
D7: KSO: | AK7: CC-CZ: | BS7: 0,1
D8: Místo: | AK8: Datum: | AN8: 25. 3. 2020 | BS8: 0,1
BS9: 0,1
D10: Zadavatel: | AK10: IČ: | BS10: 0,1
AK11: DIČ: | BS11: 0,1
BS12: 0,1
D13: Zhotovitel: | AK13: IČ: | BS13: 0,1
AK14: DIČ: | BS14: 0,1
BS15: False
D16: Projektant: | AK16: IČ: | BS16: False
AK17: DIČ: | BS17: True
BS18: 0,1
D19: Zpracovatel: | AK19: IČ: | BS19: 0,1
AK20: DIČ: | BS20: True
D22: Poznámka:
D26: Cena bez DPH | AK26: =ROUND(AG94,1) -> 0
L28: Sazba daně | W28: Základ daně | AK28: Výše daně
D29: DPH | F29: základní | L29: 0.21 | W29: =ROUND(AZ94, 1) -> 0 | AK29: =ROUND(AV94, 1) -> 0
F30: snížená | L30: 0.15 | W30: =ROUND(BA94, 1) -> 0 | AK30: =ROUND(AW94, 1) -> 0
F31: zákl. přenesená | L31: 0.21 | W31: =ROUND(BB94, 1) -> 0 | AK31: 0
F32: sníž. přenesená | L32: 0.15 | W32: =ROUND(BC94, 1) -> 0 | AK32: 0
F33: nulová | L33: 0 | W33: =ROUND(BD94, 1) -> 0 | AK33: 0
D35: Cena s DPH | T35: v | X35: CZK | AK35: =SUM(AK26:AK33) -> 0
D49: Projektant | AH49: Zpracovatel
D60: Datum a podpis: | V60: Razítko | AH60: Datum a podpis: | AM60: Razítko
D64: Objednavatel | AH64: Zhotovitel
D75: Datum a podpis: | V75: Razítko | AH75: Datum a podpis: | AM75: Razítko
C82: REKAPITULACE OBJEKTŮ STAVBY A SOUPISŮ PRACÍ
C84: Kód: | L84: =K5 -> 015-000321
C85: Stavba: | L85: =K6 -> Doplnění chodníku v ulici Maříkově
C87: Místo: | L87: =IF(K8="","",K8) | AI87: Datum: | AM87: =IF(AN8= "","",AN8) -> 25. 3. 2020
C89: Zadavatel: | L89: =IF(E11= "","",E11) | AI89: Projektant: | AM89: =IF(E17="","",E17) | AS89: Informatívní údaje z listů zakázek
C90: Zhotovitel: | L90: =IF(E14="","",E14) | AI90: Zpracovatel: | AM90: =IF(E20="","",E20)
C92: Kód | I92: Popis | AG92: Cena bez DPH [CZK] | AN92: Cena s DPH [CZK] | AQ92: Typ | AS92: z toho Ostat._x000D_ náklady [CZK] | AT92: DPH [CZK] | AU92: Normohodiny [h] | AV92: DPH základní [CZK] | AW92: DPH snížená [CZK] | AX92: DPH základní přenesená_x000D_ [CZK] | AY92: DPH snížená přenesená_x000D_ [CZK] | AZ92: Základna_x000D_ DPH základní | BA92: Základna_x000D_ DPH snížená | BB92: Základna_x000D_ DPH zákl. přenesená | BC92: Základna_x000D_ DPH sníž. přenesená | BD92: Základna_x000D_ DPH nulová
C94: Náklady z rozpočtů | AG94: =ROUND(AG95,1) -> 0 | AN94: =SUM(AG94,AT94) -> 0 | AS94: =ROUND(AS95,1) -> 0 | AT94: =ROUND(SUM(AV94:AW94),1) -> 0 | AU94: =ROUND(AU95,5) -> 2778.7472 | AV94: =ROUND(AZ94*L29,1) -> 0 | AW94: =ROUND(BA94*L30,1) -> 0 | AX94: =ROUND(BB94*L29,1) -> 0 | AY94: =ROUND(BC94*L30,1) -> 0 | AZ94: =ROUND(AZ95,1) -> 0 | BA94: =ROUND(BA95,1) -> 0 | BB94: =ROUND(BB95,1) -> 0 | BC94: =ROUND(BC95,1) -> 0 | BD94: =ROUND(BD95,1) -> 0 | BS94: D | BT94: 0 | BU94: ###NOIMPORT### | BV94: IMPORT | BW94: {a5c29e7e-26c5-4f97-8aa3-f483c16422a4} | BX94: {00000000-0000-0000-0000-000000000000}
A95: / | D95: SO 451 | J95: VEŘEJNÉ OSVĚTLENÍ | AG95: ='SO 451 - VEŘEJNÉ OSVĚTLENÍ'!J30 -> 0 | AN95: =SUM(AG95,AT95) -> 0 | AQ95: STA | AS95: 0 | AT95: =ROUND(SUM(AV95:AW95),1) -> 0 | AU95: ='SO 451 - VEŘEJNÉ OSVĚTLENÍ'!P126 -> 2778.7472 | AV95: ='SO 451 - VEŘEJNÉ OSVĚTLENÍ'!J33 -> 0 | AW95: ='SO 451 - VEŘEJNÉ OSVĚTLENÍ'!J34 -> 0 | AX95: ='SO 451 - VEŘEJNÉ OSVĚTLENÍ'!J35 -> 0 | AY95: ='SO 451 - VEŘEJNÉ OSVĚTLENÍ'!J36 -> 0 | AZ95: ='SO 451 - VEŘEJNÉ OSVĚTLENÍ'!F33 -> 0 | BA95: ='SO 451 - VEŘEJNÉ OSVĚTLENÍ'!F34 -> 0 | BB95: ='SO 451 - VEŘEJNÉ OSVĚTLENÍ'!F35 -> 0 | BC95: ='SO 451 - VEŘEJNÉ OSVĚTLENÍ'!F36 -> 0 | BD95: ='SO 451 - VEŘEJNÉ OSVĚTLENÍ'!F37 -> 0 | BT95: 1 | BV95: IMPORT | BW95: {ee480541-2793-472c-8ed1-7e223ad79fee} | BX95: {a5c29e7e-26c5-4f97-8aa3-f483c16422a4} | CM95: 2

Sheet SO 451 - VEŘEJNÉ OSVĚTLENÍ
L2: >> skryté sloupce << | AT2: {ee480541-2793-472c-8ed1-7e223ad79fee}
AT3: 2
D4: KRYCÍ LIST SOUPISU PRACÍ | M4: v --- níže se nacházejí doplnkové a pomocné údaje k sestavám --- v | AT4: False
D6: Stavba:
E7: ='Rekapitulace stavby'!K6 -> Doplnění chodníku v ulici Maříkově
D8: Objekt:
E9: SO 451 - VEŘEJNÉ OSVĚTLENÍ
D11: KSO: | I11: CC-CZ:
D12: Místo: | I12: Datum: | J12: ='Rekapitulace stavby'!AN8 -> 25. 3. 2020
D14: Zadavatel: | I14: IČ: | J14: =IF('Rekapitulace stavby'!AN10="","",'Rekapitulace stavby'!AN10)
E15: =IF('Rekapitulace stavby'!E11="","",'Rekapitulace stavby'!E11) | I15: DIČ: | J15: =IF('Rekapitulace stavby'!AN11="","",'Rekapitulace stavby'!AN11)
D17: Zhotovitel: | I17: IČ: | J17: ='Rekapitulace stavby'!AN13
E18: ='Rekapitulace stavby'!E14 | I18: DIČ: | J18: ='Rekapitulace stavby'!AN14
D20: Projektant: | I20: IČ: | J20: =IF('Rekapitulace stavby'!AN16="","",'Rekapitulace stavby'!AN16)
E21: =IF('Rekapitulace stavby'!E17="","",'Rekapitulace stavby'!E17) | I21: DIČ: | J21: =IF('Rekapitulace stavby'!AN17="","",'Rekapitulace stavby'!AN17)
D23: Zpracovatel: | I23: IČ: | J23: =IF('Rekapitulace stavby'!AN19="","",'Rekapitulace stavby'!AN19)
E24: =IF('Rekapitulace stavby'!E20="","",'Rekapitulace stavby'!E20) | I24: DIČ: | J24: =IF('Rekapitulace stavby'!AN20="","",'Rekapitulace stavby'!AN20)
D26: Poznámka:
D30: Cena bez DPH | J30: =ROUND(J126, 1) -> 0
F32: Základ daně | I32: Sazba daně | J32: Výše daně
D33: DPH | E33: základní | F33: =ROUND((SUM(BE126:BE188)), 1) -> 0 | I33: 0.21 | J33: =ROUND(((SUM(BE126:BE188))*I33), 1) -> 0
E34: snížená | F34: =ROUND((SUM(BF126:BF188)), 1) -> 0 | I34: 0.15 | J34: =ROUND(((SUM(BF126:BF188))*I34), 1) -> 0
E35: zákl. přenesená | F35: =ROUND((SUM(BG126:BG188)), 1) -> 0 | I35: 0.21 | J35: =0 -> 0
E36: sníž. přenesená | F36: =ROUND((SUM(BH126:BH188)), 1) -> 0 | I36: 0.15 | J36: =0 -> 0
E37: nulová | F37: =ROUND((SUM(BI126:BI188)), 1) -> 0 | I37: 0 | J37: =0 -> 0
D39: Cena s DPH | G39: v | H39: CZK | J39: =SUM(J30:J37) -> 0
D50: Projektant | G50: Zpracovatel
D61: Datum a podpis: | F61: Razítko | G61: Datum a podpis: | J61: Razítko
D65: Objednavatel | G65: Zhotovitel
D76: Datum a podpis: | F76: Razítko | G76: Datum a podpis: | J76: Razítko
C82: REKAPITULACE ČLENĚNÍ SOUPISU PRACÍ
C84: Stavba:
E85: =E7 -> Doplnění chodníku v ulici Maříkově
C86: Objekt:
E87: =E9 -> SO 451 - VEŘEJNÉ OSVĚTLENÍ
C89: Místo: | F89: =F12 | I89: Datum: | J89: =IF(J12="","",J12) -> 25. 3. 2020
C91: Zadavatel: | F91: =E15 | I91: Projektant: | J91: =E21
C92: Zhotovitel: | F92: =IF(E18="","",E18) | I92: Zpracovatel: | J92: =E24
C94: Kód dílu - Popis | J94: Cena celkem [CZK]
C96: Náklady ze soupisu prací | J96: =J126 -> 0 | AU96: -1
D97: HSV - Práce a dodávky HSV | J97: =J127 -> 0
D98: 5 - Komunikace pozemní | J98: =J128 -> 0
D99: 997 - Přesun sutě | J99: =J130 -> 0
D100: M - Práce a dodávky M | J100: =J132 -> 0
D101: 21-M - Elektromontáže | J101: =J133 -> 0
D102: 22-M - Montáže technologických zařízení pro dopravní stavby | J102: =J152 -> 0
D103: 25-M - Povrchová úprava strojů a zařízení | J103: =J155 -> 0
D104: 46-M - Zemní práce při extr.mont.pracích | J104: =J160 -> 0
D105: VRN - Vedlejší rozpočtové náklady | J105: =J186 -> 0
D106: VRN1 - Průzkumné, geodetické a projektové práce | J106: =J187 -> 0
C113: SOUPIS PRACÍ
C115: Stavba:
E116: =E7 -> Doplnění chodníku v ulici Maříkově
C117: Objekt:
E118: =E9 -> SO 451 - VEŘEJNÉ OSVĚTLENÍ
C120: Místo: | F120: =F12 | I120: Datum: | J120: =IF(J12="","",J12) -> 25. 3. 2020
C122: Zadavatel: | F122: =E15 | I122: Projektant: | J122: =E21
C123: Zhotovitel: | F123: =IF(E18="","",E18) | I123: Zpracovatel: | J123: =E24
C125: PČ | D125: Typ | E125: Kód | F125: Popis | G125: MJ | H125: Množství | I125: J.cena [CZK] | J125: Cena celkem [CZK] | K125: Cenová soustava | N125: DPH | O125: J. Nh [h] | P125: Nh celkem [h] | Q125: J. hmotnost [t] | R125: Hmotnost celkem [t] | S125: J. suť [t] | T125: Suť Celkem [t]
C126: Náklady soupisu celkem | J126: =BK126 -> 0 | P126: =P127+P132+P186 -> 2778.7472 | R126: =R127+R132+R186 -> 395.46269 | T126: =T127+T132+T186 -> 0 | AT126: D | AU126: -1 | BK126: =BK127+BK132+BK186 -> 0
D127: D | E127: HSV | F127: Práce a dodávky HSV | J127: =BK127 -> 0 | P127: =P128+P130 -> 0 | R127: =R128+R130 -> 0 | T127: =T128+T130 -> 0 | AR127: 1 | AT127: D | AU127: 0 | AY127: ROZPOCET | BK127: =BK128+BK130 -> 0
D128: D | E128: 5 | F128: Komunikace pozemní | J128: =BK128 -> 0 | P128: =P129 -> 0 | R128: =R129 -> 0 | T128: =T129 -> 0 | AR128: 1 | AT128: D | AU128: 1 | AY128: ROZPOCET | BK128: =BK129 -> 0
C129: 1 | D129: K | E129: 072002000 | F129: Silniční provoz | G129: ks | H129: 1 | J129: =ROUND(I129*H129,1) -> 0 | N129: základní | O129: 0 | P129: =O129*H129 -> 0 | Q129: 0 | R129: =Q129*H129 -> 0 | S129: 0 | T129: =S129*H129 -> 0 | AR129: 1024 | AT129: K | AU129: 2 | AY129: ROZPOCET | BE129: =IF(N129="základní",J129,0) -> 0 | BF129: =IF(N129="snížená",J129,0) -> 0 | BG129: =IF(N129="zákl. přenesená",J129,0) -> 0 | BH129: =IF(N129="sníž. přenesená",J129,0) -> 0 | BI129: =IF(N129="nulová",J129,0) -> 0 | BJ129: 1 | BK129: =ROUND(I129*H129,1) -> 0 | BL129: 1024 | BM129: 1989990636
D130: D | E130: 997 | F130: Přesun sutě | J130: =BK130 -> 0 | P130: =P131 -> 0 | R130: =R131 -> 0 | T130: =T131 -> 0 | AR130: 1 | AT130: D | AU130: 1 | AY130: ROZPOCET | BK130: =BK131 -> 0
C131: 2 | D131: K | E131: 997221873 | F131: Poplatek za uložení stavebního odpadu na recyklační skládce (skládkovné) zeminy a kamení zatříděného do Katalogu odpadů pod kódem 17 05 04 | G131: t | H131: 207.6 | J131: =ROUND(I131*H131,1) -> 0 | N131: základní | O131: 0 | P131: =O131*H131 -> 0 | Q131: 0 | R131: =Q131*H131 -> 0 | S131: 0 | T131: =S131*H131 -> 0 | AR131: 4 | AT131: K | AU131: 2 | AY131: ROZPOCET | BE131: =IF(N131="základní",J131,0) -> 0 | BF131: =IF(N131="snížená",J131,0) -> 0 | BG131: =IF(N131="zákl. přenesená",J131,0) -> 0 | BH131: =IF(N131="sníž. přenesená",J131,0) -> 0 | BI131: =IF(N131="nulová",J131,0) -> 0 | BJ131: 1 | BK131: =ROUND(I131*H131,1) -> 0 | BL131: 4 | BM131: 725907455
D132: D | E132: M | F132: Práce a dodávky M | J132: =BK132 -> 0 | P132: =P133+P152+P155+P160 -> 2778.7472 | R132: =R133+R152+R155+R160 -> 395.46269 | T132: =T133+T152+T155+T160 -> 0 | AR132: 3 | AT132: D | AU132: 0 | AY132: ROZPOCET | BK132: =BK133+BK152+BK155+BK160 -> 0
D133: D | E133: 21-M | F133: Elektromontáže | J133: =BK133 -> 0 | P133: =SUM(P134:P151) -> 690.384 | R133: =SUM(R134:R151) -> 2.404219 | T133: =SUM(T134:T151) -> 0 | AR133: 3 | AT133: D | AU133: 1 | AY133: ROZPOCET | BK133: =SUM(BK134:BK151) -> 0
C134: 4 | D134: K | E134: 210100422 | F134: Ukončení kabelů a vodičů kabelovou koncovkou do 4 žil do 1 kV včetně zapojení KSM 35 do 4x16 mm2 | G134: kus | H134: 44 | J134: =ROUND(I134*H134,1) -> 0 | N134: základní | O134: 0.548 | P134: =O134*H134 -> 24.112 | Q134: 0 | R134: =Q134*H134 -> 0 | S134: 0 | T134: =S134*H134 -> 0 | AR134: 64 | AT134: K | AU134: 2 | AY134: ROZPOCET | BE134: =IF(N134="základní",J134,0) -> 0 | BF134: =IF(N134="snížená",J134,0) -> 0 | BG134: =IF(N134="zákl. přenesená",J134,0) -> 0 | BH134: =IF(N134="sníž. přenesená",J134,0) -> 0 | BI134: =IF(N134="nulová",J134,0) -> 0 | BJ134: 1 | BK134: =ROUND(I134*H134,1) -> 0 | BL134: 64 | BM134: 1317280073
C135: 5 | D135: K | E135: 210203700a | F135: Montáž svítidel na stožár do 10m, vč. uchycení, ve výšce | G135: kus | H135: 21 | J135: =ROUND(I135*H135,1) -> 0 | N135: základní | O135: 0.674 | P135: =O135*H135 -> 14.154 | Q135: 0 | R135: =Q135*H135 -> 0 | S135: 0 | T135: =S135*H135 -> 0 | AR135: 64 | AT135: K | AU135: 2 | AY135: ROZPOCET | BE135: =IF(N135="základní",J135,0) -> 0 | BF135: =IF(N135="snížená",J135,0) -> 0 | BG135: =IF(N135="zákl. přenesená",J135,0) -> 0 | BH135: =IF(N135="sníž. přenesená",J135,0) -> 0 | BI135: =IF(N135="nulová",J135,0) -> 0 | BJ135: 1 | BK135: =ROUND(I135*H135,1) -> 0 | BL135: 64 | BM135: -408835371
C136: 6 | D136: M | E136: 15 | F136: Svítitidlo LED dle technické specifikace | G136: ks | H136: 21 | J136: =ROUND(I136*H136,1) -> 0 | N136: základní | O136: 0 | P136: =O136*H136 -> 0 | Q136: 0.0001 | R136: =Q136*H136 -> 0.0021 | S136: 0 | T136: =S136*H136 -> 0 | AR136: 128 | AT136: M | AU136: 2 | AY136: ROZPOCET | BE136: =IF(N136="základní",J136,0) -> 0 | BF136: =IF(N136="snížená",J136,0) -> 0 | BG136: =IF(N136="zákl. přenesená",J136,0) -> 0 | BH136: =IF(N136="sníž. přenesená",J136,0) -> 0 | BI136: =IF(N136="nulová",J136,0) -> 0 | BJ136: 1 | BK136: =ROUND(I136*H136,1) -> 0 | BL136: 128 | BM136: -596364212
C137: 7 | D137: M | E137: 31674065 | F137: stožár osvětlovací sadový 6,0m v provedení "Brno" | G137: kus | H137: 21 | J137: =ROUND(I137*H137,1) -> 0 | N137: základní | O137: 0 | P137: =O137*H137 -> 0 | Q137: 0.052 | R137: =Q137*H137 -> 1.092 | S137: 0 | T137: =S137*H137 -> 0 | AR137: 128 | AT137: M | AU137: 2 | AY137: ROZPOCET | BE137: =IF(N137="základní",J137,0) -> 0 | BF137: =IF(N137="snížená",J137,0) -> 0 | BG137: =IF(N137="zákl. přenesená",J137,0) -> 0 | BH137: =IF(N137="sníž. přenesená",J137,0) -> 0 | BI137: =IF(N137="nulová",J137,0) -> 0 | BJ137: 1 | BK137: =ROUND(I137*H137,1) -> 0 | BL137: 128 | BM137: -507152831
C138: 8 | D138: K | E138: 210204011 | F138: Montáž stožárů osvětlení ocelových samostatně stojících délky do 12 m | G138: kus | H138: 21 | J138: =ROUND(I138*H138,1) -> 0 | N138: základní | O138: 3.813 | P138: =O138*H138 -> 80.073 | Q138: 0 | R138: =Q138*H138 -> 0 | S138: 0 | T138: =S138*H138 -> 0 | AR138: 64 | AT138: K | AU138: 2 | AY138: ROZPOCET | BE138: =IF(N138="základní",J138,0) -> 0 | BF138: =IF(N138="snížená",J138,0) -> 0 | BG138: =IF(N138="zákl. přenesená",J138,0) -> 0 | BH138: =IF(N138="sníž. přenesená",J138,0) -> 0 | BI138: =IF(N138="nulová",J138,0) -> 0 | BJ138: 1 | BK138: =ROUND(I138*H138,1) -> 0 | BL138: 64 | BM138: 306316137
C139: 9 | D139: M | E139: 358V0000056 | F139: Drobný montážní materiál | G139: kpl | H139: 1 | J139: =ROUND(I139*H139,1) -> 0 | N139: základní | O139: 0 | P139: =O139*H139 -> 0 | Q139: 0.0001 | R139: =Q139*H139 -> 0.0001 | S139: 0 | T139: =S139*H139 -> 0 | AR139: 128 | AT139: M | AU139: 2 | AY139: ROZPOCET | BE139: =IF(N139="základní",J139,0) -> 0 | BF139: =IF(N139="snížená",J139,0) -> 0 | BG139: =IF(N139="zákl. přenesená",J139,0) -> 0 | BH139: =IF(N139="sníž. přenesená",J139,0) -> 0 | BI139: =IF(N139="nulová",J139,0) -> 0 | BJ139: 1 | BK139: =ROUND(I139*H139,1) -> 0 | BL139: 128 | BM139: -2137544932
C140: 12 | D140: M | E140: 341110360 | F140: kabel silový s Cu jádrem CYKY 3x2,5 mm2 | G140: m | H140: 147 | J140: =ROUND(I140*H140,1) -> 0 | N140: základní | O140: 0 | P140: =O140*H140 -> 0 | Q140: 0.000167 | R140: =Q140*H140 -> 0.024549 | S140: 0 | T140: =S140*H140 -> 0 | AR140: 128 | AT140: M | AU140: 2 | AY140: ROZPOCET | BE140: =IF(N140="základní",J140,0) -> 0 | BF140: =IF(N140="snížená",J140,0) -> 0 | BG140: =IF(N140="zákl. přenesená",J140,0) -> 0 | BH140: =IF(N140="sníž. přenesená",J140,0) -> 0 | BI140: =IF(N140="nulová",J140,0) -> 0 | BJ140: 1 | BK140: =ROUND(I140*H140,1) -> 0 | BL140: 128 | BM140: -352107259
C141: 13 | D141: M | E141: V8 | F141: Stožárová svorkovnice GURO EKM 2035-2D2 | G141: kus | H141: 21 | J141: =ROUND(I141*H141,1) -> 0 | N141: základní | O141: 0 | P141: =O141*H141 -> 0 | Q141: 7e-05 | R141: =Q141*H141 -> 0.00147 | S141: 0 | T141: =S141*H141 -> 0 | AR141: 128 | AT141: M | AU141: 2 | AY141: ROZPOCET | BE141: =IF(N141="základní",J141,0) -> 0 | BF141: =IF(N141="snížená",J141,0) -> 0 | BG141: =IF(N141="zákl. přenesená",J141,0) -> 0 | BH141: =IF(N141="sníž. přenesená",J141,0) -> 0 | BI141: =IF(N141="nulová",J141,0) -> 0 | BJ141: 1 | BK141: =ROUND(I141*H141,1) -> 0 | BL141: 128 | BM141: 996028834
C142: 14 | D142: K | E142: 210204202 | F142: Montáž elektrovýzbroje stožárů osvětlení 2 okruhy | G142: kus | H142: 21 | J142: =ROUND(I142*H142,1) -> 0 | N142: základní | O142: 1.417 | P142: =O142*H142 -> 29.757 | Q142: 0 | R142: =Q142*H142 -> 0 | S142: 0 | T142: =S142*H142 -> 0 | AR142: 64 | AT142: K | AU142: 2 | AY142: ROZPOCET | BE142: =IF(N142="základní",J142,0) -> 0 | BF142: =IF(N142="snížená",J142,0) -> 0 | BG142: =IF(N142="zákl. přenesená",J142,0) -> 0 | BH142: =IF(N142="sníž. přenesená",J142,0) -> 0 | BI142: =IF(N142="nulová",J142,0) -> 0 | BJ142: 1 | BK142: =ROUND(I142*H142,1) -> 0 | BL142: 64 | BM142: 1761978194
C143: 15 | D143: K | E143: 210220001a | F143: Montáž uzemňovacího vedení vodičů FeZn pomocí svorek na povrchu páskou do 120 mm2 | G143: m | H143: 856 | J143: =ROUND(I143*H143,1) -> 0 | N143: základní | O143: 0.306 | P143: =O143*H143 -> 261.936 | Q143: 0 | R143: =Q143*H143 -> 0 | S143: 0 | T143: =S143*H143 -> 0 | AR143: 64 | AT143: K | AU143: 2 | AY143: ROZPOCET | BE143: =IF(N143="základní",J143,0) -> 0 | BF143: =IF(N143="snížená",J143,0) -> 0 | BG143: =IF(N143="zákl. přenesená",J143,0) -> 0 | BH143: =IF(N143="sníž. přenesená",J143,0) -> 0 | BI143: =IF(N143="nulová",J143,0) -> 0 | BJ143: 1 | BK143: =ROUND(I143*H143,1) -> 0 | BL143: 64 | BM143: -740341072
C144: 16 | D144: M | E144: 354410730 | F144: drát průměr 10 mm FeZn | G144: kg | H144: 513.6 | J144: =ROUND(I144*H144,1) -> 0 | N144: základní | O144: 0 | P144: =O144*H144 -> 0 | Q144: 0.001 | R144: =Q144*H144 -> 0.5136 | S144: 0 | T144: =S144*H144 -> 0 | AR144: 128 | AT144: M | AU144: 2 | AY144: ROZPOCET | BE144: =IF(N144="základní",J144,0) -> 0 | BF144: =IF(N144="snížená",J144,0) -> 0 | BG144: =IF(N144="zákl. přenesená",J144,0) -> 0 | BH144: =IF(N144="sníž. přenesená",J144,0) -> 0 | BI144: =IF(N144="nulová",J144,0) -> 0 | BJ144: 1 | BK144: =ROUND(I144*H144,1) -> 0 | BL144: 128 | BM144: 1877761649
C145: 17 | D145: K | E145: 210280003 | F145: Zkoušky a prohlídky elektrických rozvodů a zařízení celková prohlídka, zkoušení, měření a vyhotovení revizní zprávy pro objem montážních prací přes 500 do 1000 tisíc Kč | G145: kus | H145: 1 | J145: =ROUND(I145*H145,1) -> 0 | N145: základní | O145: 31.842 | P145: =O145*H145 -> 31.842 | Q145: 0 | R145: =Q145*H145 -> 0 | S145: 0 | T145: =S145*H145 -> 0 | AR145: 64 | AT145: K | AU145: 2 | AY145: ROZPOCET | BE145: =IF(N145="základní",J145,0) -> 0 | BF145: =IF(N145="snížená",J145,0) -> 0 | BG145: =IF(N145="zákl. přenesená",J145,0) -> 0 | BH145: =IF(N145="sníž. přenesená",J145,0) -> 0 | BI145: =IF(N145="nulová",J145,0) -> 0 | BJ145: 1 | BK145: =ROUND(I145*H145,1) -> 0 | BL145: 64 | BM145: -403313324
... C151: 22 | D151: M | E151: 341110800 | F151: kabel silový s Cu jádrem CYKY 4x16 mm2 | G151: m | H151: 856 | J151: =ROUND(I151*H151,1) -> 0 | N151: základní | O151: 0 | P151: =O151*H151 -> 0 | Q151: 0.0009 | R151: =Q151*H151 -> 0.7704 | S151: 0 | T151: =S151*H151 -> 0 | AR151: 128 | AT151: M | AU151: 2 | AY151: ROZPOCET | BE151: =IF(N151="základní",J151,0) -> 0 | BF151: =IF(N151="snížená",J151,0) -> 0 | BG151: =IF(N151="zákl. přenesená",J151,0) -> 0 | BH151: =IF(N151="sníž. přenesená",J151,0) -> 0 | BI151: =IF(N151="nulová",J151,0) -> 0 | BJ151: 1 | BK151: =ROUND(I151*H151,1) -> 0 | BL151: 128 | BM151: -1228457218
D152: D | E152: 22-M | F152: Montáže technologických zařízení pro dopravní stavby | J152: =BK152 -> 0 | P152: =SUM(P153:P154) -> 146.52 | R152: =SUM(R153:R154) -> 0 | T152: =SUM(T153:T154) -> 0 | AR152: 3 | AT152: D | AU152: 1 | AY152: ROZPOCET | BK152: =SUM(BK153:BK154) -> 0
C153: 23 | D153: K | E153: 220110346 | F153: Montáž štítku kabelového průběžného | G153: kus | H153: 30 | J153: =ROUND(I153*H153,1) -> 0 | N153: základní | O153: 0.11 | P153: =O153*H153 -> 3.3 | Q153: 0 | R153: =Q153*H153 -> 0 | S153: 0 | T153: =S153*H153 -> 0 | AR153: 64 | AT153: K | AU153: 2 | AY153: ROZPOCET | BE153: =IF(N153="základní",J153,0) -> 0 | BF153: =IF(N153="snížená",J153,0) -> 0 | BG153: =IF(N153="zákl. přenesená",J153,0) -> 0 | BH153: =IF(N153="sníž. přenesená",J153,0) -> 0 | BI153: =IF(N153="nulová",J153,0) -> 0 | BJ153: 1 | BK153: =ROUND(I153*H153,1) -> 0 | BL153: 64 | BM153: -1772989929
C154: 24 | D154: K | E154: 220180201 | F154: Zatažení do tvárnicové tratě kabelu hmotnosti do 2 kg/m | G154: m | H154: 1023 | J154: =ROUND(I154*H154,1) -> 0 | N154: základní | O154: 0.14 | P154: =O154*H154 -> 143.22 | Q154: 0 | R154: =Q154*H154 -> 0 | S154: 0 | T154: =S154*H154 -> 0 | AR154: 64 | AT154: K | AU154: 2 | AY154: ROZPOCET | BE154: =IF(N154="základní",J154,0) -> 0 | BF154: =IF(N154="snížená",J154,0) -> 0 | BG154: =IF(N154="zákl. přenesená",J154,0) -> 0 | BH154: =IF(N154="sníž. přenesená",J154,0) -> 0 | BI154: =IF(N154="nulová",J154,0) -> 0 | BJ154: 1 | BK154: =ROUND(I154*H154,1) -> 0 | BL154: 64 | BM154: -1153088822
D155: D | E155: 25-M | F155: Povrchová úprava strojů a zařízení | J155: =BK155 -> 0 | P155: =SUM(P156:P159) -> 12.549 | R155: =SUM(R156:R159) -> 0 | T155: =SUM(T156:T159) -> 0 | AR155: 3 | AT155: D | AU155: 1 | AY155: ROZPOCET | BK155: =SUM(BK156:BK159) -> 0
C156: 25 | D156: K | E156: 250060011 | F156: Písmomalířské práce číslice a písmena výšky do 40 mm | G156: kus | H156: 210 | J156: =ROUND(I156*H156,1) -> 0 | N156: základní | O156: 0.046 | P156: =O156*H156 -> 9.66 | Q156: 0 | R156: =Q156*H156 -> 0 | S156: 0 | T156: =S156*H156 -> 0 | AR156: 64 | AT156: K | AU156: 2 | AY156: ROZPOCET | BE156: =IF(N156="základní",J156,0) -> 0 | BF156: =IF(N156="snížená",J156,0) -> 0 | BG156: =IF(N156="zákl. přenesená",J156,0) -> 0 | BH156: =IF(N156="sníž. přenesená",J156,0) -> 0 | BI156: =IF(N156="nulová",J156,0) -> 0 | BJ156: 1 | BK156: =ROUND(I156*H156,1) -> 0 | BL156: 64 | BM156: 562094009
C157: 26 | D157: K | E157: V001 | F157: Zaměření trasy skutečného provedení v zastavěném prostoru | G157: kus | H157: 1 | J157: =ROUND(I157*H157,1) -> 0 | N157: základní | O157: 0.365 | P157: =O157*H157 -> 0.365 | Q157: 0 | R157: =Q157*H157 -> 0 | S157: 0 | T157: =S157*H157 -> 0 | AR157: 64 | AT157: K | AU157: 2 | AY157: ROZPOCET | BE157: =IF(N157="základní",J157,0) -> 0 | BF157: =IF(N157="snížená",J157,0) -> 0 | BG157: =IF(N157="zákl. přenesená",J157,0) -> 0 | BH157: =IF(N157="sníž. přenesená",J157,0) -> 0 | BI157: =IF(N157="nulová",J157,0) -> 0 | BJ157: 1 | BK157: =ROUND(I157*H157,1) -> 0 | BL157: 64 | BM157: -347435533
C158: 27 | D158: K | E158: V002 | F158: Vytyčení trasy vedení kabelového podzemního v zastavěném prostoru | G158: kus | H158: 1 | J158: =ROUND(I158*H158,1) -> 0 | N158: základní | O158: 0.493 | P158: =O158*H158 -> 0.493 | Q158: 0 | R158: =Q158*H158 -> 0 | S158: 0 | T158: =S158*H158 -> 0 | AR158: 64 | AT158: K | AU158: 2 | AY158: ROZPOCET | BE158: =IF(N158="základní",J158,0) -> 0 | BF158: =IF(N158="snížená",J158,0) -> 0 | BG158: =IF(N158="zákl. přenesená",J158,0) -> 0 | BH158: =IF(N158="sníž. přenesená",J158,0) -> 0 | BI158: =IF(N158="nulová",J158,0) -> 0 | BJ158: 1 | BK158: =ROUND(I158*H158,1) -> 0 | BL158: 64 | BM158: -1722476144
C159: 28 | D159: K | E159: V003 | F159: Vytyčení IS | G159: kus | H159: 3 | J159: =ROUND(I159*H159,1) -> 0 | N159: základní | O159: 0.677 | P159: =O159*H159 -> 2.031 | Q159: 0 | R159: =Q159*H159 -> 0 | S159: 0 | T159: =S159*H159 -> 0 | AR159: 64 | AT159: K | AU159: 2 | AY159: ROZPOCET | BE159: =IF(N159="základní",J159,0) -> 0 | BF159: =IF(N159="snížená",J159,0) -> 0 | BG159: =IF(N159="zákl. přenesená",J159,0) -> 0 | BH159: =IF(N159="sníž. přenesená",J159,0) -> 0 | BI159: =IF(N159="nulová",J159,0) -> 0 | BJ159: 1 | BK159: =ROUND(I159*H159,1) -> 0 | BL159: 64 | BM159: 2082641338
D160: D | E160: 46-M | F160: Zemní práce při extr.mont.pracích | J160: =BK160 -> 0 | P160: =SUM(P161:P185) -> 1929.2942 | R160: =SUM(R161:R185) -> 393.05847 | T160: =SUM(T161:T185) -> 0 | AR160: 3 | AT160: D | AU160: 1 | AY160: ROZPOCET | BK160: =SUM(BK161:BK185) -> 0
C161: 38 | D161: M | E161: 286112260a | F161: trubka drenážní flexibilní PipeLife D 300 mm | G161: m | H161: 21 | J161: =ROUND(I161*H161,1) -> 0 | N161: základní | O161: 0 | P161: =O161*H161 -> 0 | Q161: 0.00187 | R161: =Q161*H161 -> 0.03927 | S161: 0 | T161: =S161*H161 -> 0 | AR161: 128 | AT161: M | AU161: 2 | AY161: ROZPOCET | BE161: =IF(N161="základní",J161,0) -> 0 | BF161: =IF(N161="snížená",J161,0) -> 0 | BG161: =IF(N161="zákl. přenesená",J161,0) -> 0 | BH161: =IF(N161="sníž. přenesená",J161,0) -> 0 | BI161: =IF(N161="nulová",J161,0) -> 0 | BJ161: 1 | BK161: =ROUND(I161*H161,1) -> 0 | BL161: 128 | BM161: -1960898609
C162: 59 | D162: K | E162: 460080013 | F162: Základové konstrukce z monolitického betonu C 12/15 bez bednění | G162: m3 | H162: 8.4 | J162: =ROUND(I162*H162,1) -> 0 | N162: základní | O162: 0.477 | P162: =O162*H162 -> 4.0068 | Q162: 2.25634 | R162: =Q162*H162 -> 18.953256 | S162: 0 | T162: =S162*H162 -> 0 | AR162: 64 | AT162: K | AU162: 2 | AY162: ROZPOCET | BE162: =IF(N162="základní",J162,0) -> 0 | BF162: =IF(N162="snížená",J162,0) -> 0 | BG162: =IF(N162="zákl. přenesená",J162,0) -> 0 | BH162: =IF(N162="sníž. přenesená",J162,0) -> 0 | BI162: =IF(N162="nulová",J162,0) -> 0 | BJ162: 1 | BK162: =ROUND(I162*H162,1) -> 0 | BL162: 64 | BM162: -363240012
C163: 60 | D163: K | E163: 460050703 | F163: Hloubení nezapažených jam pro stožáry veřejného osvětlení ručně v hornině tř 3 | G163: kus | H163: 21 | J163: =ROUND(I163*H163,1) -> 0 | N163: základní | O163: 3.214 | P163: =O163*H163 -> 67.494 | Q163: 0 | R163: =Q163*H163 -> 0 | S163: 0 | T163: =S163*H163 -> 0 | AR163: 64 | AT163: K | AU163: 2 | AY163: ROZPOCET | BE163: =IF(N163="základní",J163,0) -> 0 | BF163: =IF(N163="snížená",J163,0) -> 0 | BG163: =IF(N163="zákl. přenesená",J163,0) -> 0 | BH163: =IF(N163="sníž. přenesená",J163,0) -> 0 | BI163: =IF(N163="nulová",J163,0) -> 0 | BJ163: 1 | BK163: =ROUND(I163*H163,1) -> 0 | BL163: 64 | BM163: -1620076450
C164: 62 | D164: K | E164: 460150243 | F164: Hloubení kabelových zapažených i nezapažených rýh ručně š 50 cm, hl 60 cm, v hornině tř 3 | G164: m | H164: 547 | J164: =ROUND(I164*H164,1) -> 0 | N164: základní | O164: 0.924 | P164: =O164*H164 -> 505.428 | Q164: 0 | R164: =Q164*H164 -> 0 | S164: 0 | T164: =S164*H164 -> 0 | AR164: 64 | AT164: K | AU164: 2 | AY164: ROZPOCET | BE164: =IF(N164="základní",J164,0) -> 0 | BF164: =IF(N164="snížená",J164,0) -> 0 | BG164: =IF(N164="zákl. přenesená",J164,0) -> 0 | BH164: =IF(N164="sníž. přenesená",J164,0) -> 0 | BI164: =IF(N164="nulová",J164,0) -> 0 | BJ164: 1 | BK164: =ROUND(I164*H164,1) -> 0 | BL164: 64 | BM164: 747717347
C165: 63 | D165: K | E165: 460150883 | F165: Hloubení kabelových zapažených i nezapažených rýh ručně š 80 cm, hl 120 cm, v hornině tř 3 | G165: m | H165: 167 | J165: =ROUND(I165*H165,1) -> 0 | N165: základní | O165: 2.958 | P165: =O165*H165 -> 493.986 | Q165: 0 | R165: =Q165*H165 -> 0 | S165: 0 | T165: =S165*H165 -> 0 | AR165: 64 | AT165: K | AU165: 2 | AY165: ROZPOCET | BE165: =IF(N165="základní",J165,0) -> 0 | BF165: =IF(N165="snížená",J165,0) -> 0 | BG165: =IF(N165="zákl. přenesená",J165,0) -> 0 | BH165: =IF(N165="sníž. přenesená",J165,0) -> 0 | BI165: =IF(N165="nulová",J165,0) -> 0 | BJ165: 1 | BK165: =ROUND(I165*H165,1) -> 0 | BL165: 64 | BM165: 2038560966
C166: 61 | D166: K | E166: 460300002 | F166: Zásyp jam nebo rýh strojně včetně zhutnění ve volném terénu | G166: m3 | H166: 21 | J166: =ROUND(I166*H166,1) -> 0 | N166: základní | O166: 0.14 | P166: =O166*H166 -> 2.94 | Q166: 0 | R166: =Q166*H166 -> 0 | S166: 0 | T166: =S166*H166 -> 0 | AR166: 64 | AT166: K | AU166: 2 | AY166: ROZPOCET | BE166: =IF(N166="základní",J166,0) -> 0 | BF166: =IF(N166="snížená",J166,0) -> 0 | BG166: =IF(N166="zákl. přenesená",J166,0) -> 0 | BH166: =IF(N166="sníž. přenesená",J166,0) -> 0 | BI166: =IF(N166="nulová",J166,0) -> 0 | BJ166: 1 | BK166: =ROUND(I166*H166,1) -> 0 | BL166: 64 | BM166: 1785109040
C167: 66 | D167: K | E167: 460421101 | F167: Lože kabelů z písku nebo štěrkopísku tl 10 cm nad kabel, bez zakrytí, šířky lože do 65 cm | G167: m | H167: 714 | J167: =ROUND(I167*H167,1) -> 0 | N167: základní | O167: 0.111 | P167: =O167*H167 -> 79.254 | Q167: 0.203 | R167: =Q167*H167 -> 144.942 | S167: 0 | T167: =S167*H167 -> 0 | AR167: 64 | AT167: K | AU167: 2 | AY167: ROZPOCET | BE167: =IF(N167="základní",J167,0) -> 0 | BF167: =IF(N167="snížená",J167,0) -> 0 | BG167: =IF(N167="zákl. přenesená",J167,0) -> 0 | BH167: =IF(N167="sníž. přenesená",J167,0) -> 0 | BI167: =IF(N167="nulová",J167,0) -> 0 | BJ167: 1 | BK167: =ROUND(I167*H167,1) -> 0 | BL167: 64 | BM167: -156559643
C168: 42 | D168: K | E168: 460470001 | F168: Provizorní zajištění potrubí ve výkopech při křížení s kabelem | G168: kus | H168: 4 | J168: =ROUND(I168*H168,1) -> 0 | N168: základní | O168: 0.019 | P168: =O168*H168 -> 0.076 | Q168: 0.0038 | R168: =Q168*H168 -> 0.0152 | S168: 0 | T168: =S168*H168 -> 0 | AR168: 64 | AT168: K | AU168: 2 | AY168: ROZPOCET | BE168: =IF(N168="základní",J168,0) -> 0 | BF168: =IF(N168="snížená",J168,0) -> 0 | BG168: =IF(N168="zákl. přenesená",J168,0) -> 0 | BH168: =IF(N168="sníž. přenesená",J168,0) -> 0 | BI168: =IF(N168="nulová",J168,0) -> 0 | BJ168: 1 | BK168: =ROUND(I168*H168,1) -> 0 | BL168: 64 | BM168: 316862424
C169: 43 | D169: K | E169: 460470011 | F169: Provizorní zajištění kabelů ve výkopech při jejich křížení | G169: kus | H169: 10 | J169: =ROUND(I169*H169,1) -> 0 | N169: základní | O169: 0.019 | P169: =O169*H169 -> 0.19 | Q169: 0.0076 | R169: =Q169*H169 -> 0.076 | S169: 0 | T169: =S169*H169 -> 0 | AR169: 64 | AT169: K | AU169: 2 | AY169: ROZPOCET | BE169: =IF(N169="základní",J169,0) -> 0 | BF169: =IF(N169="snížená",J169,0) -> 0 | BG169: =IF(N169="zákl. přenesená",J169,0) -> 0 | BH169: =IF(N169="sníž. přenesená",J169,0) -> 0 | BI169: =IF(N169="nulová",J169,0) -> 0 | BJ169: 1 | BK169: =ROUND(I169*H169,1) -> 0 | BL169: 64 | BM169: -373706285
C170: 44 | D170: K | E170: 460490013 | F170: Krytí kabelů výstražnou fólií šířky 34 cm | G170: m | H170: 714 | J170: =ROUND(I170*H170,1) -> 0 | N170: základní | O170: 0.025 | P170: =O170*H170 -> 17.85 | Q170: 9e-05 | R170: =Q170*H170 -> 0.06426 | S170: 0 | T170: =S170*H170 -> 0 | AR170: 64 | AT170: K | AU170: 2 | AY170: ROZPOCET | BE170: =IF(N170="základní",J170,0) -> 0 | BF170: =IF(N170="snížená",J170,0) -> 0 | BG170: =IF(N170="zákl. přenesená",J170,0) -> 0 | BH170: =IF(N170="sníž. přenesená",J170,0) -> 0 | BI170: =IF(N170="nulová",J170,0) -> 0 | BJ170: 1 | BK170: =ROUND(I170*H170,1) -> 0 | BL170: 64 | BM170: 509537934
C171: 45 | D171: K | E171: 460510064 | F171: Kabelové prostupy z trub plastových do rýhy s obsypem, průměru do 10 cm | G171: m | H171: 856 | J171: =ROUND(I171*H171,1) -> 0 | N171: základní | O171: 0.17 | P171: =O171*H171 -> 145.52 | Q171: 0.108 | R171: =Q171*H171 -> 92.448 | S171: 0 | T171: =S171*H171 -> 0 | AR171: 64 | AT171: K | AU171: 2 | AY171: ROZPOCET | BE171: =IF(N171="základní",J171,0) -> 0 | BF171: =IF(N171="snížená",J171,0) -> 0 | BG171: =IF(N171="zákl. přenesená",J171,0) -> 0 | BH171: =IF(N171="sníž. přenesená",J171,0) -> 0 | BI171: =IF(N171="nulová",J171,0) -> 0 | BJ171: 1 | BK171: =ROUND(I171*H171,1) -> 0 | BL171: 64 | BM171: 1696843756
...
