Workbook
Name CelkemDPHVypocet: Stavba!$H$43
Name CenaCelkem: Stavba!$G$29
Name CenaCelkemBezDPH: Stavba!$G$28
Name CenaCelkemVypocet: Stavba!$I$43
Name cisloobjektu: Stavba!$D$3
Name CisloRozpoctu: '[1]Krycí list'!$C$2
Name CisloStavby: Stavba!$D$2
Name cislostavby: '[1]Krycí list'!$A$7
Name CisloStavebnihoRozpoctu: Stavba!$D$4
Name dadresa: Stavba!$D$12:$G$12
Name DIČ: Stavba!$I$12
Name dmisto: Stavba!$E$13:$G$13
Name DPHSni: Stavba!$G$24
Name DPHZakl: Stavba!$G$26
Name dpsc: Stavba!$D$13
Name IČO: Stavba!$I$11
Name Mena: Stavba!$J$29
Name MistoStavby: Stavba!$D$4
Name nazevobjektu: Stavba!$E$3
Name NazevRozpoctu: '[1]Krycí list'!$D$2
Name NazevStavby: Stavba!$E$2
Name nazevstavby: '[1]Krycí list'!$C$7
Name NazevStavebnihoRozpoctu: Stavba!$E$4
Name oadresa: Stavba!$D$6
Name Objednatel: Stavba!$D$5
Name Objekt: Stavba!$B$38
Name odic: Stavba!$I$6
Name oico: Stavba!$I$5
Name omisto: Stavba!$E$7
Name onazev: Stavba!$D$6
Name opsc: Stavba!$D$7
Name padresa: Stavba!$D$9
Name pdic: Stavba!$I$9
Name pico: Stavba!$I$8
Name pmisto: Stavba!$E$10
Name PocetMJ: #REF!
Name PoptavkaID: Stavba!$A$1
Name pPSC: Stavba!$D$10
Name Projektant: Stavba!$D$8
Name SazbaDPH1: Stavba!$E$23
Name SazbaDPH1: '[1]Krycí list'!$C$30
Name SazbaDPH2: Stavba!$E$25
Name SazbaDPH2: '[1]Krycí list'!$C$32
Name SloupecCC: #REF!
Name SloupecCisloPol: #REF!
Name SloupecJC: #REF!
Name SloupecMJ: #REF!
Name SloupecMnozstvi: #REF!
Name SloupecNazPol: #REF!
Name SloupecPC: #REF!
Name Vypracoval: Stavba!$D$14
Name ZakladDPHSni: Stavba!$G$23
Name ZakladDPHSniVypocet: Stavba!$F$43
Name ZakladDPHZakl: Stavba!$G$25
Name ZakladDPHZaklVypocet: Stavba!$G$43
Name ZaObjednatele: Stavba!$G$34
Name Zaokrouhleni: Stavba!$G$27
Name ZaZhotovitele: Stavba!$D$34
Name Zhotovitel: Stavba!$D$11:$G$11

Sheet Pokyny pro vyplnění
A1: Pokyny pro vyplnění
A2: Ve všech listech tohoto souboru můžete měnit pouze buňky s modrým pozadím. Jedná se o tyto údaje : - údaje o firmě - jednotkové ceny položek zadané na maximálně dvě desetinná místa

Sheet Stavba
A1: #RTSROZP# | B1: Soupis stavebních prací, dodávek a služeb
B2: Stavba: | D2: MW20/08 | E2: Oprava ZTI v objektu ZUŠ Palackého 146 v Brně
B3: Objekt: | D3: 01 | E3: ZTI
A4: 8829 | B4: Rozpočet: | D4: 03 | E4: Přípojka vody
B5: Zadavatel | D5: Statutární město Brno | H5: IČO: | I5: 44992785
D6: Dominikánské náměstí 196/1 | H6: DIČ: | I6: CZ44992785
D7: 60200 | E7: Brno-Brno-město
B8: Projektant: | H8: IČO:
H9: DIČ:
B11: Zhotovitel: | H11: IČO:
H12: DIČ:
B14: Vypracoval:
B15: Rozpis ceny | I15: Celkem
A16: HSV | B16: HSV | I16: =SUMIF(F50:F57,A16,I50:I57)+SUMIF(F50:F57,"PSU",I50:I57) -> 0
A17: PSV | B17: PSV | I17: =SUMIF(F50:F57,A17,I50:I57) -> 0
A18: MON | B18: MON | I18: =SUMIF(F50:F57,A18,I50:I57) -> 0
A19: VN | B19: Vedlejší náklady | I19: =SUMIF(F50:F57,A19,I50:I57) -> 0
A20: ON | B20: Ostatní náklady | I20: =SUMIF(F50:F57,A20,I50:I57) -> 0
B21: Celkem | I21: =SUM(I16:J20) -> 0
B22: Rekapitulace daní
A23: =ZakladDPHSni*SazbaDPH1/100 -> 0 | B23: Základ pro sníženou DPH | E23: 15 | F23: % | G23: =ZakladDPHSniVypocet -> 0 | J23: =Mena -> CZK
A24: =(A23-INT(A23))*100 -> 0 | B24: Snížená DPH | E24: =SazbaDPH1 -> 15 | F24: % | G24: =IF(A24>50, ROUNDUP(A23, 0), ROUNDDOWN(A23, 0)) -> 0 | J24: =Mena -> CZK
A25: =ZakladDPHZakl*SazbaDPH2/100 -> 0 | B25: Základ pro základní DPH | E25: 21 | F25: % | G25: =ZakladDPHZaklVypocet -> 0 | J25: =Mena -> CZK
A26: =(A25-INT(A25))*100 -> 0 | B26: Základní DPH | E26: =SazbaDPH2 -> 21 | F26: % | G26: =IF(A26>50, ROUNDUP(A25, 0), ROUNDDOWN(A25, 0)) -> 0 | J26: =Mena -> CZK
A27: =ZakladDPHSni+DPHSni+ZakladDPHZakl+DPHZakl -> 0 | B27: Zaokrouhlení | G27: =CenaCelkem-(ZakladDPHSni+DPHSni+ZakladDPHZakl+DPHZakl) -> 0 | J27: =Mena -> CZK
B28: Cena celkem bez DPH | G28: =ZakladDPHSniVypocet+ZakladDPHZaklVypocet -> 0 | J28: =Mena -> CZK
A29: =(A27-INT(A27))*100 -> 0 | B29: Cena celkem s DPH | G29: =IF(A29>50, ROUNDUP(A27, 0), ROUNDDOWN(A27, 0)) -> 0 | J29: CZK
C32: v | F32: dne
D35: Za zhotovitele | H35: Za objednatele
B37: Rekapitulace dílčích částí
A38: #CASTI>> | B38: Číslo | C38: Název | F38: =B23 -> Základ pro sníženou DPH | G38: =B25 -> Základ pro základní DPH | H38: DPH celkem | I38: Cena celkem | J38: %
A39: 1 | B39: Stavba | F39: ='01 03 Pol'!AE126 -> 0 | G39: ='01 03 Pol'!AF126 -> 0 | H39: =(F39*SazbaDPH1/100)+(G39*SazbaDPH2/100) -> 0 | I39: =F39+G39+H39 -> 0 | J39: =IF(_xlfn.SINGLE(CenaCelkemVypocet)=0,"",I39/_xlfn.SINGLE(CenaCelkemVypocet)*100)
A40: 2 | C40: Provozní soubor | H40: =(F40*SazbaDPH1/100)+(G40*SazbaDPH2/100) -> 0
A41: 2 | B41: 01 | C41: ZTI | F41: ='01 03 Pol'!AE126 -> 0 | G41: ='01 03 Pol'!AF126 -> 0 | H41: =(F41*SazbaDPH1/100)+(G41*SazbaDPH2/100) -> 0 | I41: =F41+G41+H41 -> 0 | J41: =IF(_xlfn.SINGLE(CenaCelkemVypocet)=0,"",I41/_xlfn.SINGLE(CenaCelkemVypocet)*100)
A42: 3 | B42: 03 | C42: Přípojka vody | F42: ='01 03 Pol'!AE126 -> 0 | G42: ='01 03 Pol'!AF126 -> 0 | H42: =(F42*SazbaDPH1/100)+(G42*SazbaDPH2/100) -> 0 | I42: =F42+G42+H42 -> 0 | J42: =IF(_xlfn.SINGLE(CenaCelkemVypocet)=0,"",I42/_xlfn.SINGLE(CenaCelkemVypocet)*100)
B43: Celkem za stavbu | F43: =SUMIF(A39:A42,"=1",F39:F42) -> 0 | G43: =SUMIF(A39:A42,"=1",G39:G42) -> 0 | H43: =SUMIF(A39:A42,"=1",H39:H42) -> 0 | I43: =SUMIF(A39:A42,"=1",I39:I42) -> 0 | J43: =SUMIF(A39:A42,"=1",J39:J42) -> 0
B47: Rekapitulace dílů
B49: Číslo | C49: Název | F49: Typ dílu | I49: Celkem | J49: %
B50: 1 | C50: Zemní práce | F50: HSV | I50: ='01 03 Pol'!G8 -> 0 | J50: =IF(I58=0,"",I50/I58*100)
B51: 45 | C51: Podkladní a vedlejší konstrukce | F51: HSV | I51: ='01 03 Pol'!G58 -> 0 | J51: =IF(I58=0,"",I51/I58*100)
...

Sheet VzorPolozky
A1: Položkový rozpočet
A2: S:
A3: O:
A4: R:

Sheet 01 03 Pol
A1: Položkový soupis prací a dodávek | AG1: #TypZaznamu#
A2: S: | B2: MW20/08 | C2: Oprava ZTI v objektu ZUŠ Palackého 146 v Brně | AG2: STA
A3: O: | B3: 01 | C3: ZTI | AC3: PRO | AG3: OBJ
A4: R: | B4: 03 | C4: Přípojka vody | AG4: ROZ
A6: P.č. | B6: Číslo položky | C6: Název položky | D6: MJ | E6: Množství | F6: Cena / MJ | G6: Celkem | H6: Dodávka | I6: Dodávka celk. | J6: Montáž | K6: Montáž celk. | L6: DPH | M6: Cena s DPH | N6: Hmotnost / MJ | O6: Hmotnost celk.(t) | P6: Dem. hmotnost / MJ | Q6: Dem. hmotnost celk.(t) | R6: Ceník | S6: Cen. soustava / platnost | T6: Cenová úroveň | U6: Nhod / MJ | V6: Nhod celk. | W6: Dodavatel | X6: Typ položky
A8: Díl: | B8: 1 | C8: Zemní práce | G8: =SUMIF(AG9:AG57,"<>NOR",G9:G57) -> 0 | I8: =SUM(I9:I57) -> 0 | K8: =SUM(K9:K57) -> 0 | M8: =SUM(M9:M57) -> 0 | O8: =SUM(O9:O57) -> 48.41 | Q8: =SUM(Q9:Q57) -> 0 | V8: =SUM(V9:V57) -> 497.2 | AG8: DIL
A9: 1 | B9: 119001411R00 | C9: Dočasné zajištění podzemního potrubí nebo vedení betonového potrubí_x000D_ DN do 200 mm | D9: m | E9: 1.2 | G9: =ROUND(E9*F9,2) -> 0 | I9: =ROUND(E9*H9,2) -> 0 | K9: =ROUND(E9*J9,2) -> 0 | L9: 21 | M9: =G9*(1+L9/100) -> 0 | N9: 0.0107 | O9: =ROUND(E9*N9,2) -> 0.01 | P9: 0 | Q9: =ROUND(E9*P9,2) -> 0 | R9: 800-1 | S9: RTS 20/ I | T9: RTS 20/ I | U9: 0.908 | V9: =ROUND(E9*U9,2) -> 1.09 | X9: Práce | AG9: POL1_
C10: ve výkopišti ve stavu a poloze, ve kterých byla na začátku zemních prací, a to podepřením, vzepřením nebo vyvěšením, případně s ochranným bedněním, se zřízením a odstraněním zajišťovací konstrukce a včetně opotřebení použitých materiálů, | AG10: SPI | BA10: =C10 -> ve výkopišti ve stavu a poloze, ve kterých byla na začátku zemních prací, a to podepřením, vzepřením nebo vyvěšením, případně s ochranným bedněním, se zřízením a odstraněním zajišťovací konstrukce a včetně opotřebení použitých materiálů,
A11: 2 | B11: 119001421R00 | C11: Dočasné zajištění podzemního potrubí nebo vedení kabelů do 3 kabelů | D11: m | E11: 1.2 | G11: =ROUND(E11*F11,2) -> 0 | I11: =ROUND(E11*H11,2) -> 0 | K11: =ROUND(E11*J11,2) -> 0 | L11: 21 | M11: =G11*(1+L11/100) -> 0 | N11: 0.02478 | O11: =ROUND(E11*N11,2) -> 0.03 | P11: 0 | Q11: =ROUND(E11*P11,2) -> 0 | R11: 800-1 | S11: RTS 20/ I | T11: RTS 20/ I | U11: 0.547 | V11: =ROUND(E11*U11,2) -> 0.66 | X11: Práce | AG11: POL1_
C12: ve výkopišti ve stavu a poloze, ve kterých byla na začátku zemních prací, a to podepřením, vzepřením nebo vyvěšením, případně s ochranným bedněním, se zřízením a odstraněním zajišťovací konstrukce a včetně opotřebení použitých materiálů, | AG12: SPI | BA12: =C12 -> ve výkopišti ve stavu a poloze, ve kterých byla na začátku zemních prací, a to podepřením, vzepřením nebo vyvěšením, případně s ochranným bedněním, se zřízením a odstraněním zajišťovací konstrukce a včetně opotřebení použitých materiálů,
A13: 3 | B13: 119001422R00 | C13: Dočasné zajištění podzemního potrubí nebo vedení kabelů přes 3 do 6 kabelů | D13: m | E13: 2.4 | G13: =ROUND(E13*F13,2) -> 0 | I13: =ROUND(E13*H13,2) -> 0 | K13: =ROUND(E13*J13,2) -> 0 | L13: 21 | M13: =G13*(1+L13/100) -> 0 | N13: 0.03974 | O13: =ROUND(E13*N13,2) -> 0.1 | P13: 0 | Q13: =ROUND(E13*P13,2) -> 0 | R13: 800-1 | S13: RTS 20/ I | T13: RTS 20/ I | U13: 0.753 | V13: =ROUND(E13*U13,2) -> 1.81 | X13: Práce | AG13: POL1_
C14: ve výkopišti ve stavu a poloze, ve kterých byla na začátku zemních prací, a to podepřením, vzepřením nebo vyvěšením, případně s ochranným bedněním, se zřízením a odstraněním zajišťovací konstrukce a včetně opotřebení použitých materiálů, | AG14: SPI | BA14: =C14 -> ve výkopišti ve stavu a poloze, ve kterých byla na začátku zemních prací, a to podepřením, vzepřením nebo vyvěšením, případně s ochranným bedněním, se zřízením a odstraněním zajišťovací konstrukce a včetně opotřebení použitých materiálů,
C15: 2*1,2 | E15: 2.4 | AG15: VV | AH15: 0
A16: 4 | B16: 119001423R00 | C16: Dočasné zajištění podzemního potrubí nebo vedení kabelů přes 6 kabelů | D16: m | E16: 1.2 | G16: =ROUND(E16*F16,2) -> 0 | I16: =ROUND(E16*H16,2) -> 0 | K16: =ROUND(E16*J16,2) -> 0 | L16: 21 | M16: =G16*(1+L16/100) -> 0 | N16: 0.06963 | O16: =ROUND(E16*N16,2) -> 0.08 | P16: 0 | Q16: =ROUND(E16*P16,2) -> 0 | R16: 800-1 | S16: RTS 20/ I | T16: RTS 20/ I | U16: 1.246 | V16: =ROUND(E16*U16,2) -> 1.5 | X16: Práce | AG16: POL1_
C17: ve výkopišti ve stavu a poloze, ve kterých byla na začátku zemních prací, a to podepřením, vzepřením nebo vyvěšením, případně s ochranným bedněním, se zřízením a odstraněním zajišťovací konstrukce a včetně opotřebení použitých materiálů, | AG17: SPI | BA17: =C17 -> ve výkopišti ve stavu a poloze, ve kterých byla na začátku zemních prací, a to podepřením, vzepřením nebo vyvěšením, případně s ochranným bedněním, se zřízením a odstraněním zajišťovací konstrukce a včetně opotřebení použitých materiálů,
A18: 5 | B18: 130001101R00 | C18: Příplatek k cenám za ztížené vykopávky v horninách jakékoliv třídy | D18: m3 | E18: 90.3168 | G18: =ROUND(E18*F18,2) -> 0 | I18: =ROUND(E18*H18,2) -> 0 | K18: =ROUND(E18*J18,2) -> 0 | L18: 21 | M18: =G18*(1+L18/100) -> 0 | N18: 0 | O18: =ROUND(E18*N18,2) -> 0 | P18: 0 | Q18: =ROUND(E18*P18,2) -> 0 | R18: 800-1 | S18: RTS 20/ I | T18: RTS 20/ I | U18: 1.763 | V18: =ROUND(E18*U18,2) -> 159.23 | X18: Práce | AG18: POL1_
C19: Příplatek k cenám hloubených vykopávek za ztížení vykopávky v blízkosti podzemního vedení nebo výbušnin pro jakoukoliv třídu horniny. | AG19: SPI | BA19: =C19 -> Příplatek k cenám hloubených vykopávek za ztížení vykopávky v blízkosti podzemního vedení nebo výbušnin pro jakoukoliv třídu horniny.
C20: 70% : | AG20: VV | AH20: 0
C21: Odkaz na mn. položky pořadí 6 : 129,02400*0,7 | E21: 90.3168 | AG21: VV | AH21: 5
A22: 6 | B22: 132201212R00 | C22: Hloubení rýh šířky přes 60 do 200 cm do 1000 m3, v hornině 3, hloubení strojně | D22: m3 | E22: 129.024 | G22: =ROUND(E22*F22,2) -> 0 | I22: =ROUND(E22*H22,2) -> 0 | K22: =ROUND(E22*J22,2) -> 0 | L22: 21 | M22: =G22*(1+L22/100) -> 0 | N22: 0 | O22: =ROUND(E22*N22,2) -> 0 | P22: 0 | Q22: =ROUND(E22*P22,2) -> 0 | R22: 800-1 | S22: RTS 20/ I | T22: RTS 20/ I | U22: 0.16 | V22: =ROUND(E22*U22,2) -> 20.64 | X22: Práce | AG22: POL1_
C23: zapažených i nezapažených, s urovnáním dna do předepsaného profilu a spádu, s případně nutným přehozením výkopku na vzdálenost do 3 m ve výkopišti, s přehozením výkopku na přilehlém terénu na vzdálenost do 5 m od podélné osy rýhy nebo s naložením výkopku na dopravní prostředek. | AG23: SPI | BA23: =C23 -> zapažených i nezapažených, s urovnáním dna do předepsaného profilu a spádu, s případně nutným přehozením výkopku na vzdálenost do 3 m ve výkopišti, s přehozením výkopku na přilehlém terénu na vzdálenost do 5 m od podélné osy rýhy nebo s naložením výkopku na dopravní prostředek.
C24: vodovod : 1,2*67,2*1,6 | E24: 129.024 | AG24: VV | AH24: 0
A25: 7 | B25: 132201219R00 | C25: Hloubení rýh šířky přes 60 do 200 cm příplatek za lepivost, v hornině 3, | D25: m3 | E25: 64.512 | G25: =ROUND(E25*F25,2) -> 0 | I25: =ROUND(E25*H25,2) -> 0 | K25: =ROUND(E25*J25,2) -> 0 | L25: 21 | M25: =G25*(1+L25/100) -> 0 | N25: 0 | O25: =ROUND(E25*N25,2) -> 0 | P25: 0 | Q25: =ROUND(E25*P25,2) -> 0 | R25: 800-1 | S25: RTS 20/ I | T25: RTS 20/ I | U25: 0.084 | V25: =ROUND(E25*U25,2) -> 5.42 | X25: Práce | AG25: POL1_
C26: zapažených i nezapažených, s urovnáním dna do předepsaného profilu a spádu, s případně nutným přehozením výkopku na vzdálenost do 3 m ve výkopišti, s přehozením výkopku na přilehlém terénu na vzdálenost do 5 m od podélné osy rýhy nebo s naložením výkopku na dopravní prostředek. | AG26: SPI | BA26: =C26 -> zapažených i nezapažených, s urovnáním dna do předepsaného profilu a spádu, s případně nutným přehozením výkopku na vzdálenost do 3 m ve výkopišti, s přehozením výkopku na přilehlém terénu na vzdálenost do 5 m od podélné osy rýhy nebo s naložením výkopku na dopravní prostředek.
C27: 50% : | AG27: VV | AH27: 0
C28: Odkaz na mn. položky pořadí 6 : 129,02400*0,5 | E28: 64.512 | AG28: VV | AH28: 5
A29: 8 | B29: 139601102R00 | C29: Ruční výkop jam, rýh a šachet v hornině 3 | D29: m3 | E29: 9.6 | G29: =ROUND(E29*F29,2) -> 0 | I29: =ROUND(E29*H29,2) -> 0 | K29: =ROUND(E29*J29,2) -> 0 | L29: 21 | M29: =G29*(1+L29/100) -> 0 | N29: 0 | O29: =ROUND(E29*N29,2) -> 0 | P29: 0 | Q29: =ROUND(E29*P29,2) -> 0 | R29: 800-1 | S29: RTS 20/ I | T29: RTS 20/ I | U29: 3.533 | V29: =ROUND(E29*U29,2) -> 33.92 | X29: Práce | AG29: POL1_
C30: s přehozením na vzdálenost do 5 m nebo s naložením na ruční dopravní prostředek | AG30: SPI
C31: sonda pro zjištění polohy stávajících sítí : 2,0*2,0*0,8*3 | E31: 9.6 | AG31: VV | AH31: 0
A32: 9 | B32: 151101101R00 | C32: Zřízení pažení a rozepření stěn rýh příložné pro jakoukoliv mezerovitost, hloubky do 2 m | D32: m2 | E32: 215.04 | G32: =ROUND(E32*F32,2) -> 0 | I32: =ROUND(E32*H32,2) -> 0 | K32: =ROUND(E32*J32,2) -> 0 | L32: 21 | M32: =G32*(1+L32/100) -> 0 | N32: 0.00099 | O32: =ROUND(E32*N32,2) -> 0.21 | P32: 0 | Q32: =ROUND(E32*P32,2) -> 0 | R32: 800-1 | S32: RTS 20/ I | T32: RTS 20/ I | U32: 0.236 | V32: =ROUND(E32*U32,2) -> 50.75 | X32: Práce | AG32: POL1_
C33: pro podzemní vedení pro všechny šířky rýhy, | AG33: SPI
C34: 2*67,2*1,6 | E34: 215.04 | AG34: VV | AH34: 0
A35: 10 | B35: 151101111R00 | C35: Odstranění pažení a rozepření rýh příložné , hloubky do 2 m | D35: m2 | E35: 215.04 | G35: =ROUND(E35*F35,2) -> 0 | I35: =ROUND(E35*H35,2) -> 0 | K35: =ROUND(E35*J35,2) -> 0 | L35: 21 | M35: =G35*(1+L35/100) -> 0 | N35: 0 | O35: =ROUND(E35*N35,2) -> 0 | P35: 0 | Q35: =ROUND(E35*P35,2) -> 0 | R35: 800-1 | S35: RTS 20/ I | T35: RTS 20/ I | U35: 0.07 | V35: =ROUND(E35*U35,2) -> 15.05 | X35: Práce | AG35: POL1_
C36: pro podzemní vedení s uložením materiálu na vzdálenost do 3 m od kraje výkopu, | AG36: SPI
A37: 11 | B37: 151101311R00 | C37: Odstranění rozepření stěn výkopů při roubení příložném, hloubky do 4 m | D37: m3 | E37: 129.024 | G37: =ROUND(E37*F37,2) -> 0 | I37: =ROUND(E37*H37,2) -> 0 | K37: =ROUND(E37*J37,2) -> 0 | L37: 21 | M37: =G37*(1+L37/100) -> 0 | N37: 0 | O37: =ROUND(E37*N37,2) -> 0 | P37: 0 | Q37: =ROUND(E37*P37,2) -> 0 | R37: 800-1 | S37: RTS 20/ I | T37: RTS 20/ I | U37: 0.038 | V37: =ROUND(E37*U37,2) -> 4.9 | X37: Práce | AG37: POL1_
C38: s uložením materiálu na vzdálenost do 3 m od okraje výkopu, | AG38: SPI
A39: 12 | B39: 161101101R00 | C39: Svislé přemístění výkopku z horniny 1 až 4, při hloubce výkopu přes 1 do 2,5 m | D39: m3 | E39: 129.024 | G39: =ROUND(E39*F39,2) -> 0 | I39: =ROUND(E39*H39,2) -> 0 | K39: =ROUND(E39*J39,2) -> 0 | L39: 21 | M39: =G39*(1+L39/100) -> 0 | N39: 0 | O39: =ROUND(E39*N39,2) -> 0 | P39: 0 | Q39: =ROUND(E39*P39,2) -> 0 | R39: 800-1 | S39: RTS 20/ I | T39: RTS 20/ I | U39: 0.69 | V39: =ROUND(E39*U39,2) -> 89.03 | X39: Práce | AG39: POL1_
C40: bez naložení do dopravní nádoby, ale s vyprázdněním dopravní nádoby na hromadu nebo na dopravní prostředek, | AG40: SPI | BA40: =C40 -> bez naložení do dopravní nádoby, ale s vyprázdněním dopravní nádoby na hromadu nebo na dopravní prostředek,
A41: 13 | B41: 162701105R00 | C41: Vodorovné přemístění výkopku z horniny 1 až 4, na vzdálenost přes 9 000 do 10 000 m | D41: m3 | E41: 36.288 | G41: =ROUND(E41*F41,2) -> 0 | I41: =ROUND(E41*H41,2) -> 0 | K41: =ROUND(E41*J41,2) -> 0 | L41: 21 | M41: =G41*(1+L41/100) -> 0 | N41: 0 | O41: =ROUND(E41*N41,2) -> 0 | P41: 0 | Q41: =ROUND(E41*P41,2) -> 0 | R41: 800-1 | S41: RTS 20/ I | T41: RTS 20/ I | U41: 0.022 | V41: =ROUND(E41*U41,2) -> 0.8 | X41: Práce | AG41: POL1_
C42: po suchu, bez naložení výkopku, avšak se složením bez rozhrnutí, zpáteční cesta vozidla. | AG42: SPI
...
