Workbook
Name CelkemDPHVypocet: Stavba!$H$43
Name CenaCelkem: Stavba!$G$29
Name CenaCelkemBezDPH: Stavba!$G$28
Name CenaCelkemVypocet: Stavba!$I$43
Name cisloobjektu: Stavba!$D$3
Name CisloRozpoctu: '[1]Krycí list'!$C$2
Name CisloStavby: Stavba!$D$2
Name cislostavby: '[1]Krycí list'!$A$7
Name CisloStavebnihoRozpoctu: Stavba!$D$4
Name dadresa: Stavba!$D$12:$G$12
Name DIČ: Stavba!$I$12
Name dmisto: Stavba!$E$13:$G$13
Name DPHSni: Stavba!$G$24
Name DPHZakl: Stavba!$G$26
Name dpsc: Stavba!$D$13
Name IČO: Stavba!$I$11
Name Mena: Stavba!$J$29
Name MistoStavby: Stavba!$D$4
Name nazevobjektu: Stavba!$E$3
Name NazevRozpoctu: '[1]Krycí list'!$D$2
Name NazevStavby: Stavba!$E$2
Name nazevstavby: '[1]Krycí list'!$C$7
Name NazevStavebnihoRozpoctu: Stavba!$E$4
Name oadresa: Stavba!$D$6
Name Objednatel: Stavba!$D$5
Name Objekt: Stavba!$B$38
Name odic: Stavba!$I$6
Name oico: Stavba!$I$5
Name omisto: Stavba!$E$7
Name onazev: Stavba!$D$6
Name opsc: Stavba!$D$7
Name padresa: Stavba!$D$9
Name pdic: Stavba!$I$9
Name pico: Stavba!$I$8
Name pmisto: Stavba!$E$10
Name PocetMJ: #REF!
Name PoptavkaID: Stavba!$A$1
Name pPSC: Stavba!$D$10
Name Projektant: Stavba!$D$8
Name SazbaDPH1: Stavba!$E$23
Name SazbaDPH1: '[1]Krycí list'!$C$30
Name SazbaDPH2: Stavba!$E$25
Name SazbaDPH2: '[1]Krycí list'!$C$32
Name SloupecCC: #REF!
Name SloupecCisloPol: #REF!
Name SloupecJC: #REF!
Name SloupecMJ: #REF!
Name SloupecMnozstvi: #REF!
Name SloupecNazPol: #REF!
Name SloupecPC: #REF!
Name Vypracoval: Stavba!$D$14
Name ZakladDPHSni: Stavba!$G$23
Name ZakladDPHSniVypocet: Stavba!$F$43
Name ZakladDPHZakl: Stavba!$G$25
Name ZakladDPHZaklVypocet: Stavba!$G$43
Name ZaObjednatele: Stavba!$G$34
Name Zaokrouhleni: Stavba!$G$27
Name ZaZhotovitele: Stavba!$D$34
Name Zhotovitel: Stavba!$D$11:$G$11

Sheet Pokyny pro vyplnění
A1: Pokyny pro vyplnění
A2: Ve všech listech tohoto souboru můžete měnit pouze buňky s modrým pozadím. Jedná se o tyto údaje : - údaje o firmě - jednotkové ceny položek zadané na maximálně dvě desetinná místa

Sheet Stavba
A1: #RTSROZP# | B1: Soupis stavebních prací, dodávek a služeb
B2: Stavba: | D2: MW20/08 | E2: Oprava ZTI v objektu ZUŠ Palackého 146 v Brně
B3: Objekt: | D3: 01 | E3: ZTI
A4: 8829 | B4: Rozpočet: | D4: 03 | E4: Přípojka vody
B5: Zadavatel | D5: Statutární město Brno | H5: IČO: | I5: 44992785
D6: Dominikánské náměstí 196/1 | H6: DIČ: | I6: CZ44992785
D7: 60200 | E7: Brno-Brno-město
B8: Projektant: | H8: IČO:
H9: DIČ:
B11: Zhotovitel: | H11: IČO:
H12: DIČ:
B14: Vypracoval:
B15: Rozpis ceny | I15: Celkem
A16: HSV | B16: HSV | I16: =SUMIF(F50:F57,A16,I50:I57)+SUMIF(F50:F57,"PSU",I50:I57) -> 0
A17: PSV | B17: PSV | I17: =SUMIF(F50:F57,A17,I50:I57) -> 0
A18: MON | B18: MON | I18: =SUMIF(F50:F57,A18,I50:I57) -> 0
A19: VN | B19: Vedlejší náklady | I19: =SUMIF(F50:F57,A19,I50:I57) -> 0
A20: ON | B20: Ostatní náklady | I20: =SUMIF(F50:F57,A20,I50:I57) -> 0
B21: Celkem | I21: =SUM(I16:J20) -> 0
B22: Rekapitulace daní
A23: =ZakladDPHSni*SazbaDPH1/100 -> 0 | B23: Základ pro sníženou DPH | E23: 15 | F23: % | G23: =ZakladDPHSniVypocet -> 0 | J23: =Mena -> CZK
A24: =(A23-INT(A23))*100 -> 0 | B24: Snížená DPH | E24: =SazbaDPH1 -> 15 | F24: % | G24: =IF(A24>50, ROUNDUP(A23, 0), ROUNDDOWN(A23, 0)) -> 0 | J24: =Mena -> CZK
A25: =ZakladDPHZakl*SazbaDPH2/100 -> 0 | B25: Základ pro základní DPH | E25: 21 | F25: % | G25: =ZakladDPHZaklVypocet -> 0 | J25: =Mena -> CZK
A26: =(A25-INT(A25))*100 -> 0 | B26: Základní DPH | E26: =SazbaDPH2 -> 21 | F26: % | G26: =IF(A26>50, ROUNDUP(A25, 0), ROUNDDOWN(A25, 0)) -> 0 | J26: =Mena -> CZK
A27: =ZakladDPHSni+DPHSni+ZakladDPHZakl+DPHZakl -> 0 | B27: Zaokrouhlení | G27: =CenaCelkem-(ZakladDPHSni+DPHSni+ZakladDPHZakl+DPHZakl) -> 0 | J27: =Mena -> CZK
B28: Cena celkem bez DPH | G28: =ZakladDPHSniVypocet+ZakladDPHZaklVypocet -> 0 | J28: =Mena -> CZK
A29: =(A27-INT(A27))*100 -> 0 | B29: Cena celkem s DPH | G29: =IF(A29>50, ROUNDUP(A27, 0), ROUNDDOWN(A27, 0)) -> 0 | J29: CZK
C32: v | F32: dne
D35: Za zhotovitele | H35: Za objednatele
B37: Rekapitulace dílčích částí
A38: #CASTI>> | B38: Číslo | C38: Název | F38: =B23 -> Základ pro sníženou DPH | G38: =B25 -> Základ pro základní DPH | H38: DPH celkem | I38: Cena celkem | J38: %
A39: 1 | B39: Stavba | F39: ='01 03 Pol'!AE126 -> 0 | G39: ='01 03 Pol'!AF126 -> 0 | H39: =(F39*SazbaDPH1/100)+(G39*SazbaDPH2/100) -> 0 | I39: =F39+G39+H39 -> 0 | J39: =IF(_xlfn.SINGLE(CenaCelkemVypocet)=0,"",I39/_xlfn.SINGLE(CenaCelkemVypocet)*100)
A40: 2 | C40: Provozní soubor | H40: =(F40*SazbaDPH1/100)+(G40*SazbaDPH2/100) -> 0
A41: 2 | B41: 01 | C41: ZTI | F41: ='01 03 Pol'!AE126 -> 0 | G41: ='01 03 Pol'!AF126 -> 0 | H41: =(F41*SazbaDPH1/100)+(G41*SazbaDPH2/100) -> 0 | I41: =F41+G41+H41 -> 0 | J41: =IF(_xlfn.SINGLE(CenaCelkemVypocet)=0,"",I41/_xlfn.SINGLE(CenaCelkemVypocet)*100)
A42: 3 | B42: 03 | C42: Přípojka vody | F42: ='01 03 Pol'!AE126 -> 0 | G42: ='01 03 Pol'!AF126 -> 0 | H42: =(F42*SazbaDPH1/100)+(G42*SazbaDPH2/100) -> 0 | I42: =F42+G42+H42 -> 0 | J42: =IF(_xlfn.SINGLE(CenaCelkemVypocet)=0,"",I42/_xlfn.SINGLE(CenaCelkemVypocet)*100)
B43: Celkem za stavbu | F43: =SUMIF(A39:A42,"=1",F39:F42) -> 0 | G43: =SUMIF(A39:A42,"=1",G39:G42) -> 0 | H43: =SUMIF(A39:A42,"=1",H39:H42) -> 0 | I43: =SUMIF(A39:A42,"=1",I39:I42) -> 0 | J43: =SUMIF(A39:A42,"=1",J39:J42) -> 0
B47: Rekapitulace dílů
B49: Číslo | C49: Název | F49: Typ dílu | I49: Celkem | J49: %
B50: 1 | C50: Zemní práce | F50: HSV | I50: ='01 03 Pol'!G8 -> 0 | J50: =IF(I58=0,"",I50/I58*100)
B51: 45 | C51: Podkladní a vedlejší konstrukce | F51: HSV | I51: ='01 03 Pol'!G58 -> 0 | J51: =IF(I58=0,"",I51/I58*100)
B52: 5 | C52: Komunikace | F52: HSV | I52: ='01 03 Pol'!G62 -> 0 | J52: =IF(I58=0,"",I52/I58*100)
B53: 87 | C53: Potrubí z trub z plastických hmot | F53: HSV | I53: ='01 03 Pol'!G75 -> 0 | J53: =IF(I58=0,"",I53/I58*100)
B54: 89 | C54: Ostatní konstrukce na trubním vedení | F54: HSV | I54: ='01 03 Pol'!G86 -> 0 | J54: =IF(I58=0,"",I54/I58*100)
B55: 9 | C55: Ostatní konstrukce, bourání | F55: HSV | I55: ='01 03 Pol'!G95 -> 0 | J55: =IF(I58=0,"",I55/I58*100)
B56: VN | C56: Vedlejší náklady | F56: VN | I56: ='01 03 Pol'!G107 -> 0 | J56: =IF(I58=0,"",I56/I58*100)
B57: ON | C57: Ostatní náklady | F57: ON | I57: ='01 03 Pol'!G115 -> 0 | J57: =IF(I58=0,"",I57/I58*100)
B58: Cena celkem | I58: =SUM(I50:I57) -> 0 | J58: =SUM(J50:J57) -> 0

Sheet VzorPolozky
A1: Položkový rozpočet
A2: S:
A3: O:
A4: R:

Sheet 01 03 Pol
A1: Položkový soupis prací a dodávek | AG1: #TypZaznamu#
A2: S: | B2: MW20/08 | C2: Oprava ZTI v objektu ZUŠ Palackého 146 v Brně | AG2: STA
A3: O: | B3: 01 | C3: ZTI | AC3: PRO | AG3: OBJ
A4: R: | B4: 03 | C4: Přípojka vody | AG4: ROZ
A6: P.č. | B6: Číslo položky | C6: Název položky | D6: MJ | E6: Množství | F6: Cena / MJ | G6: Celkem | H6: Dodávka | I6: Dodávka celk. | J6: Montáž | K6: Montáž celk. | L6: DPH | M6: Cena s DPH | N6: Hmotnost / MJ | O6: Hmotnost celk.(t) | P6: Dem. hmotnost / MJ | Q6: Dem. hmotnost celk.(t) | R6: Ceník | S6: Cen. soustava / platnost | T6: Cenová úroveň | U6: Nhod / MJ | V6: Nhod celk. | W6: Dodavatel | X6: Typ položky
A8: Díl: | B8: 1 | C8: Zemní práce | G8: =SUMIF(AG9:AG57,"<>NOR",G9:G57) -> 0 | I8: =SUM(I9:I57) -> 0 | K8: =SUM(K9:K57) -> 0 | M8: =SUM(M9:M57) -> 0 | O8: =SUM(O9:O57) -> 48.41 | Q8: =SUM(Q9:Q57) -> 0 | V8: =SUM(V9:V57) -> 497.2 | AG8: DIL
A9: 1 | B9: 119001411R00 | C9: Dočasné zajištění podzemního potrubí nebo vedení betonového potrubí_x000D_ DN do 200 mm | D9: m | E9: 1.2 | G9: =ROUND(E9*F9,2) -> 0 | I9: =ROUND(E9*H9,2) -> 0 | K9: =ROUND(E9*J9,2) -> 0 | L9: 21 | M9: =G9*(1+L9/100) -> 0 | N9: 0.0107 | O9: =ROUND(E9*N9,2) -> 0.01 | P9: 0 | Q9: =ROUND(E9*P9,2) -> 0 | R9: 800-1 | S9: RTS 20/ I | T9: RTS 20/ I | U9: 0.908 | V9: =ROUND(E9*U9,2) -> 1.09 | X9: Práce | AG9: POL1_
C10: ve výkopišti ve stavu a poloze, ve kterých byla na začátku zemních prací, a to podepřením, vzepřením nebo vyvěšením, případně s ochranným bedněním, se zřízením a odstraněním zajišťovací konstrukce a včetně opotřebení použitých materiálů, | AG10: SPI | BA10: =C10 -> ve výkopišti ve stavu a poloze, ve kterých byla na začátku zemních prací, a to podepřením, vzepřením nebo vyvěšením, případně s ochranným bedněním, se zřízením a odstraněním zajišťovací konstrukce a včetně opotřebení použitých materiálů,
A11: 2 | B11: 119001421R00 | C11: Dočasné zajištění podzemního potrubí nebo vedení kabelů do 3 kabelů | D11: m | E11: 1.2 | G11: =ROUND(E11*F11,2) -> 0 | I11: =ROUND(E11*H11,2) -> 0 | K11: =ROUND(E11*J11,2) -> 0 | L11: 21 | M11: =G11*(1+L11/100) -> 0 | N11: 0.02478 | O11: =ROUND(E11*N11,2) -> 0.03 | P11: 0 | Q11: =ROUND(E11*P11,2) -> 0 | R11: 800-1 | S11: RTS 20/ I | T11: RTS 20/ I | U11: 0.547 | V11: =ROUND(E11*U11,2) -> 0.66 | X11: Práce | AG11: POL1_
C12: ve výkopišti ve stavu a poloze, ve kterých byla na začátku zemních prací, a to podepřením, vzepřením nebo vyvěšením, případně s ochranným bedněním, se zřízením a odstraněním zajišťovací konstrukce a včetně opotřebení použitých materiálů, | AG12: SPI | BA12: =C12 -> ve výkopišti ve stavu a poloze, ve kterých byla na začátku zemních prací, a to podepřením, vzepřením nebo vyvěšením, případně s ochranným bedněním, se zřízením a odstraněním zajišťovací konstrukce a včetně opotřebení použitých materiálů,
A13: 3 | B13: 119001422R00 | C13: Dočasné zajištění podzemního potrubí nebo vedení kabelů přes 3 do 6 kabelů | D13: m | E13: 2.4 | G13: =ROUND(E13*F13,2) -> 0 | I13: =ROUND(E13*H13,2) -> 0 | K13: =ROUND(E13*J13,2) -> 0 | L13: 21 | M13: =G13*(1+L13/100) -> 0 | N13: 0.03974 | O13: =ROUND(E13*N13,2) -> 0.1 | P13: 0 | Q13: =ROUND(E13*P13,2) -> 0 | R13: 800-1 | S13: RTS 20/ I | T13: RTS 20/ I | U13: 0.753 | V13: =ROUND(E13*U13,2) -> 1.81 | X13: Práce | AG13: POL1_
C14: ve výkopišti ve stavu a poloze, ve kterých byla na začátku zemních prací, a to podepřením, vzepřením nebo vyvěšením, případně s ochranným bedněním, se zřízením a odstraněním zajišťovací konstrukce a včetně opotřebení použitých materiálů, | AG14: SPI | BA14: =C14 -> ve výkopišti ve stavu a poloze, ve kterých byla na začátku zemních prací, a to podepřením, vzepřením nebo vyvěšením, případně s ochranným bedněním, se zřízením a odstraněním zajišťovací konstrukce a včetně opotřebení použitých materiálů,
C15: 2*1,2 | E15: 2.4 | AG15: VV | AH15: 0
A16: 4 | B16: 119001423R00 | C16: Dočasné zajištění podzemního potrubí nebo vedení kabelů přes 6 kabelů | D16: m | E16: 1.2 | G16: =ROUND(E16*F16,2) -> 0 | I16: =ROUND(E16*H16,2) -> 0 | K16: =ROUND(E16*J16,2) -> 0 | L16: 21 | M16: =G16*(1+L16/100) -> 0 | N16: 0.06963 | O16: =ROUND(E16*N16,2) -> 0.08 | P16: 0 | Q16: =ROUND(E16*P16,2) -> 0 | R16: 800-1 | S16: RTS 20/ I | T16: RTS 20/ I | U16: 1.246 | V16: =ROUND(E16*U16,2) -> 1.5 | X16: Práce | AG16: POL1_
C17: ve výkopišti ve stavu a poloze, ve kterých byla na začátku zemních prací, a to podepřením, vzepřením nebo vyvěšením, případně s ochranným bedněním, se zřízením a odstraněním zajišťovací konstrukce a včetně opotřebení použitých materiálů, | AG17: SPI | BA17: =C17 -> ve výkopišti ve stavu a poloze, ve kterých byla na začátku zemních prací, a to podepřením, vzepřením nebo vyvěšením, případně s ochranným bedněním, se zřízením a odstraněním zajišťovací konstrukce a včetně opotřebení použitých materiálů,
A18: 5 | B18: 130001101R00 | C18: Příplatek k cenám za ztížené vykopávky v horninách jakékoliv třídy | D18: m3 | E18: 90.3168 | G18: =ROUND(E18*F18,2) -> 0 | I18: =ROUND(E18*H18,2) -> 0 | K18: =ROUND(E18*J18,2) -> 0 | L18: 21 | M18: =G18*(1+L18/100) -> 0 | N18: 0 | O18: =ROUND(E18*N18,2) -> 0 | P18: 0 | Q18: =ROUND(E18*P18,2) -> 0 | R18: 800-1 | S18: RTS 20/ I | T18: RTS 20/ I | U18: 1.763 | V18: =ROUND(E18*U18,2) -> 159.23 | X18: Práce | AG18: POL1_
C19: Příplatek k cenám hloubených vykopávek za ztížení vykopávky v blízkosti podzemního vedení nebo výbušnin pro jakoukoliv třídu horniny. | AG19: SPI | BA19: =C19 -> Příplatek k cenám hloubených vykopávek za ztížení vykopávky v blízkosti podzemního vedení nebo výbušnin pro jakoukoliv třídu horniny.
C20: 70% : | AG20: VV | AH20: 0
C21: Odkaz na mn. položky pořadí 6 : 129,02400*0,7 | E21: 90.3168 | AG21: VV | AH21: 5
A22: 6 | B22: 132201212R00 | C22: Hloubení rýh šířky přes 60 do 200 cm do 1000 m3, v hornině 3, hloubení strojně | D22: m3 | E22: 129.024 | G22: =ROUND(E22*F22,2) -> 0 | I22: =ROUND(E22*H22,2) -> 0 | K22: =ROUND(E22*J22,2) -> 0 | L22: 21 | M22: =G22*(1+L22/100) -> 0 | N22: 0 | O22: =ROUND(E22*N22,2) -> 0 | P22: 0 | Q22: =ROUND(E22*P22,2) -> 0 | R22: 800-1 | S22: RTS 20/ I | T22: RTS 20/ I | U22: 0.16 | V22: =ROUND(E22*U22,2) -> 20.64 | X22: Práce | AG22: POL1_
C23: zapažených i nezapažených, s urovnáním dna do předepsaného profilu a spádu, s případně nutným přehozením výkopku na vzdálenost do 3 m ve výkopišti, s přehozením výkopku na přilehlém terénu na vzdálenost do 5 m od podélné osy rýhy nebo s naložením výkopku na dopravní prostředek. | AG23: SPI | BA23: =C23 -> zapažených i nezapažených, s urovnáním dna do předepsaného profilu a spádu, s případně nutným přehozením výkopku na vzdálenost do 3 m ve výkopišti, s přehozením výkopku na přilehlém terénu na vzdálenost do 5 m od podélné osy rýhy nebo s naložením výkopku na dopravní prostředek.
C24: vodovod : 1,2*67,2*1,6 | E24: 129.024 | AG24: VV | AH24: 0
A25: 7 | B25: 132201219R00 | C25: Hloubení rýh šířky přes 60 do 200 cm příplatek za lepivost, v hornině 3, | D25: m3 | E25: 64.512 | G25: =ROUND(E25*F25,2) -> 0 | I25: =ROUND(E25*H25,2) -> 0 | K25: =ROUND(E25*J25,2) -> 0 | L25: 21 | M25: =G25*(1+L25/100) -> 0 | N25: 0 | O25: =ROUND(E25*N25,2) -> 0 | P25: 0 | Q25: =ROUND(E25*P25,2) -> 0 | R25: 800-1 | S25: RTS 20/ I | T25: RTS 20/ I | U25: 0.084 | V25: =ROUND(E25*U25,2) -> 5.42 | X25: Práce | AG25: POL1_
C26: zapažených i nezapažených, s urovnáním dna do předepsaného profilu a spádu, s případně nutným přehozením výkopku na vzdálenost do 3 m ve výkopišti, s přehozením výkopku na přilehlém terénu na vzdálenost do 5 m od podélné osy rýhy nebo s naložením výkopku na dopravní prostředek. | AG26: SPI | BA26: =C26 -> zapažených i nezapažených, s urovnáním dna do předepsaného profilu a spádu, s případně nutným přehozením výkopku na vzdálenost do 3 m ve výkopišti, s přehozením výkopku na přilehlém terénu na vzdálenost do 5 m od podélné osy rýhy nebo s naložením výkopku na dopravní prostředek.
C27: 50% : | AG27: VV | AH27: 0
C28: Odkaz na mn. položky pořadí 6 : 129,02400*0,5 | E28: 64.512 | AG28: VV | AH28: 5
A29: 8 | B29: 139601102R00 | C29: Ruční výkop jam, rýh a šachet v hornině 3 | D29: m3 | E29: 9.6 | G29: =ROUND(E29*F29,2) -> 0 | I29: =ROUND(E29*H29,2) -> 0 | K29: =ROUND(E29*J29,2) -> 0 | L29: 21 | M29: =G29*(1+L29/100) -> 0 | N29: 0 | O29: =ROUND(E29*N29,2) -> 0 | P29: 0 | Q29: =ROUND(E29*P29,2) -> 0 | R29: 800-1 | S29: RTS 20/ I | T29: RTS 20/ I | U29: 3.533 | V29: =ROUND(E29*U29,2) -> 33.92 | X29: Práce | AG29: POL1_
C30: s přehozením na vzdálenost do 5 m nebo s naložením na ruční dopravní prostředek | AG30: SPI
C31: sonda pro zjištění polohy stávajících sítí : 2,0*2,0*0,8*3 | E31: 9.6 | AG31: VV | AH31: 0
A32: 9 | B32: 151101101R00 | C32: Zřízení pažení a rozepření stěn rýh příložné pro jakoukoliv mezerovitost, hloubky do 2 m | D32: m2 | E32: 215.04 | G32: =ROUND(E32*F32,2) -> 0 | I32: =ROUND(E32*H32,2) -> 0 | K32: =ROUND(E32*J32,2) -> 0 | L32: 21 | M32: =G32*(1+L32/100) -> 0 | N32: 0.00099 | O32: =ROUND(E32*N32,2) -> 0.21 | P32: 0 | Q32: =ROUND(E32*P32,2) -> 0 | R32: 800-1 | S32: RTS 20/ I | T32: RTS 20/ I | U32: 0.236 | V32: =ROUND(E32*U32,2) -> 50.75 | X32: Práce | AG32: POL1_
C33: pro podzemní vedení pro všechny šířky rýhy, | AG33: SPI
C34: 2*67,2*1,6 | E34: 215.04 | AG34: VV | AH34: 0
A35: 10 | B35: 151101111R00 | C35: Odstranění pažení a rozepření rýh příložné , hloubky do 2 m | D35: m2 | E35: 215.04 | G35: =ROUND(E35*F35,2) -> 0 | I35: =ROUND(E35*H35,2) -> 0 | K35: =ROUND(E35*J35,2) -> 0 | L35: 21 | M35: =G35*(1+L35/100) -> 0 | N35: 0 | O35: =ROUND(E35*N35,2) -> 0 | P35: 0 | Q35: =ROUND(E35*P35,2) -> 0 | R35: 800-1 | S35: RTS 20/ I | T35: RTS 20/ I | U35: 0.07 | V35: =ROUND(E35*U35,2) -> 15.05 | X35: Práce | AG35: POL1_
C36: pro podzemní vedení s uložením materiálu na vzdálenost do 3 m od kraje výkopu, | AG36: SPI
A37: 11 | B37: 151101311R00 | C37: Odstranění rozepření stěn výkopů při roubení příložném, hloubky do 4 m | D37: m3 | E37: 129.024 | G37: =ROUND(E37*F37,2) -> 0 | I37: =ROUND(E37*H37,2) -> 0 | K37: =ROUND(E37*J37,2) -> 0 | L37: 21 | M37: =G37*(1+L37/100) -> 0 | N37: 0 | O37: =ROUND(E37*N37,2) -> 0 | P37: 0 | Q37: =ROUND(E37*P37,2) -> 0 | R37: 800-1 | S37: RTS 20/ I | T37: RTS 20/ I | U37: 0.038 | V37: =ROUND(E37*U37,2) -> 4.9 | X37: Práce | AG37: POL1_
C38: s uložením materiálu na vzdálenost do 3 m od okraje výkopu, | AG38: SPI
A39: 12 | B39: 161101101R00 | C39: Svislé přemístění výkopku z horniny 1 až 4, při hloubce výkopu přes 1 do 2,5 m | D39: m3 | E39: 129.024 | G39: =ROUND(E39*F39,2) -> 0 | I39: =ROUND(E39*H39,2) -> 0 | K39: =ROUND(E39*J39,2) -> 0 | L39: 21 | M39: =G39*(1+L39/100) -> 0 | N39: 0 | O39: =ROUND(E39*N39,2) -> 0 | P39: 0 | Q39: =ROUND(E39*P39,2) -> 0 | R39: 800-1 | S39: RTS 20/ I | T39: RTS 20/ I | U39: 0.69 | V39: =ROUND(E39*U39,2) -> 89.03 | X39: Práce | AG39: POL1_
C40: bez naložení do dopravní nádoby, ale s vyprázdněním dopravní nádoby na hromadu nebo na dopravní prostředek, | AG40: SPI | BA40: =C40 -> bez naložení do dopravní nádoby, ale s vyprázdněním dopravní nádoby na hromadu nebo na dopravní prostředek,
A41: 13 | B41: 162701105R00 | C41: Vodorovné přemístění výkopku z horniny 1 až 4, na vzdálenost přes 9 000 do 10 000 m | D41: m3 | E41: 36.288 | G41: =ROUND(E41*F41,2) -> 0 | I41: =ROUND(E41*H41,2) -> 0 | K41: =ROUND(E41*J41,2) -> 0 | L41: 21 | M41: =G41*(1+L41/100) -> 0 | N41: 0 | O41: =ROUND(E41*N41,2) -> 0 | P41: 0 | Q41: =ROUND(E41*P41,2) -> 0 | R41: 800-1 | S41: RTS 20/ I | T41: RTS 20/ I | U41: 0.022 | V41: =ROUND(E41*U41,2) -> 0.8 | X41: Práce | AG41: POL1_
C42: po suchu, bez naložení výkopku, avšak se složením bez rozhrnutí, zpáteční cesta vozidla. | AG42: SPI
C43: Vyhloubeno : 129,024+9,6 | E43: 138.624 | AG43: VV | AH43: 0
C44: Zpět.zásypy, obsypy : -92,736-9,6 | E44: -102.336 | AG44: VV | AH44: 0
A45: 14 | B45: 162701109R00 | C45: Vodorovné přemístění výkopku příplatek k ceně za každých dalších i započatých 1 000 m přes 10 000 m_x000D_ z horniny 1 až 4 | D45: m3 | E45: 36.288 | G45: =ROUND(E45*F45,2) -> 0 | I45: =ROUND(E45*H45,2) -> 0 | K45: =ROUND(E45*J45,2) -> 0 | L45: 21 | M45: =G45*(1+L45/100) -> 0 | N45: 0 | O45: =ROUND(E45*N45,2) -> 0 | P45: 0 | Q45: =ROUND(E45*P45,2) -> 0 | R45: 800-1 | S45: RTS 20/ I | T45: RTS 20/ I | U45: 0 | V45: =ROUND(E45*U45,2) -> 0 | X45: Práce | AG45: POL1_
C46: po suchu, bez naložení výkopku, avšak se složením bez rozhrnutí, zpáteční cesta vozidla. | AG46: SPI
A47: 15 | B47: 167101101R00 | C47: Nakládání, skládání, překládání neulehlého výkopku nakládání výkopku_x000D_ do 100 m3, z horniny 1 až 4 | D47: m3 | E47: 39.288 | G47: =ROUND(E47*F47,2) -> 0 | I47: =ROUND(E47*H47,2) -> 0 | K47: =ROUND(E47*J47,2) -> 0 | L47: 21 | M47: =G47*(1+L47/100) -> 0 | N47: 0 | O47: =ROUND(E47*N47,2) -> 0 | P47: 0 | Q47: =ROUND(E47*P47,2) -> 0 | R47: 800-1 | S47: RTS 20/ I | T47: RTS 20/ I | U47: 0.652 | V47: =ROUND(E47*U47,2) -> 25.62 | X47: Práce | AG47: POL1_
A48: 16 | B48: 171201201R00 | C48: Uložení sypaniny na dočasnou skládku tak, že na 1 m2 plochy připadá přes 2 m3 výkopku nebo ornice | D48: m3 | E48: 36.288 | G48: =ROUND(E48*F48,2) -> 0 | I48: =ROUND(E48*H48,2) -> 0 | K48: =ROUND(E48*J48,2) -> 0 | L48: 21 | M48: =G48*(1+L48/100) -> 0 | N48: 0 | O48: =ROUND(E48*N48,2) -> 0 | P48: 0 | Q48: =ROUND(E48*P48,2) -> 0 | R48: 800-1 | S48: RTS 20/ I | T48: RTS 20/ I | U48: 0.018 | V48: =ROUND(E48*U48,2) -> 0.65 | X48: Práce | AG48: POL1_
A49: 17 | B49: 174101101R00 | C49: Zásyp sypaninou se zhutněním jam, šachet, rýh nebo kolem objektů v těchto vykopávkách | D49: m3 | E49: 102.336 | G49: =ROUND(E49*F49,2) -> 0 | I49: =ROUND(E49*H49,2) -> 0 | K49: =ROUND(E49*J49,2) -> 0 | L49: 21 | M49: =G49*(1+L49/100) -> 0 | N49: 0 | O49: =ROUND(E49*N49,2) -> 0 | P49: 0 | Q49: =ROUND(E49*P49,2) -> 0 | R49: 800-1 | S49: RTS 20/ I | T49: RTS 20/ I | U49: 0.404 | V49: =ROUND(E49*U49,2) -> 41.34 | X49: Práce | AG49: POL1_
C50: z jakékoliv horniny s uložením výkopku po vrstvách, | AG50: SPI
C51: včetně strojního přemístění materiálu pro zásyp ze vzdálenosti do 10 m od okraje zásypu | AG51: POP
C52: vodovod : 1,2*67,2*(1,6-0,35-0,1) | E52: 92.736 | AG52: VV | AH52: 0
C53: sonda pro zjištění polohy stávajících sítí : 2,0*2,0*0,8*3 | E53: 9.6 | AG53: VV | AH53: 0
A54: 18 | B54: 175101101RT2 | C54: Obsyp potrubí bez prohození sypaniny, s dodáním štěrkopísku frakce 0 - 22 mm | D54: m3 | E54: 28.224 | G54: =ROUND(E54*F54,2) -> 0 | I54: =ROUND(E54*H54,2) -> 0 | K54: =ROUND(E54*J54,2) -> 0 | L54: 21 | M54: =G54*(1+L54/100) -> 0 | N54: 1.7 | O54: =ROUND(E54*N54,2) -> 47.98 | P54: 0 | Q54: =ROUND(E54*P54,2) -> 0 | R54: 800-1 | S54: RTS 20/ I | T54: RTS 20/ I | U54: 1.587 | V54: =ROUND(E54*U54,2) -> 44.79 | X54: Práce | AG54: POL1_
C55: sypaninou z vhodných hornin tř. 1 - 4 nebo materiálem připraveným podél výkopu ve vzdálenosti do 3 m od jeho kraje, pro jakoukoliv hloubku výkopu a jakoukoliv míru zhutnění, | AG55: SPI | BA55: =C55 -> sypaninou z vhodných hornin tř. 1 - 4 nebo materiálem připraveným podél výkopu ve vzdálenosti do 3 m od jeho kraje, pro jakoukoliv hloubku výkopu a jakoukoliv míru zhutnění,
C56: vodovod : 1,2*67,2*0,35 | E56: 28.224 | AG56: VV | AH56: 0
A57: 19 | B57: 199000002R00 | C57: Poplatky za skládku horniny 1- 4, skupina 17 05 04 z Katalogu odpadů | D57: m3 | E57: 36.288 | G57: =ROUND(E57*F57,2) -> 0 | I57: =ROUND(E57*H57,2) -> 0 | K57: =ROUND(E57*J57,2) -> 0 | L57: 21 | M57: =G57*(1+L57/100) -> 0 | N57: 0 | O57: =ROUND(E57*N57,2) -> 0 | P57: 0 | Q57: =ROUND(E57*P57,2) -> 0 | R57: 800-1 | S57: RTS 20/ I | T57: RTS 20/ I | U57: 0 | V57: =ROUND(E57*U57,2) -> 0 | X57: Práce | AG57: POL1_
A58: Díl: | B58: 45 | C58: Podkladní a vedlejší konstrukce | G58: =SUMIF(AG59:AG61,"<>NOR",G59:G61) -> 0 | I58: =SUM(I59:I61) -> 0 | K58: =SUM(K59:K61) -> 0 | M58: =SUM(M59:M61) -> 0 | O58: =SUM(O59:O61) -> 15.25 | Q58: =SUM(Q59:Q61) -> 0 | V58: =SUM(V59:V61) -> 13.67 | AG58: DIL
A59: 20 | B59: 451572111R00 | C59: Lože pod potrubí, stoky a drobné objekty z kameniva drobného těženého 0÷4 mm | D59: m3 | E59: 8.064 | G59: =ROUND(E59*F59,2) -> 0 | I59: =ROUND(E59*H59,2) -> 0 | K59: =ROUND(E59*J59,2) -> 0 | L59: 21 | M59: =G59*(1+L59/100) -> 0 | N59: 1.89077 | O59: =ROUND(E59*N59,2) -> 15.25 | P59: 0 | Q59: =ROUND(E59*P59,2) -> 0 | R59: 827-1 | S59: RTS 20/ I | T59: RTS 20/ I | U59: 1.695 | V59: =ROUND(E59*U59,2) -> 13.67 | X59: Práce | AG59: POL1_
C60: v otevřeném výkopu, | AG60: SPI
C61: vodovod : 1,2*67,2*0,1 | E61: 8.064 | AG61: VV | AH61: 0
A62: Díl: | B62: 5 | C62: Komunikace | G62: =SUMIF(AG63:AG74,"<>NOR",G63:G74) -> 0 | I62: =SUM(I63:I74) -> 0 | K62: =SUM(K63:K74) -> 0 | M62: =SUM(M63:M74) -> 0 | O62: =SUM(O63:O74) -> 21.29 | Q62: =SUM(Q63:Q74) -> 19.18 | V62: =SUM(V63:V74) -> 56.79 | AG62: DIL
A63: 21 | B63: 831990101RBD | C63: Příplatek za trasu ve vozovce živičné, při šířce rýhy do 1,2 m (tl. 550 mm) | D63: m | E63: 7 | G63: =ROUND(E63*F63,2) -> 0 | I63: =ROUND(E63*H63,2) -> 0 | K63: =ROUND(E63*J63,2) -> 0 | L63: 21 | M63: =G63*(1+L63/100) -> 0 | N63: 1.4705 | O63: =ROUND(E63*N63,2) -> 10.29 | P63: 1.452 | Q63: =ROUND(E63*P63,2) -> 10.16 | S63: RTS 16/ I | T63: RTS 16/ I | U63: 2.80472 | V63: =ROUND(E63*U63,2) -> 19.63 | X63: Agregovaná položka | AG63: POL2_
A64: 22 | B64: 841990212RAA | C64: Příplatky za trasu plynovodu ve vozovce v chodníku ze zámkové dlažby, šířka rýhy 500 mm | D64: m | E64: 12 | G64: =ROUND(E64*F64,2) -> 0 | I64: =ROUND(E64*H64,2) -> 0 | K64: =ROUND(E64*J64,2) -> 0 | L64: 21 | M64: =G64*(1+L64/100) -> 0 | N64: 0.22595 | O64: =ROUND(E64*N64,2) -> 2.71 | P64: 0.289 | Q64: =ROUND(E64*P64,2) -> 3.47 | R64: AP-HSV | S64: RTS 20/ I | T64: RTS 20/ I | U64: 0.84073 | V64: =ROUND(E64*U64,2) -> 10.09 | X64: Agregovaná položka | AG64: POL2_
C65: odstranění krytu vozovky nebo zpevněné plochy (chodníku) podle popisu, odstranění podkladu z kameniva, naložení suti. Vyspravení podkladu po překopech se zhutněním a vyspravení krytu po překopech, u dlažeb použití stávajících dlaždic nebo kostek. Podíl zemních prací v trase plynovodu ve vozovce je odečten. | AG65: SPI | BA65: =C65 -> odstranění krytu vozovky nebo zpevněné plochy (chodníku) podle popisu, odstranění podkladu z kameniva, naložení suti. Vyspravení podkladu po překopech se zhutněním a vyspravení krytu po překopech, u dlažeb použití stávajících dlaždic nebo kostek. Podíl zemních prací v trase plynovodu ve vozovce je odečten.
A66: 23 | B66: 841990212RAB | C66: Příplatky za trasu plynovodu ve vozovce v chodníku ze zámkové dlažby, šířka rýhy 800 mm | D66: m | E66: 12 | G66: =ROUND(E66*F66,2) -> 0 | I66: =ROUND(E66*H66,2) -> 0 | K66: =ROUND(E66*J66,2) -> 0 | L66: 21 | M66: =G66*(1+L66/100) -> 0 | N66: 0.36152 | O66: =ROUND(E66*N66,2) -> 4.34 | P66: 0.4624 | Q66: =ROUND(E66*P66,2) -> 5.55 | R66: AP-HSV | S66: RTS 20/ I | T66: RTS 20/ I | U66: 1.34516 | V66: =ROUND(E66*U66,2) -> 16.14 | X66: Agregovaná položka | AG66: POL2_
C67: odstranění krytu vozovky nebo zpevněné plochy (chodníku) podle popisu, odstranění podkladu z kameniva, naložení suti. Vyspravení podkladu po překopech se zhutněním a vyspravení krytu po překopech, u dlažeb použití stávajících dlaždic nebo kostek. Podíl zemních prací v trase plynovodu ve vozovce je odečten. | AG67: SPI | BA67: =C67 -> odstranění krytu vozovky nebo zpevněné plochy (chodníku) podle popisu, odstranění podkladu z kameniva, naložení suti. Vyspravení podkladu po překopech se zhutněním a vyspravení krytu po překopech, u dlažeb použití stávajících dlaždic nebo kostek. Podíl zemních prací v trase plynovodu ve vozovce je odečten.
A68: 24 | B68: 591100031RA1 | C68: Chodník z dlažby zámkové tl. 6 cm - oprava | D68: m2 | E68: 12.5 | G68: =ROUND(E68*F68,2) -> 0 | I68: =ROUND(E68*H68,2) -> 0 | K68: =ROUND(E68*J68,2) -> 0 | L68: 21 | M68: =G68*(1+L68/100) -> 0 | N68: 0.31579 | O68: =ROUND(E68*N68,2) -> 3.95 | P68: 0 | Q68: =ROUND(E68*P68,2) -> 0 | S68: Vlastní | T68: RTS 20/ I | U68: 0.87448 | V68: =ROUND(E68*U68,2) -> 10.93 | X68: Agregovaná položka | AG68: POL2_
C69: Skladba: | AG69: POP
C70: podklad ze štěrkopísku 10 cm | AG70: POP
C71: lože z kameniva 4 cm | AG71: POP
C72: dlažba zámková, betonová 6 cm (70% původní dlažby, 30% nové dlažby) | AG72: POP
C73: Bez zemních prací. | AG73: POP
C74: sonda pro zjištění polohy stávajících sítí : 2,5*2,5*2 | E74: 12.5 | AG74: VV | AH74: 0
A75: Díl: | B75: 87 | C75: Potrubí z trub z plastických hmot | G75: =SUMIF(AG76:AG85,"<>NOR",G76:G85) -> 0 | I75: =SUM(I76:I85) -> 0 | K75: =SUM(K76:K85) -> 0 | M75: =SUM(M76:M85) -> 0 | O75: =SUM(O76:O85) -> 0.05 | Q75: =SUM(Q76:Q85) -> 0 | V75: =SUM(V76:V85) -> 6.45 | AG75: DIL
A76: 25 | B76: 871181121R00 | C76: Montáž potrubí z plastických hmot z tlakových trubek polyetylenových, vnějšího průměru 50 mm | D76: m | E76: 67.5 | G76: =ROUND(E76*F76,2) -> 0 | I76: =ROUND(E76*H76,2) -> 0 | K76: =ROUND(E76*J76,2) -> 0 | L76: 21 | M76: =G76*(1+L76/100) -> 0 | N76: 0 | O76: =ROUND(E76*N76,2) -> 0 | P76: 0 | Q76: =ROUND(E76*P76,2) -> 0 | R76: 827-1 | S76: RTS 20/ I | T76: RTS 20/ I | U76: 0.038 | V76: =ROUND(E76*U76,2) -> 2.57 | X76: Práce | AG76: POL1_
C77: v otevřeném výkopu, | AG77: SPI
A78: 26 | B78: 877182121R00 | C78: Montáž elektrotvarovek Přirážka za 1 spoj elektrotvarovky, vnějšího průměru 50 mm | D78: kus | E78: 15 | G78: =ROUND(E78*F78,2) -> 0 | I78: =ROUND(E78*H78,2) -> 0 | K78: =ROUND(E78*J78,2) -> 0 | L78: 21 | M78: =G78*(1+L78/100) -> 0 | N78: 0 | O78: =ROUND(E78*N78,2) -> 0 | P78: 0 | Q78: =ROUND(E78*P78,2) -> 0 | R78: 827-1 | S78: RTS 20/ I | T78: RTS 20/ I | U78: 0.19728 | V78: =ROUND(E78*U78,2) -> 2.96 | X78: Práce | AG78: POL1_
C79: v otevřeném výkopu, | AG79: SPI
A80: 27 | B80: 879172199R00 | C80: Příplatky za montáž vodovodních přípojek , DN 32-80 mm | D80: kus | E80: 1 | G80: =ROUND(E80*F80,2) -> 0 | I80: =ROUND(E80*H80,2) -> 0 | K80: =ROUND(E80*J80,2) -> 0 | L80: 21 | M80: =G80*(1+L80/100) -> 0 | N80: 8e-05 | O80: =ROUND(E80*N80,2) -> 0 | P80: 0 | Q80: =ROUND(E80*P80,2) -> 0 | R80: 827-1 | S80: RTS 20/ I | T80: RTS 20/ I | U80: 0.92 | V80: =ROUND(E80*U80,2) -> 0.92 | X80: Práce | AG80: POL1_
A81: 28 | B81: 28613144.MR | C81: víčko/záslepka PE 100; SDR 11,0; D = 50,0 mm; spoj elektrosvařovaný | D81: kus | E81: 3 | G81: =ROUND(E81*F81,2) -> 0 | I81: =ROUND(E81*H81,2) -> 0 | K81: =ROUND(E81*J81,2) -> 0 | L81: 21 | M81: =G81*(1+L81/100) -> 0 | N81: 0 | O81: =ROUND(E81*N81,2) -> 0 | P81: 0 | Q81: =ROUND(E81*P81,2) -> 0 | R81: SPCM | S81: RTS 20/ I | T81: RTS 20/ I | U81: 0 | V81: =ROUND(E81*U81,2) -> 0 | X81: Specifikace | AG81: POL3_
A82: 29 | B82: 286134118R | C82: trubka plastová vodovodní hladká; HDPE (PE 100); SDR 11,0; PN 16; D = 50,0 mm; s = 4,60 mm | D82: m | E82: 68.5125 | G82: =ROUND(E82*F82,2) -> 0 | I82: =ROUND(E82*H82,2) -> 0 | K82: =ROUND(E82*J82,2) -> 0 | L82: 21 | M82: =G82*(1+L82/100) -> 0 | N82: 0.00067 | O82: =ROUND(E82*N82,2) -> 0.05 | P82: 0 | Q82: =ROUND(E82*P82,2) -> 0 | R82: SPCM | S82: RTS 20/ I | T82: RTS 20/ I | U82: 0 | V82: =ROUND(E82*U82,2) -> 0 | X82: Specifikace | AG82: POL3_
C83: +1,5% : 67,5*1,015 | E83: 68.5125 | AG83: VV | AH83: 0
A84: 30 | B84: 28653324.AR | C84: koleno PE 100; 90,0 °; SDR 11,0; D = 50,0 mm; hladké; spoj elektrosvařovaný | D84: kus | E84: 2 | G84: =ROUND(E84*F84,2) -> 0 | I84: =ROUND(E84*H84,2) -> 0 | K84: =ROUND(E84*J84,2) -> 0 | L84: 21 | M84: =G84*(1+L84/100) -> 0 | N84: 0.00022 | O84: =ROUND(E84*N84,2) -> 0 | P84: 0 | Q84: =ROUND(E84*P84,2) -> 0 | R84: SPCM | S84: RTS 20/ I | T84: RTS 20/ I | U84: 0 | V84: =ROUND(E84*U84,2) -> 0 | X84: Specifikace | AG84: POL3_
A85: 31 | B85: 28653333.AR | C85: koleno PE 100; 45,0 °; SDR 11,0; D = 50,0 mm; hladké; spoj elektrosvařovaný | D85: kus | E85: 4 | G85: =ROUND(E85*F85,2) -> 0 | I85: =ROUND(E85*H85,2) -> 0 | K85: =ROUND(E85*J85,2) -> 0 | L85: 21 | M85: =G85*(1+L85/100) -> 0 | N85: 0.00018 | O85: =ROUND(E85*N85,2) -> 0 | P85: 0 | Q85: =ROUND(E85*P85,2) -> 0 | R85: SPCM | S85: RTS 20/ I | T85: RTS 20/ I | U85: 0 | V85: =ROUND(E85*U85,2) -> 0 | X85: Specifikace | AG85: POL3_
A86: Díl: | B86: 89 | C86: Ostatní konstrukce na trubním vedení | G86: =SUMIF(AG87:AG94,"<>NOR",G87:G94) -> 0 | I86: =SUM(I87:I94) -> 0 | K86: =SUM(K87:K94) -> 0 | M86: =SUM(M87:M94) -> 0 | O86: =SUM(O87:O94) -> 0 | Q86: =SUM(Q87:Q94) -> 0 | V86: =SUM(V87:V94) -> 18.95 | AG86: DIL
A87: 32 | B87: 892241111R00 | C87: Tlakové zkoušky vodovodního potrubí DN do 80 mm | D87: m | E87: 67.5 | G87: =ROUND(E87*F87,2) -> 0 | I87: =ROUND(E87*H87,2) -> 0 | K87: =ROUND(E87*J87,2) -> 0 | L87: 21 | M87: =G87*(1+L87/100) -> 0 | N87: 0 | O87: =ROUND(E87*N87,2) -> 0 | P87: 0 | Q87: =ROUND(E87*P87,2) -> 0 | R87: 827-1 | S87: RTS 20/ I | T87: RTS 20/ I | U87: 0.044 | V87: =ROUND(E87*U87,2) -> 2.97 | X87: Práce | AG87: POL1_
C88: přísun, montáže, demontáže a odsunu zkoušecího čerpadla, napuštění tlakovou vodou a dodání vody pro tlakovou zkoušku, | AG88: SPI | BA88: =C88 -> přísun, montáže, demontáže a odsunu zkoušecího čerpadla, napuštění tlakovou vodou a dodání vody pro tlakovou zkoušku,
A89: 33 | B89: 892233111R00 | C89: Proplach a desinfekce vodovodního potrubí DN od 40 do 70 mm | D89: m | E89: 67.5 | G89: =ROUND(E89*F89,2) -> 0 | I89: =ROUND(E89*H89,2) -> 0 | K89: =ROUND(E89*J89,2) -> 0 | L89: 21 | M89: =G89*(1+L89/100) -> 0 | N89: 0 | O89: =ROUND(E89*N89,2) -> 0 | P89: 0 | Q89: =ROUND(E89*P89,2) -> 0 | R89: 827-1 | S89: RTS 20/ I | T89: RTS 20/ I | U89: 0.15 | V89: =ROUND(E89*U89,2) -> 10.13 | X89: Práce | AG89: POL1_
C90: napuštění a vypuštění vody, dodání vody a desinfekčního prostředku, náklady na bakteriologický rozbor vody, | AG90: SPI | BA90: =C90 -> napuštění a vypuštění vody, dodání vody a desinfekčního prostředku, náklady na bakteriologický rozbor vody,
A91: 34 | B91: 899721112R00 | C91: Výstražné fólie výstražná fólie pro vodovod, šířka 30 cm | D91: m | E91: 68 | G91: =ROUND(E91*F91,2) -> 0 | I91: =ROUND(E91*H91,2) -> 0 | K91: =ROUND(E91*J91,2) -> 0 | L91: 21 | M91: =G91*(1+L91/100) -> 0 | N91: 0 | O91: =ROUND(E91*N91,2) -> 0 | P91: 0 | Q91: =ROUND(E91*P91,2) -> 0 | R91: 827-1 | S91: RTS 20/ I | T91: RTS 20/ I | U91: 0.026 | V91: =ROUND(E91*U91,2) -> 1.77 | X91: Práce | AG91: POL1_
A92: 35 | B92: 899731111R00 | C92: Signalizační vodič CYY, 1,5 mm2 | D92: m | E92: 70 | G92: =ROUND(E92*F92,2) -> 0 | I92: =ROUND(E92*H92,2) -> 0 | K92: =ROUND(E92*J92,2) -> 0 | L92: 21 | M92: =G92*(1+L92/100) -> 0 | N92: 2e-05 | O92: =ROUND(E92*N92,2) -> 0 | P92: 0 | Q92: =ROUND(E92*P92,2) -> 0 | R92: 827-1 | S92: RTS 20/ I | T92: RTS 20/ I | U92: 0.034 | V92: =ROUND(E92*U92,2) -> 2.38 | X92: Práce | AG92: POL1_
A93: 36 | B93: 722131935R00 | C93: Opravy vodovodního potrubí závitového propojení dosavadního potrubí, DN 40 | D93: kus | E93: 1 | G93: =ROUND(E93*F93,2) -> 0 | I93: =ROUND(E93*H93,2) -> 0 | K93: =ROUND(E93*J93,2) -> 0 | L93: 21 | M93: =G93*(1+L93/100) -> 0 | N93: 0.00147 | O93: =ROUND(E93*N93,2) -> 0 | P93: 0 | Q93: =ROUND(E93*P93,2) -> 0 | R93: 800-721 | S93: RTS 20/ I | T93: RTS 20/ I | U93: 0.906 | V93: =ROUND(E93*U93,2) -> 0.91 | X93: Práce | AG93: POL1_
A94: 37 | B94: 722235815R00 | C94: Ventil ventil redukční s manometrem, šroubení-šroubení, DN 40, PN 25, mosaz | D94: kus | E94: 1 | G94: =ROUND(E94*F94,2) -> 0 | I94: =ROUND(E94*H94,2) -> 0 | K94: =ROUND(E94*J94,2) -> 0 | L94: 21 | M94: =G94*(1+L94/100) -> 0 | N94: 0.0034 | O94: =ROUND(E94*N94,2) -> 0 | P94: 0 | Q94: =ROUND(E94*P94,2) -> 0 | R94: 800-721 | S94: RTS 20/ I | T94: RTS 20/ I | U94: 0.786 | V94: =ROUND(E94*U94,2) -> 0.79 | X94: Práce | AG94: POL1_
A95: Díl: | B95: 9 | C95: Ostatní konstrukce, bourání | G95: =SUMIF(AG96:AG106,"<>NOR",G96:G106) -> 0 | I95: =SUM(I96:I106) -> 0 | K95: =SUM(K96:K106) -> 0 | M95: =SUM(M96:M106) -> 0 | O95: =SUM(O96:O106) -> 0 | Q95: =SUM(Q96:Q106) -> 0.02 | V95: =SUM(V96:V106) -> 21.45 | AG95: DIL
A96: 38 | B96: 722170804R00 | C96: Demontáž potrubí z trubek z PH tlakových přes D 32 mm do D 63 mm | D96: m | E96: 65 | G96: =ROUND(E96*F96,2) -> 0 | I96: =ROUND(E96*H96,2) -> 0 | K96: =ROUND(E96*J96,2) -> 0 | L96: 21 | M96: =G96*(1+L96/100) -> 0 | N96: 0 | O96: =ROUND(E96*N96,2) -> 0 | P96: 0.00029 | Q96: =ROUND(E96*P96,2) -> 0.02 | R96: 800-721 | S96: RTS 20/ I | T96: RTS 20/ I | U96: 0.083 | V96: =ROUND(E96*U96,2) -> 5.4 | X96: Práce | AG96: POL1_
C97: předpoklad : 65 | E97: 65 | AG97: VV | AH97: 0
A98: 39 | B98: 910 T01 | C98: Hzs-nezměřitelné stavební práce a přípomoci | D98: h | E98: 16 | G98: =ROUND(E98*F98,2) -> 0 | I98: =ROUND(E98*H98,2) -> 0 | K98: =ROUND(E98*J98,2) -> 0 | L98: 21 | M98: =G98*(1+L98/100) -> 0 | N98: 0 | O98: =ROUND(E98*N98,2) -> 0 | P98: 0 | Q98: =ROUND(E98*P98,2) -> 0 | S98: Vlastní | T98: Kalkul | U98: 1 | V98: =ROUND(E98*U98,2) -> 16 | X98: Práce | AG98: POL1_
A99: 40 | B99: 979087313R00 | C99: Nakládání na dopravní prostředky vybouraných trub | D99: t | E99: 0.01885 | G99: =ROUND(E99*F99,2) -> 0 | I99: =ROUND(E99*H99,2) -> 0 | K99: =ROUND(E99*J99,2) -> 0 | L99: 21 | M99: =G99*(1+L99/100) -> 0 | N99: 0 | O99: =ROUND(E99*N99,2) -> 0 | P99: 0 | Q99: =ROUND(E99*P99,2) -> 0 | R99: 827-1 | S99: RTS 20/ I | T99: RTS 20/ I | U99: 0.564 | V99: =ROUND(E99*U99,2) -> 0.01 | X99: Přesun suti | AG99: POL8_
A100: 41 | B100: 979081111R00 | C100: Odvoz suti a vybouraných hmot na skládku do 1 km | D100: t | E100: 0.01885 | G100: =ROUND(E100*F100,2) -> 0 | I100: =ROUND(E100*H100,2) -> 0 | K100: =ROUND(E100*J100,2) -> 0 | L100: 21 | M100: =G100*(1+L100/100) -> 0 | N100: 0 | O100: =ROUND(E100*N100,2) -> 0 | P100: 0 | Q100: =ROUND(E100*P100,2) -> 0 | R100: 801-3 | S100: RTS 20/ I | T100: RTS 20/ I | U100: 0.49 | V100: =ROUND(E100*U100,2) -> 0.01 | X100: Přesun suti | AG100: POL8_
A101: 42 | B101: 979081121R00 | C101: Odvoz suti a vybouraných hmot na skládku příplatek za každý další 1 km | D101: t | E101: 0.1885 | G101: =ROUND(E101*F101,2) -> 0 | I101: =ROUND(E101*H101,2) -> 0 | K101: =ROUND(E101*J101,2) -> 0 | L101: 21 | M101: =G101*(1+L101/100) -> 0 | N101: 0 | O101: =ROUND(E101*N101,2) -> 0 | P101: 0 | Q101: =ROUND(E101*P101,2) -> 0 | R101: 801-3 | S101: RTS 20/ I | T101: RTS 20/ I | U101: 0 | V101: =ROUND(E101*U101,2) -> 0 | X101: Přesun suti | AG101: POL8_
A102: 43 | B102: 979082111R00 | C102: Vnitrostaveništní doprava suti a vybouraných hmot do 10 m | D102: t | E102: 0.01885 | G102: =ROUND(E102*F102,2) -> 0 | I102: =ROUND(E102*H102,2) -> 0 | K102: =ROUND(E102*J102,2) -> 0 | L102: 21 | M102: =G102*(1+L102/100) -> 0 | N102: 0 | O102: =ROUND(E102*N102,2) -> 0 | P102: 0 | Q102: =ROUND(E102*P102,2) -> 0 | R102: 801-3 | S102: RTS 20/ I | T102: RTS 20/ I | U102: 0.942 | V102: =ROUND(E102*U102,2) -> 0.02 | X102: Přesun suti | AG102: POL8_
...
