Workbook
Name CelkemDPHVypocet: Stavba!$H$43
Name CenaCelkem: Stavba!$G$29
Name CenaCelkemBezDPH: Stavba!$G$28
Name CenaCelkemVypocet: Stavba!$I$43
Name cisloobjektu: Stavba!$D$3
Name CisloRozpoctu: '[1]Krycí list'!$C$2
Name CisloStavby: Stavba!$D$2
Name cislostavby: '[1]Krycí list'!$A$7
Name CisloStavebnihoRozpoctu: Stavba!$D$4
Name dadresa: Stavba!$D$12:$G$12
Name DIČ: Stavba!$I$12
Name dmisto: Stavba!$E$13:$G$13
Name DPHSni: Stavba!$G$24
Name DPHZakl: Stavba!$G$26
Name dpsc: Stavba!$D$13
Name IČO: Stavba!$I$11
Name Mena: Stavba!$J$29
Name MistoStavby: Stavba!$D$4
Name nazevobjektu: Stavba!$E$3
Name NazevRozpoctu: '[1]Krycí list'!$D$2
Name NazevStavby: Stavba!$E$2
Name nazevstavby: '[1]Krycí list'!$C$7
Name NazevStavebnihoRozpoctu: Stavba!$E$4
Name oadresa: Stavba!$D$6
Name Objednatel: Stavba!$D$5
Name Objekt: Stavba!$B$38
Name odic: Stavba!$I$6
Name oico: Stavba!$I$5
Name omisto: Stavba!$E$7
Name onazev: Stavba!$D$6
Name opsc: Stavba!$D$7
Name padresa: Stavba!$D$9
Name pdic: Stavba!$I$9
Name pico: Stavba!$I$8
Name pmisto: Stavba!$E$10
Name PocetMJ: #REF!
Name PoptavkaID: Stavba!$A$1
Name pPSC: Stavba!$D$10
Name Projektant: Stavba!$D$8
Name SazbaDPH1: Stavba!$E$23
Name SazbaDPH1: '[1]Krycí list'!$C$30
Name SazbaDPH2: Stavba!$E$25
Name SazbaDPH2: '[1]Krycí list'!$C$32
Name SloupecCC: #REF!
Name SloupecCisloPol: #REF!
Name SloupecJC: #REF!
Name SloupecMJ: #REF!
Name SloupecMnozstvi: #REF!
Name SloupecNazPol: #REF!
Name SloupecPC: #REF!
Name Vypracoval: Stavba!$D$14
Name ZakladDPHSni: Stavba!$G$23
Name ZakladDPHSniVypocet: Stavba!$F$43
Name ZakladDPHZakl: Stavba!$G$25
Name ZakladDPHZaklVypocet: Stavba!$G$43
Name ZaObjednatele: Stavba!$G$34
Name Zaokrouhleni: Stavba!$G$27
Name ZaZhotovitele: Stavba!$D$34
Name Zhotovitel: Stavba!$D$11:$G$11

Sheet Pokyny pro vyplnění
A1: Pokyny pro vyplnění
A2: Ve všech listech tohoto souboru můžete měnit pouze buňky s modrým pozadím. Jedná se o tyto údaje : - údaje o firmě - jednotkové ceny položek zadané na maximálně dvě desetinná místa

Sheet Stavba
A1: #RTSROZP# | B1: Soupis stavebních prací, dodávek a služeb
B2: Stavba: | D2: SE 158 | E2: ZUŠ Vranovská
B3: Objekt: | D3: 1 | E3: Návrh řešení zvukové izolace
A4: 904 | B4: Rozpočet: | D4: 1 | E4: projektový
B5: Zadavatel | D5: Základní umělecká škola Brno, Vranovská, příspěvková organizace | H5: IČO: | I5: 62156756
H6: DIČ:
B8: Projektant: | H8: IČO:
H9: DIČ:
B11: Zhotovitel: | D11: Pam Arch s.r.o. | H11: IČO: | I11: 26289491
D12: Vránova 1241/3, 621 00 Brno | H12: DIČ: | I12: CZ26289491
D13: 777872493 | E13: robert.sevcik@pamarch.cz
B14: Vypracoval: | D14: Zdeněk Šiler
B15: Rozpis ceny | I15: Celkem
A16: HSV | B16: HSV | I16: =SUMIF(F50:F64,A16,I50:I64)+SUMIF(F50:F64,"PSU",I50:I64) -> 0
A17: PSV | B17: PSV | I17: =SUMIF(F50:F64,A17,I50:I64) -> 0
A18: MON | B18: MON | I18: =SUMIF(F50:F64,A18,I50:I64) -> 0
A19: VN | B19: Vedlejší náklady | I19: =SUMIF(F50:F64,A19,I50:I64) -> 0
A20: ON | B20: Ostatní náklady | I20: =SUMIF(F50:F64,A20,I50:I64) -> 0
B21: Celkem | I21: =SUM(I16:J20) -> 0
B22: Rekapitulace daní
B23: Základ pro sníženou DPH | E23: 15 | F23: % | G23: =ZakladDPHSniVypocet -> 0 | J23: =Mena -> CZK
B24: Snížená DPH | E24: =SazbaDPH1 -> 15 | F24: % | G24: =I23*E23/100 -> 0 | J24: =Mena -> CZK
B25: Základ pro základní DPH | E25: 21 | F25: % | G25: =ZakladDPHZaklVypocet -> 0 | J25: =Mena -> CZK
B26: Základní DPH | E26: =SazbaDPH2 -> 21 | F26: % | G26: =I25*E25/100 -> 0 | J26: =Mena -> CZK
A27: =ZakladDPHSni+ZakladDPHZakl -> 0 | B27: Zaokrouhlení | G27: =CenaCelkemBezDPH-(ZakladDPHSni+ZakladDPHZakl) -> 0 | J27: =Mena -> CZK
A28: =(A27-INT(A27))*100 -> 0 | B28: Cena celkem bez DPH | G28: =A27 -> 0 | J28: =Mena -> CZK
B29: Cena celkem s DPH | G29: =ZakladDPHSni+DPHSni+ZakladDPHZakl+DPHZakl+Zaokrouhleni -> 0 | J29: CZK
C32: v | F32: dne
D35: Za zhotovitele | H35: Za objednatele
B37: Rekapitulace dílčích částí
A38: #CASTI>> | B38: Číslo | C38: Název | F38: =B23 -> Základ pro sníženou DPH | G38: =B25 -> Základ pro základní DPH | H38: DPH celkem | I38: Cena celkem | J38: %
A39: 1 | B39: Stavba | F39: ='1 1 Pol'!AE137 -> 0 | G39: ='1 1 Pol'!AF137 -> 0 | I39: =F39+G39+H39 -> 0 | J39: =IF(CenaCelkemVypocet=0,"",I39/CenaCelkemVypocet*100)
A40: 2 | C40: Stavební objekt | I40: =F40+G40+H40 -> 0 | J40: =IF(CenaCelkemVypocet=0,"",I40/CenaCelkemVypocet*100)
A41: 2 | B41: 1 | C41: Návrh řešení zvukové izolace | F41: ='1 1 Pol'!AE137 -> 0 | G41: ='1 1 Pol'!AF137 -> 0 | I41: =F41+G41+H41 -> 0 | J41: =IF(CenaCelkemVypocet=0,"",I41/CenaCelkemVypocet*100)
A42: 3 | B42: 1 | C42: projektový | F42: ='1 1 Pol'!AE137 -> 0 | G42: ='1 1 Pol'!AF137 -> 0 | I42: =F42+G42+H42 -> 0 | J42: =IF(CenaCelkemVypocet=0,"",I42/CenaCelkemVypocet*100)
B43: Celkem za stavbu | F43: =SUMIF(A39:A42,"=1",F39:F42) -> 0 | G43: =SUMIF(A39:A42,"=1",G39:G42) -> 0 | H43: =SUMIF(A39:A42,"=1",H39:H42) -> 0 | I43: =SUMIF(A39:A42,"=1",I39:I42) -> 0 | J43: =SUMIF(A39:A42,"=1",J39:J42) -> 0
B47: Rekapitulace dílů
B49: Číslo | C49: Název | F49: Typ dílu | I49: Celkem | J49: %
B50: 3 | C50: Svislé a kompletní konstrukce | F50: HSV | I50: ='1 1 Pol'!G8 -> 0 | J50: =IF(I65=0,"",I50/I65*100)
B51: 61 | C51: Úpravy povrchů vnitřní | F51: HSV | I51: ='1 1 Pol'!G12 -> 0 | J51: =IF(I65=0,"",I51/I65*100)
B52: 63 | C52: Podlahy a podlahové konstrukce | F52: HSV | I52: ='1 1 Pol'!G20 -> 0 | J52: =IF(I65=0,"",I52/I65*100)
B53: 94 | C53: Lešení a stavební výtahy | F53: HSV | I53: ='1 1 Pol'!G24 -> 0 | J53: =IF(I65=0,"",I53/I65*100)
B54: 96 | C54: Bourání konstrukcí | F54: HSV | I54: ='1 1 Pol'!G27 -> 0 | J54: =IF(I65=0,"",I54/I65*100)
B55: 99 | C55: Staveništní přesun hmot | F55: HSV | I55: ='1 1 Pol'!G46 -> 0 | J55: =IF(I65=0,"",I55/I65*100)
B56: 714 | C56: Izolace akustické a protiotřesové | F56: PSV | I56: ='1 1 Pol'!G49 -> 0 | J56: =IF(I65=0,"",I56/I65*100)
B57: 730 | C57: Ústřední vytápění | F57: PSV | I57: ='1 1 Pol'!G60 -> 0 | J57: =IF(I65=0,"",I57/I65*100)
B58: 766 | C58: Konstrukce truhlářské | F58: PSV | I58: ='1 1 Pol'!G65 -> 0 | J58: =IF(I65=0,"",I58/I65*100)
B59: 776 | C59: Podlahy povlakové | F59: PSV | I59: ='1 1 Pol'!G90 -> 0 | J59: =IF(I65=0,"",I59/I65*100)
B60: 784 | C60: Malby | F60: PSV | I60: ='1 1 Pol'!G95 -> 0 | J60: =IF(I65=0,"",I60/I65*100)
B61: M21 | C61: Elektromontáže | F61: MON | I61: ='1 1 Pol'!G103 -> 0 | J61: =IF(I65=0,"",I61/I65*100)
B62: D96 | C62: Přesuny suti a vybouraných hmot | F62: PSU | I62: ='1 1 Pol'!G109 -> 0 | J62: =IF(I65=0,"",I62/I65*100)
B63: VN | C63: Vedlejší náklady | F63: VN | I63: ='1 1 Pol'!G120 -> 0 | J63: =IF(I65=0,"",I63/I65*100)
B64: ON | C64: Ostatní náklady | F64: ON | I64: ='1 1 Pol'!G125 -> 0 | J64: =IF(I65=0,"",I64/I65*100)
B65: Cena celkem | I65: =SUM(I50:I64) -> 0 | J65: =SUM(J50:J64) -> 0

Sheet VzorPolozky
A1: Položkový rozpočet
A2: S:
A3: O:
A4: R:

Sheet 1 1 Pol
A1: Položkový soupis prací a dodávek | AG1: #TypZaznamu#
A2: S: | B2: SE 158 | C2: ZUŠ Vranovská | AG2: STA
A3: O: | B3: 1 | C3: Návrh řešení zvukové izolace | AC3: STA | AG3: OBJ
A4: R: | B4: 1 | C4: projektový | AG4: ROZ
A6: P.č. | B6: Číslo položky | C6: Název položky | D6: MJ | E6: Množství | F6: Cena / MJ | G6: Celkem | H6: Dodávka | I6: Dodávka celk. | J6: Montáž | K6: Montáž celk. | L6: DPH | M6: Cena s DPH | N6: Hmotnost / MJ | O6: Hmotnost celk.(t) | P6: Dem. hmotnost / MJ | Q6: Dem. hmotnost celk.(t) | R6: Ceník | S6: Cen. soustava / platnost | T6: Cenová úroveň | U6: Nhod / MJ | V6: Nhod celk. | W6: Dodavatel | X6: Typ položky
A8: Díl: | B8: 3 | C8: Svislé a kompletní konstrukce | G8: =SUMIF(AG9:AG11,"<>NOR",G9:G11) -> 0 | I8: =SUM(I9:I11) -> 0 | K8: =SUM(K9:K11) -> 0 | M8: =SUM(M9:M11) -> 0 | O8: =SUM(O9:O11) -> 2.22 | Q8: =SUM(Q9:Q11) -> 0 | V8: =SUM(V9:V11) -> 98.41 | AG8: DIL
A9: 1 | B9: 342262111RX1 | C9: Příčka sádrokart. dvoj. oc. kce, 3x opl. tl.180 mm, desky standard tl.12,5 mm, izol minerál tl. 2x4 cm | D9: m2 | E9: 49.7045 | G9: =ROUND(E9*F9,2) -> 0 | I9: =ROUND(E9*H9,2) -> 0 | K9: =ROUND(E9*J9,2) -> 0 | L9: 21 | M9: =G9*(1+L9/100) -> 0 | N9: 0.04471 | O9: =ROUND(E9*N9,2) -> 2.22 | P9: 0 | Q9: =ROUND(E9*P9,2) -> 0 | S9: Vlastní | T9: Indiv | U9: 1.98 | V9: =ROUND(E9*U9,2) -> 98.41 | X9: Práce | AG9: POL1_
C10: SDK příčka - m2 : 3,3*(4,13+2,58*2+1,16)+3,25*5,37+1*2,03 | E10: 53.9675 | AG10: VV | AH10: 0
C11: odpočet otvorů - m2 : -1*(1,05*2,03*2) | E11: -4.263 | AG11: VV | AH11: 0
A12: Díl: | B12: 61 | C12: Úpravy povrchů vnitřní | G12: =SUMIF(AG13:AG19,"<>NOR",G13:G19) -> 0 | I12: =SUM(I13:I19) -> 0 | K12: =SUM(K13:K19) -> 0 | M12: =SUM(M13:M19) -> 0 | O12: =SUM(O13:O19) -> 0.07 | Q12: =SUM(Q13:Q19) -> 0 | V12: =SUM(V13:V19) -> 6.9 | AG12: DIL
A13: 2 | B13: 612409991RT2 | C13: Začištění omítek kolem oken, dveří a obkladů apod. s použitím suché maltové směsi | D13: m | E13: 27.408 | G13: =ROUND(E13*F13,2) -> 0 | I13: =ROUND(E13*H13,2) -> 0 | K13: =ROUND(E13*J13,2) -> 0 | L13: 21 | M13: =G13*(1+L13/100) -> 0 | N13: 0.00238 | O13: =ROUND(E13*N13,2) -> 0.07 | P13: 0 | Q13: =ROUND(E13*P13,2) -> 0 | R13: 801-4 | S13: RTS 20/ I | T13: RTS 20/ I | U13: 0.18233 | V13: =ROUND(E13*U13,2) -> 5 | X13: Práce | AG13: POL1_
C14: (1+1,97*2)*2+(1,1+2,03*2)*2+(0,81+1,397*2)*2 | E14: 27.408 | AG14: VV | AH14: 0
A15: 3 | B15: 610991111RX1 | C15: Zakrývání výplní vnitřních otvorů, bez materiálu | D15: m2 | E15: 24.2952 | G15: =ROUND(E15*F15,2) -> 0 | I15: =ROUND(E15*H15,2) -> 0 | K15: =ROUND(E15*J15,2) -> 0 | L15: 21 | M15: =G15*(1+L15/100) -> 0 | N15: 0 | O15: =ROUND(E15*N15,2) -> 0 | P15: 0 | Q15: =ROUND(E15*P15,2) -> 0 | S15: RTS 12/ I | T15: RTS 12/ I | U15: 0.078 | V15: =ROUND(E15*U15,2) -> 1.9 | X15: Práce | AG15: POL1_
C16: 101 : 5,37*2,54 | E16: 13.6398 | AG16: VV | AH16: 0
C17: 103 : 2,58*4,13 | E17: 10.6554 | AG17: VV | AH17: 0
A18: 4 | B18: 28329911R | C18: plachta LDPE; plošná hmotnost 80 g/m2; krycí, s oky; š = 4 000 mm; l = 5 000 mm; zelená/šedá; univerzální krycí plachta | D18: m2 | E18: 20 | G18: =ROUND(E18*F18,2) -> 0 | I18: =ROUND(E18*H18,2) -> 0 | K18: =ROUND(E18*J18,2) -> 0 | L18: 21 | M18: =G18*(1+L18/100) -> 0 | N18: 8e-05 | O18: =ROUND(E18*N18,2) -> 0 | P18: 0 | Q18: =ROUND(E18*P18,2) -> 0 | R18: SPCM | S18: RTS 20/ I | T18: RTS 20/ I | U18: 0 | V18: =ROUND(E18*U18,2) -> 0 | X18: Specifikace | AG18: POL3_
A19: 5 | B19: 28329921R | C19: plachta LDPE; plošná hmotnost 180 g/m2; krycí, s oky; š = 3 000 mm; l = 4 000 mm; zelená/stříbrná; univerzální krycí plachta | D19: m2 | E19: 12 | G19: =ROUND(E19*F19,2) -> 0 | I19: =ROUND(E19*H19,2) -> 0 | K19: =ROUND(E19*J19,2) -> 0 | L19: 21 | M19: =G19*(1+L19/100) -> 0 | N19: 0.00018 | O19: =ROUND(E19*N19,2) -> 0 | P19: 0 | Q19: =ROUND(E19*P19,2) -> 0 | R19: SPCM | S19: RTS 20/ I | T19: RTS 20/ I | U19: 0 | V19: =ROUND(E19*U19,2) -> 0 | X19: Specifikace | AG19: POL3_
A20: Díl: | B20: 63 | C20: Podlahy a podlahové konstrukce | G20: =SUMIF(AG21:AG23,"<>NOR",G21:G23) -> 0 | I20: =SUM(I21:I23) -> 0 | K20: =SUM(K21:K23) -> 0 | M20: =SUM(M21:M23) -> 0 | O20: =SUM(O21:O23) -> 2.24 | Q20: =SUM(Q21:Q23) -> 0 | V20: =SUM(V21:V23) -> 3.94 | AG20: DIL
A21: 6 | B21: 631311131R00 | C21: Doplnění mazanin betonem prostým o ploše jednotlivě do 1 m2 tloušťky přes 80 mm | D21: m3 | E21: 0.895 | G21: =ROUND(E21*F21,2) -> 0 | I21: =ROUND(E21*H21,2) -> 0 | K21: =ROUND(E21*J21,2) -> 0 | L21: 21 | M21: =G21*(1+L21/100) -> 0 | N21: 2.5 | O21: =ROUND(E21*N21,2) -> 2.24 | P21: 0 | Q21: =ROUND(E21*P21,2) -> 0 | R21: 801-4 | S21: RTS 20/ I | T21: RTS 20/ I | U21: 4.4 | V21: =ROUND(E21*U21,2) -> 3.94 | X21: Práce | AG21: POL1_
C22: prostým betonem (s dodáním hmot) bez potěru, | AG22: SPI
C23: po vybouraných příčkách : 0,1*(5,37+1+2,58) | E23: 0.895 | AG23: VV | AH23: 0
A24: Díl: | B24: 94 | C24: Lešení a stavební výtahy | G24: =SUMIF(AG25:AG26,"<>NOR",G25:G26) -> 0 | I24: =SUM(I25:I26) -> 0 | K24: =SUM(K25:K26) -> 0 | M24: =SUM(M25:M26) -> 0 | O24: =SUM(O25:O26) -> 0.09 | Q24: =SUM(Q25:Q26) -> 0 | V24: =SUM(V25:V26) -> 12.11 | AG24: DIL
A25: 7 | B25: 941955002R00 | C25: Lešení lehké pracovní pomocné pomocné, o výšce lešeňové podlahy přes 1,2 do 1,9 m | D25: m2 | E25: 56.6 | G25: =ROUND(E25*F25,2) -> 0 | I25: =ROUND(E25*H25,2) -> 0 | K25: =ROUND(E25*J25,2) -> 0 | L25: 21 | M25: =G25*(1+L25/100) -> 0 | N25: 0.00158 | O25: =ROUND(E25*N25,2) -> 0.09 | P25: 0 | Q25: =ROUND(E25*P25,2) -> 0 | R25: 800-3 | S25: RTS 20/ I | T25: RTS 20/ I | U25: 0.214 | V25: =ROUND(E25*U25,2) -> 12.11 | X25: Práce | AG25: POL1_
C26: pro bourací a nové práce : 28,3*2 | E26: 56.6 | AG26: VV | AH26: 0
A27: Díl: | B27: 96 | C27: Bourání konstrukcí | G27: =SUMIF(AG28:AG45,"<>NOR",G28:G45) -> 0 | I27: =SUM(I28:I45) -> 0 | K27: =SUM(K28:K45) -> 0 | M27: =SUM(M28:M45) -> 0 | O27: =SUM(O28:O45) -> 0.02 | Q27: =SUM(Q28:Q45) -> 3.82 | V27: =SUM(V28:V45) -> 9.14 | AG27: DIL
A28: 8 | B28: 962031132R00 | C28: Bourání příček | D28: m2 | E28: 25.449 | G28: =ROUND(E28*F28,2) -> 0 | I28: =ROUND(E28*H28,2) -> 0 | K28: =ROUND(E28*J28,2) -> 0 | L28: 21 | M28: =G28*(1+L28/100) -> 0 | N28: 0.00067 | O28: =ROUND(E28*N28,2) -> 0.02 | P28: 0.131 | Q28: =ROUND(E28*P28,2) -> 3.33 | R28: 801-3 | S28: RTS 17/ I | T28: RTS 17/ I | U28: 0.21 | V28: =ROUND(E28*U28,2) -> 5.34 | X28: Práce | AG28: POL1_
C29: nebo vybourání otvorů průřezové plochy přes 4 m2 v příčkách, včetně pomocného lešení o výšce podlahy do 1900 mm a pro zatížení do 1,5 kPa (150 kg/m2), | AG29: SPI | BA29: =C29 -> nebo vybourání otvorů průřezové plochy přes 4 m2 v příčkách, včetně pomocného lešení o výšce podlahy do 1900 mm a pro zatížení do 1,5 kPa (150 kg/m2),
C30: 3,3*(5,47+2,66)+1*2,03 | E30: 28.859 | AG30: VV | AH30: 0
C31: odpočet otvorů-dveře : -1*1,97 | E31: -1.97 | AG31: VV | AH31: 0
C32: skleněné tvárnice : -2,4*0,6 | E32: -1.44 | AG32: VV | AH32: 0
A33: 9 | B33: 962081131R00 | C33: Bourání zdiva příček ze skleněných tvárnic, tloušťky do 100 mm | D33: m2 | E33: 1.44 | G33: =ROUND(E33*F33,2) -> 0 | I33: =ROUND(E33*H33,2) -> 0 | K33: =ROUND(E33*J33,2) -> 0 | L33: 21 | M33: =G33*(1+L33/100) -> 0 | N33: 0.00067 | O33: =ROUND(E33*N33,2) -> 0 | P33: 0.055 | Q33: =ROUND(E33*P33,2) -> 0.08 | R33: 801-3 | S33: RTS 20/ I | T33: RTS 20/ I | U33: 0.381 | V33: =ROUND(E33*U33,2) -> 0.55 | X33: Práce | AG33: POL1_
C34: nebo vybourání otvorů jakýchkoliv rozměrů, včetně pomocného lešení o výšce podlahy do 1900 mm a pro zatížení do 1,5 kPa (150 kg/m2), | AG34: SPI | BA34: =C34 -> nebo vybourání otvorů jakýchkoliv rozměrů, včetně pomocného lešení o výšce podlahy do 1900 mm a pro zatížení do 1,5 kPa (150 kg/m2),
C35: 2,4*0,6 | E35: 1.44 | AG35: VV | AH35: 0
A36: 10 | B36: 967031732R00 | C36: Přisekání plošné zdiva cihelného na jakoukoliv maltu vápennou nebo vépenocementovou, tloušťky do 100 mm | D36: m2 | E36: 0.487 | G36: =ROUND(E36*F36,2) -> 0 | I36: =ROUND(E36*H36,2) -> 0 | K36: =ROUND(E36*J36,2) -> 0 | L36: 21 | M36: =G36*(1+L36/100) -> 0 | N36: 0.00034 | O36: =ROUND(E36*N36,2) -> 0 | P36: 0.183 | Q36: =ROUND(E36*P36,2) -> 0.09 | R36: 801-3 | S36: RTS 20/ I | T36: RTS 20/ I | U36: 0.5 | V36: =ROUND(E36*U36,2) -> 0.24 | X36: Práce | AG36: POL1_
C37: z jakýchkoliv cihel pálených, včetně pomocného lešení o výšce podlahy do 1900 mm a pro zatížení do 1,5 kPa (150 kg/m2), | AG37: SPI | BA37: =C37 -> z jakýchkoliv cihel pálených, včetně pomocného lešení o výšce podlahy do 1900 mm a pro zatížení do 1,5 kPa (150 kg/m2),
C38: vysekání ozubu pro osazení rámové zárubně : 0,1*(0,81+2,03*2) | E38: 0.487 | AG38: VV | AH38: 0
A39: 11 | B39: 968061125R00 | C39: Vyvěšení nebo zavěšení dřevěných křídel dveří, plochy do 2 m2 | D39: kus | E39: 2 | G39: =ROUND(E39*F39,2) -> 0 | I39: =ROUND(E39*H39,2) -> 0 | K39: =ROUND(E39*J39,2) -> 0 | L39: 21 | M39: =G39*(1+L39/100) -> 0 | N39: 0 | O39: =ROUND(E39*N39,2) -> 0 | P39: 0 | Q39: =ROUND(E39*P39,2) -> 0 | R39: 801-3 | S39: RTS 20/ I | T39: RTS 20/ I | U39: 0.05 | V39: =ROUND(E39*U39,2) -> 0.1 | X39: Práce | AG39: POL1_
C40: oken, dveří a vrat, s uložením a opětovným zavěšením po provedení stavebních změn, | AG40: SPI
A41: 12 | B41: 968062455R00 | C41: Vybourání dřevěných rámů dveřních zárubní, plochy do 2 m2 | D41: m2 | E41: 1.9 | G41: =ROUND(E41*F41,2) -> 0 | I41: =ROUND(E41*H41,2) -> 0 | K41: =ROUND(E41*J41,2) -> 0 | L41: 21 | M41: =G41*(1+L41/100) -> 0 | N41: 0.00117 | O41: =ROUND(E41*N41,2) -> 0 | P41: 0.088 | Q41: =ROUND(E41*P41,2) -> 0.17 | R41: 801-3 | S41: RTS 20/ I | T41: RTS 20/ I | U41: 0.556 | V41: =ROUND(E41*U41,2) -> 1.06 | X41: Práce | AG41: POL1_
C42: včetně pomocného lešení o výšce podlahy do 1900 mm a pro zatížení do 1,5 kPa (150 kg/m2), | AG42: SPI
C43: 0,95*2 | E43: 1.9 | AG43: VV | AH43: 0
A44: 13 | B44: 968072455R00 | C44: Vybourání a vyjmutí kovových rámů a rolet rámů, včetně pomocného lešení o výšce podlahy do 1900 mm a pro zatížení do 1,5 kPa (150 kg/m2) dveřních zárubní, plochy do 2 m2 | D44: m2 | E44: 1.97 | G44: =ROUND(E44*F44,2) -> 0 | I44: =ROUND(E44*H44,2) -> 0 | K44: =ROUND(E44*J44,2) -> 0 | L44: 21 | M44: =G44*(1+L44/100) -> 0 | N44: 0.00117 | O44: =ROUND(E44*N44,2) -> 0 | P44: 0.076 | Q44: =ROUND(E44*P44,2) -> 0.15 | R44: 801-3 | S44: RTS 20/ I | T44: RTS 20/ I | U44: 0.939 | V44: =ROUND(E44*U44,2) -> 1.85 | X44: Práce | AG44: POL1_
C45: 1*1,97 | E45: 1.97 | AG45: VV | AH45: 0
A46: Díl: | B46: 99 | C46: Staveništní přesun hmot | G46: =SUMIF(AG47:AG48,"<>NOR",G47:G48) -> 0 | I46: =SUM(I47:I48) -> 0 | K46: =SUM(K47:K48) -> 0 | M46: =SUM(M47:M48) -> 0 | O46: =SUM(O47:O48) -> 0 | Q46: =SUM(Q47:Q48) -> 0 | V46: =SUM(V47:V48) -> 8.78 | AG46: DIL
A47: 14 | B47: 999281108R00 | C47: Přesun hmot pro opravy a údržbu objektů pro opravy a údržbu dosavadních objektů včetně vnějších plášťů_x000D_ výšky do 12 m, | D47: t | E47: 4.64092 | G47: =ROUND(E47*F47,2) -> 0 | I47: =ROUND(E47*H47,2) -> 0 | K47: =ROUND(E47*J47,2) -> 0 | L47: 21 | M47: =G47*(1+L47/100) -> 0 | N47: 0 | O47: =ROUND(E47*N47,2) -> 0 | P47: 0 | Q47: =ROUND(E47*P47,2) -> 0 | R47: 801-4 | S47: RTS 20/ I | T47: RTS 20/ I | U47: 1.892 | V47: =ROUND(E47*U47,2) -> 8.78 | X47: Přesun hmot | AG47: POL7_
C48: oborů 801, 803, 811 a 812 | AG48: SPI
A49: Díl: | B49: 714 | C49: Izolace akustické a protiotřesové | G49: =SUMIF(AG50:AG59,"<>NOR",G50:G59) -> 0 | I49: =SUM(I50:I59) -> 0 | K49: =SUM(K50:K59) -> 0 | M49: =SUM(M50:M59) -> 0 | O49: =SUM(O50:O59) -> 0 | Q49: =SUM(Q50:Q59) -> 0 | V49: =SUM(V50:V59) -> 5.05 | AG49: DIL
A50: 15 | B50: 714183002R00 | C50: Montáž pohltivých a konstrukčních součástí izolačních vložek izolačních desek na sraz volným uložením stropů nebo stěn | D50: m2 | E50: 42.0523 | G50: =ROUND(E50*F50,2) -> 0 | I50: =ROUND(E50*H50,2) -> 0 | K50: =ROUND(E50*J50,2) -> 0 | L50: 21 | M50: =G50*(1+L50/100) -> 0 | N50: 0 | O50: =ROUND(E50*N50,2) -> 0 | P50: 0 | Q50: =ROUND(E50*P50,2) -> 0 | R50: 800-714 | S50: RTS 20/ I | T50: RTS 20/ I | U50: 0.12 | V50: =ROUND(E50*U50,2) -> 5.05 | X50: Práce | AG50: POL1_
C51: 102 : 3,25*(5,37+2,54*2) | E51: 33.9625 | AG51: VV | AH51: 0
C52: odpočet otvorů : -1*(1*3,03+1,2*2,1) | E52: -5.55 | AG52: VV | AH52: 0
C53: strop : 2,54*5,37 | E53: 13.6398 | AG53: VV | AH53: 0
A54: 16 | B54: 714001PC1 | C54: Samolepící akustická pěna tl.50 mm | D54: m2 | E54: 42.0523 | G54: =ROUND(E54*F54,2) -> 0 | I54: =ROUND(E54*H54,2) -> 0 | K54: =ROUND(E54*J54,2) -> 0 | L54: 21 | M54: =G54*(1+L54/100) -> 0 | N54: 0 | O54: =ROUND(E54*N54,2) -> 0 | P54: 0 | Q54: =ROUND(E54*P54,2) -> 0 | S54: Vlastní | T54: Indiv | U54: 0 | V54: =ROUND(E54*U54,2) -> 0 | X54: Specifikace | AG54: POL3_
C55: 102 : 3,25*(5,37+2,54*2) | E55: 33.9625 | AG55: VV | AH55: 0
C56: odpočet otvorů : -1*(1*3,03+1,2*2,1) | E56: -5.55 | AG56: VV | AH56: 0
C57: strop : 2,54*5,37 | E57: 13.6398 | AG57: VV | AH57: 0
A58: 17 | B58: 998714201R00 | C58: Přesun hmot v objektech výšky do 6 m | D58: % | G58: =ROUND(E58*F58,2) -> 0 | I58: =ROUND(E58*H58,2) -> 0 | K58: =ROUND(E58*J58,2) -> 0 | L58: 21 | M58: =G58*(1+L58/100) -> 0 | N58: 0 | O58: =ROUND(E58*N58,2) -> 0 | P58: 0 | Q58: =ROUND(E58*P58,2) -> 0 | R58: 800-714 | S58: RTS 20/ I | T58: RTS 20/ I | U58: 0 | V58: =ROUND(E58*U58,2) -> 0 | X58: Přesun hmot | AG58: POL7_
C59: 50 m vodorovně měřeno od těžiště půdorysné plochy skládky do těžiště půdorysné plochy objektu | AG59: SPI
A60: Díl: | B60: 730 | C60: Ústřední vytápění | G60: =SUMIF(AG61:AG64,"<>NOR",G61:G64) -> 0 | I60: =SUM(I61:I64) -> 0 | K60: =SUM(K61:K64) -> 0 | M60: =SUM(M61:M64) -> 0 | O60: =SUM(O61:O64) -> 0 | Q60: =SUM(Q61:Q64) -> 0 | V60: =SUM(V61:V64) -> 0 | AG60: DIL
A61: 18 | B61: 730001 | C61: Dodávka a montáž ÚT dfle projektu | D61: kpl. | E61: 1 | G61: =ROUND(E61*F61,2) -> 0 | I61: =ROUND(E61*H61,2) -> 0 | K61: =ROUND(E61*J61,2) -> 0 | L61: 21 | M61: =G61*(1+L61/100) -> 0 | N61: 0 | O61: =ROUND(E61*N61,2) -> 0 | P61: 0 | Q61: =ROUND(E61*P61,2) -> 0 | S61: Vlastní | T61: Indiv | U61: 0 | V61: =ROUND(E61*U61,2) -> 0 | X61: Práce | AG61: POL1_
C62: trubní rozvody Cu : | AG62: VV | AH62: 0
C63: 2x otopná tělesa a ventily,šroubení dle projektu : | AG63: VV | AH63: 0
C64: kpl. : 1 | E64: 1 | AG64: VV | AH64: 0
A65: Díl: | B65: 766 | C65: Konstrukce truhlářské | G65: =SUMIF(AG66:AG89,"<>NOR",G66:G89) -> 0 | I65: =SUM(I66:I89) -> 0 | K65: =SUM(K66:K89) -> 0 | M65: =SUM(M66:M89) -> 0 | O65: =SUM(O66:O89) -> 0.07 | Q65: =SUM(Q66:Q89) -> 0 | V65: =SUM(V66:V89) -> 10.77 | AG65: DIL
A66: 19 | B66: 766662112R00 | C66: Montáž dveřních křídel kompletizovaných otevíravých , , do zazděné rámové zárubně, jednokřídlových, šířky do 800 mm | D66: kus | E66: 1 | G66: =ROUND(E66*F66,2) -> 0 | I66: =ROUND(E66*H66,2) -> 0 | K66: =ROUND(E66*J66,2) -> 0 | L66: 21 | M66: =G66*(1+L66/100) -> 0 | N66: 0 | O66: =ROUND(E66*N66,2) -> 0 | P66: 0 | Q66: =ROUND(E66*P66,2) -> 0 | R66: 800-766 | S66: RTS 20/ I | T66: RTS 20/ I | U66: 1.034 | V66: =ROUND(E66*U66,2) -> 1.03 | X66: Práce | AG66: POL1_
A67: 20 | B67: 766670011R00 | C67: Montáž obložkové zárubně a dveřního křídla jednokřídlového | D67: kus | E67: 2 | G67: =ROUND(E67*F67,2) -> 0 | I67: =ROUND(E67*H67,2) -> 0 | K67: =ROUND(E67*J67,2) -> 0 | L67: 21 | M67: =G67*(1+L67/100) -> 0 | N67: 2e-05 | O67: =ROUND(E67*N67,2) -> 0 | P67: 0 | Q67: =ROUND(E67*P67,2) -> 0 | R67: 800-766 | S67: RTS 20/ I | T67: RTS 20/ I | U67: 4.02 | V67: =ROUND(E67*U67,2) -> 8.04 | X67: Práce | AG67: POL1_
A68: 21 | B68: 766825111R00 | C68: Montáž nábytku vestavěného skříně jednokřídlové šatní policové | D68: kus | E68: 1 | G68: =ROUND(E68*F68,2) -> 0 | I68: =ROUND(E68*H68,2) -> 0 | K68: =ROUND(E68*J68,2) -> 0 | L68: 21 | M68: =G68*(1+L68/100) -> 0 | N68: 0.00019 | O68: =ROUND(E68*N68,2) -> 0 | P68: 0 | Q68: =ROUND(E68*P68,2) -> 0 | R68: 800-766 | S68: RTS 20/ I | T68: RTS 20/ I | U68: 1.697 | V68: =ROUND(E68*U68,2) -> 1.7 | X68: Práce | AG68: POL1_
A69: 22 | B69: 611601PC 3 | C69: 2/T - Dveře vnitřní hladké plné 1.kříd. 80/197 folie | D69: ks | E69: 1 | G69: =ROUND(E69*F69,2) -> 0 | I69: =ROUND(E69*H69,2) -> 0 | K69: =ROUND(E69*J69,2) -> 0 | L69: 21 | M69: =G69*(1+L69/100) -> 0 | N69: 0 | O69: =ROUND(E69*N69,2) -> 0 | P69: 0 | Q69: =ROUND(E69*P69,2) -> 0 | S69: Vlastní | T69: Indiv | U69: 0 | V69: =ROUND(E69*U69,2) -> 0 | X69: Práce | AG69: POL1_
C70: osazení do rámové zárubně, Rw> 42 dB : | AG70: VV | AH70: 0
C71: ks : 1 | E71: 1 | AG71: VV | AH71: 0
A72: 23 | B72: 611601PC 1 | C72: 1/T - Dveře vnitřní hladké plné 1. kříd. 100x197 folie | D72: ks | E72: 1 | G72: =ROUND(E72*F72,2) -> 0 | I72: =ROUND(E72*H72,2) -> 0 | K72: =ROUND(E72*J72,2) -> 0 | L72: 21 | M72: =G72*(1+L72/100) -> 0 | N72: 0.016 | O72: =ROUND(E72*N72,2) -> 0.02 | P72: 0 | Q72: =ROUND(E72*P72,2) -> 0 | S72: Vlastní | T72: Indiv | U72: 0 | V72: =ROUND(E72*U72,2) -> 0 | X72: Specifikace | AG72: POL3_
C73: dveře plné protihlukové do obložkové zárubně Rw 42 dB : | AG73: VV | AH73: 0
C74: ks : 1 | E74: 1 | AG74: VV | AH74: 0
A75: 24 | B75: 611601PC 2 | C75: 3/T - Dveře vnitřní hladké plné 1.kříd. 90x197 folie | D75: ks | E75: 1 | G75: =ROUND(E75*F75,2) -> 0 | I75: =ROUND(E75*H75,2) -> 0 | K75: =ROUND(E75*J75,2) -> 0 | L75: 21 | M75: =G75*(1+L75/100) -> 0 | N75: 0 | O75: =ROUND(E75*N75,2) -> 0 | P75: 0 | Q75: =ROUND(E75*P75,2) -> 0 | S75: Vlastní | T75: Indiv | U75: 0 | V75: =ROUND(E75*U75,2) -> 0 | X75: Specifikace | AG75: POL3_
C76: osazení do obložkové zárubně,Rw > 42 dB : | AG76: VV | AH76: 0
C77: ks : 1 | E77: 1 | AG77: VV | AH77: 0
A78: 25 | B78: 61181321.MR | C78: zárubeň dřevěná rámová; pro dveře jednokřídlové; š průchodu 800 mm; h průchodu 1 970 mm; dýha, lakovaná | D78: kus | E78: 1 | G78: =ROUND(E78*F78,2) -> 0 | I78: =ROUND(E78*H78,2) -> 0 | K78: =ROUND(E78*J78,2) -> 0 | L78: 21 | M78: =G78*(1+L78/100) -> 0 | N78: 0.03 | O78: =ROUND(E78*N78,2) -> 0.03 | P78: 0 | Q78: =ROUND(E78*P78,2) -> 0 | R78: SPCM | S78: RTS 20/ I | T78: RTS 20/ I | U78: 0 | V78: =ROUND(E78*U78,2) -> 0 | X78: Specifikace | AG78: POL3_
A79: 26 | B79: 611813PC1 | C79: 1/T - Obkladová zárubeň 1000x1970 mm folie | D79: ks | E79: 1 | G79: =ROUND(E79*F79,2) -> 0 | I79: =ROUND(E79*H79,2) -> 0 | K79: =ROUND(E79*J79,2) -> 0 | L79: 21 | M79: =G79*(1+L79/100) -> 0 | N79: 0 | O79: =ROUND(E79*N79,2) -> 0 | P79: 0 | Q79: =ROUND(E79*P79,2) -> 0 | S79: Vlastní | T79: Indiv | U79: 0 | V79: =ROUND(E79*U79,2) -> 0 | X79: Specifikace | AG79: POL3_
C80: protihluková úprava Rw > 42 dB : | AG80: VV | AH80: 0
C81: ks : 1 | E81: 1 | AG81: VV | AH81: 0
A82: 27 | B82: 611813PC2 | C82: 2/T - Obkladová zárubeň 800x1970 mm folie | D82: ks | E82: 1 | G82: =ROUND(E82*F82,2) -> 0 | I82: =ROUND(E82*H82,2) -> 0 | K82: =ROUND(E82*J82,2) -> 0 | L82: 21 | M82: =G82*(1+L82/100) -> 0 | N82: 0 | O82: =ROUND(E82*N82,2) -> 0 | P82: 0 | Q82: =ROUND(E82*P82,2) -> 0 | S82: Vlastní | T82: Indiv | U82: 0 | V82: =ROUND(E82*U82,2) -> 0 | X82: Specifikace | AG82: POL3_
C83: protihluková úprava Rw> 42 dB : | AG83: VV | AH83: 0
C84: ks : 1 | E84: 1 | AG84: VV | AH84: 0
A85: 28 | B85: 6152902PC1 | C85: Skříňka vysoká policová bílá, bez dveří | D85: kus | E85: 1 | G85: =ROUND(E85*F85,2) -> 0 | I85: =ROUND(E85*H85,2) -> 0 | K85: =ROUND(E85*J85,2) -> 0 | L85: 21 | M85: =G85*(1+L85/100) -> 0 | N85: 0.02 | O85: =ROUND(E85*N85,2) -> 0.02 | P85: 0 | Q85: =ROUND(E85*P85,2) -> 0 | S85: Vlastní | T85: RTS 20/ I | U85: 0 | V85: =ROUND(E85*U85,2) -> 0 | X85: Specifikace | AG85: POL3_
C86: rozměr dle otvoru niky-pozn.1 : | AG86: VV | AH86: 0
C87: ks : 1 | E87: 1 | AG87: VV | AH87: 0
A88: 29 | B88: 998766201R00 | C88: Přesun hmot pro konstrukce truhlářské v objektech výšky do 6 m | D88: % | G88: =ROUND(E88*F88,2) -> 0 | I88: =ROUND(E88*H88,2) -> 0 | K88: =ROUND(E88*J88,2) -> 0 | L88: 21 | M88: =G88*(1+L88/100) -> 0 | N88: 0 | O88: =ROUND(E88*N88,2) -> 0 | P88: 0 | Q88: =ROUND(E88*P88,2) -> 0 | R88: 800-766 | S88: RTS 20/ I | T88: RTS 20/ I | U88: 0 | V88: =ROUND(E88*U88,2) -> 0 | X88: Přesun hmot | AG88: POL7_
C89: 50 m vodorovně | AG89: SPI
A90: Díl: | B90: 776 | C90: Podlahy povlakové | G90: =SUMIF(AG91:AG94,"<>NOR",G91:G94) -> 0 | I90: =SUM(I91:I94) -> 0 | K90: =SUM(K91:K94) -> 0 | M90: =SUM(M91:M94) -> 0 | O90: =SUM(O91:O94) -> 0.01 | Q90: =SUM(Q91:Q94) -> 0 | V90: =SUM(V91:V94) -> 5.05 | AG90: DIL
A91: 30 | B91: 776431010R00 | C91: Montáž, lepení podlah. soklíků z kobercových pásů včetně dodávky kobercové lišty | D91: m | E91: 28.08 | G91: =ROUND(E91*F91,2) -> 0 | I91: =ROUND(E91*H91,2) -> 0 | K91: =ROUND(E91*J91,2) -> 0 | L91: 21 | M91: =G91*(1+L91/100) -> 0 | N91: 0.00024 | O91: =ROUND(E91*N91,2) -> 0.01 | P91: 0 | Q91: =ROUND(E91*P91,2) -> 0 | R91: 800-775 | S91: RTS 20/ I | T91: RTS 20/ I | U91: 0.18 | V91: =ROUND(E91*U91,2) -> 5.05 | X91: Práce | AG91: POL1_
C92: včetně soklové lišty. | AG92: POP
C93: 5,37*2+2,54*2+0,47*2-1 | E93: 15.76 | AG93: VV | AH93: 0
C94: 4,13*2+2,58*2-1,1 | E94: 12.32 | AG94: VV | AH94: 0
A95: Díl: | B95: 784 | C95: Malby | G95: =SUMIF(AG96:AG102,"<>NOR",G96:G102) -> 0 | I95: =SUM(I96:I102) -> 0 | K95: =SUM(K96:K102) -> 0 | M95: =SUM(M96:M102) -> 0 | O95: =SUM(O96:O102) -> 0.05 | Q95: =SUM(Q96:Q102) -> 0 | V95: =SUM(V96:V102) -> 47.17 | AG95: DIL
A96: 31 | B96: 784402801R00 | C96: Odstranění maleb oškrabáním, v místnostech do 3,8 m | D96: m2 | E96: 150.0512 | G96: =ROUND(E96*F96,2) -> 0 | I96: =ROUND(E96*H96,2) -> 0 | K96: =ROUND(E96*J96,2) -> 0 | L96: 21 | M96: =G96*(1+L96/100) -> 0 | N96: 0 | O96: =ROUND(E96*N96,2) -> 0 | P96: 0 | Q96: =ROUND(E96*P96,2) -> 0 | R96: 800-784 | S96: RTS 20/ I | T96: RTS 20/ I | U96: 0.06971 | V96: =ROUND(E96*U96,2) -> 10.46 | X96: Práce | AG96: POL1_
C97: 102 : 3,25*(5,37*2+2,54*2)+2,54*5,37+0,47*(1+2,03*2) | E97: 67.433 | AG97: VV | AH97: 0
C98: 103 : 3,3*(2,58*2+4,13*2)+2,58*4,13 | E98: 54.9414 | AG98: VV | AH98: 0
C99: 101 : 3,3*(1,16*2+2,58*2)+1,16*2,58 | E99: 27.6768 | AG99: VV | AH99: 0
A100: 32 | B100: 784403801R00 | C100: Odstranění maleb úplným omytím na sádrové omítce, v místnostech do 3,8 m | D100: m2 | E100: 150.0512 | G100: =ROUND(E100*F100,2) -> 0 | I100: =ROUND(E100*H100,2) -> 0 | K100: =ROUND(E100*J100,2) -> 0 | L100: 21 | M100: =G100*(1+L100/100) -> 0 | N100: 0 | O100: =ROUND(E100*N100,2) -> 0 | P100: 0 | Q100: =ROUND(E100*P100,2) -> 0 | R100: 800-784 | S100: RTS 20/ I | T100: RTS 20/ I | U100: 0.04322 | V100: =ROUND(E100*U100,2) -> 6.49 | X100: Práce | AG100: POL1_
A101: 33 | B101: 784171201R00 | C101: Příprava povrchu Penetrace (napouštění) podkladu akrylát, jednonásobná | D101: m2 | E101: 150.0512 | G101: =ROUND(E101*F101,2) -> 0 | I101: =ROUND(E101*H101,2) -> 0 | K101: =ROUND(E101*J101,2) -> 0 | L101: 21 | M101: =G101*(1+L101/100) -> 0 | N101: 7e-05 | O101: =ROUND(E101*N101,2) -> 0.01 | P101: 0 | Q101: =ROUND(E101*P101,2) -> 0 | R101: 800-784 | S101: RTS 20/ I | T101: RTS 20/ I | U101: 0.03248 | V101: =ROUND(E101*U101,2) -> 4.87 | X101: Práce | AG101: POL1_
A102: 34 | B102: 784176612R00 | C102: Malby z malířských směsí otěruvzdorných, , bílé, dvojnásobné | D102: m2 | E102: 150.0512 | G102: =ROUND(E102*F102,2) -> 0 | I102: =ROUND(E102*H102,2) -> 0 | K102: =ROUND(E102*J102,2) -> 0 | L102: 21 | M102: =G102*(1+L102/100) -> 0 | N102: 0.00027 | O102: =ROUND(E102*N102,2) -> 0.04 | P102: 0 | Q102: =ROUND(E102*P102,2) -> 0 | R102: 800-784 | S102: RTS 15/ II | T102: RTS 15/ II | U102: 0.16897 | V102: =ROUND(E102*U102,2) -> 25.35 | X102: Práce | AG102: POL1_
...
