Workbook
Name CelkemDPHVypocet: Stavba!$H$43
Name CenaCelkem: Stavba!$G$29
Name CenaCelkemBezDPH: Stavba!$G$28
Name CenaCelkemVypocet: Stavba!$I$43
Name cisloobjektu: Stavba!$D$3
Name CisloRozpoctu: '[1]Krycí list'!$C$2
Name CisloStavby: Stavba!$D$2
Name cislostavby: '[1]Krycí list'!$A$7
Name CisloStavebnihoRozpoctu: Stavba!$D$4
Name dadresa: Stavba!$D$12:$G$12
Name DIČ: Stavba!$I$12
Name dmisto: Stavba!$E$13:$G$13
Name DPHSni: Stavba!$G$24
Name DPHZakl: Stavba!$G$26
Name dpsc: Stavba!$D$13
Name IČO: Stavba!$I$11
Name Mena: Stavba!$J$29
Name MistoStavby: Stavba!$D$4
Name nazevobjektu: Stavba!$E$3
Name NazevRozpoctu: '[1]Krycí list'!$D$2
Name NazevStavby: Stavba!$E$2
Name nazevstavby: '[1]Krycí list'!$C$7
Name NazevStavebnihoRozpoctu: Stavba!$E$4
Name oadresa: Stavba!$D$6
Name Objednatel: Stavba!$D$5
Name Objekt: Stavba!$B$38
Name odic: Stavba!$I$6
Name oico: Stavba!$I$5
Name omisto: Stavba!$E$7
Name onazev: Stavba!$D$6
Name opsc: Stavba!$D$7
Name padresa: Stavba!$D$9
Name pdic: Stavba!$I$9
Name pico: Stavba!$I$8
Name pmisto: Stavba!$E$10
Name PocetMJ: #REF!
Name PoptavkaID: Stavba!$A$1
Name pPSC: Stavba!$D$10
Name Projektant: Stavba!$D$8
Name SazbaDPH1: Stavba!$E$23
Name SazbaDPH1: '[1]Krycí list'!$C$30
Name SazbaDPH2: Stavba!$E$25
Name SazbaDPH2: '[1]Krycí list'!$C$32
Name SloupecCC: #REF!
Name SloupecCisloPol: #REF!
Name SloupecJC: #REF!
Name SloupecMJ: #REF!
Name SloupecMnozstvi: #REF!
Name SloupecNazPol: #REF!
Name SloupecPC: #REF!
Name Vypracoval: Stavba!$D$14
Name ZakladDPHSni: Stavba!$G$23
Name ZakladDPHSniVypocet: Stavba!$F$43
Name ZakladDPHZakl: Stavba!$G$25
Name ZakladDPHZaklVypocet: Stavba!$G$43
Name ZaObjednatele: Stavba!$G$34
Name Zaokrouhleni: Stavba!$G$27
Name ZaZhotovitele: Stavba!$D$34
Name Zhotovitel: Stavba!$D$11:$G$11

Sheet Pokyny pro vyplnění
A1: Pokyny pro vyplnění
A2: Ve všech listech tohoto souboru můžete měnit pouze buňky s modrým pozadím. Jedná se o tyto údaje : - údaje o firmě - jednotkové ceny položek zadané na maximálně dvě desetinná místa

Sheet Stavba
A1: #RTSROZP# | B1: Soupis stavebních prací, dodávek a služeb
B2: Stavba: | D2: SE 158 | E2: ZUŠ Vranovská
B3: Objekt: | D3: 1 | E3: Návrh řešení zvukové izolace
A4: 904 | B4: Rozpočet: | D4: 1 | E4: projektový
B5: Zadavatel | D5: Základní umělecká škola Brno, Vranovská, příspěvková organizace | H5: IČO: | I5: 62156756
H6: DIČ:
B8: Projektant: | H8: IČO:
H9: DIČ:
B11: Zhotovitel: | D11: Pam Arch s.r.o. | H11: IČO: | I11: 26289491
D12: Vránova 1241/3, 621 00 Brno | H12: DIČ: | I12: CZ26289491
D13: 777872493 | E13: robert.sevcik@pamarch.cz
B14: Vypracoval: | D14: Zdeněk Šiler
B15: Rozpis ceny | I15: Celkem
A16: HSV | B16: HSV | I16: =SUMIF(F50:F64,A16,I50:I64)+SUMIF(F50:F64,"PSU",I50:I64) -> 0
A17: PSV | B17: PSV | I17: =SUMIF(F50:F64,A17,I50:I64) -> 0
A18: MON | B18: MON | I18: =SUMIF(F50:F64,A18,I50:I64) -> 0
A19: VN | B19: Vedlejší náklady | I19: =SUMIF(F50:F64,A19,I50:I64) -> 0
A20: ON | B20: Ostatní náklady | I20: =SUMIF(F50:F64,A20,I50:I64) -> 0
B21: Celkem | I21: =SUM(I16:J20) -> 0
B22: Rekapitulace daní
B23: Základ pro sníženou DPH | E23: 15 | F23: % | G23: =ZakladDPHSniVypocet -> 0 | J23: =Mena -> CZK
B24: Snížená DPH | E24: =SazbaDPH1 -> 15 | F24: % | G24: =I23*E23/100 -> 0 | J24: =Mena -> CZK
B25: Základ pro základní DPH | E25: 21 | F25: % | G25: =ZakladDPHZaklVypocet -> 0 | J25: =Mena -> CZK
B26: Základní DPH | E26: =SazbaDPH2 -> 21 | F26: % | G26: =I25*E25/100 -> 0 | J26: =Mena -> CZK
A27: =ZakladDPHSni+ZakladDPHZakl -> 0 | B27: Zaokrouhlení | G27: =CenaCelkemBezDPH-(ZakladDPHSni+ZakladDPHZakl) -> 0 | J27: =Mena -> CZK
A28: =(A27-INT(A27))*100 -> 0 | B28: Cena celkem bez DPH | G28: =A27 -> 0 | J28: =Mena -> CZK
B29: Cena celkem s DPH | G29: =ZakladDPHSni+DPHSni+ZakladDPHZakl+DPHZakl+Zaokrouhleni -> 0 | J29: CZK
C32: v | F32: dne
D35: Za zhotovitele | H35: Za objednatele
B37: Rekapitulace dílčích částí
A38: #CASTI>> | B38: Číslo | C38: Název | F38: =B23 -> Základ pro sníženou DPH | G38: =B25 -> Základ pro základní DPH | H38: DPH celkem | I38: Cena celkem | J38: %
A39: 1 | B39: Stavba | F39: ='1 1 Pol'!AE137 -> 0 | G39: ='1 1 Pol'!AF137 -> 0 | I39: =F39+G39+H39 -> 0 | J39: =IF(CenaCelkemVypocet=0,"",I39/CenaCelkemVypocet*100)
A40: 2 | C40: Stavební objekt | I40: =F40+G40+H40 -> 0 | J40: =IF(CenaCelkemVypocet=0,"",I40/CenaCelkemVypocet*100)
A41: 2 | B41: 1 | C41: Návrh řešení zvukové izolace | F41: ='1 1 Pol'!AE137 -> 0 | G41: ='1 1 Pol'!AF137 -> 0 | I41: =F41+G41+H41 -> 0 | J41: =IF(CenaCelkemVypocet=0,"",I41/CenaCelkemVypocet*100)
A42: 3 | B42: 1 | C42: projektový | F42: ='1 1 Pol'!AE137 -> 0 | G42: ='1 1 Pol'!AF137 -> 0 | I42: =F42+G42+H42 -> 0 | J42: =IF(CenaCelkemVypocet=0,"",I42/CenaCelkemVypocet*100)
B43: Celkem za stavbu | F43: =SUMIF(A39:A42,"=1",F39:F42) -> 0 | G43: =SUMIF(A39:A42,"=1",G39:G42) -> 0 | H43: =SUMIF(A39:A42,"=1",H39:H42) -> 0 | I43: =SUMIF(A39:A42,"=1",I39:I42) -> 0 | J43: =SUMIF(A39:A42,"=1",J39:J42) -> 0
B47: Rekapitulace dílů
B49: Číslo | C49: Název | F49: Typ dílu | I49: Celkem | J49: %
B50: 3 | C50: Svislé a kompletní konstrukce | F50: HSV | I50: ='1 1 Pol'!G8 -> 0 | J50: =IF(I65=0,"",I50/I65*100)
B51: 61 | C51: Úpravy povrchů vnitřní | F51: HSV | I51: ='1 1 Pol'!G12 -> 0 | J51: =IF(I65=0,"",I51/I65*100)
...

Sheet VzorPolozky
A1: Položkový rozpočet
A2: S:
A3: O:
A4: R:

Sheet 1 1 Pol
A1: Položkový soupis prací a dodávek | AG1: #TypZaznamu#
A2: S: | B2: SE 158 | C2: ZUŠ Vranovská | AG2: STA
A3: O: | B3: 1 | C3: Návrh řešení zvukové izolace | AC3: STA | AG3: OBJ
A4: R: | B4: 1 | C4: projektový | AG4: ROZ
A6: P.č. | B6: Číslo položky | C6: Název položky | D6: MJ | E6: Množství | F6: Cena / MJ | G6: Celkem | H6: Dodávka | I6: Dodávka celk. | J6: Montáž | K6: Montáž celk. | L6: DPH | M6: Cena s DPH | N6: Hmotnost / MJ | O6: Hmotnost celk.(t) | P6: Dem. hmotnost / MJ | Q6: Dem. hmotnost celk.(t) | R6: Ceník | S6: Cen. soustava / platnost | T6: Cenová úroveň | U6: Nhod / MJ | V6: Nhod celk. | W6: Dodavatel | X6: Typ položky
A8: Díl: | B8: 3 | C8: Svislé a kompletní konstrukce | G8: =SUMIF(AG9:AG11,"<>NOR",G9:G11) -> 0 | I8: =SUM(I9:I11) -> 0 | K8: =SUM(K9:K11) -> 0 | M8: =SUM(M9:M11) -> 0 | O8: =SUM(O9:O11) -> 2.22 | Q8: =SUM(Q9:Q11) -> 0 | V8: =SUM(V9:V11) -> 98.41 | AG8: DIL
A9: 1 | B9: 342262111RX1 | C9: Příčka sádrokart. dvoj. oc. kce, 3x opl. tl.180 mm, desky standard tl.12,5 mm, izol minerál tl. 2x4 cm | D9: m2 | E9: 49.7045 | G9: =ROUND(E9*F9,2) -> 0 | I9: =ROUND(E9*H9,2) -> 0 | K9: =ROUND(E9*J9,2) -> 0 | L9: 21 | M9: =G9*(1+L9/100) -> 0 | N9: 0.04471 | O9: =ROUND(E9*N9,2) -> 2.22 | P9: 0 | Q9: =ROUND(E9*P9,2) -> 0 | S9: Vlastní | T9: Indiv | U9: 1.98 | V9: =ROUND(E9*U9,2) -> 98.41 | X9: Práce | AG9: POL1_
C10: SDK příčka - m2 : 3,3*(4,13+2,58*2+1,16)+3,25*5,37+1*2,03 | E10: 53.9675 | AG10: VV | AH10: 0
C11: odpočet otvorů - m2 : -1*(1,05*2,03*2) | E11: -4.263 | AG11: VV | AH11: 0
A12: Díl: | B12: 61 | C12: Úpravy povrchů vnitřní | G12: =SUMIF(AG13:AG19,"<>NOR",G13:G19) -> 0 | I12: =SUM(I13:I19) -> 0 | K12: =SUM(K13:K19) -> 0 | M12: =SUM(M13:M19) -> 0 | O12: =SUM(O13:O19) -> 0.07 | Q12: =SUM(Q13:Q19) -> 0 | V12: =SUM(V13:V19) -> 6.9 | AG12: DIL
A13: 2 | B13: 612409991RT2 | C13: Začištění omítek kolem oken, dveří a obkladů apod. s použitím suché maltové směsi | D13: m | E13: 27.408 | G13: =ROUND(E13*F13,2) -> 0 | I13: =ROUND(E13*H13,2) -> 0 | K13: =ROUND(E13*J13,2) -> 0 | L13: 21 | M13: =G13*(1+L13/100) -> 0 | N13: 0.00238 | O13: =ROUND(E13*N13,2) -> 0.07 | P13: 0 | Q13: =ROUND(E13*P13,2) -> 0 | R13: 801-4 | S13: RTS 20/ I | T13: RTS 20/ I | U13: 0.18233 | V13: =ROUND(E13*U13,2) -> 5 | X13: Práce | AG13: POL1_
C14: (1+1,97*2)*2+(1,1+2,03*2)*2+(0,81+1,397*2)*2 | E14: 27.408 | AG14: VV | AH14: 0
A15: 3 | B15: 610991111RX1 | C15: Zakrývání výplní vnitřních otvorů, bez materiálu | D15: m2 | E15: 24.2952 | G15: =ROUND(E15*F15,2) -> 0 | I15: =ROUND(E15*H15,2) -> 0 | K15: =ROUND(E15*J15,2) -> 0 | L15: 21 | M15: =G15*(1+L15/100) -> 0 | N15: 0 | O15: =ROUND(E15*N15,2) -> 0 | P15: 0 | Q15: =ROUND(E15*P15,2) -> 0 | S15: RTS 12/ I | T15: RTS 12/ I | U15: 0.078 | V15: =ROUND(E15*U15,2) -> 1.9 | X15: Práce | AG15: POL1_
C16: 101 : 5,37*2,54 | E16: 13.6398 | AG16: VV | AH16: 0
C17: 103 : 2,58*4,13 | E17: 10.6554 | AG17: VV | AH17: 0
A18: 4 | B18: 28329911R | C18: plachta LDPE; plošná hmotnost 80 g/m2; krycí, s oky; š = 4 000 mm; l = 5 000 mm; zelená/šedá; univerzální krycí plachta | D18: m2 | E18: 20 | G18: =ROUND(E18*F18,2) -> 0 | I18: =ROUND(E18*H18,2) -> 0 | K18: =ROUND(E18*J18,2) -> 0 | L18: 21 | M18: =G18*(1+L18/100) -> 0 | N18: 8e-05 | O18: =ROUND(E18*N18,2) -> 0 | P18: 0 | Q18: =ROUND(E18*P18,2) -> 0 | R18: SPCM | S18: RTS 20/ I | T18: RTS 20/ I | U18: 0 | V18: =ROUND(E18*U18,2) -> 0 | X18: Specifikace | AG18: POL3_
A19: 5 | B19: 28329921R | C19: plachta LDPE; plošná hmotnost 180 g/m2; krycí, s oky; š = 3 000 mm; l = 4 000 mm; zelená/stříbrná; univerzální krycí plachta | D19: m2 | E19: 12 | G19: =ROUND(E19*F19,2) -> 0 | I19: =ROUND(E19*H19,2) -> 0 | K19: =ROUND(E19*J19,2) -> 0 | L19: 21 | M19: =G19*(1+L19/100) -> 0 | N19: 0.00018 | O19: =ROUND(E19*N19,2) -> 0 | P19: 0 | Q19: =ROUND(E19*P19,2) -> 0 | R19: SPCM | S19: RTS 20/ I | T19: RTS 20/ I | U19: 0 | V19: =ROUND(E19*U19,2) -> 0 | X19: Specifikace | AG19: POL3_
A20: Díl: | B20: 63 | C20: Podlahy a podlahové konstrukce | G20: =SUMIF(AG21:AG23,"<>NOR",G21:G23) -> 0 | I20: =SUM(I21:I23) -> 0 | K20: =SUM(K21:K23) -> 0 | M20: =SUM(M21:M23) -> 0 | O20: =SUM(O21:O23) -> 2.24 | Q20: =SUM(Q21:Q23) -> 0 | V20: =SUM(V21:V23) -> 3.94 | AG20: DIL
A21: 6 | B21: 631311131R00 | C21: Doplnění mazanin betonem prostým o ploše jednotlivě do 1 m2 tloušťky přes 80 mm | D21: m3 | E21: 0.895 | G21: =ROUND(E21*F21,2) -> 0 | I21: =ROUND(E21*H21,2) -> 0 | K21: =ROUND(E21*J21,2) -> 0 | L21: 21 | M21: =G21*(1+L21/100) -> 0 | N21: 2.5 | O21: =ROUND(E21*N21,2) -> 2.24 | P21: 0 | Q21: =ROUND(E21*P21,2) -> 0 | R21: 801-4 | S21: RTS 20/ I | T21: RTS 20/ I | U21: 4.4 | V21: =ROUND(E21*U21,2) -> 3.94 | X21: Práce | AG21: POL1_
C22: prostým betonem (s dodáním hmot) bez potěru, | AG22: SPI
C23: po vybouraných příčkách : 0,1*(5,37+1+2,58) | E23: 0.895 | AG23: VV | AH23: 0
A24: Díl: | B24: 94 | C24: Lešení a stavební výtahy | G24: =SUMIF(AG25:AG26,"<>NOR",G25:G26) -> 0 | I24: =SUM(I25:I26) -> 0 | K24: =SUM(K25:K26) -> 0 | M24: =SUM(M25:M26) -> 0 | O24: =SUM(O25:O26) -> 0.09 | Q24: =SUM(Q25:Q26) -> 0 | V24: =SUM(V25:V26) -> 12.11 | AG24: DIL
A25: 7 | B25: 941955002R00 | C25: Lešení lehké pracovní pomocné pomocné, o výšce lešeňové podlahy přes 1,2 do 1,9 m | D25: m2 | E25: 56.6 | G25: =ROUND(E25*F25,2) -> 0 | I25: =ROUND(E25*H25,2) -> 0 | K25: =ROUND(E25*J25,2) -> 0 | L25: 21 | M25: =G25*(1+L25/100) -> 0 | N25: 0.00158 | O25: =ROUND(E25*N25,2) -> 0.09 | P25: 0 | Q25: =ROUND(E25*P25,2) -> 0 | R25: 800-3 | S25: RTS 20/ I | T25: RTS 20/ I | U25: 0.214 | V25: =ROUND(E25*U25,2) -> 12.11 | X25: Práce | AG25: POL1_
C26: pro bourací a nové práce : 28,3*2 | E26: 56.6 | AG26: VV | AH26: 0
A27: Díl: | B27: 96 | C27: Bourání konstrukcí | G27: =SUMIF(AG28:AG45,"<>NOR",G28:G45) -> 0 | I27: =SUM(I28:I45) -> 0 | K27: =SUM(K28:K45) -> 0 | M27: =SUM(M28:M45) -> 0 | O27: =SUM(O28:O45) -> 0.02 | Q27: =SUM(Q28:Q45) -> 3.82 | V27: =SUM(V28:V45) -> 9.14 | AG27: DIL
A28: 8 | B28: 962031132R00 | C28: Bourání příček | D28: m2 | E28: 25.449 | G28: =ROUND(E28*F28,2) -> 0 | I28: =ROUND(E28*H28,2) -> 0 | K28: =ROUND(E28*J28,2) -> 0 | L28: 21 | M28: =G28*(1+L28/100) -> 0 | N28: 0.00067 | O28: =ROUND(E28*N28,2) -> 0.02 | P28: 0.131 | Q28: =ROUND(E28*P28,2) -> 3.33 | R28: 801-3 | S28: RTS 17/ I | T28: RTS 17/ I | U28: 0.21 | V28: =ROUND(E28*U28,2) -> 5.34 | X28: Práce | AG28: POL1_
C29: nebo vybourání otvorů průřezové plochy přes 4 m2 v příčkách, včetně pomocného lešení o výšce podlahy do 1900 mm a pro zatížení do 1,5 kPa (150 kg/m2), | AG29: SPI | BA29: =C29 -> nebo vybourání otvorů průřezové plochy přes 4 m2 v příčkách, včetně pomocného lešení o výšce podlahy do 1900 mm a pro zatížení do 1,5 kPa (150 kg/m2),
C30: 3,3*(5,47+2,66)+1*2,03 | E30: 28.859 | AG30: VV | AH30: 0
C31: odpočet otvorů-dveře : -1*1,97 | E31: -1.97 | AG31: VV | AH31: 0
C32: skleněné tvárnice : -2,4*0,6 | E32: -1.44 | AG32: VV | AH32: 0
A33: 9 | B33: 962081131R00 | C33: Bourání zdiva příček ze skleněných tvárnic, tloušťky do 100 mm | D33: m2 | E33: 1.44 | G33: =ROUND(E33*F33,2) -> 0 | I33: =ROUND(E33*H33,2) -> 0 | K33: =ROUND(E33*J33,2) -> 0 | L33: 21 | M33: =G33*(1+L33/100) -> 0 | N33: 0.00067 | O33: =ROUND(E33*N33,2) -> 0 | P33: 0.055 | Q33: =ROUND(E33*P33,2) -> 0.08 | R33: 801-3 | S33: RTS 20/ I | T33: RTS 20/ I | U33: 0.381 | V33: =ROUND(E33*U33,2) -> 0.55 | X33: Práce | AG33: POL1_
C34: nebo vybourání otvorů jakýchkoliv rozměrů, včetně pomocného lešení o výšce podlahy do 1900 mm a pro zatížení do 1,5 kPa (150 kg/m2), | AG34: SPI | BA34: =C34 -> nebo vybourání otvorů jakýchkoliv rozměrů, včetně pomocného lešení o výšce podlahy do 1900 mm a pro zatížení do 1,5 kPa (150 kg/m2),
C35: 2,4*0,6 | E35: 1.44 | AG35: VV | AH35: 0
A36: 10 | B36: 967031732R00 | C36: Přisekání plošné zdiva cihelného na jakoukoliv maltu vápennou nebo vépenocementovou, tloušťky do 100 mm | D36: m2 | E36: 0.487 | G36: =ROUND(E36*F36,2) -> 0 | I36: =ROUND(E36*H36,2) -> 0 | K36: =ROUND(E36*J36,2) -> 0 | L36: 21 | M36: =G36*(1+L36/100) -> 0 | N36: 0.00034 | O36: =ROUND(E36*N36,2) -> 0 | P36: 0.183 | Q36: =ROUND(E36*P36,2) -> 0.09 | R36: 801-3 | S36: RTS 20/ I | T36: RTS 20/ I | U36: 0.5 | V36: =ROUND(E36*U36,2) -> 0.24 | X36: Práce | AG36: POL1_
C37: z jakýchkoliv cihel pálených, včetně pomocného lešení o výšce podlahy do 1900 mm a pro zatížení do 1,5 kPa (150 kg/m2), | AG37: SPI | BA37: =C37 -> z jakýchkoliv cihel pálených, včetně pomocného lešení o výšce podlahy do 1900 mm a pro zatížení do 1,5 kPa (150 kg/m2),
C38: vysekání ozubu pro osazení rámové zárubně : 0,1*(0,81+2,03*2) | E38: 0.487 | AG38: VV | AH38: 0
A39: 11 | B39: 968061125R00 | C39: Vyvěšení nebo zavěšení dřevěných křídel dveří, plochy do 2 m2 | D39: kus | E39: 2 | G39: =ROUND(E39*F39,2) -> 0 | I39: =ROUND(E39*H39,2) -> 0 | K39: =ROUND(E39*J39,2) -> 0 | L39: 21 | M39: =G39*(1+L39/100) -> 0 | N39: 0 | O39: =ROUND(E39*N39,2) -> 0 | P39: 0 | Q39: =ROUND(E39*P39,2) -> 0 | R39: 801-3 | S39: RTS 20/ I | T39: RTS 20/ I | U39: 0.05 | V39: =ROUND(E39*U39,2) -> 0.1 | X39: Práce | AG39: POL1_
C40: oken, dveří a vrat, s uložením a opětovným zavěšením po provedení stavebních změn, | AG40: SPI
A41: 12 | B41: 968062455R00 | C41: Vybourání dřevěných rámů dveřních zárubní, plochy do 2 m2 | D41: m2 | E41: 1.9 | G41: =ROUND(E41*F41,2) -> 0 | I41: =ROUND(E41*H41,2) -> 0 | K41: =ROUND(E41*J41,2) -> 0 | L41: 21 | M41: =G41*(1+L41/100) -> 0 | N41: 0.00117 | O41: =ROUND(E41*N41,2) -> 0 | P41: 0.088 | Q41: =ROUND(E41*P41,2) -> 0.17 | R41: 801-3 | S41: RTS 20/ I | T41: RTS 20/ I | U41: 0.556 | V41: =ROUND(E41*U41,2) -> 1.06 | X41: Práce | AG41: POL1_
C42: včetně pomocného lešení o výšce podlahy do 1900 mm a pro zatížení do 1,5 kPa (150 kg/m2), | AG42: SPI
...
