Workbook
Name CelkemDPHVypocet: Stavba!$H$43
Name CenaCelkem: Stavba!$G$29
Name CenaCelkemBezDPH: Stavba!$G$28
Name CenaCelkemVypocet: Stavba!$I$43
Name cisloobjektu: Stavba!$D$3
Name CisloRozpoctu: '[1]Krycí list'!$C$2
Name CisloStavby: Stavba!$D$2
Name cislostavby: '[1]Krycí list'!$A$7
Name CisloStavebnihoRozpoctu: Stavba!$D$4
Name dadresa: Stavba!$D$12:$G$12
Name DIČ: Stavba!$I$12
Name dmisto: Stavba!$E$13:$G$13
Name DPHSni: Stavba!$G$24
Name DPHZakl: Stavba!$G$26
Name dpsc: Stavba!$D$13
Name IČO: Stavba!$I$11
Name Mena: Stavba!$J$29
Name MistoStavby: Stavba!$D$4
Name nazevobjektu: Stavba!$E$3
Name NazevRozpoctu: '[1]Krycí list'!$D$2
Name NazevStavby: Stavba!$E$2
Name nazevstavby: '[1]Krycí list'!$C$7
Name NazevStavebnihoRozpoctu: Stavba!$E$4
Name oadresa: Stavba!$D$6
Name Objednatel: Stavba!$D$5
Name Objekt: Stavba!$B$38
Name odic: Stavba!$I$6
Name oico: Stavba!$I$5
Name omisto: Stavba!$E$7
Name onazev: Stavba!$D$6
Name opsc: Stavba!$D$7
Name padresa: Stavba!$D$9
Name pdic: Stavba!$I$9
Name pico: Stavba!$I$8
Name pmisto: Stavba!$E$10
Name PocetMJ: #REF!
Name PoptavkaID: Stavba!$A$1
Name pPSC: Stavba!$D$10
Name Projektant: Stavba!$D$8
Name SazbaDPH1: Stavba!$E$23
Name SazbaDPH1: '[1]Krycí list'!$C$30
Name SazbaDPH2: Stavba!$E$25
Name SazbaDPH2: '[1]Krycí list'!$C$32
Name SloupecCC: #REF!
Name SloupecCisloPol: #REF!
Name SloupecJC: #REF!
Name SloupecMJ: #REF!
Name SloupecMnozstvi: #REF!
Name SloupecNazPol: #REF!
Name SloupecPC: #REF!
Name Vypracoval: Stavba!$D$14
Name ZakladDPHSni: Stavba!$G$23
Name ZakladDPHSniVypocet: Stavba!$F$43
Name ZakladDPHZakl: Stavba!$G$25
Name ZakladDPHZaklVypocet: Stavba!$G$43
Name ZaObjednatele: Stavba!$G$34
Name Zaokrouhleni: Stavba!$G$27
Name ZaZhotovitele: Stavba!$D$34
Name Zhotovitel: Stavba!$D$11:$G$11

Sheet Pokyny pro vyplnění
A1: Pokyny pro vyplnění
A2: Ve všech listech tohoto souboru můžete měnit pouze buňky s modrým pozadím. Jedná se o tyto údaje : - údaje o firmě - jednotkové ceny položek zadané na maximálně dvě desetinná místa

Sheet Stavba
A1: #RTSROZP# | B1: Soupis stavebních prací, dodávek a služeb
B2: Stavba: | D2: 272/2020/05 | E2: Žerotínovo nám. 6 stavební opravy fyzioterpie, logopedie
B3: Objekt: | D3: 272/2020/05 | E3: Žerotínovo nám. 6 stavební opravy fyzioterpie, logopedie
A4: 4129 | B4: Rozpočet: | D4: 272/2020/05 | E4: Žerotínovo nám. 6 stavební opravy fyzioterpie, logopedie
B5: Zadavatel | H5: IČO:
H6: DIČ:
B8: Projektant: | H8: IČO:
H9: DIČ:
B11: Zhotovitel: | H11: IČO:
H12: DIČ:
B14: Vypracoval: | D14: Marečková
B15: Rozpis ceny | I15: Celkem
A16: HSV | B16: HSV | I16: =SUMIF(F50:F60,A16,I50:I60)+SUMIF(F50:F60,"PSU",I50:I60) -> 0
A17: PSV | B17: PSV | I17: =SUMIF(F50:F60,A17,I50:I60) -> 0
A18: MON | B18: MON | I18: =SUMIF(F50:F60,A18,I50:I60) -> 0
A19: VN | B19: Vedlejší náklady | I19: =SUMIF(F50:F60,A19,I50:I60) -> 0
A20: ON | B20: Ostatní náklady | I20: =SUMIF(F50:F60,A20,I50:I60) -> 0
B21: Celkem | I21: =SUM(I16:J20) -> 0
B22: Rekapitulace daní
A23: =ZakladDPHSni*SazbaDPH1/100 -> 0 | B23: Základ pro sníženou DPH | E23: 15 | F23: % | G23: =ZakladDPHSniVypocet -> 0 | J23: =Mena -> CZK
A24: =(A23-INT(A23))*100 -> 0 | B24: Snížená DPH | E24: =SazbaDPH1 -> 15 | F24: % | G24: =A23 -> 0 | J24: =Mena -> CZK
A25: =ZakladDPHZakl*SazbaDPH2/100 -> 0 | B25: Základ pro základní DPH | E25: 21 | F25: % | G25: =ZakladDPHZaklVypocet -> 0 | J25: =Mena -> CZK
A26: =(A25-INT(A25))*100 -> 0 | B26: Základní DPH | E26: =SazbaDPH2 -> 21 | F26: % | G26: =A25 -> 0 | J26: =Mena -> CZK
A27: =ZakladDPHSni+DPHSni+ZakladDPHZakl+DPHZakl -> 0 | B27: Zaokrouhlení | G27: =CenaCelkem-(ZakladDPHSni+DPHSni+ZakladDPHZakl+DPHZakl) -> 0 | J27: =Mena -> CZK
B28: Cena celkem bez DPH | G28: =ZakladDPHSniVypocet+ZakladDPHZaklVypocet -> 0 | J28: =Mena -> CZK
A29: =(A27-INT(A27))*100 -> 0 | B29: Cena celkem s DPH | G29: =A27 -> 0 | J29: CZK
C32: v | F32: dne
D34: sdfsdf | G34: OSM MMB
D35: Za zhotovitele | H35: Za objednatele
B37: Rekapitulace dílčích částí
A38: #CASTI>> | B38: Číslo | C38: Název | F38: =B23 -> Základ pro sníženou DPH | G38: =B25 -> Základ pro základní DPH | H38: DPH celkem | I38: Cena celkem | J38: %
A39: 1 | B39: Stavba | F39: ='272_2020_05 272_2020_05 Pol'!AE151 -> 0 | G39: ='272_2020_05 272_2020_05 Pol'!AF151 -> 0 | H39: =(F39*SazbaDPH1/100)+(G39*SazbaDPH2/100) -> 0 | I39: =F39+G39+H39 -> 0 | J39: =IF(CenaCelkemVypocet=0,"",I39/CenaCelkemVypocet*100)
A40: 2 | C40: Stavební objekt | H40: =(F40*SazbaDPH1/100)+(G40*SazbaDPH2/100) -> 0 | I40: =F40+G40+H40 -> 0 | J40: =IF(CenaCelkemVypocet=0,"",I40/CenaCelkemVypocet*100)
A41: 2 | B41: 272/2020/05 | C41: Žerotínovo nám. 6 stavební opravy fyzioterpie, logopedie | F41: ='272_2020_05 272_2020_05 Pol'!AE151 -> 0 | G41: ='272_2020_05 272_2020_05 Pol'!AF151 -> 0 | H41: =(F41*SazbaDPH1/100)+(G41*SazbaDPH2/100) -> 0 | I41: =F41+G41+H41 -> 0 | J41: =IF(CenaCelkemVypocet=0,"",I41/CenaCelkemVypocet*100)
A42: 3 | B42: 272/2020/05 | C42: Žerotínovo nám. 6 stavební opravy fyzioterpie, logopedie | F42: ='272_2020_05 272_2020_05 Pol'!AE151 -> 0 | G42: ='272_2020_05 272_2020_05 Pol'!AF151 -> 0 | H42: =(F42*SazbaDPH1/100)+(G42*SazbaDPH2/100) -> 0 | I42: =F42+G42+H42 -> 0 | J42: =IF(CenaCelkemVypocet=0,"",I42/CenaCelkemVypocet*100)
B43: Celkem za stavbu | F43: =SUMIF(A39:A42,"=1",F39:F42) -> 0 | G43: =SUMIF(A39:A42,"=1",G39:G42) -> 0 | H43: =SUMIF(A39:A42,"=1",H39:H42) -> 0 | I43: =SUMIF(A39:A42,"=1",I39:I42) -> 0 | J43: =SUMIF(A39:A42,"=1",J39:J42) -> 0
B47: Rekapitulace dílů
B49: Číslo | C49: Název | F49: Typ dílu | I49: Celkem | J49: %
B50: 61 | C50: Úpravy povrchů vnitřní | F50: HSV | I50: ='272_2020_05 272_2020_05 Pol'!G8 -> 0 | J50: =IF(I61=0,"",I50/I61*100)
B51: 63 | C51: Podlahy a podlahové konstrukce | F51: HSV | I51: ='272_2020_05 272_2020_05 Pol'!G12 -> 0 | J51: =IF(I61=0,"",I51/I61*100)
B52: 95 | C52: Dokončovací konstrukce na pozemních stavbách | F52: HSV | I52: ='272_2020_05 272_2020_05 Pol'!G18 -> 0 | J52: =IF(I61=0,"",I52/I61*100)
B53: 99 | C53: Staveništní přesun hmot | F53: HSV | I53: ='272_2020_05 272_2020_05 Pol'!G24 -> 0 | J53: =IF(I61=0,"",I53/I61*100)
B54: 762 | C54: Konstrukce tesařské | F54: PSV | I54: ='272_2020_05 272_2020_05 Pol'!G31 -> 0 | J54: =IF(I61=0,"",I54/I61*100)
B55: 766 | C55: Konstrukce truhlářské | F55: PSV | I55: ='272_2020_05 272_2020_05 Pol'!G48 -> 0 | J55: =IF(I61=0,"",I55/I61*100)
B56: 776 | C56: Podlahy povlakové | F56: PSV | I56: ='272_2020_05 272_2020_05 Pol'!G62 -> 0 | J56: =IF(I61=0,"",I56/I61*100)
B57: 784 | C57: Malby | F57: PSV | I57: ='272_2020_05 272_2020_05 Pol'!G109 -> 0 | J57: =IF(I61=0,"",I57/I61*100)
B58: D96 | C58: Přesuny suti a vybouraných hmot | F58: PSU | I58: ='272_2020_05 272_2020_05 Pol'!G129 -> 0 | J58: =IF(I61=0,"",I58/I61*100)
B59: VN | C59: Vedlejší náklady | F59: VN | I59: ='272_2020_05 272_2020_05 Pol'!G143 -> 0 | J59: =IF(I61=0,"",I59/I61*100)
B60: ON | C60: Ostatní náklady | F60: ON | I60: ='272_2020_05 272_2020_05 Pol'!G146 -> 0 | J60: =IF(I61=0,"",I60/I61*100)
B61: Cena celkem | I61: =SUM(I50:I60) -> 0 | J61: =SUM(J50:J60) -> 0

Sheet VzorPolozky
A1: Položkový rozpočet
A2: S:
A3: O:
A4: R:

Sheet 272_2020_05 272_2020_05 Pol
A1: Položkový soupis prací a dodávek | AG1: #TypZaznamu#
A2: S: | B2: 272/2020/05 | C2: Žerotínovo nám. 6 stavební opravy fyzioterpie, logopedie | AG2: STA
A3: O: | B3: 272/2020/05 | C3: Žerotínovo nám. 6 stavební opravy fyzioterpie, logopedie | AC3: STA | AG3: OBJ
A4: R: | B4: 272/2020/05 | C4: Žerotínovo nám. 6 stavební opravy fyzioterpie, logopedie | AG4: ROZ
A6: P.č. | B6: Číslo položky | C6: Název položky | D6: MJ | E6: Množství | F6: Cena / MJ | G6: Celkem | H6: Dodávka | I6: Dodávka celk. | J6: Montáž | K6: Montáž celk. | L6: DPH | M6: Cena s DPH | N6: Hmotnost / MJ | O6: Hmotnost celk.(t) | P6: Dem. hmotnost / MJ | Q6: Dem. hmotnost celk.(t) | R6: Ceník | S6: Cen. soustava / platnost | T6: Cenová úroveň | U6: Nhod / MJ | V6: Nhod celk. | W6: Dodavatel | X6: Typ položky
A8: Díl: | B8: 61 | C8: Úpravy povrchů vnitřní | G8: =SUMIF(AG9:AG11,"<>NOR",G9:G11) -> 0 | I8: =SUM(I9:I11) -> 0 | K8: =SUM(K9:K11) -> 0 | M8: =SUM(M9:M11) -> 0 | O8: =SUM(O9:O11) -> 0.02 | Q8: =SUM(Q9:Q11) -> 0 | V8: =SUM(V9:V11) -> 1.1 | AG8: DIL
A9: 1 | B9: 612401191RT2 | C9: Omítky malých ploch vnitřních stěn do 0,09 m2, vápennou štukovou omítkou | D9: kus | E9: 5 | G9: =ROUND(E9*F9,2) -> 0 | I9: =ROUND(E9*H9,2) -> 0 | K9: =ROUND(E9*J9,2) -> 0 | L9: 21 | M9: =G9*(1+L9/100) -> 0 | N9: 0.0032 | O9: =ROUND(E9*N9,2) -> 0.02 | P9: 0 | Q9: =ROUND(E9*P9,2) -> 0 | R9: 801-4 | S9: RTS 20/ I | T9: RTS 20/ I | U9: 0.22 | V9: =ROUND(E9*U9,2) -> 1.1 | X9: Práce | AG9: POL1_
C10: jakoukoliv maltou, z pomocného pracovního lešení o výšce podlahy do 1900 mm a pro zatížení do 1,5 kPa, | AG10: SPI | BA10: =C10 -> jakoukoliv maltou, z pomocného pracovního lešení o výšce podlahy do 1900 mm a pro zatížení do 1,5 kPa,
AG11: SPU
A12: Díl: | B12: 63 | C12: Podlahy a podlahové konstrukce | G12: =SUMIF(AG13:AG17,"<>NOR",G13:G17) -> 0 | I12: =SUM(I13:I17) -> 0 | K12: =SUM(K13:K17) -> 0 | M12: =SUM(M13:M17) -> 0 | O12: =SUM(O13:O17) -> 0.29 | Q12: =SUM(Q13:Q17) -> 0 | V12: =SUM(V13:V17) -> 10.2 | AG12: DIL
A13: 2 | B13: 632419104RT2 | C13: Potěr ze suchých směsí cementová samonivelační podlahová stěrka, tloušťky 4 mm, bez penetrace | D13: m2 | E13: 40.8 | G13: =ROUND(E13*F13,2) -> 0 | I13: =ROUND(E13*H13,2) -> 0 | K13: =ROUND(E13*J13,2) -> 0 | L13: 21 | M13: =G13*(1+L13/100) -> 0 | N13: 0.00714 | O13: =ROUND(E13*N13,2) -> 0.29 | P13: 0 | Q13: =ROUND(E13*P13,2) -> 0 | R13: 801-1 | S13: RTS 20/ I | T13: RTS 20/ I | U13: 0.25 | V13: =ROUND(E13*U13,2) -> 10.2 | X13: Práce | AG13: POL1_
C14: s rozprostřením a uhlazením | AG14: SPI
C15: 410 : 22 | E15: 22 | AG15: VV | AH15: 0
C16: 102 : 18,80 | E16: 18.8 | AG16: VV | AH16: 0
AG17: SPU
A18: Díl: | B18: 95 | C18: Dokončovací konstrukce na pozemních stavbách | G18: =SUMIF(AG19:AG23,"<>NOR",G19:G23) -> 0 | I18: =SUM(I19:I23) -> 0 | K18: =SUM(K19:K23) -> 0 | M18: =SUM(M19:M23) -> 0 | O18: =SUM(O19:O23) -> 0 | Q18: =SUM(Q19:Q23) -> 0 | V18: =SUM(V19:V23) -> 30.01 | AG18: DIL
A19: 3 | B19: 952901111R00 | C19: Vyčištění budov a ostatních objektů budov bytové nebo občanské výstavby - zametení a umytí podlah, dlažeb, obkladů, schodů v místnostech, chodbách a schodištích, vyčištění a umytí oken, dveří s rámy, zárubněmi, umytí a vyčištění jiných zasklených a natíraných ploch a zařizovacích předmětů před předáním do užívání světlá výška podlaží do 4 m | D19: m2 | E19: 96.8 | G19: =ROUND(E19*F19,2) -> 0 | I19: =ROUND(E19*H19,2) -> 0 | K19: =ROUND(E19*J19,2) -> 0 | L19: 21 | M19: =G19*(1+L19/100) -> 0 | N19: 4e-05 | O19: =ROUND(E19*N19,2) -> 0 | P19: 0 | Q19: =ROUND(E19*P19,2) -> 0 | R19: 801-1 | S19: RTS 20/ I | T19: RTS 20/ I | U19: 0.31 | V19: =ROUND(E19*U19,2) -> 30.01 | X19: Práce | AG19: POL1_
C20: 102a : 56 | E20: 56 | AG20: VV | AH20: 0
C21: 410 : 22 | E21: 22 | AG21: VV | AH21: 0
C22: 102 : 18,80 | E22: 18.8 | AG22: VV | AH22: 0
AG23: SPU
A24: Díl: | B24: 99 | C24: Staveništní přesun hmot | G24: =SUMIF(AG25:AG30,"<>NOR",G25:G30) -> 0 | I24: =SUM(I25:I30) -> 0 | K24: =SUM(K25:K30) -> 0 | M24: =SUM(M25:M30) -> 0 | O24: =SUM(O25:O30) -> 0 | Q24: =SUM(Q25:Q30) -> 0 | V24: =SUM(V25:V30) -> 0.14 | AG24: DIL
A25: 4 | B25: 998014021R00 | C25: Přesun hmot, budovy mont. vícepodl. s pláštěm, 18m | D25: t | E25: 0.31118 | G25: =ROUND(E25*F25,2) -> 0 | I25: =ROUND(E25*H25,2) -> 0 | K25: =ROUND(E25*J25,2) -> 0 | L25: 21 | M25: =G25*(1+L25/100) -> 0 | N25: 0 | O25: =ROUND(E25*N25,2) -> 0 | P25: 0 | Q25: =ROUND(E25*P25,2) -> 0 | S25: RTS 20/ I | T25: RTS 20/ I | U25: 0.13 | V25: =ROUND(E25*U25,2) -> 0.04 | X25: Přesun hmot | AG25: POL7_
AG26: SPU
A27: 5 | B27: 998014094R00 | C27: Přesun hmot, budovy mont, plášť, příplatek do 5 km | D27: t | E27: 0.31118 | G27: =ROUND(E27*F27,2) -> 0 | I27: =ROUND(E27*H27,2) -> 0 | K27: =ROUND(E27*J27,2) -> 0 | L27: 21 | M27: =G27*(1+L27/100) -> 0 | N27: 0 | O27: =ROUND(E27*N27,2) -> 0 | P27: 0 | Q27: =ROUND(E27*P27,2) -> 0 | S27: RTS 20/ I | T27: RTS 20/ I | U27: 0.31 | V27: =ROUND(E27*U27,2) -> 0.1 | X27: Přesun hmot | AG27: POL7_
AG28: SPU
A29: 6 | B29: 998014095R00 | C29: Přesun hmot,bud.mont.s pláštěm,příp.za dalších 5km | D29: t | E29: 0.31118 | G29: =ROUND(E29*F29,2) -> 0 | I29: =ROUND(E29*H29,2) -> 0 | K29: =ROUND(E29*J29,2) -> 0 | L29: 21 | M29: =G29*(1+L29/100) -> 0 | N29: 0 | O29: =ROUND(E29*N29,2) -> 0 | P29: 0 | Q29: =ROUND(E29*P29,2) -> 0 | S29: RTS 20/ I | T29: RTS 20/ I | U29: 0 | V29: =ROUND(E29*U29,2) -> 0 | X29: Přesun hmot | AG29: POL7_
AG30: SPU
A31: Díl: | B31: 762 | C31: Konstrukce tesařské | G31: =SUMIF(AG32:AG47,"<>NOR",G32:G47) -> 0 | I31: =SUM(I32:I47) -> 0 | K31: =SUM(K32:K47) -> 0 | M31: =SUM(M32:M47) -> 0 | O31: =SUM(O32:O47) -> 0.95 | Q31: =SUM(Q32:Q47) -> 0 | V31: =SUM(V32:V47) -> 15.68 | AG31: DIL
A32: 7 | B32: 762512245R00 | C32: Položení podlah pod PVC montáž_x000D_ šroubováním | D32: m2 | E32: 56 | G32: =ROUND(E32*F32,2) -> 0 | I32: =ROUND(E32*H32,2) -> 0 | K32: =ROUND(E32*J32,2) -> 0 | L32: 21 | M32: =G32*(1+L32/100) -> 0 | N32: 0 | O32: =ROUND(E32*N32,2) -> 0 | P32: 0 | Q32: =ROUND(E32*P32,2) -> 0 | R32: 800-762 | S32: RTS 20/ I | T32: RTS 20/ I | U32: 0.28 | V32: =ROUND(E32*U32,2) -> 15.68 | X32: Práce | AG32: POL1_
C33: 102 : 56 | E33: 56 | AG33: VV | AH33: 0
AG34: SPU
A35: 8 | B35: 60726017.AR | C35: deska dřevoštěpková třívrstvá pro prostředí vlhké; strana nebroušená; hrana pero/drážka; tl = 25,0 mm | D35: m2 | E35: 60.48 | G35: =ROUND(E35*F35,2) -> 0 | I35: =ROUND(E35*H35,2) -> 0 | K35: =ROUND(E35*J35,2) -> 0 | L35: 21 | M35: =G35*(1+L35/100) -> 0 | N35: 0.0157 | O35: =ROUND(E35*N35,2) -> 0.95 | P35: 0 | Q35: =ROUND(E35*P35,2) -> 0 | R35: SPCM | S35: RTS 20/ I | T35: RTS 20/ I | U35: 0 | V35: =ROUND(E35*U35,2) -> 0 | X35: Specifikace | AG35: POL3_
C36: 8% ztratné : 56*0,08 | E36: 4.48 | AG36: VV | AH36: 0
C37: 102a : 56 | E37: 56 | AG37: VV | AH37: 0
AG38: SPU
A39: 9 | B39: 998762203R00 | C39: Přesun hmot pro konstrukce tesařské v objektech výšky do 24 m | D39: % | G39: =ROUND(E39*F39,2) -> 0 | I39: =ROUND(E39*H39,2) -> 0 | K39: =ROUND(E39*J39,2) -> 0 | L39: 21 | M39: =G39*(1+L39/100) -> 0 | N39: 0 | O39: =ROUND(E39*N39,2) -> 0 | P39: 0 | Q39: =ROUND(E39*P39,2) -> 0 | R39: 800-762 | S39: RTS 20/ I | T39: RTS 20/ I | U39: 0 | V39: =ROUND(E39*U39,2) -> 0 | X39: Přesun hmot | AG39: POL7_
C40: 50 m vodorovně | AG40: SPI
AG41: SPU
A42: 10 | B42: 998762294R00 | C42: Přesun hmot pro konstrukce tesařské příplatek k ceně za zvětšený přesun přes vymezenou největší dopravní vzdálenost_x000D_ do 1000 m | D42: % | G42: =ROUND(E42*F42,2) -> 0 | I42: =ROUND(E42*H42,2) -> 0 | K42: =ROUND(E42*J42,2) -> 0 | L42: 21 | M42: =G42*(1+L42/100) -> 0 | N42: 0 | O42: =ROUND(E42*N42,2) -> 0 | P42: 0 | Q42: =ROUND(E42*P42,2) -> 0 | R42: 800-762 | S42: RTS 20/ I | T42: RTS 20/ I | U42: 0 | V42: =ROUND(E42*U42,2) -> 0 | X42: Přesun hmot | AG42: POL7_
C43: 50 m vodorovně | AG43: SPI
AG44: SPU
A45: 11 | B45: 998762299R00 | C45: Přesun hmot pro konstrukce tesařské příplatek k ceně za zvětšený přesun přes vymezenou největší dopravní vzdálenost_x000D_ za každých dalších i započatých 1000 m přes 1000 m | D45: % | G45: =ROUND(E45*F45,2) -> 0 | I45: =ROUND(E45*H45,2) -> 0 | K45: =ROUND(E45*J45,2) -> 0 | L45: 21 | M45: =G45*(1+L45/100) -> 0 | N45: 0 | O45: =ROUND(E45*N45,2) -> 0 | P45: 0 | Q45: =ROUND(E45*P45,2) -> 0 | R45: 800-762 | S45: RTS 20/ I | T45: RTS 20/ I | U45: 0 | V45: =ROUND(E45*U45,2) -> 0 | X45: Přesun hmot | AG45: POL7_
C46: 50 m vodorovně | AG46: SPI
AG47: SPU
A48: Díl: | B48: 766 | C48: Konstrukce truhlářské | G48: =SUMIF(AG49:AG61,"<>NOR",G49:G61) -> 0 | I48: =SUM(I49:I61) -> 0 | K48: =SUM(K49:K61) -> 0 | M48: =SUM(M49:M61) -> 0 | O48: =SUM(O49:O61) -> 0 | Q48: =SUM(Q49:Q61) -> 0.11 | V48: =SUM(V49:V61) -> 2.16 | AG48: DIL
A49: 12 | B49: 766825111R00 | C49: Montáž nábytku vestavěného skříně jednokřídlové šatní policové | D49: kus | E49: 1 | G49: =ROUND(E49*F49,2) -> 0 | I49: =ROUND(E49*H49,2) -> 0 | K49: =ROUND(E49*J49,2) -> 0 | L49: 21 | M49: =G49*(1+L49/100) -> 0 | N49: 0.00019 | O49: =ROUND(E49*N49,2) -> 0 | P49: 0 | Q49: =ROUND(E49*P49,2) -> 0 | R49: 800-766 | S49: RTS 20/ I | T49: RTS 20/ I | U49: 1.7 | V49: =ROUND(E49*U49,2) -> 1.7 | X49: Práce | AG49: POL1_
AG50: SPU
A51: 13 | B51: 766825821R00 | C51: Demontáž nábytku vestavěného skříní dvoukřídlových | D51: kus | E51: 1 | G51: =ROUND(E51*F51,2) -> 0 | I51: =ROUND(E51*H51,2) -> 0 | K51: =ROUND(E51*J51,2) -> 0 | L51: 21 | M51: =G51*(1+L51/100) -> 0 | N51: 0 | O51: =ROUND(E51*N51,2) -> 0 | P51: 0.1104 | Q51: =ROUND(E51*P51,2) -> 0.11 | R51: 800-766 | S51: RTS 20/ I | T51: RTS 20/ I | U51: 0.46 | V51: =ROUND(E51*U51,2) -> 0.46 | X51: Práce | AG51: POL1_
AG52: SPU
A53: 14 | B53: 998766203R00 | C53: Přesun hmot pro konstrukce truhlářské v objektech výšky do 24 m | D53: % | G53: =ROUND(E53*F53,2) -> 0 | I53: =ROUND(E53*H53,2) -> 0 | K53: =ROUND(E53*J53,2) -> 0 | L53: 21 | M53: =G53*(1+L53/100) -> 0 | N53: 0 | O53: =ROUND(E53*N53,2) -> 0 | P53: 0 | Q53: =ROUND(E53*P53,2) -> 0 | R53: 800-766 | S53: RTS 20/ I | T53: RTS 20/ I | U53: 0 | V53: =ROUND(E53*U53,2) -> 0 | X53: Přesun hmot | AG53: POL7_
C54: 50 m vodorovně | AG54: SPI
AG55: SPU
A56: 15 | B56: 998766294R00 | C56: Přesun hmot pro konstrukce truhlářské příplatek k ceně za zvětšený přesun přes vymezenou největší dopravní vzdálenost_x000D_ do 1000 m | D56: % | G56: =ROUND(E56*F56,2) -> 0 | I56: =ROUND(E56*H56,2) -> 0 | K56: =ROUND(E56*J56,2) -> 0 | L56: 21 | M56: =G56*(1+L56/100) -> 0 | N56: 0 | O56: =ROUND(E56*N56,2) -> 0 | P56: 0 | Q56: =ROUND(E56*P56,2) -> 0 | R56: 800-766 | S56: RTS 20/ I | T56: RTS 20/ I | U56: 0 | V56: =ROUND(E56*U56,2) -> 0 | X56: Přesun hmot | AG56: POL7_
C57: 50 m vodorovně | AG57: SPI
AG58: SPU
A59: 16 | B59: 998766299R00 | C59: Přesun hmot pro konstrukce truhlářské příplatek k ceně za zvětšený přesun přes vymezenou největší dopravní vzdálenost_x000D_ za každých dalších i započatých 1000 m přes 1000 m | D59: % | G59: =ROUND(E59*F59,2) -> 0 | I59: =ROUND(E59*H59,2) -> 0 | K59: =ROUND(E59*J59,2) -> 0 | L59: 21 | M59: =G59*(1+L59/100) -> 0 | N59: 0 | O59: =ROUND(E59*N59,2) -> 0 | P59: 0 | Q59: =ROUND(E59*P59,2) -> 0 | R59: 800-766 | S59: RTS 20/ I | T59: RTS 20/ I | U59: 0 | V59: =ROUND(E59*U59,2) -> 0 | X59: Přesun hmot | AG59: POL7_
C60: 50 m vodorovně | AG60: SPI
AG61: SPU
A62: Díl: | B62: 776 | C62: Podlahy povlakové | G62: =SUMIF(AG63:AG108,"<>NOR",G63:G108) -> 0 | I62: =SUM(I63:I108) -> 0 | K62: =SUM(K63:K108) -> 0 | M62: =SUM(M63:M108) -> 0 | O62: =SUM(O63:O108) -> 0.3 | Q62: =SUM(Q63:Q108) -> 0.11 | V62: =SUM(V63:V108) -> 69.56 | AG62: DIL
A63: 17 | B63: 776101101R00 | C63: Přípravné práce vysávání povlakových podlah průmyslovým vysavačem | D63: m2 | E63: 96.8 | G63: =ROUND(E63*F63,2) -> 0 | I63: =ROUND(E63*H63,2) -> 0 | K63: =ROUND(E63*J63,2) -> 0 | L63: 21 | M63: =G63*(1+L63/100) -> 0 | N63: 0 | O63: =ROUND(E63*N63,2) -> 0 | P63: 0 | Q63: =ROUND(E63*P63,2) -> 0 | R63: 800-775 | S63: RTS 20/ I | T63: RTS 20/ I | U63: 0.02 | V63: =ROUND(E63*U63,2) -> 1.94 | X63: Práce | AG63: POL1_
C64: položky neobsahují žádný materiál | AG64: SPI
AG65: SPU
A66: 18 | B66: 776101121R00 | C66: Přípravné práce penetrace podkladu | D66: m2 | E66: 96.8 | G66: =ROUND(E66*F66,2) -> 0 | I66: =ROUND(E66*H66,2) -> 0 | K66: =ROUND(E66*J66,2) -> 0 | L66: 21 | M66: =G66*(1+L66/100) -> 0 | N66: 0 | O66: =ROUND(E66*N66,2) -> 0 | P66: 0 | Q66: =ROUND(E66*P66,2) -> 0 | R66: 800-775 | S66: RTS 20/ I | T66: RTS 20/ I | U66: 0.05 | V66: =ROUND(E66*U66,2) -> 4.84 | X66: Práce | AG66: POL1_
C67: položky neobsahují žádný materiál | AG67: SPI
AG68: SPU
A69: 19 | B69: 776401800RT1 | C69: Demontáž soklíků nebo lišt pryžových nebo PVC odstranění a uložení na hromady | D69: m | E69: 73.3 | G69: =ROUND(E69*F69,2) -> 0 | I69: =ROUND(E69*H69,2) -> 0 | K69: =ROUND(E69*J69,2) -> 0 | L69: 21 | M69: =G69*(1+L69/100) -> 0 | N69: 0 | O69: =ROUND(E69*N69,2) -> 0 | P69: 8e-05 | Q69: =ROUND(E69*P69,2) -> 0.01 | R69: 800-775 | S69: RTS 20/ I | T69: RTS 20/ I | U69: 0.04 | V69: =ROUND(E69*U69,2) -> 2.93 | X69: Práce | AG69: POL1_
C70: 102a : 7,6+9+5+3,5+2,4+6 | E70: 33.5 | AG70: VV | AH70: 0
C71: 102 : (4,5+6)*2 | E71: 21 | AG71: VV | AH71: 0
C72: 410 : (4,4+5)*2 | E72: 18.8 | AG72: VV | AH72: 0
AG73: SPU
A74: 20 | B74: 776421100RU1 | C74: Lepení soklíků PVC a napojení krytiny na stěnu lepení podlahových soklíků z PVC a vinylu včetně dodávky soklíku | D74: m | E74: 73.3 | G74: =ROUND(E74*F74,2) -> 0 | I74: =ROUND(E74*H74,2) -> 0 | K74: =ROUND(E74*J74,2) -> 0 | L74: 21 | M74: =G74*(1+L74/100) -> 0 | N74: 8e-05 | O74: =ROUND(E74*N74,2) -> 0.01 | P74: 0 | Q74: =ROUND(E74*P74,2) -> 0 | R74: 800-775 | S74: RTS 20/ I | T74: RTS 20/ I | U74: 0.14 | V74: =ROUND(E74*U74,2) -> 10.26 | X74: Práce | AG74: POL1_
AG75: SPU
A76: 21 | B76: 776511810RT1 | C76: Odstranění povlakových podlah z nášlapné plochy lepených, bez podložky, z ploch přes 20 m2 | D76: m2 | E76: 96.8 | G76: =ROUND(E76*F76,2) -> 0 | I76: =ROUND(E76*H76,2) -> 0 | K76: =ROUND(E76*J76,2) -> 0 | L76: 21 | M76: =G76*(1+L76/100) -> 0 | N76: 0 | O76: =ROUND(E76*N76,2) -> 0 | P76: 0.001 | Q76: =ROUND(E76*P76,2) -> 0.1 | R76: 800-775 | S76: RTS 20/ I | T76: RTS 20/ I | U76: 0.11 | V76: =ROUND(E76*U76,2) -> 10.65 | X76: Práce | AG76: POL1_
AG77: SPU
A78: 22 | B78: 776521100RT1 | C78: Lepení povlakových podlah z plastů Lepení povlakových podlah z plastů - pásy z PVC, montáž, | D78: m2 | E78: 96.8 | G78: =ROUND(E78*F78,2) -> 0 | I78: =ROUND(E78*H78,2) -> 0 | K78: =ROUND(E78*J78,2) -> 0 | L78: 21 | M78: =G78*(1+L78/100) -> 0 | N78: 0.00025 | O78: =ROUND(E78*N78,2) -> 0.02 | P78: 0 | Q78: =ROUND(E78*P78,2) -> 0 | R78: 800-775 | S78: RTS 20/ I | T78: RTS 20/ I | U78: 0.38 | V78: =ROUND(E78*U78,2) -> 36.78 | X78: Práce | AG78: POL1_
C79: 102a : 56 | E79: 56 | AG79: VV | AH79: 0
C80: 102 : 18,80 | E80: 18.8 | AG80: VV | AH80: 0
C81: 410 : 22 | E81: 22 | AG81: VV | AH81: 0
AG82: SPU
A83: 23 | B83: 776981102R00 | C83: Přechodové, krycí a ukončující podlahové profily montáž přechodové a podlahové lišty, , upevnění vruty s hmoždinkami, , | D83: m | E83: 2 | G83: =ROUND(E83*F83,2) -> 0 | I83: =ROUND(E83*H83,2) -> 0 | K83: =ROUND(E83*J83,2) -> 0 | L83: 21 | M83: =G83*(1+L83/100) -> 0 | N83: 0 | O83: =ROUND(E83*N83,2) -> 0 | P83: 0 | Q83: =ROUND(E83*P83,2) -> 0 | R83: 800-775 | S83: RTS 20/ I | T83: RTS 20/ I | U83: 0.28 | V83: =ROUND(E83*U83,2) -> 0.56 | X83: Práce | AG83: POL1_
AG84: SPU
A85: 24 | B85: 776994111RT1 | C85: Ostatní práce svařování povlakových podlah z pásů nebo čtverců | D85: m | E85: 20 | G85: =ROUND(E85*F85,2) -> 0 | I85: =ROUND(E85*H85,2) -> 0 | K85: =ROUND(E85*J85,2) -> 0 | L85: 21 | M85: =G85*(1+L85/100) -> 0 | N85: 4e-05 | O85: =ROUND(E85*N85,2) -> 0 | P85: 0 | Q85: =ROUND(E85*P85,2) -> 0 | R85: 800-775 | S85: RTS 20/ I | T85: RTS 20/ I | U85: 0.08 | V85: =ROUND(E85*U85,2) -> 1.6 | X85: Práce | AG85: POL1_
C86: 5*4 | E86: 20 | AG86: VV | AH86: 0
AG87: SPU
A88: 25 | B88: 28342400R | C88: lišta soklová; podlahová; materiál PVC; tl. 1,70 mm; š = 74,0 mm | D88: m | E88: 80.63 | G88: =ROUND(E88*F88,2) -> 0 | I88: =ROUND(E88*H88,2) -> 0 | K88: =ROUND(E88*J88,2) -> 0 | L88: 21 | M88: =G88*(1+L88/100) -> 0 | N88: 0.00015 | O88: =ROUND(E88*N88,2) -> 0.01 | P88: 0 | Q88: =ROUND(E88*P88,2) -> 0 | R88: SPCM | S88: RTS 20/ I | T88: RTS 20/ I | U88: 0 | V88: =ROUND(E88*U88,2) -> 0 | X88: Specifikace | AG88: POL3_
C89: 102a : 7,6+9+5+3,5+2,4+6 | E89: 33.5 | AG89: VV | AH89: 0
C90: 102 : (4,5+6)*2 | E90: 21 | AG90: VV | AH90: 0
C91: 410 : (4,4+5)*2 | E91: 18.8 | AG91: VV | AH91: 0
C92: ztratné 10% : 73,3*0,1 | E92: 7.33 | AG92: VV | AH92: 0
AG93: SPU
A94: 26 | B94: 28412235R | C94: podlahovina PVC v rolích; l = 25 000 mm; tl. 2,50 mm; heterogenní; protiskluzná; oblast bytová, komerční, průmyslová | D94: m2 | E94: 106.48 | G94: =ROUND(E94*F94,2) -> 0 | I94: =ROUND(E94*H94,2) -> 0 | K94: =ROUND(E94*J94,2) -> 0 | L94: 21 | M94: =G94*(1+L94/100) -> 0 | N94: 0.0024 | O94: =ROUND(E94*N94,2) -> 0.26 | P94: 0 | Q94: =ROUND(E94*P94,2) -> 0 | R94: SPCM | S94: RTS 20/ I | T94: RTS 20/ I | U94: 0 | V94: =ROUND(E94*U94,2) -> 0 | X94: Specifikace | AG94: POL3_
C95: 96,80 | E95: 96.8 | AG95: VV | AH95: 0
C96: zutratné 10% : 96,8*0,1 | E96: 9.68 | AG96: VV | AH96: 0
AG97: SPU
A98: 27 | B98: 5537027521R | C98: lišta přechodová; pro podlahy o nestejné výšce; materiál eloxovaný hliník; š = 46,0 mm; l = 2 700 mm; narážecí; stříbro | D98: kus | E98: 2 | G98: =ROUND(E98*F98,2) -> 0 | I98: =ROUND(E98*H98,2) -> 0 | K98: =ROUND(E98*J98,2) -> 0 | L98: 21 | M98: =G98*(1+L98/100) -> 0 | N98: 0.00111 | O98: =ROUND(E98*N98,2) -> 0 | P98: 0 | Q98: =ROUND(E98*P98,2) -> 0 | R98: SPCM | S98: RTS 20/ I | T98: RTS 20/ I | U98: 0 | V98: =ROUND(E98*U98,2) -> 0 | X98: Specifikace | AG98: POL3_
AG99: SPU
A100: 28 | B100: 998776203R00 | C100: Přesun hmot pro podlahy povlakové v objektech výšky do 24 m | D100: % | G100: =ROUND(E100*F100,2) -> 0 | I100: =ROUND(E100*H100,2) -> 0 | K100: =ROUND(E100*J100,2) -> 0 | L100: 21 | M100: =G100*(1+L100/100) -> 0 | N100: 0 | O100: =ROUND(E100*N100,2) -> 0 | P100: 0 | Q100: =ROUND(E100*P100,2) -> 0 | R100: 800-775 | S100: RTS 20/ I | T100: RTS 20/ I | U100: 0 | V100: =ROUND(E100*U100,2) -> 0 | X100: Přesun hmot | AG100: POL7_
C101: vodorovně do 50 m | AG101: SPI
AG102: SPU
...
