Workbook
Name CelkemDPHVypocet: Stavba!$H$43
Name CenaCelkem: Stavba!$G$29
Name CenaCelkemBezDPH: Stavba!$G$28
Name CenaCelkemVypocet: Stavba!$I$43
Name cisloobjektu: Stavba!$D$3
Name CisloRozpoctu: '[1]Krycí list'!$C$2
Name CisloStavby: Stavba!$D$2
Name cislostavby: '[1]Krycí list'!$A$7
Name CisloStavebnihoRozpoctu: Stavba!$D$4
Name dadresa: Stavba!$D$12:$G$12
Name DIČ: Stavba!$I$12
Name dmisto: Stavba!$E$13:$G$13
Name DPHSni: Stavba!$G$24
Name DPHZakl: Stavba!$G$26
Name dpsc: Stavba!$D$13
Name IČO: Stavba!$I$11
Name Mena: Stavba!$J$29
Name MistoStavby: Stavba!$D$4
Name nazevobjektu: Stavba!$E$3
Name NazevRozpoctu: '[1]Krycí list'!$D$2
Name NazevStavby: Stavba!$E$2
Name nazevstavby: '[1]Krycí list'!$C$7
Name NazevStavebnihoRozpoctu: Stavba!$E$4
Name oadresa: Stavba!$D$6
Name Objednatel: Stavba!$D$5
Name Objekt: Stavba!$B$38
Name odic: Stavba!$I$6
Name oico: Stavba!$I$5
Name omisto: Stavba!$E$7
Name onazev: Stavba!$D$6
Name opsc: Stavba!$D$7
Name padresa: Stavba!$D$9
Name pdic: Stavba!$I$9
Name pico: Stavba!$I$8
Name pmisto: Stavba!$E$10
Name PocetMJ: #REF!
Name PoptavkaID: Stavba!$A$1
Name pPSC: Stavba!$D$10
Name Projektant: Stavba!$D$8
Name SazbaDPH1: Stavba!$E$23
Name SazbaDPH1: '[1]Krycí list'!$C$30
Name SazbaDPH2: Stavba!$E$25
Name SazbaDPH2: '[1]Krycí list'!$C$32
Name SloupecCC: #REF!
Name SloupecCisloPol: #REF!
Name SloupecJC: #REF!
Name SloupecMJ: #REF!
Name SloupecMnozstvi: #REF!
Name SloupecNazPol: #REF!
Name SloupecPC: #REF!
Name Vypracoval: Stavba!$D$14
Name ZakladDPHSni: Stavba!$G$23
Name ZakladDPHSniVypocet: Stavba!$F$43
Name ZakladDPHZakl: Stavba!$G$25
Name ZakladDPHZaklVypocet: Stavba!$G$43
Name ZaObjednatele: Stavba!$G$34
Name Zaokrouhleni: Stavba!$G$27
Name ZaZhotovitele: Stavba!$D$34
Name Zhotovitel: Stavba!$D$11:$G$11

Sheet Pokyny pro vyplnění
A1: Pokyny pro vyplnění
A2: Ve všech listech tohoto souboru můžete měnit pouze buňky s modrým pozadím. Jedná se o tyto údaje : - údaje o firmě - jednotkové ceny položek zadané na maximálně dvě desetinná místa

Sheet Stavba
A1: #RTSROZP# | B1: Soupis stavebních prací, dodávek a služeb
B2: Stavba: | D2: 507/2020/200213 | E2: Kounicova 67 oprava chodeb 2-5 NP
B3: Objekt: | D3: 001 | E3: Kounicova 67 oprava chodeb 2-5 NP
A4: 4283 | B4: Rozpočet: | D4: 200213 | E4: Kounicova 67 oprava chodeb 2-5 NP
B5: Zadavatel | H5: IČO:
H6: DIČ:
B8: Projektant: | H8: IČO:
H9: DIČ:
B11: Zhotovitel: | H11: IČO:
H12: DIČ:
B14: Vypracoval: | D14: Marečková
B15: Rozpis ceny | I15: Celkem
A16: HSV | B16: HSV | I16: =SUMIF(F50:F61,A16,I50:I61)+SUMIF(F50:F61,"PSU",I50:I61) -> 0
A17: PSV | B17: PSV | I17: =SUMIF(F50:F61,A17,I50:I61) -> 0
A18: MON | B18: MON | I18: =SUMIF(F50:F61,A18,I50:I61) -> 0
A19: VN | B19: Vedlejší náklady | I19: =SUMIF(F50:F61,A19,I50:I61) -> 0
A20: ON | B20: Ostatní náklady | I20: =SUMIF(F50:F61,A20,I50:I61) -> 0
B21: Celkem | I21: =SUM(I16:J20) -> 0
B22: Rekapitulace daní
A23: =ZakladDPHSni*SazbaDPH1/100 -> 0 | B23: Základ pro sníženou DPH | E23: 15 | F23: % | G23: =ZakladDPHSniVypocet -> 0 | J23: =Mena -> CZK
A24: =(A23-INT(A23))*100 -> 0 | B24: Snížená DPH | E24: =SazbaDPH1 -> 15 | F24: % | G24: =A23 -> 0 | J24: =Mena -> CZK
A25: =ZakladDPHZakl*SazbaDPH2/100 -> 0 | B25: Základ pro základní DPH | E25: 21 | F25: % | G25: =ZakladDPHZaklVypocet -> 0 | J25: =Mena -> CZK
A26: =(A25-INT(A25))*100 -> 0 | B26: Základní DPH | E26: =SazbaDPH2 -> 21 | F26: % | G26: =A25 -> 0 | J26: =Mena -> CZK
A27: =ZakladDPHSni+DPHSni+ZakladDPHZakl+DPHZakl -> 0 | B27: Zaokrouhlení | G27: =CenaCelkem-(ZakladDPHSni+DPHSni+ZakladDPHZakl+DPHZakl) -> 0 | J27: =Mena -> CZK
B28: Cena celkem bez DPH | G28: =ZakladDPHSniVypocet+ZakladDPHZaklVypocet -> 0 | J28: =Mena -> CZK
A29: =(A27-INT(A27))*100 -> 0 | B29: Cena celkem s DPH | G29: =A27 -> 0 | J29: CZK
C32: v | F32: dne
D34: sdfsdf | G34: OSM MMB
D35: Za zhotovitele | H35: Za objednatele
B37: Rekapitulace dílčích částí
A38: #CASTI>> | B38: Číslo | C38: Název | F38: =B23 -> Základ pro sníženou DPH | G38: =B25 -> Základ pro základní DPH | H38: DPH celkem | I38: Cena celkem | J38: %
A39: 1 | B39: Stavba | F39: ='001 200213 Pol'!AE237 -> 0 | G39: ='001 200213 Pol'!AF237 -> 0 | H39: =(F39*SazbaDPH1/100)+(G39*SazbaDPH2/100) -> 0 | I39: =F39+G39+H39 -> 0 | J39: =IF(CenaCelkemVypocet=0,"",I39/CenaCelkemVypocet*100)
A40: 2 | C40: Stavební objekt | H40: =(F40*SazbaDPH1/100)+(G40*SazbaDPH2/100) -> 0
A41: 2 | B41: 001 | C41: Kounicova 67 oprava chodeb 2-5 NP | F41: ='001 200213 Pol'!AE237 -> 0 | G41: ='001 200213 Pol'!AF237 -> 0 | H41: =(F41*SazbaDPH1/100)+(G41*SazbaDPH2/100) -> 0 | I41: =F41+G41+H41 -> 0 | J41: =IF(CenaCelkemVypocet=0,"",I41/CenaCelkemVypocet*100)
A42: 3 | B42: 200213 | C42: Kounicova 67 oprava chodeb 2-5 NP | F42: ='001 200213 Pol'!AE237 -> 0 | G42: ='001 200213 Pol'!AF237 -> 0 | H42: =(F42*SazbaDPH1/100)+(G42*SazbaDPH2/100) -> 0 | I42: =F42+G42+H42 -> 0 | J42: =IF(CenaCelkemVypocet=0,"",I42/CenaCelkemVypocet*100)
B43: Celkem za stavbu | F43: =SUMIF(A39:A42,"=1",F39:F42) -> 0 | G43: =SUMIF(A39:A42,"=1",G39:G42) -> 0 | H43: =SUMIF(A39:A42,"=1",H39:H42) -> 0 | I43: =SUMIF(A39:A42,"=1",I39:I42) -> 0 | J43: =SUMIF(A39:A42,"=1",J39:J42) -> 0
B47: Rekapitulace dílů
B49: Číslo | C49: Název | F49: Typ dílu | I49: Celkem | J49: %
B50: 4 | C50: Vodorovné konstrukce | F50: HSV | I50: ='001 200213 Pol'!G8 -> 0 | J50: =IF(I62=0,"",I50/I62*100)
B51: 61 | C51: Úpravy povrchů vnitřní | F51: HSV | I51: ='001 200213 Pol'!G12 -> 0 | J51: =IF(I62=0,"",I51/I62*100)
...

Sheet VzorPolozky
A1: Položkový rozpočet
A2: S:
A3: O:
A4: R:

Sheet 001 200213 Pol
A1: Položkový soupis prací a dodávek | AG1: #TypZaznamu#
A2: S: | B2: 507/2020/200213 | C2: Kounicova 67 oprava chodeb 2-5 NP | AG2: STA
A3: O: | B3: 001 | C3: Kounicova 67 oprava chodeb 2-5 NP | AC3: STA | AG3: OBJ
A4: R: | B4: 200213 | C4: Kounicova 67 oprava chodeb 2-5 NP | AG4: ROZ
A6: P.č. | B6: Číslo položky | C6: Název položky | D6: MJ | E6: Množství | F6: Cena / MJ | G6: Celkem | H6: Dodávka | I6: Dodávka celk. | J6: Montáž | K6: Montáž celk. | L6: DPH | M6: Cena s DPH | N6: Hmotnost / MJ | O6: Hmotnost celk.(t) | P6: Dem. hmotnost / MJ | Q6: Dem. hmotnost celk.(t) | R6: Ceník | S6: Cen. soustava / platnost | T6: Cenová úroveň | U6: Nhod / MJ | V6: Nhod celk. | W6: Dodavatel | X6: Typ položky
A8: Díl: | B8: 4 | C8: Vodorovné konstrukce | G8: =SUMIF(AG9:AG11,"<>NOR",G9:G11) -> 0 | I8: =SUM(I9:I11) -> 0 | K8: =SUM(K9:K11) -> 0 | M8: =SUM(M9:M11) -> 0 | O8: =SUM(O9:O11) -> 0.07 | Q8: =SUM(Q9:Q11) -> 0 | V8: =SUM(V9:V11) -> 4.67 | AG8: DIL
A9: 1 | B9: 416093134R00 | C9: Čelo podhledu SDK, v.do 800 mm, 1xCD,1xRFI 12,5 mm | D9: m2 | E9: 5.192 | G9: =ROUND(E9*F9,2) -> 0 | I9: =ROUND(E9*H9,2) -> 0 | K9: =ROUND(E9*J9,2) -> 0 | L9: 21 | M9: =G9*(1+L9/100) -> 0 | N9: 0.01393 | O9: =ROUND(E9*N9,2) -> 0.07 | P9: 0 | Q9: =ROUND(E9*P9,2) -> 0 | S9: Vlastní | T9: Indiv | U9: 0.9 | V9: =ROUND(E9*U9,2) -> 4.67 | X9: Práce | AG9: POL1_
C10: 23,6*0,22 | E10: 5.192 | AG10: VV | AH10: 0
AG11: SPU
A12: Díl: | B12: 61 | C12: Úpravy povrchů vnitřní | G12: =SUMIF(AG13:AG24,"<>NOR",G13:G24) -> 0 | I12: =SUM(I13:I24) -> 0 | K12: =SUM(K13:K24) -> 0 | M12: =SUM(M13:M24) -> 0 | O12: =SUM(O13:O24) -> 1.51 | Q12: =SUM(Q13:Q24) -> 0 | V12: =SUM(V13:V24) -> 30.66 | AG12: DIL
A13: 2 | B13: 611421133R00 | C13: Omítka vnitřní stropů rovných, MVC, štuková | D13: m2 | E13: 15 | G13: =ROUND(E13*F13,2) -> 0 | I13: =ROUND(E13*H13,2) -> 0 | K13: =ROUND(E13*J13,2) -> 0 | L13: 21 | M13: =G13*(1+L13/100) -> 0 | N13: 0.05123 | O13: =ROUND(E13*N13,2) -> 0.77 | P13: 0 | Q13: =ROUND(E13*P13,2) -> 0 | S13: Vlastní | T13: Indiv | U13: 0.908 | V13: =ROUND(E13*U13,2) -> 13.62 | X13: Práce | AG13: POL1_
C14: opravy při podhledech : 6*2,5 | E14: 15 | AG14: VV | AH14: 0
AG15: SPU
A16: 3 | B16: 612401291R00 | C16: Omítka malých ploch vnitřních stěn do 0,25 m2 | D16: kus | E16: 30 | G16: =ROUND(E16*F16,2) -> 0 | I16: =ROUND(E16*H16,2) -> 0 | K16: =ROUND(E16*J16,2) -> 0 | L16: 21 | M16: =G16*(1+L16/100) -> 0 | N16: 0.01278 | O16: =ROUND(E16*N16,2) -> 0.38 | P16: 0 | Q16: =ROUND(E16*P16,2) -> 0 | S16: Vlastní | T16: Indiv | U16: 0.35813 | V16: =ROUND(E16*U16,2) -> 10.74 | X16: Práce | AG16: POL1_
C17: světla stávající mino podhledy : | AG17: VV | AH17: 0
C18: 5NP vpravo : 2 | E18: 2 | AG18: VV | AH18: 0
C19: 3NP vpravo : 2 | E19: 2 | AG19: VV | AH19: 0
C20: 2NP : 14+4+8 | E20: 26 | AG20: VV | AH20: 0
AG21: SPU
A22: 4 | B22: 612421637R00 | C22: Omítka vnitřní zdiva, MVC, štuková | D22: m2 | E22: 7.5 | G22: =ROUND(E22*F22,2) -> 0 | I22: =ROUND(E22*H22,2) -> 0 | K22: =ROUND(E22*J22,2) -> 0 | L22: 21 | M22: =G22*(1+L22/100) -> 0 | N22: 0.04766 | O22: =ROUND(E22*N22,2) -> 0.36 | P22: 0 | Q22: =ROUND(E22*P22,2) -> 0 | S22: Vlastní | T22: Indiv | U22: 0.84 | V22: =ROUND(E22*U22,2) -> 6.3 | X22: Práce | AG22: POL1_
C23: opravy na chodbách : 6*1,25 | E23: 7.5 | AG23: VV | AH23: 0
AG24: SPU
A25: Díl: | B25: 94 | C25: Lešení a stavební výtahy | G25: =SUMIF(AG26:AG31,"<>NOR",G26:G31) -> 0 | I25: =SUM(I26:I31) -> 0 | K25: =SUM(K26:K31) -> 0 | M25: =SUM(M26:M31) -> 0 | O25: =SUM(O26:O31) -> 0.7 | Q25: =SUM(Q26:Q31) -> 0 | V25: =SUM(V26:V31) -> 101.96 | AG25: DIL
A26: 5 | B26: 941955001R00 | C26: Lešení lehké pomocné, výška podlahy do 1,2 m pro montáž světel | D26: m2 | E26: 576.054 | G26: =ROUND(E26*F26,2) -> 0 | I26: =ROUND(E26*H26,2) -> 0 | K26: =ROUND(E26*J26,2) -> 0 | L26: 21 | M26: =G26*(1+L26/100) -> 0 | N26: 0.00121 | O26: =ROUND(E26*N26,2) -> 0.7 | P26: 0 | Q26: =ROUND(E26*P26,2) -> 0 | S26: Vlastní | T26: Indiv | U26: 0.177 | V26: =ROUND(E26*U26,2) -> 101.96 | X26: Práce | AG26: POL1_
C27: Odkaz na mn. položky pořadí 10 : 386,29400 | E27: 386.294 | AG27: VV | AH27: 0
C28: 2NP strop : 21*5,6 | E28: 117.6 | AG28: VV | AH28: 0
C29: 1,7*24 | E29: 40.8 | AG29: VV | AH29: 0
C30: 5,6*5,6 | E30: 31.36 | AG30: VV | AH30: 0
AG31: SPU
A32: Díl: | B32: 95 | C32: Dokončovací konstrukce na pozemních stavbách | G32: =SUMIF(AG33:AG35,"<>NOR",G33:G35) -> 0 | I32: =SUM(I33:I35) -> 0 | K32: =SUM(K33:K35) -> 0 | M32: =SUM(M33:M35) -> 0 | O32: =SUM(O33:O35) -> 0.02 | Q32: =SUM(Q33:Q35) -> 0 | V32: =SUM(V33:V35) -> 177.42 | AG32: DIL
A33: 6 | B33: 952901111R00 | C33: Vyčištění budov o výšce podlaží do 4 m | D33: m2 | E33: 576.054 | G33: =ROUND(E33*F33,2) -> 0 | I33: =ROUND(E33*H33,2) -> 0 | K33: =ROUND(E33*J33,2) -> 0 | L33: 21 | M33: =G33*(1+L33/100) -> 0 | N33: 4e-05 | O33: =ROUND(E33*N33,2) -> 0.02 | P33: 0 | Q33: =ROUND(E33*P33,2) -> 0 | S33: Vlastní | T33: Indiv | U33: 0.308 | V33: =ROUND(E33*U33,2) -> 177.42 | X33: Práce | AG33: POL1_1
C34: Odkaz na mn. položky pořadí 5 : 576,05400 | E34: 576.054 | AG34: VV | AH34: 0
AG35: SPU
A36: Díl: | B36: 99 | C36: Staveništní přesun hmot | G36: =SUMIF(AG37:AG38,"<>NOR",G37:G38) -> 0 | I36: =SUM(I37:I38) -> 0 | K36: =SUM(K37:K38) -> 0 | M36: =SUM(M37:M38) -> 0 | O36: =SUM(O37:O38) -> 0 | Q36: =SUM(Q37:Q38) -> 0 | V36: =SUM(V37:V38) -> 5.93 | AG36: DIL
A37: 7 | B37: 999281111R00 | C37: Přesun hmot pro opravy a údržbu do výšky 25 m | D37: t | E37: 2.30169 | G37: =ROUND(E37*F37,2) -> 0 | I37: =ROUND(E37*H37,2) -> 0 | K37: =ROUND(E37*J37,2) -> 0 | L37: 21 | M37: =G37*(1+L37/100) -> 0 | N37: 0 | O37: =ROUND(E37*N37,2) -> 0 | P37: 0 | Q37: =ROUND(E37*P37,2) -> 0 | S37: Vlastní | T37: Indiv | U37: 2.577 | V37: =ROUND(E37*U37,2) -> 5.93 | X37: Práce | AG37: POL1_1
AG38: SPU
A39: Díl: | B39: 762 | C39: Konstrukce tesařské | G39: =SUMIF(AG40:AG46,"<>NOR",G40:G46) -> 0 | I39: =SUM(I40:I46) -> 0 | K39: =SUM(K40:K46) -> 0 | M39: =SUM(M40:M46) -> 0 | O39: =SUM(O40:O46) -> 1.34 | Q39: =SUM(Q40:Q46) -> 0 | V39: =SUM(V40:V46) -> 70.85 | AG39: DIL
A40: 8 | B40: 451971112R00 | C40: Položení vrstvy z geotextilie, pro ochranu podlah | D40: m2 | E40: 576.054 | G40: =ROUND(E40*F40,2) -> 0 | I40: =ROUND(E40*H40,2) -> 0 | K40: =ROUND(E40*J40,2) -> 0 | L40: 21 | M40: =G40*(1+L40/100) -> 0 | N40: 0.00225 | O40: =ROUND(E40*N40,2) -> 1.3 | P40: 0 | Q40: =ROUND(E40*P40,2) -> 0 | S40: Vlastní | T40: Indiv | U40: 0.123 | V40: =ROUND(E40*U40,2) -> 70.85 | X40: Práce | AG40: POL1_
C41: Odkaz na mn. položky pořadí 5 : 576,05400 | E41: 576.054 | AG41: VV | AH41: 0
AG42: SPU
...
