Workbook
Name CelkemDPHVypocet: Stavba!$H$43
Name CenaCelkem: Stavba!$G$29
Name CenaCelkemBezDPH: Stavba!$G$28
Name CenaCelkemVypocet: Stavba!$I$43
Name cisloobjektu: Stavba!$D$3
Name CisloRozpoctu: '[1]Krycí list'!$C$2
Name CisloStavby: Stavba!$D$2
Name cislostavby: '[1]Krycí list'!$A$7
Name CisloStavebnihoRozpoctu: Stavba!$D$4
Name dadresa: Stavba!$D$12:$G$12
Name DIČ: Stavba!$I$12
Name dmisto: Stavba!$E$13:$G$13
Name DPHSni: Stavba!$G$24
Name DPHZakl: Stavba!$G$26
Name dpsc: Stavba!$D$13
Name IČO: Stavba!$I$11
Name Mena: Stavba!$J$29
Name MistoStavby: Stavba!$D$4
Name nazevobjektu: Stavba!$E$3
Name NazevRozpoctu: '[1]Krycí list'!$D$2
Name NazevStavby: Stavba!$E$2
Name nazevstavby: '[1]Krycí list'!$C$7
Name NazevStavebnihoRozpoctu: Stavba!$E$4
Name oadresa: Stavba!$D$6
Name Objednatel: Stavba!$D$5
Name Objekt: Stavba!$B$38
Name odic: Stavba!$I$6
Name oico: Stavba!$I$5
Name omisto: Stavba!$E$7
Name onazev: Stavba!$D$6
Name opsc: Stavba!$D$7
Name padresa: Stavba!$D$9
Name pdic: Stavba!$I$9
Name pico: Stavba!$I$8
Name pmisto: Stavba!$E$10
Name PocetMJ: #REF!
Name PoptavkaID: Stavba!$A$1
Name pPSC: Stavba!$D$10
Name Projektant: Stavba!$D$8
Name SazbaDPH1: Stavba!$E$23
Name SazbaDPH1: '[1]Krycí list'!$C$30
Name SazbaDPH2: Stavba!$E$25
Name SazbaDPH2: '[1]Krycí list'!$C$32
Name SloupecCC: #REF!
Name SloupecCisloPol: #REF!
Name SloupecJC: #REF!
Name SloupecMJ: #REF!
Name SloupecMnozstvi: #REF!
Name SloupecNazPol: #REF!
Name SloupecPC: #REF!
Name Vypracoval: Stavba!$D$14
Name ZakladDPHSni: Stavba!$G$23
Name ZakladDPHSniVypocet: Stavba!$F$43
Name ZakladDPHZakl: Stavba!$G$25
Name ZakladDPHZaklVypocet: Stavba!$G$43
Name ZaObjednatele: Stavba!$G$34
Name Zaokrouhleni: Stavba!$G$27
Name ZaZhotovitele: Stavba!$D$34
Name Zhotovitel: Stavba!$D$11:$G$11

Sheet Pokyny pro vyplnění
A1: Pokyny pro vyplnění
A2: Ve všech listech tohoto souboru můžete měnit pouze buňky s modrým pozadím. Jedná se o tyto údaje : - údaje o firmě - jednotkové ceny položek zadané na maximálně dvě desetinná místa

Sheet Stavba
A1: #RTSROZP# | B1: Soupis stavebních prací, dodávek a služeb
B2: Stavba: | D2: 507/2020/200213 | E2: Kounicova 67 oprava chodeb 2-5 NP
B3: Objekt: | D3: 001 | E3: Kounicova 67 oprava chodeb 2-5 NP
A4: 4283 | B4: Rozpočet: | D4: 200213 | E4: Kounicova 67 oprava chodeb 2-5 NP
B5: Zadavatel | H5: IČO:
H6: DIČ:
B8: Projektant: | H8: IČO:
H9: DIČ:
B11: Zhotovitel: | H11: IČO:
H12: DIČ:
B14: Vypracoval: | D14: Marečková
B15: Rozpis ceny | I15: Celkem
A16: HSV | B16: HSV | I16: =SUMIF(F50:F61,A16,I50:I61)+SUMIF(F50:F61,"PSU",I50:I61) -> 0
A17: PSV | B17: PSV | I17: =SUMIF(F50:F61,A17,I50:I61) -> 0
A18: MON | B18: MON | I18: =SUMIF(F50:F61,A18,I50:I61) -> 0
A19: VN | B19: Vedlejší náklady | I19: =SUMIF(F50:F61,A19,I50:I61) -> 0
A20: ON | B20: Ostatní náklady | I20: =SUMIF(F50:F61,A20,I50:I61) -> 0
B21: Celkem | I21: =SUM(I16:J20) -> 0
B22: Rekapitulace daní
A23: =ZakladDPHSni*SazbaDPH1/100 -> 0 | B23: Základ pro sníženou DPH | E23: 15 | F23: % | G23: =ZakladDPHSniVypocet -> 0 | J23: =Mena -> CZK
A24: =(A23-INT(A23))*100 -> 0 | B24: Snížená DPH | E24: =SazbaDPH1 -> 15 | F24: % | G24: =A23 -> 0 | J24: =Mena -> CZK
A25: =ZakladDPHZakl*SazbaDPH2/100 -> 0 | B25: Základ pro základní DPH | E25: 21 | F25: % | G25: =ZakladDPHZaklVypocet -> 0 | J25: =Mena -> CZK
A26: =(A25-INT(A25))*100 -> 0 | B26: Základní DPH | E26: =SazbaDPH2 -> 21 | F26: % | G26: =A25 -> 0 | J26: =Mena -> CZK
A27: =ZakladDPHSni+DPHSni+ZakladDPHZakl+DPHZakl -> 0 | B27: Zaokrouhlení | G27: =CenaCelkem-(ZakladDPHSni+DPHSni+ZakladDPHZakl+DPHZakl) -> 0 | J27: =Mena -> CZK
B28: Cena celkem bez DPH | G28: =ZakladDPHSniVypocet+ZakladDPHZaklVypocet -> 0 | J28: =Mena -> CZK
A29: =(A27-INT(A27))*100 -> 0 | B29: Cena celkem s DPH | G29: =A27 -> 0 | J29: CZK
C32: v | F32: dne
D34: sdfsdf | G34: OSM MMB
D35: Za zhotovitele | H35: Za objednatele
B37: Rekapitulace dílčích částí
A38: #CASTI>> | B38: Číslo | C38: Název | F38: =B23 -> Základ pro sníženou DPH | G38: =B25 -> Základ pro základní DPH | H38: DPH celkem | I38: Cena celkem | J38: %
A39: 1 | B39: Stavba | F39: ='001 200213 Pol'!AE237 -> 0 | G39: ='001 200213 Pol'!AF237 -> 0 | H39: =(F39*SazbaDPH1/100)+(G39*SazbaDPH2/100) -> 0 | I39: =F39+G39+H39 -> 0 | J39: =IF(CenaCelkemVypocet=0,"",I39/CenaCelkemVypocet*100)
A40: 2 | C40: Stavební objekt | H40: =(F40*SazbaDPH1/100)+(G40*SazbaDPH2/100) -> 0
A41: 2 | B41: 001 | C41: Kounicova 67 oprava chodeb 2-5 NP | F41: ='001 200213 Pol'!AE237 -> 0 | G41: ='001 200213 Pol'!AF237 -> 0 | H41: =(F41*SazbaDPH1/100)+(G41*SazbaDPH2/100) -> 0 | I41: =F41+G41+H41 -> 0 | J41: =IF(CenaCelkemVypocet=0,"",I41/CenaCelkemVypocet*100)
A42: 3 | B42: 200213 | C42: Kounicova 67 oprava chodeb 2-5 NP | F42: ='001 200213 Pol'!AE237 -> 0 | G42: ='001 200213 Pol'!AF237 -> 0 | H42: =(F42*SazbaDPH1/100)+(G42*SazbaDPH2/100) -> 0 | I42: =F42+G42+H42 -> 0 | J42: =IF(CenaCelkemVypocet=0,"",I42/CenaCelkemVypocet*100)
B43: Celkem za stavbu | F43: =SUMIF(A39:A42,"=1",F39:F42) -> 0 | G43: =SUMIF(A39:A42,"=1",G39:G42) -> 0 | H43: =SUMIF(A39:A42,"=1",H39:H42) -> 0 | I43: =SUMIF(A39:A42,"=1",I39:I42) -> 0 | J43: =SUMIF(A39:A42,"=1",J39:J42) -> 0
B47: Rekapitulace dílů
B49: Číslo | C49: Název | F49: Typ dílu | I49: Celkem | J49: %
B50: 4 | C50: Vodorovné konstrukce | F50: HSV | I50: ='001 200213 Pol'!G8 -> 0 | J50: =IF(I62=0,"",I50/I62*100)
B51: 61 | C51: Úpravy povrchů vnitřní | F51: HSV | I51: ='001 200213 Pol'!G12 -> 0 | J51: =IF(I62=0,"",I51/I62*100)
B52: 94 | C52: Lešení a stavební výtahy | F52: HSV | I52: ='001 200213 Pol'!G25 -> 0 | J52: =IF(I62=0,"",I52/I62*100)
B53: 95 | C53: Dokončovací konstrukce na pozemních stavbách | F53: HSV | I53: ='001 200213 Pol'!G32 -> 0 | J53: =IF(I62=0,"",I53/I62*100)
B54: 99 | C54: Staveništní přesun hmot | F54: HSV | I54: ='001 200213 Pol'!G36 -> 0 | J54: =IF(I62=0,"",I54/I62*100)
B55: 762 | C55: Konstrukce tesařské | F55: PSV | I55: ='001 200213 Pol'!G39 -> 0 | J55: =IF(I62=0,"",I55/I62*100)
B56: 767 | C56: Konstrukce zámečnické | F56: PSV | I56: ='001 200213 Pol'!G47 -> 0 | J56: =IF(I62=0,"",I56/I62*100)
B57: 784 | C57: Malby | F57: PSV | I57: ='001 200213 Pol'!G94 -> 0 | J57: =IF(I62=0,"",I57/I62*100)
B58: M21 | C58: Elektromontáže | F58: MON | I58: ='001 200213 Pol'!G140 -> 0 | J58: =IF(I62=0,"",I58/I62*100)
B59: M22 | C59: Montáž sdělovací a zabezp. techniky | F59: MON | I59: ='001 200213 Pol'!G198 -> 0 | J59: =IF(I62=0,"",I59/I62*100)
B60: D96 | C60: Přesuny suti a vybouraných hmot | F60: PSU | I60: ='001 200213 Pol'!G205 -> 0 | J60: =IF(I62=0,"",I60/I62*100)
B61: VN | C61: Vedlejší náklady | F61: VN | I61: ='001 200213 Pol'!G225 -> 0 | J61: =IF(I62=0,"",I61/I62*100)
B62: Cena celkem | I62: =SUM(I50:I61) -> 0 | J62: =SUM(J50:J61) -> 0

Sheet VzorPolozky
A1: Položkový rozpočet
A2: S:
A3: O:
A4: R:

Sheet 001 200213 Pol
A1: Položkový soupis prací a dodávek | AG1: #TypZaznamu#
A2: S: | B2: 507/2020/200213 | C2: Kounicova 67 oprava chodeb 2-5 NP | AG2: STA
A3: O: | B3: 001 | C3: Kounicova 67 oprava chodeb 2-5 NP | AC3: STA | AG3: OBJ
A4: R: | B4: 200213 | C4: Kounicova 67 oprava chodeb 2-5 NP | AG4: ROZ
A6: P.č. | B6: Číslo položky | C6: Název položky | D6: MJ | E6: Množství | F6: Cena / MJ | G6: Celkem | H6: Dodávka | I6: Dodávka celk. | J6: Montáž | K6: Montáž celk. | L6: DPH | M6: Cena s DPH | N6: Hmotnost / MJ | O6: Hmotnost celk.(t) | P6: Dem. hmotnost / MJ | Q6: Dem. hmotnost celk.(t) | R6: Ceník | S6: Cen. soustava / platnost | T6: Cenová úroveň | U6: Nhod / MJ | V6: Nhod celk. | W6: Dodavatel | X6: Typ položky
A8: Díl: | B8: 4 | C8: Vodorovné konstrukce | G8: =SUMIF(AG9:AG11,"<>NOR",G9:G11) -> 0 | I8: =SUM(I9:I11) -> 0 | K8: =SUM(K9:K11) -> 0 | M8: =SUM(M9:M11) -> 0 | O8: =SUM(O9:O11) -> 0.07 | Q8: =SUM(Q9:Q11) -> 0 | V8: =SUM(V9:V11) -> 4.67 | AG8: DIL
A9: 1 | B9: 416093134R00 | C9: Čelo podhledu SDK, v.do 800 mm, 1xCD,1xRFI 12,5 mm | D9: m2 | E9: 5.192 | G9: =ROUND(E9*F9,2) -> 0 | I9: =ROUND(E9*H9,2) -> 0 | K9: =ROUND(E9*J9,2) -> 0 | L9: 21 | M9: =G9*(1+L9/100) -> 0 | N9: 0.01393 | O9: =ROUND(E9*N9,2) -> 0.07 | P9: 0 | Q9: =ROUND(E9*P9,2) -> 0 | S9: Vlastní | T9: Indiv | U9: 0.9 | V9: =ROUND(E9*U9,2) -> 4.67 | X9: Práce | AG9: POL1_
C10: 23,6*0,22 | E10: 5.192 | AG10: VV | AH10: 0
AG11: SPU
A12: Díl: | B12: 61 | C12: Úpravy povrchů vnitřní | G12: =SUMIF(AG13:AG24,"<>NOR",G13:G24) -> 0 | I12: =SUM(I13:I24) -> 0 | K12: =SUM(K13:K24) -> 0 | M12: =SUM(M13:M24) -> 0 | O12: =SUM(O13:O24) -> 1.51 | Q12: =SUM(Q13:Q24) -> 0 | V12: =SUM(V13:V24) -> 30.66 | AG12: DIL
A13: 2 | B13: 611421133R00 | C13: Omítka vnitřní stropů rovných, MVC, štuková | D13: m2 | E13: 15 | G13: =ROUND(E13*F13,2) -> 0 | I13: =ROUND(E13*H13,2) -> 0 | K13: =ROUND(E13*J13,2) -> 0 | L13: 21 | M13: =G13*(1+L13/100) -> 0 | N13: 0.05123 | O13: =ROUND(E13*N13,2) -> 0.77 | P13: 0 | Q13: =ROUND(E13*P13,2) -> 0 | S13: Vlastní | T13: Indiv | U13: 0.908 | V13: =ROUND(E13*U13,2) -> 13.62 | X13: Práce | AG13: POL1_
C14: opravy při podhledech : 6*2,5 | E14: 15 | AG14: VV | AH14: 0
AG15: SPU
A16: 3 | B16: 612401291R00 | C16: Omítka malých ploch vnitřních stěn do 0,25 m2 | D16: kus | E16: 30 | G16: =ROUND(E16*F16,2) -> 0 | I16: =ROUND(E16*H16,2) -> 0 | K16: =ROUND(E16*J16,2) -> 0 | L16: 21 | M16: =G16*(1+L16/100) -> 0 | N16: 0.01278 | O16: =ROUND(E16*N16,2) -> 0.38 | P16: 0 | Q16: =ROUND(E16*P16,2) -> 0 | S16: Vlastní | T16: Indiv | U16: 0.35813 | V16: =ROUND(E16*U16,2) -> 10.74 | X16: Práce | AG16: POL1_
C17: světla stávající mino podhledy : | AG17: VV | AH17: 0
C18: 5NP vpravo : 2 | E18: 2 | AG18: VV | AH18: 0
C19: 3NP vpravo : 2 | E19: 2 | AG19: VV | AH19: 0
C20: 2NP : 14+4+8 | E20: 26 | AG20: VV | AH20: 0
AG21: SPU
A22: 4 | B22: 612421637R00 | C22: Omítka vnitřní zdiva, MVC, štuková | D22: m2 | E22: 7.5 | G22: =ROUND(E22*F22,2) -> 0 | I22: =ROUND(E22*H22,2) -> 0 | K22: =ROUND(E22*J22,2) -> 0 | L22: 21 | M22: =G22*(1+L22/100) -> 0 | N22: 0.04766 | O22: =ROUND(E22*N22,2) -> 0.36 | P22: 0 | Q22: =ROUND(E22*P22,2) -> 0 | S22: Vlastní | T22: Indiv | U22: 0.84 | V22: =ROUND(E22*U22,2) -> 6.3 | X22: Práce | AG22: POL1_
C23: opravy na chodbách : 6*1,25 | E23: 7.5 | AG23: VV | AH23: 0
AG24: SPU
A25: Díl: | B25: 94 | C25: Lešení a stavební výtahy | G25: =SUMIF(AG26:AG31,"<>NOR",G26:G31) -> 0 | I25: =SUM(I26:I31) -> 0 | K25: =SUM(K26:K31) -> 0 | M25: =SUM(M26:M31) -> 0 | O25: =SUM(O26:O31) -> 0.7 | Q25: =SUM(Q26:Q31) -> 0 | V25: =SUM(V26:V31) -> 101.96 | AG25: DIL
A26: 5 | B26: 941955001R00 | C26: Lešení lehké pomocné, výška podlahy do 1,2 m pro montáž světel | D26: m2 | E26: 576.054 | G26: =ROUND(E26*F26,2) -> 0 | I26: =ROUND(E26*H26,2) -> 0 | K26: =ROUND(E26*J26,2) -> 0 | L26: 21 | M26: =G26*(1+L26/100) -> 0 | N26: 0.00121 | O26: =ROUND(E26*N26,2) -> 0.7 | P26: 0 | Q26: =ROUND(E26*P26,2) -> 0 | S26: Vlastní | T26: Indiv | U26: 0.177 | V26: =ROUND(E26*U26,2) -> 101.96 | X26: Práce | AG26: POL1_
C27: Odkaz na mn. položky pořadí 10 : 386,29400 | E27: 386.294 | AG27: VV | AH27: 0
C28: 2NP strop : 21*5,6 | E28: 117.6 | AG28: VV | AH28: 0
C29: 1,7*24 | E29: 40.8 | AG29: VV | AH29: 0
C30: 5,6*5,6 | E30: 31.36 | AG30: VV | AH30: 0
AG31: SPU
A32: Díl: | B32: 95 | C32: Dokončovací konstrukce na pozemních stavbách | G32: =SUMIF(AG33:AG35,"<>NOR",G33:G35) -> 0 | I32: =SUM(I33:I35) -> 0 | K32: =SUM(K33:K35) -> 0 | M32: =SUM(M33:M35) -> 0 | O32: =SUM(O33:O35) -> 0.02 | Q32: =SUM(Q33:Q35) -> 0 | V32: =SUM(V33:V35) -> 177.42 | AG32: DIL
A33: 6 | B33: 952901111R00 | C33: Vyčištění budov o výšce podlaží do 4 m | D33: m2 | E33: 576.054 | G33: =ROUND(E33*F33,2) -> 0 | I33: =ROUND(E33*H33,2) -> 0 | K33: =ROUND(E33*J33,2) -> 0 | L33: 21 | M33: =G33*(1+L33/100) -> 0 | N33: 4e-05 | O33: =ROUND(E33*N33,2) -> 0.02 | P33: 0 | Q33: =ROUND(E33*P33,2) -> 0 | S33: Vlastní | T33: Indiv | U33: 0.308 | V33: =ROUND(E33*U33,2) -> 177.42 | X33: Práce | AG33: POL1_1
C34: Odkaz na mn. položky pořadí 5 : 576,05400 | E34: 576.054 | AG34: VV | AH34: 0
AG35: SPU
A36: Díl: | B36: 99 | C36: Staveništní přesun hmot | G36: =SUMIF(AG37:AG38,"<>NOR",G37:G38) -> 0 | I36: =SUM(I37:I38) -> 0 | K36: =SUM(K37:K38) -> 0 | M36: =SUM(M37:M38) -> 0 | O36: =SUM(O37:O38) -> 0 | Q36: =SUM(Q37:Q38) -> 0 | V36: =SUM(V37:V38) -> 5.93 | AG36: DIL
A37: 7 | B37: 999281111R00 | C37: Přesun hmot pro opravy a údržbu do výšky 25 m | D37: t | E37: 2.30169 | G37: =ROUND(E37*F37,2) -> 0 | I37: =ROUND(E37*H37,2) -> 0 | K37: =ROUND(E37*J37,2) -> 0 | L37: 21 | M37: =G37*(1+L37/100) -> 0 | N37: 0 | O37: =ROUND(E37*N37,2) -> 0 | P37: 0 | Q37: =ROUND(E37*P37,2) -> 0 | S37: Vlastní | T37: Indiv | U37: 2.577 | V37: =ROUND(E37*U37,2) -> 5.93 | X37: Práce | AG37: POL1_1
AG38: SPU
A39: Díl: | B39: 762 | C39: Konstrukce tesařské | G39: =SUMIF(AG40:AG46,"<>NOR",G40:G46) -> 0 | I39: =SUM(I40:I46) -> 0 | K39: =SUM(K40:K46) -> 0 | M39: =SUM(M40:M46) -> 0 | O39: =SUM(O40:O46) -> 1.34 | Q39: =SUM(Q40:Q46) -> 0 | V39: =SUM(V40:V46) -> 70.85 | AG39: DIL
A40: 8 | B40: 451971112R00 | C40: Položení vrstvy z geotextilie, pro ochranu podlah | D40: m2 | E40: 576.054 | G40: =ROUND(E40*F40,2) -> 0 | I40: =ROUND(E40*H40,2) -> 0 | K40: =ROUND(E40*J40,2) -> 0 | L40: 21 | M40: =G40*(1+L40/100) -> 0 | N40: 0.00225 | O40: =ROUND(E40*N40,2) -> 1.3 | P40: 0 | Q40: =ROUND(E40*P40,2) -> 0 | S40: Vlastní | T40: Indiv | U40: 0.123 | V40: =ROUND(E40*U40,2) -> 70.85 | X40: Práce | AG40: POL1_
C41: Odkaz na mn. položky pořadí 5 : 576,05400 | E41: 576.054 | AG41: VV | AH41: 0
AG42: SPU
A43: 9 | B43: 67390503R | C43: Geotextilie netkaná 300 g/m2 2x50 m | D43: m2 | E43: 144.0135 | G43: =ROUND(E43*F43,2) -> 0 | I43: =ROUND(E43*H43,2) -> 0 | K43: =ROUND(E43*J43,2) -> 0 | L43: 21 | M43: =G43*(1+L43/100) -> 0 | N43: 0.0003 | O43: =ROUND(E43*N43,2) -> 0.04 | P43: 0 | Q43: =ROUND(E43*P43,2) -> 0 | S43: Vlastní | T43: Indiv | U43: 0 | V43: =ROUND(E43*U43,2) -> 0 | X43: Specifikace | AG43: POL3_
C44: Odkaz na mn. položky pořadí 8 : 576,05400*0,25 | E44: 144.0135 | AG44: VV | AH44: 0
C45: GEOTEXTILIE SE OPAKOVANĚ POUŽIE : | AG45: VV | AH45: 0
AG46: SPU
A47: Díl: | B47: 767 | C47: Konstrukce zámečnické | G47: =SUMIF(AG48:AG93,"<>NOR",G48:G93) -> 0 | I47: =SUM(I48:I93) -> 0 | K47: =SUM(K48:K93) -> 0 | M47: =SUM(M48:M93) -> 0 | O47: =SUM(O48:O93) -> 2.52 | Q47: =SUM(Q48:Q93) -> 18.2 | V47: =SUM(V48:V93) -> 458.92 | AG47: DIL
A48: 10 | B48: 767581803R00 | C48: Demontáž podhledů - tvarovaných plechů | D48: m2 | E48: 330.9195 | G48: =ROUND(E48*F48,2) -> 0 | I48: =ROUND(E48*H48,2) -> 0 | K48: =ROUND(E48*J48,2) -> 0 | L48: 21 | M48: =G48*(1+L48/100) -> 0 | N48: 0 | O48: =ROUND(E48*N48,2) -> 0 | P48: 0.055 | Q48: =ROUND(E48*P48,2) -> 18.2 | S48: Vlastní | T48: Indiv | U48: 0.225 | V48: =ROUND(E48*U48,2) -> 74.46 | X48: Práce | AG48: POL1_
C49: světla stávající : | AG49: VV | AH49: 0
C50: 5NP vpravo kazety : 1,7*32,35 | E50: 54.995 | AG50: VV | AH50: 0
C51: 5NP vlevo kazety : 1,7*32,35 | E51: 54.995 | AG51: VV | AH51: 0
C52: 4NP vpravo kazety : 1,7*32,35 | E52: 54.995 | AG52: VV | AH52: 0
C53: 4NP vlevo kazety : 1,7*32,35 | E53: 54.995 | AG53: VV | AH53: 0
C54: 3NP vpravo kazety : 1,7*32,35 | E54: 54.995 | AG54: VV | AH54: 0
C55: 2,11*0,45 | E55: 0.9495 | AG55: VV | AH55: 0
C56: 3NP vlevo kazety : 1,7*32,35 | E56: 54.995 | AG56: VV | AH56: 0
AG57: SPU
A58: 11 | B58: 767587001R00 | C58: Podhledy minerální, rošt, kazety 60 x 60 cm | D58: m2 | E58: 386.294 | G58: =ROUND(E58*F58,2) -> 0 | I58: =ROUND(E58*H58,2) -> 0 | K58: =ROUND(E58*J58,2) -> 0 | L58: 21 | M58: =G58*(1+L58/100) -> 0 | N58: 0.00647 | O58: =ROUND(E58*N58,2) -> 2.5 | P58: 0 | Q58: =ROUND(E58*P58,2) -> 0 | S58: Vlastní | T58: Indiv | U58: 0.911 | V58: =ROUND(E58*U58,2) -> 351.91 | X58: Práce | AG58: POL1_
C59: světla stávající : | AG59: VV | AH59: 0
C60: 5NP vpravo kazety : 1,7*32,35+3,4*2,25+4,6*1,4+0,66*1,1 | E60: 69.811 | AG60: VV | AH60: 0
C61: 2,11*0,45*2+2,3*0,45 | E61: 2.934 | AG61: VV | AH61: 0
C62: 5NP vlevo kazety : 1,7*32,35+1,5*3,6 | E62: 60.395 | AG62: VV | AH62: 0
C63: 4NP vpravo kazety : 1,7*32,35 | E63: 54.995 | AG63: VV | AH63: 0
C64: 4NP vlevo kazety : 1,7*32,35+1,2*7,2+1,5*3 | E64: 68.135 | AG64: VV | AH64: 0
C65: 3NP vpravo kazety : 1,7*32,35+3,4*2,25 | E65: 62.645 | AG65: VV | AH65: 0
C66: 2,11*0,45*2+2,3*0,45 | E66: 2.934 | AG66: VV | AH66: 0
C67: 3NP vlevo kazety : 1,7*32,35+3,4*2,25+1,5*1,2 | E67: 64.445 | AG67: VV | AH67: 0
AG68: SPU
A69: 12 | B69: 771578011R00 | C69: Spára strop- stěna, akrylátem | D69: m | E69: 465.04 | G69: =ROUND(E69*F69,2) -> 0 | I69: =ROUND(E69*H69,2) -> 0 | K69: =ROUND(E69*J69,2) -> 0 | L69: 21 | M69: =G69*(1+L69/100) -> 0 | N69: 4e-05 | O69: =ROUND(E69*N69,2) -> 0.02 | P69: 0 | Q69: =ROUND(E69*P69,2) -> 0 | S69: Vlastní | T69: Indiv | U69: 0.07 | V69: =ROUND(E69*U69,2) -> 32.55 | X69: Práce | AG69: POL1_
C70: 5NP vpravo kazety : 32,35*2 | E70: 64.7 | AG70: VV | AH70: 0
C71: 2,25*2 | E71: 4.5 | AG71: VV | AH71: 0
C72: (4,6+1,4)*2 | E72: 12 | AG72: VV | AH72: 0
C73: 0,66*2 | E73: 1.32 | AG73: VV | AH73: 0
C74: 0,45*6 | E74: 2.7 | AG74: VV | AH74: 0
C75: 5NP vlevo kazety : 32,35*2 | E75: 64.7 | AG75: VV | AH75: 0
C76: 0,45*6 | E76: 2.7 | AG76: VV | AH76: 0
C77: (4,6+1,4)*2 | E77: 12 | AG77: VV | AH77: 0
C78: 0,66*2 | E78: 1.32 | AG78: VV | AH78: 0
C79: 4NP vpravo kazety : 32,35*2 | E79: 64.7 | AG79: VV | AH79: 0
C80: 2,25*2 | E80: 4.5 | AG80: VV | AH80: 0
C81: 0,45*6 | E81: 2.7 | AG81: VV | AH81: 0
... C92: (1,2+2+2) | E92: 5.2 | AG92: VV | AH92: 0
AG93: SPU
A94: Díl: | B94: 784 | C94: Malby | G94: =SUMIF(AG95:AG139,"<>NOR",G95:G139) -> 0 | I94: =SUM(I95:I139) -> 0 | K94: =SUM(K95:K139) -> 0 | M94: =SUM(M95:M139) -> 0 | O94: =SUM(O95:O139) -> 0.55 | Q94: =SUM(Q95:Q139) -> 0 | V94: =SUM(V95:V139) -> 382.66 | AG94: DIL
A95: 13 | B95: 784191101R00 | C95: Penetrace podkladu univerzální 1x | D95: m2 | E95: 2037.568 | G95: =ROUND(E95*F95,2) -> 0 | I95: =ROUND(E95*H95,2) -> 0 | K95: =ROUND(E95*J95,2) -> 0 | L95: 21 | M95: =G95*(1+L95/100) -> 0 | N95: 7e-05 | O95: =ROUND(E95*N95,2) -> 0.14 | P95: 0 | Q95: =ROUND(E95*P95,2) -> 0 | S95: Vlastní | T95: Indiv | U95: 0.03248 | V95: =ROUND(E95*U95,2) -> 66.18 | X95: Práce | AG95: POL1_
C96: Odkaz na mn. položky pořadí 15 : 2037,56800 | E96: 2037.568 | AG96: VV | AH96: 0
AG97: SPU
A98: 14 | B98: 784195212R00 | C98: Malba bílá, bez penetrace, 2 x | D98: m2 | E98: 2037.568 | G98: =ROUND(E98*F98,2) -> 0 | I98: =ROUND(E98*H98,2) -> 0 | K98: =ROUND(E98*J98,2) -> 0 | L98: 21 | M98: =G98*(1+L98/100) -> 0 | N98: 0.00015 | O98: =ROUND(E98*N98,2) -> 0.31 | P98: 0 | Q98: =ROUND(E98*P98,2) -> 0 | S98: Vlastní | T98: Indiv | U98: 0.10191 | V98: =ROUND(E98*U98,2) -> 207.65 | X98: Práce | AG98: POL1_
C99: 5NP vpravo kazety : 32,35*3,2*2 | E99: 207.04 | AG99: VV | AH99: 0
C100: 2,25*3,2*2 | E100: 14.4 | AG100: VV | AH100: 0
C101: (4,6+1,4)*3,2*2 | E101: 38.4 | AG101: VV | AH101: 0
C102: 0,66*2*3,2 | E102: 4.224 | AG102: VV | AH102: 0
C103: 0,45*3,2*6 | E103: 8.64 | AG103: VV | AH103: 0
C104: 5NP vlevo kazety : 32,35*3,2*2 | E104: 207.04 | AG104: VV | AH104: 0
C105: 0,45*3,2*6 | E105: 8.64 | AG105: VV | AH105: 0
C106: (4,6+1,4)*3,2*2 | E106: 38.4 | AG106: VV | AH106: 0
C107: 0,66*2*3,2 | E107: 4.224 | AG107: VV | AH107: 0
C108: 4NP vpravo kazety : 32,35*3,2*2 | E108: 207.04 | AG108: VV | AH108: 0
C109: 2,25*3,2*2 | E109: 14.4 | AG109: VV | AH109: 0
C110: 0,45*3,2*6 | E110: 8.64 | AG110: VV | AH110: 0
... C127: 5,6*5,6 | E127: 31.36 | AG127: VV | AH127: 0
AG128: SPU
...
