Workbook
Name CelkemDPHVypocet: Stavba!$H$43
Name CenaCelkem: Stavba!$G$29
Name CenaCelkemBezDPH: Stavba!$G$28
Name CenaCelkemVypocet: Stavba!$I$43
Name cisloobjektu: Stavba!$D$3
Name CisloRozpoctu: '[1]Krycí list'!$C$2
Name CisloStavby: Stavba!$D$2
Name cislostavby: '[1]Krycí list'!$A$7
Name CisloStavebnihoRozpoctu: Stavba!$D$4
Name dadresa: Stavba!$D$12:$G$12
Name DIČ: Stavba!$I$12
Name dmisto: Stavba!$E$13:$G$13
Name DPHSni: Stavba!$G$24
Name DPHZakl: Stavba!$G$26
Name dpsc: Stavba!$D$13
Name IČO: Stavba!$I$11
Name Mena: Stavba!$J$29
Name MistoStavby: Stavba!$D$4
Name nazevobjektu: Stavba!$E$3
Name NazevRozpoctu: '[1]Krycí list'!$D$2
Name NazevStavby: Stavba!$E$2
Name nazevstavby: '[1]Krycí list'!$C$7
Name NazevStavebnihoRozpoctu: Stavba!$E$4
Name oadresa: Stavba!$D$6
Name Objednatel: Stavba!$D$5
Name Objekt: Stavba!$B$38
Name odic: Stavba!$I$6
Name oico: Stavba!$I$5
Name omisto: Stavba!$E$7
Name onazev: Stavba!$D$6
Name opsc: Stavba!$D$7
Name padresa: Stavba!$D$9
Name pdic: Stavba!$I$9
Name pico: Stavba!$I$8
Name pmisto: Stavba!$E$10
Name PocetMJ: #REF!
Name PoptavkaID: Stavba!$A$1
Name pPSC: Stavba!$D$10
Name Projektant: Stavba!$D$8
Name SazbaDPH1: Stavba!$E$23
Name SazbaDPH1: '[1]Krycí list'!$C$30
Name SazbaDPH2: Stavba!$E$25
Name SazbaDPH2: '[1]Krycí list'!$C$32
Name SloupecCC: #REF!
Name SloupecCisloPol: #REF!
Name SloupecJC: #REF!
Name SloupecMJ: #REF!
Name SloupecMnozstvi: #REF!
Name SloupecNazPol: #REF!
Name SloupecPC: #REF!
Name Vypracoval: Stavba!$D$14
Name ZakladDPHSni: Stavba!$G$23
Name ZakladDPHSniVypocet: Stavba!$F$43
Name ZakladDPHZakl: Stavba!$G$25
Name ZakladDPHZaklVypocet: Stavba!$G$43
Name ZaObjednatele: Stavba!$G$34
Name Zaokrouhleni: Stavba!$G$27
Name ZaZhotovitele: Stavba!$D$34
Name Zhotovitel: Stavba!$D$11:$G$11

Sheet Pokyny pro vyplnění
A1: Pokyny pro vyplnění
A2: Ve všech listech tohoto souboru můžete měnit pouze buňky s modrým pozadím. Jedná se o tyto údaje : - údaje o firmě - jednotkové ceny položek zadané na maximálně dvě desetinná místa

Sheet Stavba
A1: #RTSROZP# | B1: Soupis stavebních prací, dodávek a služeb
B2: Stavba: | D2: 272/2020/06 | E2: Žerotínovo nám. 6 opravy podlah ordinace 415, 416
B3: Objekt: | D3: 272/2020/06 | E3: Žerotínovo nám. 6 opravy podlah ordinace 415, 416
A4: 4132 | B4: Rozpočet: | D4: 272/2020/06 | E4: Žerotínovo nám. 6 opravy podlah ordinace 415, 416
B5: Zadavatel | H5: IČO:
H6: DIČ:
B8: Projektant: | H8: IČO:
H9: DIČ:
B11: Zhotovitel: | H11: IČO:
H12: DIČ:
B14: Vypracoval: | D14: Marečková
B15: Rozpis ceny | I15: Celkem
A16: HSV | B16: HSV | I16: =SUMIF(F50:F59,A16,I50:I59)+SUMIF(F50:F59,"PSU",I50:I59) -> 0
A17: PSV | B17: PSV | I17: =SUMIF(F50:F59,A17,I50:I59) -> 0
A18: MON | B18: MON | I18: =SUMIF(F50:F59,A18,I50:I59) -> 0
A19: VN | B19: Vedlejší náklady | I19: =SUMIF(F50:F59,A19,I50:I59) -> 0
A20: ON | B20: Ostatní náklady | I20: =SUMIF(F50:F59,A20,I50:I59) -> 0
B21: Celkem | I21: =SUM(I16:J20) -> 0
B22: Rekapitulace daní
A23: =ZakladDPHSni*SazbaDPH1/100 -> 0 | B23: Základ pro sníženou DPH | E23: 15 | F23: % | G23: =ZakladDPHSniVypocet -> 0 | J23: =Mena -> CZK
A24: =(A23-INT(A23))*100 -> 0 | B24: Snížená DPH | E24: =SazbaDPH1 -> 15 | F24: % | G24: =A23 -> 0 | J24: =Mena -> CZK
A25: =ZakladDPHZakl*SazbaDPH2/100 -> 0 | B25: Základ pro základní DPH | E25: 21 | F25: % | G25: =ZakladDPHZaklVypocet -> 0 | J25: =Mena -> CZK
A26: =(A25-INT(A25))*100 -> 0 | B26: Základní DPH | E26: =SazbaDPH2 -> 21 | F26: % | G26: =A25 -> 0 | J26: =Mena -> CZK
A27: =ZakladDPHSni+DPHSni+ZakladDPHZakl+DPHZakl -> 0 | B27: Zaokrouhlení | G27: =CenaCelkem-(ZakladDPHSni+DPHSni+ZakladDPHZakl+DPHZakl) -> 0 | J27: =Mena -> CZK
B28: Cena celkem bez DPH | G28: =ZakladDPHSniVypocet+ZakladDPHZaklVypocet -> 0 | J28: =Mena -> CZK
A29: =(A27-INT(A27))*100 -> 0 | B29: Cena celkem s DPH | G29: =A27 -> 0 | J29: CZK
C32: v | F32: dne
D34: sdfsdf | G34: OSM MMB
D35: Za zhotovitele | H35: Za objednatele
B37: Rekapitulace dílčích částí
A38: #CASTI>> | B38: Číslo | C38: Název | F38: =B23 -> Základ pro sníženou DPH | G38: =B25 -> Základ pro základní DPH | H38: DPH celkem | I38: Cena celkem | J38: %
A39: 1 | B39: Stavba | F39: ='272_2020_06 272_2020_06 Pol'!AE144 -> 0 | G39: ='272_2020_06 272_2020_06 Pol'!AF144 -> 0 | H39: =(F39*SazbaDPH1/100)+(G39*SazbaDPH2/100) -> 0 | I39: =F39+G39+H39 -> 0 | J39: =IF(CenaCelkemVypocet=0,"",I39/CenaCelkemVypocet*100)
A40: 2 | C40: Stavební objekt | H40: =(F40*SazbaDPH1/100)+(G40*SazbaDPH2/100) -> 0
A41: 2 | B41: 272/2020/06 | C41: Žerotínovo nám. 6 opravy podlah ordinace 415, 416 | F41: ='272_2020_06 272_2020_06 Pol'!AE144 -> 0 | G41: ='272_2020_06 272_2020_06 Pol'!AF144 -> 0 | H41: =(F41*SazbaDPH1/100)+(G41*SazbaDPH2/100) -> 0 | I41: =F41+G41+H41 -> 0 | J41: =IF(CenaCelkemVypocet=0,"",I41/CenaCelkemVypocet*100)
A42: 3 | B42: 272/2020/06 | C42: Žerotínovo nám. 6 opravy podlah ordinace 415, 416 | F42: ='272_2020_06 272_2020_06 Pol'!AE144 -> 0 | G42: ='272_2020_06 272_2020_06 Pol'!AF144 -> 0 | H42: =(F42*SazbaDPH1/100)+(G42*SazbaDPH2/100) -> 0 | I42: =F42+G42+H42 -> 0 | J42: =IF(CenaCelkemVypocet=0,"",I42/CenaCelkemVypocet*100)
B43: Celkem za stavbu | F43: =SUMIF(A39:A42,"=1",F39:F42) -> 0 | G43: =SUMIF(A39:A42,"=1",G39:G42) -> 0 | H43: =SUMIF(A39:A42,"=1",H39:H42) -> 0 | I43: =SUMIF(A39:A42,"=1",I39:I42) -> 0 | J43: =SUMIF(A39:A42,"=1",J39:J42) -> 0
B47: Rekapitulace dílů
B49: Číslo | C49: Název | F49: Typ dílu | I49: Celkem | J49: %
B50: 61 | C50: Úpravy povrchů vnitřní | F50: HSV | I50: ='272_2020_06 272_2020_06 Pol'!G8 -> 0 | J50: =IF(I60=0,"",I50/I60*100)
B51: 63 | C51: Podlahy a podlahové konstrukce | F51: HSV | I51: ='272_2020_06 272_2020_06 Pol'!G15 -> 0 | J51: =IF(I60=0,"",I51/I60*100)
B52: 95 | C52: Dokončovací konstrukce na pozemních stavbách | F52: HSV | I52: ='272_2020_06 272_2020_06 Pol'!G30 -> 0 | J52: =IF(I60=0,"",I52/I60*100)
B53: 99 | C53: Staveništní přesun hmot | F53: HSV | I53: ='272_2020_06 272_2020_06 Pol'!G36 -> 0 | J53: =IF(I60=0,"",I53/I60*100)
B54: 766 | C54: Konstrukce truhlářské | F54: PSV | I54: ='272_2020_06 272_2020_06 Pol'!G43 -> 0 | J54: =IF(I60=0,"",I54/I60*100)
B55: 776 | C55: Podlahy povlakové | F55: PSV | I55: ='272_2020_06 272_2020_06 Pol'!G63 -> 0 | J55: =IF(I60=0,"",I55/I60*100)
B56: 784 | C56: Malby | F56: PSV | I56: ='272_2020_06 272_2020_06 Pol'!G113 -> 0 | J56: =IF(I60=0,"",I56/I60*100)
B57: D96 | C57: Přesuny suti a vybouraných hmot | F57: PSU | I57: ='272_2020_06 272_2020_06 Pol'!G122 -> 0 | J57: =IF(I60=0,"",I57/I60*100)
B58: VN | C58: Vedlejší náklady | F58: VN | I58: ='272_2020_06 272_2020_06 Pol'!G136 -> 0 | J58: =IF(I60=0,"",I58/I60*100)
B59: ON | C59: Ostatní náklady | F59: ON | I59: ='272_2020_06 272_2020_06 Pol'!G139 -> 0 | J59: =IF(I60=0,"",I59/I60*100)
B60: Cena celkem | I60: =SUM(I50:I59) -> 0 | J60: =SUM(J50:J59) -> 0

Sheet VzorPolozky
A1: Položkový rozpočet
A2: S:
A3: O:
A4: R:

Sheet 272_2020_06 272_2020_06 Pol
A1: Položkový soupis prací a dodávek | AG1: #TypZaznamu#
A2: S: | B2: 272/2020/06 | C2: Žerotínovo nám. 6 opravy podlah ordinace 415, 416 | AG2: STA
A3: O: | B3: 272/2020/06 | C3: Žerotínovo nám. 6 opravy podlah ordinace 415, 416 | AC3: STA | AG3: OBJ
A4: R: | B4: 272/2020/06 | C4: Žerotínovo nám. 6 opravy podlah ordinace 415, 416 | AG4: ROZ
A6: P.č. | B6: Číslo položky | C6: Název položky | D6: MJ | E6: Množství | F6: Cena / MJ | G6: Celkem | H6: Dodávka | I6: Dodávka celk. | J6: Montáž | K6: Montáž celk. | L6: DPH | M6: Cena s DPH | N6: Hmotnost / MJ | O6: Hmotnost celk.(t) | P6: Dem. hmotnost / MJ | Q6: Dem. hmotnost celk.(t) | R6: Ceník | S6: Cen. soustava / platnost | T6: Cenová úroveň | U6: Nhod / MJ | V6: Nhod celk. | W6: Dodavatel | X6: Typ položky
A8: Díl: | B8: 61 | C8: Úpravy povrchů vnitřní | G8: =SUMIF(AG9:AG14,"<>NOR",G9:G14) -> 0 | I8: =SUM(I9:I14) -> 0 | K8: =SUM(K9:K14) -> 0 | M8: =SUM(M9:M14) -> 0 | O8: =SUM(O9:O14) -> 0.15 | Q8: =SUM(Q9:Q14) -> 0 | V8: =SUM(V9:V14) -> 11.13 | AG8: DIL
A9: 1 | B9: 612401191RT2 | C9: Omítky malých ploch vnitřních stěn do 0,09 m2, vápennou štukovou omítkou | D9: kus | E9: 5 | G9: =ROUND(E9*F9,2) -> 0 | I9: =ROUND(E9*H9,2) -> 0 | K9: =ROUND(E9*J9,2) -> 0 | L9: 21 | M9: =G9*(1+L9/100) -> 0 | N9: 0.0032 | O9: =ROUND(E9*N9,2) -> 0.02 | P9: 0 | Q9: =ROUND(E9*P9,2) -> 0 | R9: 801-4 | S9: RTS 20/ I | T9: RTS 20/ I | U9: 0.22 | V9: =ROUND(E9*U9,2) -> 1.1 | X9: Práce | AG9: POL1_
C10: jakoukoliv maltou, z pomocného pracovního lešení o výšce podlahy do 1900 mm a pro zatížení do 1,5 kPa, | AG10: SPI | BA10: =C10 -> jakoukoliv maltou, z pomocného pracovního lešení o výšce podlahy do 1900 mm a pro zatížení do 1,5 kPa,
AG11: SPU
A12: 2 | B12: 612409991RT2 | C12: Začištění omítek kolem oken, dveří a obkladů apod. s použitím suché maltové směsi | D12: m | E12: 55 | G12: =ROUND(E12*F12,2) -> 0 | I12: =ROUND(E12*H12,2) -> 0 | K12: =ROUND(E12*J12,2) -> 0 | L12: 21 | M12: =G12*(1+L12/100) -> 0 | N12: 0.00238 | O12: =ROUND(E12*N12,2) -> 0.13 | P12: 0 | Q12: =ROUND(E12*P12,2) -> 0 | R12: 801-4 | S12: RTS 20/ I | T12: RTS 20/ I | U12: 0.18233 | V12: =ROUND(E12*U12,2) -> 10.03 | X12: Práce | AG12: POL1_
C13: po podlahových soklících : 55 | E13: 55 | AG13: VV | AH13: 0
AG14: SPU
A15: Díl: | B15: 63 | C15: Podlahy a podlahové konstrukce | G15: =SUMIF(AG16:AG29,"<>NOR",G16:G29) -> 0 | I15: =SUM(I16:I29) -> 0 | K15: =SUM(K16:K29) -> 0 | M15: =SUM(M16:M29) -> 0 | O15: =SUM(O16:O29) -> 1.15 | Q15: =SUM(Q16:Q29) -> 0 | V15: =SUM(V16:V29) -> 23.11 | AG15: DIL
A16: 3 | B16: 631664112R00 | C16: Oprava trhlin a výtluků v podlahách cementovou hmotou včetně penetrace podkladu, tloušťky od 11 mm do 20 mm | D16: m2 | E16: 6 | G16: =ROUND(E16*F16,2) -> 0 | I16: =ROUND(E16*H16,2) -> 0 | K16: =ROUND(E16*J16,2) -> 0 | L16: 21 | M16: =G16*(1+L16/100) -> 0 | N16: 0.03171 | O16: =ROUND(E16*N16,2) -> 0.19 | P16: 0 | Q16: =ROUND(E16*P16,2) -> 0 | R16: 801-4 | S16: RTS 20/ I | T16: RTS 20/ I | U16: 0.44 | V16: =ROUND(E16*U16,2) -> 2.64 | X16: Práce | AG16: POL1_
C17: 415 : 1*1 | E17: 1 | AG17: VV | AH17: 0
C18: 416 : 1*1 | E18: 1 | AG18: VV | AH18: 0
C19: čekárna : 1*1*4 | E19: 4 | AG19: VV | AH19: 0
AG20: SPU
A21: 4 | B21: 632419104RT2 | C21: Potěr ze suchých směsí cementová samonivelační podlahová stěrka, tloušťky 4 mm, bez penetrace | D21: m2 | E21: 67 | G21: =ROUND(E21*F21,2) -> 0 | I21: =ROUND(E21*H21,2) -> 0 | K21: =ROUND(E21*J21,2) -> 0 | L21: 21 | M21: =G21*(1+L21/100) -> 0 | N21: 0.00714 | O21: =ROUND(E21*N21,2) -> 0.48 | P21: 0 | Q21: =ROUND(E21*P21,2) -> 0 | R21: 801-1 | S21: RTS 20/ I | T21: RTS 20/ I | U21: 0.25 | V21: =ROUND(E21*U21,2) -> 16.75 | X21: Práce | AG21: POL1_
C22: s rozprostřením a uhlazením | AG22: SPI
C23: 415 : 20 | E23: 20 | AG23: VV | AH23: 0
C24: 416 : 20 | E24: 20 | AG24: VV | AH24: 0
C25: čekárna : 4,5*6 | E25: 27 | AG25: VV | AH25: 0
AG26: SPU
A27: 5 | B27: 632451441R00 | C27: Doplnění cementového potěru o ploše jednotlivě do 1 m2, tloušťky přes 30 do 40 mm | D27: m2 | E27: 6 | G27: =ROUND(E27*F27,2) -> 0 | I27: =ROUND(E27*H27,2) -> 0 | K27: =ROUND(E27*J27,2) -> 0 | L27: 21 | M27: =G27*(1+L27/100) -> 0 | N27: 0.0798 | O27: =ROUND(E27*N27,2) -> 0.48 | P27: 0 | Q27: =ROUND(E27*P27,2) -> 0 | R27: 801-4 | S27: RTS 20/ I | T27: RTS 20/ I | U27: 0.62 | V27: =ROUND(E27*U27,2) -> 3.72 | X27: Práce | AG27: POL1_
C28: na mazaninách a betonových podkladech hlazeného dřevěným nebo ocelovým hladítkem (s dodáním hmot), | AG28: SPI
AG29: SPU
A30: Díl: | B30: 95 | C30: Dokončovací konstrukce na pozemních stavbách | G30: =SUMIF(AG31:AG35,"<>NOR",G31:G35) -> 0 | I30: =SUM(I31:I35) -> 0 | K30: =SUM(K31:K35) -> 0 | M30: =SUM(M31:M35) -> 0 | O30: =SUM(O31:O35) -> 0 | Q30: =SUM(Q31:Q35) -> 0 | V30: =SUM(V31:V35) -> 20.77 | AG30: DIL
A31: 6 | B31: 952901111R00 | C31: Vyčištění budov a ostatních objektů budov bytové nebo občanské výstavby - zametení a umytí podlah, dlažeb, obkladů, schodů v místnostech, chodbách a schodištích, vyčištění a umytí oken, dveří s rámy, zárubněmi, umytí a vyčištění jiných zasklených a natíraných ploch a zařizovacích předmětů před předáním do užívání světlá výška podlaží do 4 m | D31: m2 | E31: 67 | G31: =ROUND(E31*F31,2) -> 0 | I31: =ROUND(E31*H31,2) -> 0 | K31: =ROUND(E31*J31,2) -> 0 | L31: 21 | M31: =G31*(1+L31/100) -> 0 | N31: 4e-05 | O31: =ROUND(E31*N31,2) -> 0 | P31: 0 | Q31: =ROUND(E31*P31,2) -> 0 | R31: 801-1 | S31: RTS 20/ I | T31: RTS 20/ I | U31: 0.31 | V31: =ROUND(E31*U31,2) -> 20.77 | X31: Práce | AG31: POL1_
C32: 415 : 20 | E32: 20 | AG32: VV | AH32: 0
C33: 416 : 20 | E33: 20 | AG33: VV | AH33: 0
C34: čekárna : 27 | E34: 27 | AG34: VV | AH34: 0
AG35: SPU
A36: Díl: | B36: 99 | C36: Staveništní přesun hmot | G36: =SUMIF(AG37:AG42,"<>NOR",G37:G42) -> 0 | I36: =SUM(I37:I42) -> 0 | K36: =SUM(K37:K42) -> 0 | M36: =SUM(M37:M42) -> 0 | O36: =SUM(O37:O42) -> 0 | Q36: =SUM(Q37:Q42) -> 0 | V36: =SUM(V37:V42) -> 0.57 | AG36: DIL
A37: 7 | B37: 998014021R00 | C37: Přesun hmot, budovy mont. vícepodl. s pláštěm, 18m | D37: t | E37: 1.29702 | G37: =ROUND(E37*F37,2) -> 0 | I37: =ROUND(E37*H37,2) -> 0 | K37: =ROUND(E37*J37,2) -> 0 | L37: 21 | M37: =G37*(1+L37/100) -> 0 | N37: 0 | O37: =ROUND(E37*N37,2) -> 0 | P37: 0 | Q37: =ROUND(E37*P37,2) -> 0 | S37: RTS 20/ I | T37: RTS 20/ I | U37: 0.13 | V37: =ROUND(E37*U37,2) -> 0.17 | X37: Přesun hmot | AG37: POL7_
AG38: SPU
A39: 8 | B39: 998014094R00 | C39: Přesun hmot, budovy mont, plášť, příplatek do 5 km | D39: t | E39: 1.29702 | G39: =ROUND(E39*F39,2) -> 0 | I39: =ROUND(E39*H39,2) -> 0 | K39: =ROUND(E39*J39,2) -> 0 | L39: 21 | M39: =G39*(1+L39/100) -> 0 | N39: 0 | O39: =ROUND(E39*N39,2) -> 0 | P39: 0 | Q39: =ROUND(E39*P39,2) -> 0 | S39: RTS 20/ I | T39: RTS 20/ I | U39: 0.31 | V39: =ROUND(E39*U39,2) -> 0.4 | X39: Přesun hmot | AG39: POL7_
AG40: SPU
A41: 9 | B41: 998014095R00 | C41: Přesun hmot,bud.mont.s pláštěm,příp.za dalších 5km | D41: t | E41: 1.29702 | G41: =ROUND(E41*F41,2) -> 0 | I41: =ROUND(E41*H41,2) -> 0 | K41: =ROUND(E41*J41,2) -> 0 | L41: 21 | M41: =G41*(1+L41/100) -> 0 | N41: 0 | O41: =ROUND(E41*N41,2) -> 0 | P41: 0 | Q41: =ROUND(E41*P41,2) -> 0 | S41: RTS 20/ I | T41: RTS 20/ I | U41: 0 | V41: =ROUND(E41*U41,2) -> 0 | X41: Přesun hmot | AG41: POL7_
AG42: SPU
A43: Díl: | B43: 766 | C43: Konstrukce truhlářské | G43: =SUMIF(AG44:AG62,"<>NOR",G44:G62) -> 0 | I43: =SUM(I44:I62) -> 0 | K43: =SUM(K44:K62) -> 0 | M43: =SUM(M44:M62) -> 0 | O43: =SUM(O44:O62) -> 0 | Q43: =SUM(Q44:Q62) -> 0.11 | V43: =SUM(V44:V62) -> 3.56 | AG43: DIL
A44: 10 | B44: 766662811R00 | C44: Demontáž dveřních křídel prahů dveří_x000D_ jednokřídlových | D44: kus | E44: 2 | G44: =ROUND(E44*F44,2) -> 0 | I44: =ROUND(E44*H44,2) -> 0 | K44: =ROUND(E44*J44,2) -> 0 | L44: 21 | M44: =G44*(1+L44/100) -> 0 | N44: 0 | O44: =ROUND(E44*N44,2) -> 0 | P44: 0.0018 | Q44: =ROUND(E44*P44,2) -> 0 | R44: 800-766 | S44: RTS 20/ I | T44: RTS 20/ I | U44: 0.11 | V44: =ROUND(E44*U44,2) -> 0.22 | X44: Práce | AG44: POL1_
AG45: SPU
A46: 11 | B46: 766695213R00 | C46: Ostatní montáž prahů dveří_x000D_ jednokřídlých, šířky přes 100 mm | D46: kus | E46: 2 | G46: =ROUND(E46*F46,2) -> 0 | I46: =ROUND(E46*H46,2) -> 0 | K46: =ROUND(E46*J46,2) -> 0 | L46: 21 | M46: =G46*(1+L46/100) -> 0 | N46: 1e-05 | O46: =ROUND(E46*N46,2) -> 0 | P46: 0 | Q46: =ROUND(E46*P46,2) -> 0 | R46: 800-766 | S46: RTS 20/ I | T46: RTS 20/ I | U46: 0.28 | V46: =ROUND(E46*U46,2) -> 0.56 | X46: Práce | AG46: POL1_
AG47: SPU
A48: 12 | B48: 766825123R00 | C48: Montáž nábytku, opětovné nastěhování stávajícícho nábytku | D48: soubor | E48: 1 | G48: =ROUND(E48*F48,2) -> 0 | I48: =ROUND(E48*H48,2) -> 0 | K48: =ROUND(E48*J48,2) -> 0 | L48: 21 | M48: =G48*(1+L48/100) -> 0 | N48: 0.00019 | O48: =ROUND(E48*N48,2) -> 0 | P48: 0 | Q48: =ROUND(E48*P48,2) -> 0 | S48: Vlastní | T48: RTS 20/ I | U48: 2.32 | V48: =ROUND(E48*U48,2) -> 2.32 | X48: Práce | AG48: POL1_
AG49: SPU
A50: 13 | B50: 766825823R00 | C50: Demontáž nábytku, stěhování stávajícícho nábytku | D50: soubor | E50: 1 | G50: =ROUND(E50*F50,2) -> 0 | I50: =ROUND(E50*H50,2) -> 0 | K50: =ROUND(E50*J50,2) -> 0 | L50: 21 | M50: =G50*(1+L50/100) -> 0 | N50: 0 | O50: =ROUND(E50*N50,2) -> 0 | P50: 0.1104 | Q50: =ROUND(E50*P50,2) -> 0.11 | S50: Vlastní | T50: RTS 20/ I | U50: 0.46 | V50: =ROUND(E50*U50,2) -> 0.46 | X50: Práce | AG50: POL1_
AG51: SPU
A52: 14 | B52: 61187161R | C52: práh dub; š = 150 mm; l = 800,0 mm; tl = 20,0 mm | D52: kus | E52: 2 | G52: =ROUND(E52*F52,2) -> 0 | I52: =ROUND(E52*H52,2) -> 0 | K52: =ROUND(E52*J52,2) -> 0 | L52: 21 | M52: =G52*(1+L52/100) -> 0 | N52: 0.00161 | O52: =ROUND(E52*N52,2) -> 0 | P52: 0 | Q52: =ROUND(E52*P52,2) -> 0 | R52: SPCM | S52: RTS 20/ I | T52: RTS 20/ I | U52: 0 | V52: =ROUND(E52*U52,2) -> 0 | X52: Specifikace | AG52: POL3_
AG53: SPU
A54: 15 | B54: 998766203R00 | C54: Přesun hmot pro konstrukce truhlářské v objektech výšky do 24 m | D54: % | G54: =ROUND(E54*F54,2) -> 0 | I54: =ROUND(E54*H54,2) -> 0 | K54: =ROUND(E54*J54,2) -> 0 | L54: 21 | M54: =G54*(1+L54/100) -> 0 | N54: 0 | O54: =ROUND(E54*N54,2) -> 0 | P54: 0 | Q54: =ROUND(E54*P54,2) -> 0 | R54: 800-766 | S54: RTS 20/ I | T54: RTS 20/ I | U54: 0 | V54: =ROUND(E54*U54,2) -> 0 | X54: Přesun hmot | AG54: POL7_
C55: 50 m vodorovně | AG55: SPI
AG56: SPU
A57: 16 | B57: 998766294R00 | C57: Přesun hmot pro konstrukce truhlářské příplatek k ceně za zvětšený přesun přes vymezenou největší dopravní vzdálenost_x000D_ do 1000 m | D57: % | G57: =ROUND(E57*F57,2) -> 0 | I57: =ROUND(E57*H57,2) -> 0 | K57: =ROUND(E57*J57,2) -> 0 | L57: 21 | M57: =G57*(1+L57/100) -> 0 | N57: 0 | O57: =ROUND(E57*N57,2) -> 0 | P57: 0 | Q57: =ROUND(E57*P57,2) -> 0 | R57: 800-766 | S57: RTS 20/ I | T57: RTS 20/ I | U57: 0 | V57: =ROUND(E57*U57,2) -> 0 | X57: Přesun hmot | AG57: POL7_
C58: 50 m vodorovně | AG58: SPI
AG59: SPU
A60: 17 | B60: 998766299R00 | C60: Přesun hmot pro konstrukce truhlářské příplatek k ceně za zvětšený přesun přes vymezenou největší dopravní vzdálenost_x000D_ za každých dalších i započatých 1000 m přes 1000 m | D60: % | G60: =ROUND(E60*F60,2) -> 0 | I60: =ROUND(E60*H60,2) -> 0 | K60: =ROUND(E60*J60,2) -> 0 | L60: 21 | M60: =G60*(1+L60/100) -> 0 | N60: 0 | O60: =ROUND(E60*N60,2) -> 0 | P60: 0 | Q60: =ROUND(E60*P60,2) -> 0 | R60: 800-766 | S60: RTS 20/ I | T60: RTS 20/ I | U60: 0 | V60: =ROUND(E60*U60,2) -> 0 | X60: Přesun hmot | AG60: POL7_
C61: 50 m vodorovně | AG61: SPI
AG62: SPU
A63: Díl: | B63: 776 | C63: Podlahy povlakové | G63: =SUMIF(AG64:AG112,"<>NOR",G64:G112) -> 0 | I63: =SUM(I64:I112) -> 0 | K63: =SUM(K64:K112) -> 0 | M63: =SUM(M64:M112) -> 0 | O63: =SUM(O64:O112) -> 0.21 | Q63: =SUM(Q64:Q112) -> 0.09 | V63: =SUM(V64:V112) -> 50.98 | AG63: DIL
A64: 18 | B64: 776101101R00 | C64: Přípravné práce vysávání povlakových podlah průmyslovým vysavačem | D64: m2 | E64: 67 | G64: =ROUND(E64*F64,2) -> 0 | I64: =ROUND(E64*H64,2) -> 0 | K64: =ROUND(E64*J64,2) -> 0 | L64: 21 | M64: =G64*(1+L64/100) -> 0 | N64: 0 | O64: =ROUND(E64*N64,2) -> 0 | P64: 0 | Q64: =ROUND(E64*P64,2) -> 0 | R64: 800-775 | S64: RTS 20/ I | T64: RTS 20/ I | U64: 0.02 | V64: =ROUND(E64*U64,2) -> 1.34 | X64: Práce | AG64: POL1_
C65: položky neobsahují žádný materiál | AG65: SPI
C66: 415 : 20 | E66: 20 | AG66: VV | AH66: 0
C67: 416 : 20 | E67: 20 | AG67: VV | AH67: 0
C68: čekárna : 27 | E68: 27 | AG68: VV | AH68: 0
AG69: SPU
A70: 19 | B70: 776101121R00 | C70: Přípravné práce penetrace podkladu | D70: m2 | E70: 67 | G70: =ROUND(E70*F70,2) -> 0 | I70: =ROUND(E70*H70,2) -> 0 | K70: =ROUND(E70*J70,2) -> 0 | L70: 21 | M70: =G70*(1+L70/100) -> 0 | N70: 0 | O70: =ROUND(E70*N70,2) -> 0 | P70: 0 | Q70: =ROUND(E70*P70,2) -> 0 | R70: 800-775 | S70: RTS 20/ I | T70: RTS 20/ I | U70: 0.05 | V70: =ROUND(E70*U70,2) -> 3.35 | X70: Práce | AG70: POL1_
C71: položky neobsahují žádný materiál | AG71: SPI
C72: 415 : 20 | E72: 20 | AG72: VV | AH72: 0
C73: 416 : 20 | E73: 20 | AG73: VV | AH73: 0
C74: čekárna : 27 | E74: 27 | AG74: VV | AH74: 0
AG75: SPU
A76: 20 | B76: 776401800RT1 | C76: Demontáž soklíků nebo lišt pryžových nebo PVC odstranění a uložení na hromady | D76: m | E76: 55 | G76: =ROUND(E76*F76,2) -> 0 | I76: =ROUND(E76*H76,2) -> 0 | K76: =ROUND(E76*J76,2) -> 0 | L76: 21 | M76: =G76*(1+L76/100) -> 0 | N76: 0 | O76: =ROUND(E76*N76,2) -> 0 | P76: 8e-05 | Q76: =ROUND(E76*P76,2) -> 0 | R76: 800-775 | S76: RTS 20/ I | T76: RTS 20/ I | U76: 0.04 | V76: =ROUND(E76*U76,2) -> 2.2 | X76: Práce | AG76: POL1_
C77: 415 : (5+4)*2+1*2 | E77: 20 | AG77: VV | AH77: 0
C78: 416 : (5+4)*2+1*2 | E78: 20 | AG78: VV | AH78: 0
C79: čekárna : 4,5*2+6 | E79: 15 | AG79: VV | AH79: 0
AG80: SPU
A81: 21 | B81: 776421100RU1 | C81: Lepení soklíků PVC a napojení krytiny na stěnu lepení podlahových soklíků z PVC a vinylu včetně dodávky soklíku | D81: m | E81: 55 | G81: =ROUND(E81*F81,2) -> 0 | I81: =ROUND(E81*H81,2) -> 0 | K81: =ROUND(E81*J81,2) -> 0 | L81: 21 | M81: =G81*(1+L81/100) -> 0 | N81: 8e-05 | O81: =ROUND(E81*N81,2) -> 0 | P81: 0 | Q81: =ROUND(E81*P81,2) -> 0 | R81: 800-775 | S81: RTS 20/ I | T81: RTS 20/ I | U81: 0.14 | V81: =ROUND(E81*U81,2) -> 7.7 | X81: Práce | AG81: POL1_
AG82: SPU
A83: 22 | B83: 776511810RT1 | C83: Odstranění povlakových podlah z nášlapné plochy lepených, bez podložky, z ploch přes 20 m2 | D83: m2 | E83: 87 | G83: =ROUND(E83*F83,2) -> 0 | I83: =ROUND(E83*H83,2) -> 0 | K83: =ROUND(E83*J83,2) -> 0 | L83: 21 | M83: =G83*(1+L83/100) -> 0 | N83: 0 | O83: =ROUND(E83*N83,2) -> 0 | P83: 0.001 | Q83: =ROUND(E83*P83,2) -> 0.09 | R83: 800-775 | S83: RTS 20/ I | T83: RTS 20/ I | U83: 0.11 | V83: =ROUND(E83*U83,2) -> 9.57 | X83: Práce | AG83: POL1_
C84: 415 : 20 | E84: 20 | AG84: VV | AH84: 0
C85: 416 dvě vrstvy : 20*2 | E85: 40 | AG85: VV | AH85: 0
C86: čekárna : 27 | E86: 27 | AG86: VV | AH86: 0
AG87: SPU
A88: 23 | B88: 776521100RT1 | C88: Lepení povlakových podlah z plastů Lepení povlakových podlah z plastů - pásy z PVC, montáž, | D88: m2 | E88: 67 | G88: =ROUND(E88*F88,2) -> 0 | I88: =ROUND(E88*H88,2) -> 0 | K88: =ROUND(E88*J88,2) -> 0 | L88: 21 | M88: =G88*(1+L88/100) -> 0 | N88: 0.00025 | O88: =ROUND(E88*N88,2) -> 0.02 | P88: 0 | Q88: =ROUND(E88*P88,2) -> 0 | R88: 800-775 | S88: RTS 20/ I | T88: RTS 20/ I | U88: 0.38 | V88: =ROUND(E88*U88,2) -> 25.46 | X88: Práce | AG88: POL1_
AG89: SPU
A90: 24 | B90: 776994111RT1 | C90: Ostatní práce svařování povlakových podlah z pásů nebo čtverců | D90: m | E90: 17 | G90: =ROUND(E90*F90,2) -> 0 | I90: =ROUND(E90*H90,2) -> 0 | K90: =ROUND(E90*J90,2) -> 0 | L90: 21 | M90: =G90*(1+L90/100) -> 0 | N90: 4e-05 | O90: =ROUND(E90*N90,2) -> 0 | P90: 0 | Q90: =ROUND(E90*P90,2) -> 0 | R90: 800-775 | S90: RTS 20/ I | T90: RTS 20/ I | U90: 0.08 | V90: =ROUND(E90*U90,2) -> 1.36 | X90: Práce | AG90: POL1_
C91: 415 : 1*5,5 | E91: 5.5 | AG91: VV | AH91: 0
C92: 416 : 1*5,5 | E92: 5.5 | AG92: VV | AH92: 0
C93: čekárna : 6*1 | E93: 6 | AG93: VV | AH93: 0
AG94: SPU
A95: 25 | B95: 28342400R | C95: lišta soklová; podlahová; materiál PVC; tl. 1,70 mm; š = 74,0 mm | D95: m | E95: 60.5 | G95: =ROUND(E95*F95,2) -> 0 | I95: =ROUND(E95*H95,2) -> 0 | K95: =ROUND(E95*J95,2) -> 0 | L95: 21 | M95: =G95*(1+L95/100) -> 0 | N95: 0.00015 | O95: =ROUND(E95*N95,2) -> 0.01 | P95: 0 | Q95: =ROUND(E95*P95,2) -> 0 | R95: SPCM | S95: RTS 20/ I | T95: RTS 20/ I | U95: 0 | V95: =ROUND(E95*U95,2) -> 0 | X95: Specifikace | AG95: POL3_
C96: 55 | E96: 55 | AG96: VV | AH96: 0
C97: ztratné 10% : 55*0,1 | E97: 5.5 | AG97: VV | AH97: 0
AG98: SPU
A99: 26 | B99: 28412235R | C99: podlahovina PVC v rolích; l = 25 000 mm; tl. 2,50 mm; heterogenní; protiskluzná; oblast bytová, komerční, průmyslová | D99: m2 | E99: 73.7 | G99: =ROUND(E99*F99,2) -> 0 | I99: =ROUND(E99*H99,2) -> 0 | K99: =ROUND(E99*J99,2) -> 0 | L99: 21 | M99: =G99*(1+L99/100) -> 0 | N99: 0.0024 | O99: =ROUND(E99*N99,2) -> 0.18 | P99: 0 | Q99: =ROUND(E99*P99,2) -> 0 | R99: SPCM | S99: RTS 20/ I | T99: RTS 20/ I | U99: 0 | V99: =ROUND(E99*U99,2) -> 0 | X99: Specifikace | AG99: POL3_
C100: 415, 416 : 40 | E100: 40 | AG100: VV | AH100: 0
C101: ztratné : 67*0,1 | E101: 6.7 | AG101: VV | AH101: 0
C102: čekárna : 27 | E102: 27 | AG102: VV | AH102: 0
...
