Workbook
Name CelkemDPHVypocet: Stavba!$H$43
Name CenaCelkem: Stavba!$G$29
Name CenaCelkemBezDPH: Stavba!$G$28
Name CenaCelkemVypocet: Stavba!$I$43
Name cisloobjektu: Stavba!$D$3
Name CisloRozpoctu: '[1]Krycí list'!$C$2
Name CisloStavby: Stavba!$D$2
Name cislostavby: '[1]Krycí list'!$A$7
Name CisloStavebnihoRozpoctu: Stavba!$D$4
Name dadresa: Stavba!$D$12:$G$12
Name DIČ: Stavba!$I$12
Name dmisto: Stavba!$E$13:$G$13
Name DPHSni: Stavba!$G$24
Name DPHZakl: Stavba!$G$26
Name dpsc: Stavba!$D$13
Name IČO: Stavba!$I$11
Name Mena: Stavba!$J$29
Name MistoStavby: Stavba!$D$4
Name nazevobjektu: Stavba!$E$3
Name NazevRozpoctu: '[1]Krycí list'!$D$2
Name NazevStavby: Stavba!$E$2
Name nazevstavby: '[1]Krycí list'!$C$7
Name NazevStavebnihoRozpoctu: Stavba!$E$4
Name oadresa: Stavba!$D$6
Name Objednatel: Stavba!$D$5
Name Objekt: Stavba!$B$38
Name odic: Stavba!$I$6
Name oico: Stavba!$I$5
Name omisto: Stavba!$E$7
Name onazev: Stavba!$D$6
Name opsc: Stavba!$D$7
Name padresa: Stavba!$D$9
Name pdic: Stavba!$I$9
Name pico: Stavba!$I$8
Name pmisto: Stavba!$E$10
Name PocetMJ: #REF!
Name PoptavkaID: Stavba!$A$1
Name pPSC: Stavba!$D$10
Name Projektant: Stavba!$D$8
Name SazbaDPH1: Stavba!$E$23
Name SazbaDPH1: '[1]Krycí list'!$C$30
Name SazbaDPH2: Stavba!$E$25
Name SazbaDPH2: '[1]Krycí list'!$C$32
Name SloupecCC: #REF!
Name SloupecCisloPol: #REF!
Name SloupecJC: #REF!
Name SloupecMJ: #REF!
Name SloupecMnozstvi: #REF!
Name SloupecNazPol: #REF!
Name SloupecPC: #REF!
Name Vypracoval: Stavba!$D$14
Name ZakladDPHSni: Stavba!$G$23
Name ZakladDPHSniVypocet: Stavba!$F$43
Name ZakladDPHZakl: Stavba!$G$25
Name ZakladDPHZaklVypocet: Stavba!$G$43
Name ZaObjednatele: Stavba!$G$34
Name Zaokrouhleni: Stavba!$G$27
Name ZaZhotovitele: Stavba!$D$34
Name Zhotovitel: Stavba!$D$11:$G$11

Sheet Pokyny pro vyplnění
A1: Pokyny pro vyplnění
A2: Ve všech listech tohoto souboru můžete měnit pouze buňky s modrým pozadím. Jedná se o tyto údaje : - údaje o firmě - jednotkové ceny položek zadané na maximálně dvě desetinná místa

Sheet Stavba
A1: #RTSROZP# | B1: Soupis stavebních prací, dodávek a služeb
B2: Stavba: | D2: 272/2020/06 | E2: Žerotínovo nám. 6 opravy podlah ordinace 415, 416
B3: Objekt: | D3: 272/2020/06 | E3: Žerotínovo nám. 6 opravy podlah ordinace 415, 416
A4: 4132 | B4: Rozpočet: | D4: 272/2020/06 | E4: Žerotínovo nám. 6 opravy podlah ordinace 415, 416
B5: Zadavatel | H5: IČO:
H6: DIČ:
B8: Projektant: | H8: IČO:
H9: DIČ:
B11: Zhotovitel: | H11: IČO:
H12: DIČ:
B14: Vypracoval: | D14: Marečková
B15: Rozpis ceny | I15: Celkem
A16: HSV | B16: HSV | I16: =SUMIF(F50:F59,A16,I50:I59)+SUMIF(F50:F59,"PSU",I50:I59) -> 0
A17: PSV | B17: PSV | I17: =SUMIF(F50:F59,A17,I50:I59) -> 0
A18: MON | B18: MON | I18: =SUMIF(F50:F59,A18,I50:I59) -> 0
A19: VN | B19: Vedlejší náklady | I19: =SUMIF(F50:F59,A19,I50:I59) -> 0
A20: ON | B20: Ostatní náklady | I20: =SUMIF(F50:F59,A20,I50:I59) -> 0
B21: Celkem | I21: =SUM(I16:J20) -> 0
B22: Rekapitulace daní
A23: =ZakladDPHSni*SazbaDPH1/100 -> 0 | B23: Základ pro sníženou DPH | E23: 15 | F23: % | G23: =ZakladDPHSniVypocet -> 0 | J23: =Mena -> CZK
A24: =(A23-INT(A23))*100 -> 0 | B24: Snížená DPH | E24: =SazbaDPH1 -> 15 | F24: % | G24: =A23 -> 0 | J24: =Mena -> CZK
A25: =ZakladDPHZakl*SazbaDPH2/100 -> 0 | B25: Základ pro základní DPH | E25: 21 | F25: % | G25: =ZakladDPHZaklVypocet -> 0 | J25: =Mena -> CZK
A26: =(A25-INT(A25))*100 -> 0 | B26: Základní DPH | E26: =SazbaDPH2 -> 21 | F26: % | G26: =A25 -> 0 | J26: =Mena -> CZK
A27: =ZakladDPHSni+DPHSni+ZakladDPHZakl+DPHZakl -> 0 | B27: Zaokrouhlení | G27: =CenaCelkem-(ZakladDPHSni+DPHSni+ZakladDPHZakl+DPHZakl) -> 0 | J27: =Mena -> CZK
B28: Cena celkem bez DPH | G28: =ZakladDPHSniVypocet+ZakladDPHZaklVypocet -> 0 | J28: =Mena -> CZK
A29: =(A27-INT(A27))*100 -> 0 | B29: Cena celkem s DPH | G29: =A27 -> 0 | J29: CZK
C32: v | F32: dne
D34: sdfsdf | G34: OSM MMB
D35: Za zhotovitele | H35: Za objednatele
B37: Rekapitulace dílčích částí
A38: #CASTI>> | B38: Číslo | C38: Název | F38: =B23 -> Základ pro sníženou DPH | G38: =B25 -> Základ pro základní DPH | H38: DPH celkem | I38: Cena celkem | J38: %
A39: 1 | B39: Stavba | F39: ='272_2020_06 272_2020_06 Pol'!AE144 -> 0 | G39: ='272_2020_06 272_2020_06 Pol'!AF144 -> 0 | H39: =(F39*SazbaDPH1/100)+(G39*SazbaDPH2/100) -> 0 | I39: =F39+G39+H39 -> 0 | J39: =IF(CenaCelkemVypocet=0,"",I39/CenaCelkemVypocet*100)
A40: 2 | C40: Stavební objekt | H40: =(F40*SazbaDPH1/100)+(G40*SazbaDPH2/100) -> 0
A41: 2 | B41: 272/2020/06 | C41: Žerotínovo nám. 6 opravy podlah ordinace 415, 416 | F41: ='272_2020_06 272_2020_06 Pol'!AE144 -> 0 | G41: ='272_2020_06 272_2020_06 Pol'!AF144 -> 0 | H41: =(F41*SazbaDPH1/100)+(G41*SazbaDPH2/100) -> 0 | I41: =F41+G41+H41 -> 0 | J41: =IF(CenaCelkemVypocet=0,"",I41/CenaCelkemVypocet*100)
A42: 3 | B42: 272/2020/06 | C42: Žerotínovo nám. 6 opravy podlah ordinace 415, 416 | F42: ='272_2020_06 272_2020_06 Pol'!AE144 -> 0 | G42: ='272_2020_06 272_2020_06 Pol'!AF144 -> 0 | H42: =(F42*SazbaDPH1/100)+(G42*SazbaDPH2/100) -> 0 | I42: =F42+G42+H42 -> 0 | J42: =IF(CenaCelkemVypocet=0,"",I42/CenaCelkemVypocet*100)
B43: Celkem za stavbu | F43: =SUMIF(A39:A42,"=1",F39:F42) -> 0 | G43: =SUMIF(A39:A42,"=1",G39:G42) -> 0 | H43: =SUMIF(A39:A42,"=1",H39:H42) -> 0 | I43: =SUMIF(A39:A42,"=1",I39:I42) -> 0 | J43: =SUMIF(A39:A42,"=1",J39:J42) -> 0
B47: Rekapitulace dílů
B49: Číslo | C49: Název | F49: Typ dílu | I49: Celkem | J49: %
B50: 61 | C50: Úpravy povrchů vnitřní | F50: HSV | I50: ='272_2020_06 272_2020_06 Pol'!G8 -> 0 | J50: =IF(I60=0,"",I50/I60*100)
B51: 63 | C51: Podlahy a podlahové konstrukce | F51: HSV | I51: ='272_2020_06 272_2020_06 Pol'!G15 -> 0 | J51: =IF(I60=0,"",I51/I60*100)
...

Sheet VzorPolozky
A1: Položkový rozpočet
A2: S:
A3: O:
A4: R:

Sheet 272_2020_06 272_2020_06 Pol
A1: Položkový soupis prací a dodávek | AG1: #TypZaznamu#
A2: S: | B2: 272/2020/06 | C2: Žerotínovo nám. 6 opravy podlah ordinace 415, 416 | AG2: STA
A3: O: | B3: 272/2020/06 | C3: Žerotínovo nám. 6 opravy podlah ordinace 415, 416 | AC3: STA | AG3: OBJ
A4: R: | B4: 272/2020/06 | C4: Žerotínovo nám. 6 opravy podlah ordinace 415, 416 | AG4: ROZ
A6: P.č. | B6: Číslo položky | C6: Název položky | D6: MJ | E6: Množství | F6: Cena / MJ | G6: Celkem | H6: Dodávka | I6: Dodávka celk. | J6: Montáž | K6: Montáž celk. | L6: DPH | M6: Cena s DPH | N6: Hmotnost / MJ | O6: Hmotnost celk.(t) | P6: Dem. hmotnost / MJ | Q6: Dem. hmotnost celk.(t) | R6: Ceník | S6: Cen. soustava / platnost | T6: Cenová úroveň | U6: Nhod / MJ | V6: Nhod celk. | W6: Dodavatel | X6: Typ položky
A8: Díl: | B8: 61 | C8: Úpravy povrchů vnitřní | G8: =SUMIF(AG9:AG14,"<>NOR",G9:G14) -> 0 | I8: =SUM(I9:I14) -> 0 | K8: =SUM(K9:K14) -> 0 | M8: =SUM(M9:M14) -> 0 | O8: =SUM(O9:O14) -> 0.15 | Q8: =SUM(Q9:Q14) -> 0 | V8: =SUM(V9:V14) -> 11.13 | AG8: DIL
A9: 1 | B9: 612401191RT2 | C9: Omítky malých ploch vnitřních stěn do 0,09 m2, vápennou štukovou omítkou | D9: kus | E9: 5 | G9: =ROUND(E9*F9,2) -> 0 | I9: =ROUND(E9*H9,2) -> 0 | K9: =ROUND(E9*J9,2) -> 0 | L9: 21 | M9: =G9*(1+L9/100) -> 0 | N9: 0.0032 | O9: =ROUND(E9*N9,2) -> 0.02 | P9: 0 | Q9: =ROUND(E9*P9,2) -> 0 | R9: 801-4 | S9: RTS 20/ I | T9: RTS 20/ I | U9: 0.22 | V9: =ROUND(E9*U9,2) -> 1.1 | X9: Práce | AG9: POL1_
C10: jakoukoliv maltou, z pomocného pracovního lešení o výšce podlahy do 1900 mm a pro zatížení do 1,5 kPa, | AG10: SPI | BA10: =C10 -> jakoukoliv maltou, z pomocného pracovního lešení o výšce podlahy do 1900 mm a pro zatížení do 1,5 kPa,
AG11: SPU
A12: 2 | B12: 612409991RT2 | C12: Začištění omítek kolem oken, dveří a obkladů apod. s použitím suché maltové směsi | D12: m | E12: 55 | G12: =ROUND(E12*F12,2) -> 0 | I12: =ROUND(E12*H12,2) -> 0 | K12: =ROUND(E12*J12,2) -> 0 | L12: 21 | M12: =G12*(1+L12/100) -> 0 | N12: 0.00238 | O12: =ROUND(E12*N12,2) -> 0.13 | P12: 0 | Q12: =ROUND(E12*P12,2) -> 0 | R12: 801-4 | S12: RTS 20/ I | T12: RTS 20/ I | U12: 0.18233 | V12: =ROUND(E12*U12,2) -> 10.03 | X12: Práce | AG12: POL1_
C13: po podlahových soklících : 55 | E13: 55 | AG13: VV | AH13: 0
AG14: SPU
A15: Díl: | B15: 63 | C15: Podlahy a podlahové konstrukce | G15: =SUMIF(AG16:AG29,"<>NOR",G16:G29) -> 0 | I15: =SUM(I16:I29) -> 0 | K15: =SUM(K16:K29) -> 0 | M15: =SUM(M16:M29) -> 0 | O15: =SUM(O16:O29) -> 1.15 | Q15: =SUM(Q16:Q29) -> 0 | V15: =SUM(V16:V29) -> 23.11 | AG15: DIL
A16: 3 | B16: 631664112R00 | C16: Oprava trhlin a výtluků v podlahách cementovou hmotou včetně penetrace podkladu, tloušťky od 11 mm do 20 mm | D16: m2 | E16: 6 | G16: =ROUND(E16*F16,2) -> 0 | I16: =ROUND(E16*H16,2) -> 0 | K16: =ROUND(E16*J16,2) -> 0 | L16: 21 | M16: =G16*(1+L16/100) -> 0 | N16: 0.03171 | O16: =ROUND(E16*N16,2) -> 0.19 | P16: 0 | Q16: =ROUND(E16*P16,2) -> 0 | R16: 801-4 | S16: RTS 20/ I | T16: RTS 20/ I | U16: 0.44 | V16: =ROUND(E16*U16,2) -> 2.64 | X16: Práce | AG16: POL1_
C17: 415 : 1*1 | E17: 1 | AG17: VV | AH17: 0
C18: 416 : 1*1 | E18: 1 | AG18: VV | AH18: 0
C19: čekárna : 1*1*4 | E19: 4 | AG19: VV | AH19: 0
AG20: SPU
A21: 4 | B21: 632419104RT2 | C21: Potěr ze suchých směsí cementová samonivelační podlahová stěrka, tloušťky 4 mm, bez penetrace | D21: m2 | E21: 67 | G21: =ROUND(E21*F21,2) -> 0 | I21: =ROUND(E21*H21,2) -> 0 | K21: =ROUND(E21*J21,2) -> 0 | L21: 21 | M21: =G21*(1+L21/100) -> 0 | N21: 0.00714 | O21: =ROUND(E21*N21,2) -> 0.48 | P21: 0 | Q21: =ROUND(E21*P21,2) -> 0 | R21: 801-1 | S21: RTS 20/ I | T21: RTS 20/ I | U21: 0.25 | V21: =ROUND(E21*U21,2) -> 16.75 | X21: Práce | AG21: POL1_
C22: s rozprostřením a uhlazením | AG22: SPI
C23: 415 : 20 | E23: 20 | AG23: VV | AH23: 0
C24: 416 : 20 | E24: 20 | AG24: VV | AH24: 0
C25: čekárna : 4,5*6 | E25: 27 | AG25: VV | AH25: 0
AG26: SPU
A27: 5 | B27: 632451441R00 | C27: Doplnění cementového potěru o ploše jednotlivě do 1 m2, tloušťky přes 30 do 40 mm | D27: m2 | E27: 6 | G27: =ROUND(E27*F27,2) -> 0 | I27: =ROUND(E27*H27,2) -> 0 | K27: =ROUND(E27*J27,2) -> 0 | L27: 21 | M27: =G27*(1+L27/100) -> 0 | N27: 0.0798 | O27: =ROUND(E27*N27,2) -> 0.48 | P27: 0 | Q27: =ROUND(E27*P27,2) -> 0 | R27: 801-4 | S27: RTS 20/ I | T27: RTS 20/ I | U27: 0.62 | V27: =ROUND(E27*U27,2) -> 3.72 | X27: Práce | AG27: POL1_
C28: na mazaninách a betonových podkladech hlazeného dřevěným nebo ocelovým hladítkem (s dodáním hmot), | AG28: SPI
AG29: SPU
A30: Díl: | B30: 95 | C30: Dokončovací konstrukce na pozemních stavbách | G30: =SUMIF(AG31:AG35,"<>NOR",G31:G35) -> 0 | I30: =SUM(I31:I35) -> 0 | K30: =SUM(K31:K35) -> 0 | M30: =SUM(M31:M35) -> 0 | O30: =SUM(O31:O35) -> 0 | Q30: =SUM(Q31:Q35) -> 0 | V30: =SUM(V31:V35) -> 20.77 | AG30: DIL
A31: 6 | B31: 952901111R00 | C31: Vyčištění budov a ostatních objektů budov bytové nebo občanské výstavby - zametení a umytí podlah, dlažeb, obkladů, schodů v místnostech, chodbách a schodištích, vyčištění a umytí oken, dveří s rámy, zárubněmi, umytí a vyčištění jiných zasklených a natíraných ploch a zařizovacích předmětů před předáním do užívání světlá výška podlaží do 4 m | D31: m2 | E31: 67 | G31: =ROUND(E31*F31,2) -> 0 | I31: =ROUND(E31*H31,2) -> 0 | K31: =ROUND(E31*J31,2) -> 0 | L31: 21 | M31: =G31*(1+L31/100) -> 0 | N31: 4e-05 | O31: =ROUND(E31*N31,2) -> 0 | P31: 0 | Q31: =ROUND(E31*P31,2) -> 0 | R31: 801-1 | S31: RTS 20/ I | T31: RTS 20/ I | U31: 0.31 | V31: =ROUND(E31*U31,2) -> 20.77 | X31: Práce | AG31: POL1_
C32: 415 : 20 | E32: 20 | AG32: VV | AH32: 0
C33: 416 : 20 | E33: 20 | AG33: VV | AH33: 0
C34: čekárna : 27 | E34: 27 | AG34: VV | AH34: 0
AG35: SPU
A36: Díl: | B36: 99 | C36: Staveništní přesun hmot | G36: =SUMIF(AG37:AG42,"<>NOR",G37:G42) -> 0 | I36: =SUM(I37:I42) -> 0 | K36: =SUM(K37:K42) -> 0 | M36: =SUM(M37:M42) -> 0 | O36: =SUM(O37:O42) -> 0 | Q36: =SUM(Q37:Q42) -> 0 | V36: =SUM(V37:V42) -> 0.57 | AG36: DIL
A37: 7 | B37: 998014021R00 | C37: Přesun hmot, budovy mont. vícepodl. s pláštěm, 18m | D37: t | E37: 1.29702 | G37: =ROUND(E37*F37,2) -> 0 | I37: =ROUND(E37*H37,2) -> 0 | K37: =ROUND(E37*J37,2) -> 0 | L37: 21 | M37: =G37*(1+L37/100) -> 0 | N37: 0 | O37: =ROUND(E37*N37,2) -> 0 | P37: 0 | Q37: =ROUND(E37*P37,2) -> 0 | S37: RTS 20/ I | T37: RTS 20/ I | U37: 0.13 | V37: =ROUND(E37*U37,2) -> 0.17 | X37: Přesun hmot | AG37: POL7_
AG38: SPU
A39: 8 | B39: 998014094R00 | C39: Přesun hmot, budovy mont, plášť, příplatek do 5 km | D39: t | E39: 1.29702 | G39: =ROUND(E39*F39,2) -> 0 | I39: =ROUND(E39*H39,2) -> 0 | K39: =ROUND(E39*J39,2) -> 0 | L39: 21 | M39: =G39*(1+L39/100) -> 0 | N39: 0 | O39: =ROUND(E39*N39,2) -> 0 | P39: 0 | Q39: =ROUND(E39*P39,2) -> 0 | S39: RTS 20/ I | T39: RTS 20/ I | U39: 0.31 | V39: =ROUND(E39*U39,2) -> 0.4 | X39: Přesun hmot | AG39: POL7_
AG40: SPU
A41: 9 | B41: 998014095R00 | C41: Přesun hmot,bud.mont.s pláštěm,příp.za dalších 5km | D41: t | E41: 1.29702 | G41: =ROUND(E41*F41,2) -> 0 | I41: =ROUND(E41*H41,2) -> 0 | K41: =ROUND(E41*J41,2) -> 0 | L41: 21 | M41: =G41*(1+L41/100) -> 0 | N41: 0 | O41: =ROUND(E41*N41,2) -> 0 | P41: 0 | Q41: =ROUND(E41*P41,2) -> 0 | S41: RTS 20/ I | T41: RTS 20/ I | U41: 0 | V41: =ROUND(E41*U41,2) -> 0 | X41: Přesun hmot | AG41: POL7_
AG42: SPU
...
