Workbook
Name CelkemDPHVypocet: Stavba!$H$43
Name CenaCelkem: Stavba!$G$29
Name CenaCelkemBezDPH: Stavba!$G$28
Name CenaCelkemVypocet: Stavba!$I$43
Name cisloobjektu: Stavba!$D$3
Name CisloRozpoctu: '[1]Krycí list'!$C$2
Name CisloStavby: Stavba!$D$2
Name cislostavby: '[1]Krycí list'!$A$7
Name CisloStavebnihoRozpoctu: Stavba!$D$4
Name dadresa: Stavba!$D$12:$G$12
Name DIČ: Stavba!$I$12
Name dmisto: Stavba!$E$13:$G$13
Name DPHSni: Stavba!$G$24
Name DPHZakl: Stavba!$G$26
Name dpsc: Stavba!$D$13
Name IČO: Stavba!$I$11
Name Mena: Stavba!$J$29
Name MistoStavby: Stavba!$D$4
Name nazevobjektu: Stavba!$E$3
Name NazevRozpoctu: '[1]Krycí list'!$D$2
Name NazevStavby: Stavba!$E$2
Name nazevstavby: '[1]Krycí list'!$C$7
Name NazevStavebnihoRozpoctu: Stavba!$E$4
Name oadresa: Stavba!$D$6
Name Objednatel: Stavba!$D$5
Name Objekt: Stavba!$B$38
Name odic: Stavba!$I$6
Name oico: Stavba!$I$5
Name omisto: Stavba!$E$7
Name onazev: Stavba!$D$6
Name opsc: Stavba!$D$7
Name padresa: Stavba!$D$9
Name pdic: Stavba!$I$9
Name pico: Stavba!$I$8
Name pmisto: Stavba!$E$10
Name PocetMJ: #REF!
Name PoptavkaID: Stavba!$A$1
Name pPSC: Stavba!$D$10
Name Projektant: Stavba!$D$8
Name SazbaDPH1: Stavba!$E$23
Name SazbaDPH1: '[1]Krycí list'!$C$30
Name SazbaDPH2: Stavba!$E$25
Name SazbaDPH2: '[1]Krycí list'!$C$32
Name SloupecCC: #REF!
Name SloupecCisloPol: #REF!
Name SloupecJC: #REF!
Name SloupecMJ: #REF!
Name SloupecMnozstvi: #REF!
Name SloupecNazPol: #REF!
Name SloupecPC: #REF!
Name Vypracoval: Stavba!$D$14
Name ZakladDPHSni: Stavba!$G$23
Name ZakladDPHSniVypocet: Stavba!$F$43
Name ZakladDPHZakl: Stavba!$G$25
Name ZakladDPHZaklVypocet: Stavba!$G$43
Name ZaObjednatele: Stavba!$G$34
Name Zaokrouhleni: Stavba!$G$27
Name ZaZhotovitele: Stavba!$D$34
Name Zhotovitel: Stavba!$D$11:$G$11

Sheet Pokyny pro vyplnění
A1: Pokyny pro vyplnění
A2: Ve všech listech tohoto souboru můžete měnit pouze buňky s modrým pozadím. Jedná se o tyto údaje : - údaje o firmě - jednotkové ceny položek zadané na maximálně dvě desetinná místa

Sheet Stavba
A1: #RTSROZP# | B1: Soupis stavebních prací, dodávek a služeb
B2: Stavba: | D2: 272/2020/07 | E2: Žerotínovo nám. o opravy podlah 415 416 419 a čekárna
B3: Objekt: | D3: 272/2020/07 | E3: Žerotínovo nám. o opravy podlah 415 416 419 a čekárna
A4: 4287 | B4: Rozpočet: | D4: 001 | E4: Žerotínovo nám. o opravy podlah 415 416 419 a čekárna
B5: Zadavatel | H5: IČO:
H6: DIČ:
B8: Projektant: | H8: IČO:
H9: DIČ:
B11: Zhotovitel: | H11: IČO:
H12: DIČ:
B14: Vypracoval: | D14: Marečková
B15: Rozpis ceny | I15: Celkem
A16: HSV | B16: HSV | I16: =SUMIF(F50:F61,A16,I50:I61)+SUMIF(F50:F61,"PSU",I50:I61) -> 0
A17: PSV | B17: PSV | I17: =SUMIF(F50:F61,A17,I50:I61) -> 0
A18: MON | B18: MON | I18: =SUMIF(F50:F61,A18,I50:I61) -> 0
A19: VN | B19: Vedlejší náklady | I19: =SUMIF(F50:F61,A19,I50:I61) -> 0
A20: ON | B20: Ostatní náklady | I20: =SUMIF(F50:F61,A20,I50:I61) -> 0
B21: Celkem | I21: =SUM(I16:J20) -> 0
B22: Rekapitulace daní
A23: =ZakladDPHSni*SazbaDPH1/100 -> 0 | B23: Základ pro sníženou DPH | E23: 15 | F23: % | G23: =ZakladDPHSniVypocet -> 0 | J23: =Mena -> CZK
A24: =(A23-INT(A23))*100 -> 0 | B24: Snížená DPH | E24: =SazbaDPH1 -> 15 | F24: % | G24: =A23 -> 0 | J24: =Mena -> CZK
A25: =ZakladDPHZakl*SazbaDPH2/100 -> 0 | B25: Základ pro základní DPH | E25: 21 | F25: % | G25: =ZakladDPHZaklVypocet -> 0 | J25: =Mena -> CZK
A26: =(A25-INT(A25))*100 -> 0 | B26: Základní DPH | E26: =SazbaDPH2 -> 21 | F26: % | G26: =A25 -> 0 | J26: =Mena -> CZK
A27: =ZakladDPHSni+DPHSni+ZakladDPHZakl+DPHZakl -> 0 | B27: Zaokrouhlení | G27: =CenaCelkem-(ZakladDPHSni+DPHSni+ZakladDPHZakl+DPHZakl) -> 0 | J27: =Mena -> CZK
B28: Cena celkem bez DPH | G28: =ZakladDPHSniVypocet+ZakladDPHZaklVypocet -> 0 | J28: =Mena -> CZK
A29: =(A27-INT(A27))*100 -> 0 | B29: Cena celkem s DPH | G29: =A27 -> 0 | J29: CZK
C32: v | F32: dne
D34: sdfsdf | G34: OSM MMB
D35: Za zhotovitele | H35: Za objednatele
B37: Rekapitulace dílčích částí
A38: #CASTI>> | B38: Číslo | C38: Název | F38: =B23 -> Základ pro sníženou DPH | G38: =B25 -> Základ pro základní DPH | H38: DPH celkem | I38: Cena celkem | J38: %
A39: 1 | B39: Stavba | F39: ='272_2020_07 001 Pol'!AE178 -> 0 | G39: ='272_2020_07 001 Pol'!AF178 -> 0 | H39: =(F39*SazbaDPH1/100)+(G39*SazbaDPH2/100) -> 0 | I39: =F39+G39+H39 -> 0 | J39: =IF(CenaCelkemVypocet=0,"",I39/CenaCelkemVypocet*100)
A40: 2 | C40: Stavební objekt | H40: =(F40*SazbaDPH1/100)+(G40*SazbaDPH2/100) -> 0
A41: 2 | B41: 272/2020/07 | C41: Žerotínovo nám. o opravy podlah 415 416 419 a čekárna | F41: ='272_2020_07 001 Pol'!AE178 -> 0 | G41: ='272_2020_07 001 Pol'!AF178 -> 0 | H41: =(F41*SazbaDPH1/100)+(G41*SazbaDPH2/100) -> 0 | I41: =F41+G41+H41 -> 0 | J41: =IF(CenaCelkemVypocet=0,"",I41/CenaCelkemVypocet*100)
A42: 3 | B42: 001 | C42: Žerotínovo nám. o opravy podlah 415 416 419 a čekárna | F42: ='272_2020_07 001 Pol'!AE178 -> 0 | G42: ='272_2020_07 001 Pol'!AF178 -> 0 | H42: =(F42*SazbaDPH1/100)+(G42*SazbaDPH2/100) -> 0 | I42: =F42+G42+H42 -> 0 | J42: =IF(CenaCelkemVypocet=0,"",I42/CenaCelkemVypocet*100)
B43: Celkem za stavbu | F43: =SUMIF(A39:A42,"=1",F39:F42) -> 0 | G43: =SUMIF(A39:A42,"=1",G39:G42) -> 0 | H43: =SUMIF(A39:A42,"=1",H39:H42) -> 0 | I43: =SUMIF(A39:A42,"=1",I39:I42) -> 0 | J43: =SUMIF(A39:A42,"=1",J39:J42) -> 0
B47: Rekapitulace dílů
B49: Číslo | C49: Název | F49: Typ dílu | I49: Celkem | J49: %
B50: 61 | C50: Úpravy povrchů vnitřní | F50: HSV | I50: ='272_2020_07 001 Pol'!G8 -> 0 | J50: =IF(I62=0,"",I50/I62*100)
B51: 63 | C51: Podlahy a podlahové konstrukce | F51: HSV | I51: ='272_2020_07 001 Pol'!G21 -> 0 | J51: =IF(I62=0,"",I51/I62*100)
...

Sheet VzorPolozky
A1: Položkový rozpočet
A2: S:
A3: O:
A4: R:

Sheet 272_2020_07 001 Pol
A1: Položkový soupis prací a dodávek | AG1: #TypZaznamu#
A2: S: | B2: 272/2020/07 | C2: Žerotínovo nám. o opravy podlah 415 416 419 a čekárna | AG2: STA
A3: O: | B3: 272/2020/07 | C3: Žerotínovo nám. o opravy podlah 415 416 419 a čekárna | AC3: STA | AG3: OBJ
A4: R: | B4: 001 | C4: Žerotínovo nám. o opravy podlah 415 416 419 a čekárna | AG4: ROZ
A6: P.č. | B6: Číslo položky | C6: Název položky | D6: MJ | E6: Množství | F6: Cena / MJ | G6: Celkem | H6: Dodávka | I6: Dodávka celk. | J6: Montáž | K6: Montáž celk. | L6: DPH | M6: Cena s DPH | N6: Hmotnost / MJ | O6: Hmotnost celk.(t) | P6: Dem. hmotnost / MJ | Q6: Dem. hmotnost celk.(t) | R6: Ceník | S6: Cen. soustava / platnost | T6: Cenová úroveň | U6: Nhod / MJ | V6: Nhod celk. | W6: Dodavatel | X6: Typ položky
A8: Díl: | B8: 61 | C8: Úpravy povrchů vnitřní | G8: =SUMIF(AG9:AG20,"<>NOR",G9:G20) -> 0 | I8: =SUM(I9:I20) -> 0 | K8: =SUM(K9:K20) -> 0 | M8: =SUM(M9:M20) -> 0 | O8: =SUM(O9:O20) -> 0.31 | Q8: =SUM(Q9:Q20) -> 0 | V8: =SUM(V9:V20) -> 16.46 | AG8: DIL
A9: 1 | B9: 612401191RT2 | C9: Omítky malých ploch vnitřních stěn do 0,09 m2, vápennou štukovou omítkou | D9: kus | E9: 15 | G9: =ROUND(E9*F9,2) -> 0 | I9: =ROUND(E9*H9,2) -> 0 | K9: =ROUND(E9*J9,2) -> 0 | L9: 21 | M9: =G9*(1+L9/100) -> 0 | N9: 0.0032 | O9: =ROUND(E9*N9,2) -> 0.05 | P9: 0 | Q9: =ROUND(E9*P9,2) -> 0 | R9: 801-4 | S9: RTS 20/ I | T9: RTS 20/ I | U9: 0.22 | V9: =ROUND(E9*U9,2) -> 3.3 | X9: Práce | AG9: POL1_
C10: jakoukoliv maltou, z pomocného pracovního lešení o výšce podlahy do 1900 mm a pro zatížení do 1,5 kPa, | AG10: SPI | BA10: =C10 -> jakoukoliv maltou, z pomocného pracovního lešení o výšce podlahy do 1900 mm a pro zatížení do 1,5 kPa,
C11: 415, 416 : 5 | E11: 5 | AG11: VV | AH11: 0
C12: 419 : 10 | E12: 10 | AG12: VV | AH12: 0
AG13: SPU
A14: 2 | B14: 612409991RT2 | C14: Začištění omítek kolem oken, dveří a obkladů apod. s použitím suché maltové směsi | D14: m | E14: 55 | G14: =ROUND(E14*F14,2) -> 0 | I14: =ROUND(E14*H14,2) -> 0 | K14: =ROUND(E14*J14,2) -> 0 | L14: 21 | M14: =G14*(1+L14/100) -> 0 | N14: 0.00238 | O14: =ROUND(E14*N14,2) -> 0.13 | P14: 0 | Q14: =ROUND(E14*P14,2) -> 0 | R14: 801-4 | S14: RTS 20/ I | T14: RTS 20/ I | U14: 0.18 | V14: =ROUND(E14*U14,2) -> 9.9 | X14: Práce | AG14: POL1_
C15: po podlahových soklících : 55 | E15: 55 | AG15: VV | AH15: 0
AG16: SPU
A17: 3 | B17: 612474611RT1 | C17: Omítka vnitřní stěn ze suché směsi třívrstvá, vápenocementové jádro, vápenný štuk, na pálené cihly a tvarovky, ruční zpracování | D17: m2 | E17: 4 | G17: =ROUND(E17*F17,2) -> 0 | I17: =ROUND(E17*H17,2) -> 0 | K17: =ROUND(E17*J17,2) -> 0 | L17: 21 | M17: =G17*(1+L17/100) -> 0 | N17: 0.03203 | O17: =ROUND(E17*N17,2) -> 0.13 | P17: 0 | Q17: =ROUND(E17*P17,2) -> 0 | R17: 801-1 | S17: RTS 20/ I | T17: RTS 20/ I | U17: 0.816 | V17: =ROUND(E17*U17,2) -> 3.26 | X17: Práce | AG17: POL1_
C18: kompletní souvrství | AG18: SPI
C19: 419 : 2*2 | E19: 4 | AG19: VV | AH19: 0
AG20: SPU
A21: Díl: | B21: 63 | C21: Podlahy a podlahové konstrukce | G21: =SUMIF(AG22:AG36,"<>NOR",G22:G36) -> 0 | I21: =SUM(I22:I36) -> 0 | K21: =SUM(K22:K36) -> 0 | M21: =SUM(M22:M36) -> 0 | O21: =SUM(O22:O36) -> 1.32 | Q21: =SUM(Q22:Q36) -> 0 | V21: =SUM(V22:V36) -> 29.11 | AG21: DIL
A22: 4 | B22: 631664112R00 | C22: Oprava trhlin a výtluků v podlahách cementovou hmotou včetně penetrace podkladu, tloušťky od 11 mm do 20 mm | D22: m2 | E22: 6 | G22: =ROUND(E22*F22,2) -> 0 | I22: =ROUND(E22*H22,2) -> 0 | K22: =ROUND(E22*J22,2) -> 0 | L22: 21 | M22: =G22*(1+L22/100) -> 0 | N22: 0.03171 | O22: =ROUND(E22*N22,2) -> 0.19 | P22: 0 | Q22: =ROUND(E22*P22,2) -> 0 | R22: 801-4 | S22: RTS 20/ I | T22: RTS 20/ I | U22: 0.44 | V22: =ROUND(E22*U22,2) -> 2.64 | X22: Práce | AG22: POL1_
C23: 415 : 1*1 | E23: 1 | AG23: VV | AH23: 0
C24: 416 : 1*1 | E24: 1 | AG24: VV | AH24: 0
C25: čekárna : 1*1*4 | E25: 4 | AG25: VV | AH25: 0
AG26: SPU
A27: 5 | B27: 632419104RT2 | C27: Potěr ze suchých směsí cementová samonivelační podlahová stěrka, tloušťky 4 mm, bez penetrace | D27: m2 | E27: 91 | G27: =ROUND(E27*F27,2) -> 0 | I27: =ROUND(E27*H27,2) -> 0 | K27: =ROUND(E27*J27,2) -> 0 | L27: 21 | M27: =G27*(1+L27/100) -> 0 | N27: 0.00714 | O27: =ROUND(E27*N27,2) -> 0.65 | P27: 0 | Q27: =ROUND(E27*P27,2) -> 0 | R27: 801-1 | S27: RTS 20/ I | T27: RTS 20/ I | U27: 0.25 | V27: =ROUND(E27*U27,2) -> 22.75 | X27: Práce | AG27: POL1_
C28: s rozprostřením a uhlazením | AG28: SPI
C29: 415 : 20 | E29: 20 | AG29: VV | AH29: 0
C30: 416 : 20 | E30: 20 | AG30: VV | AH30: 0
C31: čekárna : 4,5*6 | E31: 27 | AG31: VV | AH31: 0
C32: 419 : 4*6 | E32: 24 | AG32: VV | AH32: 0
AG33: SPU
A34: 6 | B34: 632451441R00 | C34: Doplnění cementového potěru o ploše jednotlivě do 1 m2, tloušťky přes 30 do 40 mm | D34: m2 | E34: 6 | G34: =ROUND(E34*F34,2) -> 0 | I34: =ROUND(E34*H34,2) -> 0 | K34: =ROUND(E34*J34,2) -> 0 | L34: 21 | M34: =G34*(1+L34/100) -> 0 | N34: 0.0798 | O34: =ROUND(E34*N34,2) -> 0.48 | P34: 0 | Q34: =ROUND(E34*P34,2) -> 0 | R34: 801-4 | S34: RTS 20/ I | T34: RTS 20/ I | U34: 0.62 | V34: =ROUND(E34*U34,2) -> 3.72 | X34: Práce | AG34: POL1_
C35: na mazaninách a betonových podkladech hlazeného dřevěným nebo ocelovým hladítkem (s dodáním hmot), | AG35: SPI
AG36: SPU
A37: Díl: | B37: 95 | C37: Dokončovací konstrukce na pozemních stavbách | G37: =SUMIF(AG38:AG43,"<>NOR",G38:G43) -> 0 | I37: =SUM(I38:I43) -> 0 | K37: =SUM(K38:K43) -> 0 | M37: =SUM(M38:M43) -> 0 | O37: =SUM(O38:O43) -> 0 | Q37: =SUM(Q38:Q43) -> 0 | V37: =SUM(V38:V43) -> 28.21 | AG37: DIL
A38: 7 | B38: 952901111R00 | C38: Vyčištění budov a ostatních objektů budov bytové nebo občanské výstavby - zametení a umytí podlah, dlažeb, obkladů, schodů v místnostech, chodbách a schodištích, vyčištění a umytí oken, dveří s rámy, zárubněmi, umytí a vyčištění jiných zasklených a natíraných ploch a zařizovacích předmětů před předáním do užívání světlá výška podlaží do 4 m | D38: m2 | E38: 91 | G38: =ROUND(E38*F38,2) -> 0 | I38: =ROUND(E38*H38,2) -> 0 | K38: =ROUND(E38*J38,2) -> 0 | L38: 21 | M38: =G38*(1+L38/100) -> 0 | N38: 4e-05 | O38: =ROUND(E38*N38,2) -> 0 | P38: 0 | Q38: =ROUND(E38*P38,2) -> 0 | R38: 801-1 | S38: RTS 20/ I | T38: RTS 20/ I | U38: 0.31 | V38: =ROUND(E38*U38,2) -> 28.21 | X38: Práce | AG38: POL1_
C39: 415 : 20 | E39: 20 | AG39: VV | AH39: 0
C40: 416 : 20 | E40: 20 | AG40: VV | AH40: 0
C41: čekárna : 27 | E41: 27 | AG41: VV | AH41: 0
C42: 419 : 24 | E42: 24 | AG42: VV | AH42: 0
...
