Workbook
Name CelkemDPHVypocet: Stavba!$H$43
Name CenaCelkem: Stavba!$G$29
Name CenaCelkemBezDPH: Stavba!$G$28
Name CenaCelkemVypocet: Stavba!$I$43
Name cisloobjektu: Stavba!$D$3
Name CisloRozpoctu: '[1]Krycí list'!$C$2
Name CisloStavby: Stavba!$D$2
Name cislostavby: '[1]Krycí list'!$A$7
Name CisloStavebnihoRozpoctu: Stavba!$D$4
Name dadresa: Stavba!$D$12:$G$12
Name DIČ: Stavba!$I$12
Name dmisto: Stavba!$E$13:$G$13
Name DPHSni: Stavba!$G$24
Name DPHZakl: Stavba!$G$26
Name dpsc: Stavba!$D$13
Name IČO: Stavba!$I$11
Name Mena: Stavba!$J$29
Name MistoStavby: Stavba!$D$4
Name nazevobjektu: Stavba!$E$3
Name NazevRozpoctu: '[1]Krycí list'!$D$2
Name NazevStavby: Stavba!$E$2
Name nazevstavby: '[1]Krycí list'!$C$7
Name NazevStavebnihoRozpoctu: Stavba!$E$4
Name oadresa: Stavba!$D$6
Name Objednatel: Stavba!$D$5
Name Objekt: Stavba!$B$38
Name odic: Stavba!$I$6
Name oico: Stavba!$I$5
Name omisto: Stavba!$E$7
Name onazev: Stavba!$D$6
Name opsc: Stavba!$D$7
Name padresa: Stavba!$D$9
Name pdic: Stavba!$I$9
Name pico: Stavba!$I$8
Name pmisto: Stavba!$E$10
Name PocetMJ: #REF!
Name PoptavkaID: Stavba!$A$1
Name pPSC: Stavba!$D$10
Name Projektant: Stavba!$D$8
Name SazbaDPH1: Stavba!$E$23
Name SazbaDPH1: '[1]Krycí list'!$C$30
Name SazbaDPH2: Stavba!$E$25
Name SazbaDPH2: '[1]Krycí list'!$C$32
Name SloupecCC: #REF!
Name SloupecCisloPol: #REF!
Name SloupecJC: #REF!
Name SloupecMJ: #REF!
Name SloupecMnozstvi: #REF!
Name SloupecNazPol: #REF!
Name SloupecPC: #REF!
Name Vypracoval: Stavba!$D$14
Name ZakladDPHSni: Stavba!$G$23
Name ZakladDPHSniVypocet: Stavba!$F$43
Name ZakladDPHZakl: Stavba!$G$25
Name ZakladDPHZaklVypocet: Stavba!$G$43
Name ZaObjednatele: Stavba!$G$34
Name Zaokrouhleni: Stavba!$G$27
Name ZaZhotovitele: Stavba!$D$34
Name Zhotovitel: Stavba!$D$11:$G$11

Sheet Pokyny pro vyplnění
A1: Pokyny pro vyplnění
A2: Ve všech listech tohoto souboru můžete měnit pouze buňky s modrým pozadím. Jedná se o tyto údaje : - údaje o firmě - jednotkové ceny položek zadané na maximálně dvě desetinná místa

Sheet Stavba
A1: #RTSROZP# | B1: Soupis stavebních prací, dodávek a služeb
B2: Stavba: | D2: 272/2020/07 | E2: Žerotínovo nám. o opravy podlah 415 416 419 a čekárna
B3: Objekt: | D3: 272/2020/07 | E3: Žerotínovo nám. o opravy podlah 415 416 419 a čekárna
A4: 4287 | B4: Rozpočet: | D4: 001 | E4: Žerotínovo nám. o opravy podlah 415 416 419 a čekárna
B5: Zadavatel | H5: IČO:
H6: DIČ:
B8: Projektant: | H8: IČO:
H9: DIČ:
B11: Zhotovitel: | H11: IČO:
H12: DIČ:
B14: Vypracoval: | D14: Marečková
B15: Rozpis ceny | I15: Celkem
A16: HSV | B16: HSV | I16: =SUMIF(F50:F61,A16,I50:I61)+SUMIF(F50:F61,"PSU",I50:I61) -> 0
A17: PSV | B17: PSV | I17: =SUMIF(F50:F61,A17,I50:I61) -> 0
A18: MON | B18: MON | I18: =SUMIF(F50:F61,A18,I50:I61) -> 0
A19: VN | B19: Vedlejší náklady | I19: =SUMIF(F50:F61,A19,I50:I61) -> 0
A20: ON | B20: Ostatní náklady | I20: =SUMIF(F50:F61,A20,I50:I61) -> 0
B21: Celkem | I21: =SUM(I16:J20) -> 0
B22: Rekapitulace daní
A23: =ZakladDPHSni*SazbaDPH1/100 -> 0 | B23: Základ pro sníženou DPH | E23: 15 | F23: % | G23: =ZakladDPHSniVypocet -> 0 | J23: =Mena -> CZK
A24: =(A23-INT(A23))*100 -> 0 | B24: Snížená DPH | E24: =SazbaDPH1 -> 15 | F24: % | G24: =A23 -> 0 | J24: =Mena -> CZK
A25: =ZakladDPHZakl*SazbaDPH2/100 -> 0 | B25: Základ pro základní DPH | E25: 21 | F25: % | G25: =ZakladDPHZaklVypocet -> 0 | J25: =Mena -> CZK
A26: =(A25-INT(A25))*100 -> 0 | B26: Základní DPH | E26: =SazbaDPH2 -> 21 | F26: % | G26: =A25 -> 0 | J26: =Mena -> CZK
A27: =ZakladDPHSni+DPHSni+ZakladDPHZakl+DPHZakl -> 0 | B27: Zaokrouhlení | G27: =CenaCelkem-(ZakladDPHSni+DPHSni+ZakladDPHZakl+DPHZakl) -> 0 | J27: =Mena -> CZK
B28: Cena celkem bez DPH | G28: =ZakladDPHSniVypocet+ZakladDPHZaklVypocet -> 0 | J28: =Mena -> CZK
A29: =(A27-INT(A27))*100 -> 0 | B29: Cena celkem s DPH | G29: =A27 -> 0 | J29: CZK
C32: v | F32: dne
D34: sdfsdf | G34: OSM MMB
D35: Za zhotovitele | H35: Za objednatele
B37: Rekapitulace dílčích částí
A38: #CASTI>> | B38: Číslo | C38: Název | F38: =B23 -> Základ pro sníženou DPH | G38: =B25 -> Základ pro základní DPH | H38: DPH celkem | I38: Cena celkem | J38: %
A39: 1 | B39: Stavba | F39: ='272_2020_07 001 Pol'!AE178 -> 0 | G39: ='272_2020_07 001 Pol'!AF178 -> 0 | H39: =(F39*SazbaDPH1/100)+(G39*SazbaDPH2/100) -> 0 | I39: =F39+G39+H39 -> 0 | J39: =IF(CenaCelkemVypocet=0,"",I39/CenaCelkemVypocet*100)
A40: 2 | C40: Stavební objekt | H40: =(F40*SazbaDPH1/100)+(G40*SazbaDPH2/100) -> 0
A41: 2 | B41: 272/2020/07 | C41: Žerotínovo nám. o opravy podlah 415 416 419 a čekárna | F41: ='272_2020_07 001 Pol'!AE178 -> 0 | G41: ='272_2020_07 001 Pol'!AF178 -> 0 | H41: =(F41*SazbaDPH1/100)+(G41*SazbaDPH2/100) -> 0 | I41: =F41+G41+H41 -> 0 | J41: =IF(CenaCelkemVypocet=0,"",I41/CenaCelkemVypocet*100)
A42: 3 | B42: 001 | C42: Žerotínovo nám. o opravy podlah 415 416 419 a čekárna | F42: ='272_2020_07 001 Pol'!AE178 -> 0 | G42: ='272_2020_07 001 Pol'!AF178 -> 0 | H42: =(F42*SazbaDPH1/100)+(G42*SazbaDPH2/100) -> 0 | I42: =F42+G42+H42 -> 0 | J42: =IF(CenaCelkemVypocet=0,"",I42/CenaCelkemVypocet*100)
B43: Celkem za stavbu | F43: =SUMIF(A39:A42,"=1",F39:F42) -> 0 | G43: =SUMIF(A39:A42,"=1",G39:G42) -> 0 | H43: =SUMIF(A39:A42,"=1",H39:H42) -> 0 | I43: =SUMIF(A39:A42,"=1",I39:I42) -> 0 | J43: =SUMIF(A39:A42,"=1",J39:J42) -> 0
B47: Rekapitulace dílů
B49: Číslo | C49: Název | F49: Typ dílu | I49: Celkem | J49: %
B50: 61 | C50: Úpravy povrchů vnitřní | F50: HSV | I50: ='272_2020_07 001 Pol'!G8 -> 0 | J50: =IF(I62=0,"",I50/I62*100)
B51: 63 | C51: Podlahy a podlahové konstrukce | F51: HSV | I51: ='272_2020_07 001 Pol'!G21 -> 0 | J51: =IF(I62=0,"",I51/I62*100)
B52: 95 | C52: Dokončovací konstrukce na pozemních stavbách | F52: HSV | I52: ='272_2020_07 001 Pol'!G37 -> 0 | J52: =IF(I62=0,"",I52/I62*100)
B53: 96 | C53: Bourání konstrukcí | F53: HSV | I53: ='272_2020_07 001 Pol'!G44 -> 0 | J53: =IF(I62=0,"",I53/I62*100)
B54: 99 | C54: Staveništní přesun hmot | F54: HSV | I54: ='272_2020_07 001 Pol'!G49 -> 0 | J54: =IF(I62=0,"",I54/I62*100)
B55: 766 | C55: Konstrukce truhlářské | F55: PSV | I55: ='272_2020_07 001 Pol'!G56 -> 0 | J55: =IF(I62=0,"",I55/I62*100)
B56: 776 | C56: Podlahy povlakové | F56: PSV | I56: ='272_2020_07 001 Pol'!G76 -> 0 | J56: =IF(I62=0,"",I56/I62*100)
B57: 781 | C57: Obklady keramické | F57: PSV | I57: ='272_2020_07 001 Pol'!G130 -> 0 | J57: =IF(I62=0,"",I57/I62*100)
B58: 784 | C58: Malby | F58: PSV | I58: ='272_2020_07 001 Pol'!G146 -> 0 | J58: =IF(I62=0,"",I58/I62*100)
B59: D96 | C59: Přesuny suti a vybouraných hmot | F59: PSU | I59: ='272_2020_07 001 Pol'!G156 -> 0 | J59: =IF(I62=0,"",I59/I62*100)
B60: VN | C60: Vedlejší náklady | F60: VN | I60: ='272_2020_07 001 Pol'!G170 -> 0 | J60: =IF(I62=0,"",I60/I62*100)
B61: ON | C61: Ostatní náklady | F61: ON | I61: ='272_2020_07 001 Pol'!G173 -> 0 | J61: =IF(I62=0,"",I61/I62*100)
B62: Cena celkem | I62: =SUM(I50:I61) -> 0 | J62: =SUM(J50:J61) -> 0

Sheet VzorPolozky
A1: Položkový rozpočet
A2: S:
A3: O:
A4: R:

Sheet 272_2020_07 001 Pol
A1: Položkový soupis prací a dodávek | AG1: #TypZaznamu#
A2: S: | B2: 272/2020/07 | C2: Žerotínovo nám. o opravy podlah 415 416 419 a čekárna | AG2: STA
A3: O: | B3: 272/2020/07 | C3: Žerotínovo nám. o opravy podlah 415 416 419 a čekárna | AC3: STA | AG3: OBJ
A4: R: | B4: 001 | C4: Žerotínovo nám. o opravy podlah 415 416 419 a čekárna | AG4: ROZ
A6: P.č. | B6: Číslo položky | C6: Název položky | D6: MJ | E6: Množství | F6: Cena / MJ | G6: Celkem | H6: Dodávka | I6: Dodávka celk. | J6: Montáž | K6: Montáž celk. | L6: DPH | M6: Cena s DPH | N6: Hmotnost / MJ | O6: Hmotnost celk.(t) | P6: Dem. hmotnost / MJ | Q6: Dem. hmotnost celk.(t) | R6: Ceník | S6: Cen. soustava / platnost | T6: Cenová úroveň | U6: Nhod / MJ | V6: Nhod celk. | W6: Dodavatel | X6: Typ položky
A8: Díl: | B8: 61 | C8: Úpravy povrchů vnitřní | G8: =SUMIF(AG9:AG20,"<>NOR",G9:G20) -> 0 | I8: =SUM(I9:I20) -> 0 | K8: =SUM(K9:K20) -> 0 | M8: =SUM(M9:M20) -> 0 | O8: =SUM(O9:O20) -> 0.31 | Q8: =SUM(Q9:Q20) -> 0 | V8: =SUM(V9:V20) -> 16.46 | AG8: DIL
A9: 1 | B9: 612401191RT2 | C9: Omítky malých ploch vnitřních stěn do 0,09 m2, vápennou štukovou omítkou | D9: kus | E9: 15 | G9: =ROUND(E9*F9,2) -> 0 | I9: =ROUND(E9*H9,2) -> 0 | K9: =ROUND(E9*J9,2) -> 0 | L9: 21 | M9: =G9*(1+L9/100) -> 0 | N9: 0.0032 | O9: =ROUND(E9*N9,2) -> 0.05 | P9: 0 | Q9: =ROUND(E9*P9,2) -> 0 | R9: 801-4 | S9: RTS 20/ I | T9: RTS 20/ I | U9: 0.22 | V9: =ROUND(E9*U9,2) -> 3.3 | X9: Práce | AG9: POL1_
C10: jakoukoliv maltou, z pomocného pracovního lešení o výšce podlahy do 1900 mm a pro zatížení do 1,5 kPa, | AG10: SPI | BA10: =C10 -> jakoukoliv maltou, z pomocného pracovního lešení o výšce podlahy do 1900 mm a pro zatížení do 1,5 kPa,
C11: 415, 416 : 5 | E11: 5 | AG11: VV | AH11: 0
C12: 419 : 10 | E12: 10 | AG12: VV | AH12: 0
AG13: SPU
A14: 2 | B14: 612409991RT2 | C14: Začištění omítek kolem oken, dveří a obkladů apod. s použitím suché maltové směsi | D14: m | E14: 55 | G14: =ROUND(E14*F14,2) -> 0 | I14: =ROUND(E14*H14,2) -> 0 | K14: =ROUND(E14*J14,2) -> 0 | L14: 21 | M14: =G14*(1+L14/100) -> 0 | N14: 0.00238 | O14: =ROUND(E14*N14,2) -> 0.13 | P14: 0 | Q14: =ROUND(E14*P14,2) -> 0 | R14: 801-4 | S14: RTS 20/ I | T14: RTS 20/ I | U14: 0.18 | V14: =ROUND(E14*U14,2) -> 9.9 | X14: Práce | AG14: POL1_
C15: po podlahových soklících : 55 | E15: 55 | AG15: VV | AH15: 0
AG16: SPU
A17: 3 | B17: 612474611RT1 | C17: Omítka vnitřní stěn ze suché směsi třívrstvá, vápenocementové jádro, vápenný štuk, na pálené cihly a tvarovky, ruční zpracování | D17: m2 | E17: 4 | G17: =ROUND(E17*F17,2) -> 0 | I17: =ROUND(E17*H17,2) -> 0 | K17: =ROUND(E17*J17,2) -> 0 | L17: 21 | M17: =G17*(1+L17/100) -> 0 | N17: 0.03203 | O17: =ROUND(E17*N17,2) -> 0.13 | P17: 0 | Q17: =ROUND(E17*P17,2) -> 0 | R17: 801-1 | S17: RTS 20/ I | T17: RTS 20/ I | U17: 0.816 | V17: =ROUND(E17*U17,2) -> 3.26 | X17: Práce | AG17: POL1_
C18: kompletní souvrství | AG18: SPI
C19: 419 : 2*2 | E19: 4 | AG19: VV | AH19: 0
AG20: SPU
A21: Díl: | B21: 63 | C21: Podlahy a podlahové konstrukce | G21: =SUMIF(AG22:AG36,"<>NOR",G22:G36) -> 0 | I21: =SUM(I22:I36) -> 0 | K21: =SUM(K22:K36) -> 0 | M21: =SUM(M22:M36) -> 0 | O21: =SUM(O22:O36) -> 1.32 | Q21: =SUM(Q22:Q36) -> 0 | V21: =SUM(V22:V36) -> 29.11 | AG21: DIL
A22: 4 | B22: 631664112R00 | C22: Oprava trhlin a výtluků v podlahách cementovou hmotou včetně penetrace podkladu, tloušťky od 11 mm do 20 mm | D22: m2 | E22: 6 | G22: =ROUND(E22*F22,2) -> 0 | I22: =ROUND(E22*H22,2) -> 0 | K22: =ROUND(E22*J22,2) -> 0 | L22: 21 | M22: =G22*(1+L22/100) -> 0 | N22: 0.03171 | O22: =ROUND(E22*N22,2) -> 0.19 | P22: 0 | Q22: =ROUND(E22*P22,2) -> 0 | R22: 801-4 | S22: RTS 20/ I | T22: RTS 20/ I | U22: 0.44 | V22: =ROUND(E22*U22,2) -> 2.64 | X22: Práce | AG22: POL1_
C23: 415 : 1*1 | E23: 1 | AG23: VV | AH23: 0
C24: 416 : 1*1 | E24: 1 | AG24: VV | AH24: 0
C25: čekárna : 1*1*4 | E25: 4 | AG25: VV | AH25: 0
AG26: SPU
A27: 5 | B27: 632419104RT2 | C27: Potěr ze suchých směsí cementová samonivelační podlahová stěrka, tloušťky 4 mm, bez penetrace | D27: m2 | E27: 91 | G27: =ROUND(E27*F27,2) -> 0 | I27: =ROUND(E27*H27,2) -> 0 | K27: =ROUND(E27*J27,2) -> 0 | L27: 21 | M27: =G27*(1+L27/100) -> 0 | N27: 0.00714 | O27: =ROUND(E27*N27,2) -> 0.65 | P27: 0 | Q27: =ROUND(E27*P27,2) -> 0 | R27: 801-1 | S27: RTS 20/ I | T27: RTS 20/ I | U27: 0.25 | V27: =ROUND(E27*U27,2) -> 22.75 | X27: Práce | AG27: POL1_
C28: s rozprostřením a uhlazením | AG28: SPI
C29: 415 : 20 | E29: 20 | AG29: VV | AH29: 0
C30: 416 : 20 | E30: 20 | AG30: VV | AH30: 0
C31: čekárna : 4,5*6 | E31: 27 | AG31: VV | AH31: 0
C32: 419 : 4*6 | E32: 24 | AG32: VV | AH32: 0
AG33: SPU
A34: 6 | B34: 632451441R00 | C34: Doplnění cementového potěru o ploše jednotlivě do 1 m2, tloušťky přes 30 do 40 mm | D34: m2 | E34: 6 | G34: =ROUND(E34*F34,2) -> 0 | I34: =ROUND(E34*H34,2) -> 0 | K34: =ROUND(E34*J34,2) -> 0 | L34: 21 | M34: =G34*(1+L34/100) -> 0 | N34: 0.0798 | O34: =ROUND(E34*N34,2) -> 0.48 | P34: 0 | Q34: =ROUND(E34*P34,2) -> 0 | R34: 801-4 | S34: RTS 20/ I | T34: RTS 20/ I | U34: 0.62 | V34: =ROUND(E34*U34,2) -> 3.72 | X34: Práce | AG34: POL1_
C35: na mazaninách a betonových podkladech hlazeného dřevěným nebo ocelovým hladítkem (s dodáním hmot), | AG35: SPI
AG36: SPU
A37: Díl: | B37: 95 | C37: Dokončovací konstrukce na pozemních stavbách | G37: =SUMIF(AG38:AG43,"<>NOR",G38:G43) -> 0 | I37: =SUM(I38:I43) -> 0 | K37: =SUM(K38:K43) -> 0 | M37: =SUM(M38:M43) -> 0 | O37: =SUM(O38:O43) -> 0 | Q37: =SUM(Q38:Q43) -> 0 | V37: =SUM(V38:V43) -> 28.21 | AG37: DIL
A38: 7 | B38: 952901111R00 | C38: Vyčištění budov a ostatních objektů budov bytové nebo občanské výstavby - zametení a umytí podlah, dlažeb, obkladů, schodů v místnostech, chodbách a schodištích, vyčištění a umytí oken, dveří s rámy, zárubněmi, umytí a vyčištění jiných zasklených a natíraných ploch a zařizovacích předmětů před předáním do užívání světlá výška podlaží do 4 m | D38: m2 | E38: 91 | G38: =ROUND(E38*F38,2) -> 0 | I38: =ROUND(E38*H38,2) -> 0 | K38: =ROUND(E38*J38,2) -> 0 | L38: 21 | M38: =G38*(1+L38/100) -> 0 | N38: 4e-05 | O38: =ROUND(E38*N38,2) -> 0 | P38: 0 | Q38: =ROUND(E38*P38,2) -> 0 | R38: 801-1 | S38: RTS 20/ I | T38: RTS 20/ I | U38: 0.31 | V38: =ROUND(E38*U38,2) -> 28.21 | X38: Práce | AG38: POL1_
C39: 415 : 20 | E39: 20 | AG39: VV | AH39: 0
C40: 416 : 20 | E40: 20 | AG40: VV | AH40: 0
C41: čekárna : 27 | E41: 27 | AG41: VV | AH41: 0
C42: 419 : 24 | E42: 24 | AG42: VV | AH42: 0
AG43: SPU
A44: Díl: | B44: 96 | C44: Bourání konstrukcí | G44: =SUMIF(AG45:AG48,"<>NOR",G45:G48) -> 0 | I44: =SUM(I45:I48) -> 0 | K44: =SUM(K45:K48) -> 0 | M44: =SUM(M45:M48) -> 0 | O44: =SUM(O45:O48) -> 0 | Q44: =SUM(Q45:Q48) -> 0.31 | V44: =SUM(V45:V48) -> 1.35 | AG44: DIL
A45: 8 | B45: 978059531R00 | C45: Odsekání a odebrání obkladů stěn z obkládaček vnitřních z jakýchkoliv materiálů, plochy přes 2 m2 | D45: m2 | E45: 4.5 | G45: =ROUND(E45*F45,2) -> 0 | I45: =ROUND(E45*H45,2) -> 0 | K45: =ROUND(E45*J45,2) -> 0 | L45: 21 | M45: =G45*(1+L45/100) -> 0 | N45: 0 | O45: =ROUND(E45*N45,2) -> 0 | P45: 0.068 | Q45: =ROUND(E45*P45,2) -> 0.31 | R45: 801-3 | S45: RTS 20/ I | T45: RTS 20/ I | U45: 0.3 | V45: =ROUND(E45*U45,2) -> 1.35 | X45: Práce | AG45: POL1_
C46: včetně otlučení podkladní omítky až na zdivo, | AG46: SPI
C47: 419 : 3*1,5 | E47: 4.5 | AG47: VV | AH47: 0
AG48: SPU
A49: Díl: | B49: 99 | C49: Staveništní přesun hmot | G49: =SUMIF(AG50:AG55,"<>NOR",G50:G55) -> 0 | I49: =SUM(I50:I55) -> 0 | K49: =SUM(K50:K55) -> 0 | M49: =SUM(M50:M55) -> 0 | O49: =SUM(O50:O55) -> 0 | Q49: =SUM(Q50:Q55) -> 0 | V49: =SUM(V50:V55) -> 0.72 | AG49: DIL
A50: 9 | B50: 998014021R00 | C50: Přesun hmot, budovy mont. vícepodl. s pláštěm, 18m | D50: t | E50: 1.62946 | G50: =ROUND(E50*F50,2) -> 0 | I50: =ROUND(E50*H50,2) -> 0 | K50: =ROUND(E50*J50,2) -> 0 | L50: 21 | M50: =G50*(1+L50/100) -> 0 | N50: 0 | O50: =ROUND(E50*N50,2) -> 0 | P50: 0 | Q50: =ROUND(E50*P50,2) -> 0 | S50: RTS 20/ I | T50: RTS 20/ I | U50: 0.13 | V50: =ROUND(E50*U50,2) -> 0.21 | X50: Přesun hmot | AG50: POL7_
AG51: SPU
A52: 10 | B52: 998014094R00 | C52: Přesun hmot, budovy mont, plášť, příplatek do 5 km | D52: t | E52: 1.62946 | G52: =ROUND(E52*F52,2) -> 0 | I52: =ROUND(E52*H52,2) -> 0 | K52: =ROUND(E52*J52,2) -> 0 | L52: 21 | M52: =G52*(1+L52/100) -> 0 | N52: 0 | O52: =ROUND(E52*N52,2) -> 0 | P52: 0 | Q52: =ROUND(E52*P52,2) -> 0 | S52: RTS 20/ I | T52: RTS 20/ I | U52: 0.31 | V52: =ROUND(E52*U52,2) -> 0.51 | X52: Přesun hmot | AG52: POL7_
AG53: SPU
A54: 11 | B54: 998014095R00 | C54: Přesun hmot,bud.mont.s pláštěm,příp.za dalších 5km | D54: t | E54: 1.62946 | G54: =ROUND(E54*F54,2) -> 0 | I54: =ROUND(E54*H54,2) -> 0 | K54: =ROUND(E54*J54,2) -> 0 | L54: 21 | M54: =G54*(1+L54/100) -> 0 | N54: 0 | O54: =ROUND(E54*N54,2) -> 0 | P54: 0 | Q54: =ROUND(E54*P54,2) -> 0 | S54: RTS 20/ I | T54: RTS 20/ I | U54: 0 | V54: =ROUND(E54*U54,2) -> 0 | X54: Přesun hmot | AG54: POL7_
AG55: SPU
A56: Díl: | B56: 766 | C56: Konstrukce truhlářské | G56: =SUMIF(AG57:AG75,"<>NOR",G57:G75) -> 0 | I56: =SUM(I57:I75) -> 0 | K56: =SUM(K57:K75) -> 0 | M56: =SUM(M57:M75) -> 0 | O56: =SUM(O57:O75) -> 0.01 | Q56: =SUM(Q57:Q75) -> 0.12 | V56: =SUM(V57:V75) -> 4.34 | AG56: DIL
A57: 12 | B57: 766662811R00 | C57: Demontáž dveřních křídel prahů dveří_x000D_ jednokřídlových | D57: kus | E57: 4 | G57: =ROUND(E57*F57,2) -> 0 | I57: =ROUND(E57*H57,2) -> 0 | K57: =ROUND(E57*J57,2) -> 0 | L57: 21 | M57: =G57*(1+L57/100) -> 0 | N57: 0 | O57: =ROUND(E57*N57,2) -> 0 | P57: 0.0018 | Q57: =ROUND(E57*P57,2) -> 0.01 | R57: 800-766 | S57: RTS 20/ I | T57: RTS 20/ I | U57: 0.11 | V57: =ROUND(E57*U57,2) -> 0.44 | X57: Práce | AG57: POL1_
AG58: SPU
A59: 13 | B59: 766695213R00 | C59: Ostatní montáž prahů dveří_x000D_ jednokřídlých, šířky přes 100 mm | D59: kus | E59: 4 | G59: =ROUND(E59*F59,2) -> 0 | I59: =ROUND(E59*H59,2) -> 0 | K59: =ROUND(E59*J59,2) -> 0 | L59: 21 | M59: =G59*(1+L59/100) -> 0 | N59: 1e-05 | O59: =ROUND(E59*N59,2) -> 0 | P59: 0 | Q59: =ROUND(E59*P59,2) -> 0 | R59: 800-766 | S59: RTS 20/ I | T59: RTS 20/ I | U59: 0.28 | V59: =ROUND(E59*U59,2) -> 1.12 | X59: Práce | AG59: POL1_
AG60: SPU
A61: 14 | B61: 766825123R00 | C61: Montáž nábytku, opětovné nastěhování stávajícícho nábytku | D61: soubor | E61: 1 | G61: =ROUND(E61*F61,2) -> 0 | I61: =ROUND(E61*H61,2) -> 0 | K61: =ROUND(E61*J61,2) -> 0 | L61: 21 | M61: =G61*(1+L61/100) -> 0 | N61: 0.00019 | O61: =ROUND(E61*N61,2) -> 0 | P61: 0 | Q61: =ROUND(E61*P61,2) -> 0 | S61: Vlastní | T61: RTS 20/ I | U61: 2.32 | V61: =ROUND(E61*U61,2) -> 2.32 | X61: Práce | AG61: POL1_
AG62: SPU
A63: 15 | B63: 766825823R00 | C63: Demontáž nábytku, stěhování stávajícícho nábytku | D63: soubor | E63: 1 | G63: =ROUND(E63*F63,2) -> 0 | I63: =ROUND(E63*H63,2) -> 0 | K63: =ROUND(E63*J63,2) -> 0 | L63: 21 | M63: =G63*(1+L63/100) -> 0 | N63: 0 | O63: =ROUND(E63*N63,2) -> 0 | P63: 0.1104 | Q63: =ROUND(E63*P63,2) -> 0.11 | S63: Vlastní | T63: RTS 20/ I | U63: 0.46 | V63: =ROUND(E63*U63,2) -> 0.46 | X63: Práce | AG63: POL1_
AG64: SPU
A65: 16 | B65: 61187161R | C65: práh dub; š = 150 mm; l = 800,0 mm; tl = 20,0 mm | D65: kus | E65: 4 | G65: =ROUND(E65*F65,2) -> 0 | I65: =ROUND(E65*H65,2) -> 0 | K65: =ROUND(E65*J65,2) -> 0 | L65: 21 | M65: =G65*(1+L65/100) -> 0 | N65: 0.00161 | O65: =ROUND(E65*N65,2) -> 0.01 | P65: 0 | Q65: =ROUND(E65*P65,2) -> 0 | R65: SPCM | S65: RTS 20/ I | T65: RTS 20/ I | U65: 0 | V65: =ROUND(E65*U65,2) -> 0 | X65: Specifikace | AG65: POL3_
AG66: SPU
A67: 17 | B67: 998766203R00 | C67: Přesun hmot pro konstrukce truhlářské v objektech výšky do 24 m | D67: % | G67: =ROUND(E67*F67,2) -> 0 | I67: =ROUND(E67*H67,2) -> 0 | K67: =ROUND(E67*J67,2) -> 0 | L67: 21 | M67: =G67*(1+L67/100) -> 0 | N67: 0 | O67: =ROUND(E67*N67,2) -> 0 | P67: 0 | Q67: =ROUND(E67*P67,2) -> 0 | R67: 800-766 | S67: RTS 20/ I | T67: RTS 20/ I | U67: 0 | V67: =ROUND(E67*U67,2) -> 0 | X67: Přesun hmot | AG67: POL7_
C68: 50 m vodorovně | AG68: SPI
AG69: SPU
A70: 18 | B70: 998766294R00 | C70: Přesun hmot pro konstrukce truhlářské příplatek k ceně za zvětšený přesun přes vymezenou největší dopravní vzdálenost_x000D_ do 1000 m | D70: % | G70: =ROUND(E70*F70,2) -> 0 | I70: =ROUND(E70*H70,2) -> 0 | K70: =ROUND(E70*J70,2) -> 0 | L70: 21 | M70: =G70*(1+L70/100) -> 0 | N70: 0 | O70: =ROUND(E70*N70,2) -> 0 | P70: 0 | Q70: =ROUND(E70*P70,2) -> 0 | R70: 800-766 | S70: RTS 20/ I | T70: RTS 20/ I | U70: 0 | V70: =ROUND(E70*U70,2) -> 0 | X70: Přesun hmot | AG70: POL7_
C71: 50 m vodorovně | AG71: SPI
AG72: SPU
A73: 19 | B73: 998766299R00 | C73: Přesun hmot pro konstrukce truhlářské příplatek k ceně za zvětšený přesun přes vymezenou největší dopravní vzdálenost_x000D_ za každých dalších i započatých 1000 m přes 1000 m | D73: % | G73: =ROUND(E73*F73,2) -> 0 | I73: =ROUND(E73*H73,2) -> 0 | K73: =ROUND(E73*J73,2) -> 0 | L73: 21 | M73: =G73*(1+L73/100) -> 0 | N73: 0 | O73: =ROUND(E73*N73,2) -> 0 | P73: 0 | Q73: =ROUND(E73*P73,2) -> 0 | R73: 800-766 | S73: RTS 20/ I | T73: RTS 20/ I | U73: 0 | V73: =ROUND(E73*U73,2) -> 0 | X73: Přesun hmot | AG73: POL7_
C74: 50 m vodorovně | AG74: SPI
AG75: SPU
A76: Díl: | B76: 776 | C76: Podlahy povlakové | G76: =SUMIF(AG77:AG129,"<>NOR",G77:G129) -> 0 | I76: =SUM(I77:I129) -> 0 | K76: =SUM(K77:K129) -> 0 | M76: =SUM(M77:M129) -> 0 | O76: =SUM(O77:O129) -> 0.28 | Q76: =SUM(Q77:Q129) -> 0.2 | V76: =SUM(V77:V129) -> 76.27 | AG76: DIL
A77: 20 | B77: 776101101R00 | C77: Přípravné práce vysávání povlakových podlah průmyslovým vysavačem | D77: m2 | E77: 91 | G77: =ROUND(E77*F77,2) -> 0 | I77: =ROUND(E77*H77,2) -> 0 | K77: =ROUND(E77*J77,2) -> 0 | L77: 21 | M77: =G77*(1+L77/100) -> 0 | N77: 0 | O77: =ROUND(E77*N77,2) -> 0 | P77: 0 | Q77: =ROUND(E77*P77,2) -> 0 | R77: 800-775 | S77: RTS 20/ I | T77: RTS 20/ I | U77: 0.02 | V77: =ROUND(E77*U77,2) -> 1.82 | X77: Práce | AG77: POL1_
C78: položky neobsahují žádný materiál | AG78: SPI
C79: 415 : 20 | E79: 20 | AG79: VV | AH79: 0
C80: 416 : 20 | E80: 20 | AG80: VV | AH80: 0
C81: čekárna : 27 | E81: 27 | AG81: VV | AH81: 0
C82: 419 : 24 | E82: 24 | AG82: VV | AH82: 0
AG83: SPU
A84: 21 | B84: 776101121R00 | C84: Přípravné práce penetrace podkladu | D84: m2 | E84: 91 | G84: =ROUND(E84*F84,2) -> 0 | I84: =ROUND(E84*H84,2) -> 0 | K84: =ROUND(E84*J84,2) -> 0 | L84: 21 | M84: =G84*(1+L84/100) -> 0 | N84: 0 | O84: =ROUND(E84*N84,2) -> 0 | P84: 0 | Q84: =ROUND(E84*P84,2) -> 0 | R84: 800-775 | S84: RTS 20/ I | T84: RTS 20/ I | U84: 0.05 | V84: =ROUND(E84*U84,2) -> 4.55 | X84: Práce | AG84: POL1_
C85: položky neobsahují žádný materiál | AG85: SPI
C86: 415 : 20 | E86: 20 | AG86: VV | AH86: 0
C87: 416 : 20 | E87: 20 | AG87: VV | AH87: 0
C88: čekárna : 27 | E88: 27 | AG88: VV | AH88: 0
C89: 419 : 24 | E89: 24 | AG89: VV | AH89: 0
AG90: SPU
A91: 22 | B91: 776401800RT1 | C91: Demontáž soklíků nebo lišt pryžových nebo PVC odstranění a uložení na hromady | D91: m | E91: 75 | G91: =ROUND(E91*F91,2) -> 0 | I91: =ROUND(E91*H91,2) -> 0 | K91: =ROUND(E91*J91,2) -> 0 | L91: 21 | M91: =G91*(1+L91/100) -> 0 | N91: 0 | O91: =ROUND(E91*N91,2) -> 0 | P91: 8e-05 | Q91: =ROUND(E91*P91,2) -> 0.01 | R91: 800-775 | S91: RTS 20/ I | T91: RTS 20/ I | U91: 0.04 | V91: =ROUND(E91*U91,2) -> 3 | X91: Práce | AG91: POL1_
C92: 415 : (5+4)*2+1*2 | E92: 20 | AG92: VV | AH92: 0
C93: 416 : (5+4)*2+1*2 | E93: 20 | AG93: VV | AH93: 0
C94: čekárna : 4,5*2+6 | E94: 15 | AG94: VV | AH94: 0
C95: 419 : (4+6)*2 | E95: 20 | AG95: VV | AH95: 0
AG96: SPU
A97: 23 | B97: 776421100RU1 | C97: Lepení soklíků PVC a napojení krytiny na stěnu lepení podlahových soklíků z PVC a vinylu včetně dodávky soklíku | D97: m | E97: 75 | G97: =ROUND(E97*F97,2) -> 0 | I97: =ROUND(E97*H97,2) -> 0 | K97: =ROUND(E97*J97,2) -> 0 | L97: 21 | M97: =G97*(1+L97/100) -> 0 | N97: 8e-05 | O97: =ROUND(E97*N97,2) -> 0.01 | P97: 0 | Q97: =ROUND(E97*P97,2) -> 0 | R97: 800-775 | S97: RTS 20/ I | T97: RTS 20/ I | U97: 0.14 | V97: =ROUND(E97*U97,2) -> 10.5 | X97: Práce | AG97: POL1_
AG98: SPU
A99: 24 | B99: 776511810RT1 | C99: Odstranění povlakových podlah z nášlapné plochy lepených, bez podložky, z ploch přes 20 m2 | D99: m2 | E99: 186 | G99: =ROUND(E99*F99,2) -> 0 | I99: =ROUND(E99*H99,2) -> 0 | K99: =ROUND(E99*J99,2) -> 0 | L99: 21 | M99: =G99*(1+L99/100) -> 0 | N99: 0 | O99: =ROUND(E99*N99,2) -> 0 | P99: 0.001 | Q99: =ROUND(E99*P99,2) -> 0.19 | R99: 800-775 | S99: RTS 20/ I | T99: RTS 20/ I | U99: 0.11 | V99: =ROUND(E99*U99,2) -> 20.46 | X99: Práce | AG99: POL1_
C100: 415 : 20 | E100: 20 | AG100: VV | AH100: 0
C101: 416 dvě vrstvy : 20*2 | E101: 40 | AG101: VV | AH101: 0
C102: čekárna dvě vrstvy : 27*2 | E102: 54 | AG102: VV | AH102: 0
...
