Workbook

Sheet Rekapitulace stavby
A1: Export Komplet | BA1: 2.0 | BT1: False | BU1: False | BV1: {40b343f6-8ed2-4be0-a912-f7818807ad46}
AR2: >> skryté sloupce << | BS2: 0,01 | BT2: 21
BS3: 0,01 | BT3: 15
D4: REKAPITULACE STAVBY | AS4: v --- níže se nacházejí doplnkové a pomocné údaje k sestavám --- v | BE4: Návod na vyplnění | BS4: 0,001
D5: Kód: | K5: Husova5 | BE5: Měnit lze pouze buňky se žlutým podbarvením!_x005F_x000d_ _x005F_x000d_ 1) na prvním listu Rekapitulace stavby vyplňte v sestavě_x005F_x000d_ _x005F_x000d_ a) Souhrnný list_x005F_x000d_ - údaje o Uchazeči_x005F_x000d_ (přenesou se do ostatních sestav i v jiných listech)_x005F_x000d_ _x005F_x000d_ b) Rekapitulace objektů_x005F_x000d_ - potřebné Ostatní náklady_x005F_x000d_ _x005F_x000d_ 2) na vybraných listech vyplňte v sestavě_x005F_x000d_ _x005F_x000d_ a) Krycí list_x005F_x000d_ - údaje o Uchazeči, pokud se liší od údajů o Uchazeči na Souhrnném listu_x005F_x000d_ (údaje se přenesou do ostatních sestav v daném listu)_x005F_x000d_ _x005F_x000d_ b) Rekapitulace rozpočtu_x005F_x000d_ - potřebné Ostatní náklady_x005F_x000d_ _x005F_x000d_ c) Celkové náklady za stavbu_x005F_x000d_ - ceny u položek_x005F_x000d_ - množství, pokud má žluté podbarvení_x005F_x000d_ - a v případě potřeby poznámku (ta je ve skrytém sloupci) | BS5: 0,01
D6: Stavba: | K6: Malování schodiště a přilehlé chodby | BS6: 0,01
D7: KSO: | AK7: CC-CZ: | BS7: 0,01
D8: Místo: | K8: Husova 5,Brno | AK8: Datum: | AN8: 18. 9. 2020 | BS8: 0,01
BS9: 0,01
D10: Zadavatel: | AK10: IČ: | BS10: 0,01
E11: MmBrna,OSM Husova 3,Brno | AK11: DIČ: | BS11: 0,01
BS12: 0,01
D13: Uchazeč: | AK13: IČ: | AN13: Vyplň údaj | BS13: 0,01
E14: Vyplň údaj | AK14: DIČ: | AN14: Vyplň údaj | BS14: 0,01
BS15: False
D16: Projektant: | AK16: IČ: | BS16: False
AK17: DIČ: | BS17: True
BS18: 0,01
D19: Zpracovatel: | AK19: IČ: | BS19: 0,01
E20: R.Volková | AK20: DIČ: | BS20: True
D22: Poznámka:
D26: Cena bez DPH | AK26: =ROUND(AG94,2) -> 0
L28: Sazba daně | W28: Základ daně | AK28: Výše daně
D29: DPH | F29: základní | L29: 0.21 | W29: =ROUND(AZ94, 2) -> 0 | AK29: =ROUND(AV94, 2) -> 0
F30: snížená | L30: 0.15 | W30: =ROUND(BA94, 2) -> 0 | AK30: =ROUND(AW94, 2) -> 0
F31: zákl. přenesená | L31: 0.21 | W31: =ROUND(BB94, 2) -> 0 | AK31: 0
F32: sníž. přenesená | L32: 0.15 | W32: =ROUND(BC94, 2) -> 0 | AK32: 0
F33: nulová | L33: 0 | W33: =ROUND(BD94, 2) -> 0 | AK33: 0
D35: Cena s DPH | T35: v | X35: CZK | AK35: =SUM(AK26:AK33) -> 0
D49: Projektant | AH49: Zpracovatel
D60: Datum a podpis: | V60: Razítko | AH60: Datum a podpis: | AM60: Razítko
D64: Objednavatel | AH64: Uchazeč
D75: Datum a podpis: | V75: Razítko | AH75: Datum a podpis: | AM75: Razítko
C82: REKAPITULACE OBJEKTŮ STAVBY A SOUPISŮ PRACÍ
C84: Kód: | L84: =K5 -> Husova5
C85: Stavba: | L85: =K6 -> Malování schodiště a přilehlé chodby
C87: Místo: | L87: =IF(K8="","",K8) -> Husova 5,Brno | AI87: Datum: | AM87: =IF(AN8= "","",AN8) -> 18. 9. 2020
C89: Zadavatel: | L89: =IF(E11= "","",E11) -> MmBrna,OSM Husova 3,Brno | AI89: Projektant: | AM89: =IF(E17="","",E17) | AS89: Informatívní údaje z listů zakázek
C90: Uchazeč: | L90: =IF(E14= "Vyplň údaj","",E14) | AI90: Zpracovatel: | AM90: =IF(E20="","",E20) -> R.Volková
C92: Kód | I92: Popis | AG92: Cena bez DPH [CZK] | AN92: Cena s DPH [CZK] | AQ92: Typ | AS92: z toho Ostat._x005F_x000d_ náklady [CZK] | AT92: DPH [CZK] | AU92: Normohodiny [h] | AV92: DPH základní [CZK] | AW92: DPH snížená [CZK] | AX92: DPH základní přenesená_x005F_x000d_ [CZK] | AY92: DPH snížená přenesená_x005F_x000d_ [CZK] | AZ92: Základna_x005F_x000d_ DPH základní | BA92: Základna_x005F_x000d_ DPH snížená | BB92: Základna_x005F_x000d_ DPH zákl. přenesená | BC92: Základna_x005F_x000d_ DPH sníž. přenesená | BD92: Základna_x005F_x000d_ DPH nulová
C94: Náklady z rozpočtů | AG94: =ROUND(AG95,2) -> 0 | AN94: =SUM(AG94,AT94) -> 0 | AS94: =ROUND(AS95,2) -> 0 | AT94: =ROUND(SUM(AV94:AW94),2) -> 0 | AU94: =ROUND(AU95,5) -> 0 | AV94: =ROUND(AZ94*L29,2) -> 0 | AW94: =ROUND(BA94*L30,2) -> 0 | AX94: =ROUND(BB94*L29,2) -> 0 | AY94: =ROUND(BC94*L30,2) -> 0 | AZ94: =ROUND(AZ95,2) -> 0 | BA94: =ROUND(BA95,2) -> 0 | BB94: =ROUND(BB95,2) -> 0 | BC94: =ROUND(BC95,2) -> 0 | BD94: =ROUND(BD95,2) -> 0 | BS94: D | BT94: 0 | BV94: IMPORT | BW94: {40b343f6-8ed2-4be0-a912-f7818807ad46} | BX94: {00000000-0000-0000-0000-000000000000}
A95: / | D95: Husova5 | J95: Malování schodiště a přilehlé chodby | AG95: ='Husova5 - Malování schodi...'!J28 -> 0 | AN95: =SUM(AG95,AT95) -> 0 | AQ95: STA | AS95: 0 | AT95: =ROUND(SUM(AV95:AW95),2) -> 0 | AU95: ='Husova5 - Malování schodi...'!P123 -> 0 | AV95: ='Husova5 - Malování schodi...'!J31 -> 0 | AW95: ='Husova5 - Malování schodi...'!J32 -> 0 | AX95: ='Husova5 - Malování schodi...'!J33 -> 0 | AY95: ='Husova5 - Malování schodi...'!J34 -> 0 | AZ95: ='Husova5 - Malování schodi...'!F31 -> 0 | BA95: ='Husova5 - Malování schodi...'!F32 -> 0 | BB95: ='Husova5 - Malování schodi...'!F33 -> 0 | BC95: ='Husova5 - Malování schodi...'!F34 -> 0 | BD95: ='Husova5 - Malování schodi...'!F35 -> 0 | BT95: 1 | BU95: ###NOINSERT### | BV95: IMPORT | BW95: {40b343f6-8ed2-4be0-a912-f7818807ad46} | BX95: {00000000-0000-0000-0000-000000000000}

Sheet Husova5 - Malování schodi...
L2: >> skryté sloupce << | AT2: {40b343f6-8ed2-4be0-a912-f7818807ad46}
AT3: 2
D4: KRYCÍ LIST SOUPISU PRACÍ | M4: v --- níže se nacházejí doplnkové a pomocné údaje k sestavám --- v | AT4: False
D6: Stavba:
E7: Malování schodiště a přilehlé chodby
D9: KSO: | I9: CC-CZ:
D10: Místo: | F10: Husova 5,Brno | I10: Datum: | J10: ='Rekapitulace stavby'!AN8 -> 18. 9. 2020
D12: Zadavatel: | I12: IČ:
E13: MmBrna,OSM Husova 3,Brno | I13: DIČ:
D15: Uchazeč: | I15: IČ: | J15: ='Rekapitulace stavby'!AN13 -> Vyplň údaj
E16: ='Rekapitulace stavby'!E14 -> Vyplň údaj | I16: DIČ: | J16: ='Rekapitulace stavby'!AN14 -> Vyplň údaj
D18: Projektant: | I18: IČ: | J18: =IF('Rekapitulace stavby'!AN16="","",'Rekapitulace stavby'!AN16)
E19: =IF('Rekapitulace stavby'!E17="","",'Rekapitulace stavby'!E17) | I19: DIČ: | J19: =IF('Rekapitulace stavby'!AN17="","",'Rekapitulace stavby'!AN17)
D21: Zpracovatel: | I21: IČ:
E22: R.Volková | I22: DIČ:
D24: Poznámka:
D28: Cena bez DPH | J28: =ROUND(J123, 2) -> 0
F30: Základ daně | I30: Sazba daně | J30: Výše daně
D31: DPH | E31: základní | F31: =ROUND((SUM(BE123:BE180)), 2) -> 0 | I31: 0.21 | J31: =ROUND(((SUM(BE123:BE180))*I31), 2) -> 0
E32: snížená | F32: =ROUND((SUM(BF123:BF180)), 2) -> 0 | I32: 0.15 | J32: =ROUND(((SUM(BF123:BF180))*I32), 2) -> 0
E33: zákl. přenesená | F33: =ROUND((SUM(BG123:BG180)), 2) -> 0 | I33: 0.21 | J33: =0 -> 0
E34: sníž. přenesená | F34: =ROUND((SUM(BH123:BH180)), 2) -> 0 | I34: 0.15 | J34: =0 -> 0
E35: nulová | F35: =ROUND((SUM(BI123:BI180)), 2) -> 0 | I35: 0 | J35: =0 -> 0
D37: Cena s DPH | G37: v | H37: CZK | J37: =SUM(J28:J35) -> 0
D50: Projektant | G50: Zpracovatel
D61: Datum a podpis: | F61: Razítko | G61: Datum a podpis: | J61: Razítko
D65: Objednavatel | G65: Uchazeč
D76: Datum a podpis: | F76: Razítko | G76: Datum a podpis: | J76: Razítko
C82: REKAPITULACE ČLENĚNÍ SOUPISU PRACÍ
C84: Stavba:
E85: =E7 -> Malování schodiště a přilehlé chodby
C87: Místo: | F87: =F10 -> Husova 5,Brno | I87: Datum: | J87: =IF(J10="","",J10) -> 18. 9. 2020
C89: Zadavatel: | F89: =E13 -> MmBrna,OSM Husova 3,Brno | I89: Projektant: | J89: =E19
C90: Uchazeč: | F90: =IF(E16="","",E16) -> Vyplň údaj | I90: Zpracovatel: | J90: =E22 -> R.Volková
C92: Kód dílu - Popis | J92: Cena celkem [CZK]
C94: Náklady ze soupisu prací | J94: =J123 -> 0 | AU94: -1
D95: HSV - Práce a dodávky HSV | J95: =J124 -> 0
D96: 6 - Úpravy povrchů, podlahy a osazování výplní | J96: =J125 -> 0
D97: 9 - Ostatní konstrukce a práce, bourání | J97: =J130 -> 0
D98: 997 - Přesun sutě | J98: =J137 -> 0
D99: 998 - Přesun hmot | J99: =J143 -> 0
D100: PSV - Práce a dodávky PSV | J100: =J145 -> 0
D101: 784 - Dokončovací práce - malby a tapety | J101: =J146 -> 0
D102: VRN - Vedlejší rozpočtové náklady | J102: =J174 -> 0
D103: VRN3 - Zařízení staveniště | J103: =J175 -> 0
D104: VRN6 - Územní vlivy | J104: =J177 -> 0
D105: VRN7 - Provozní vlivy | J105: =J179 -> 0
C112: SOUPIS PRACÍ
C114: Stavba:
E115: =E7 -> Malování schodiště a přilehlé chodby
C117: Místo: | F117: =F10 -> Husova 5,Brno | I117: Datum: | J117: =IF(J10="","",J10) -> 18. 9. 2020
C119: Zadavatel: | F119: =E13 -> MmBrna,OSM Husova 3,Brno | I119: Projektant: | J119: =E19
C120: Uchazeč: | F120: =IF(E16="","",E16) -> Vyplň údaj | I120: Zpracovatel: | J120: =E22 -> R.Volková
C122: PČ | D122: Typ | E122: Kód | F122: Popis | G122: MJ | H122: Množství | I122: J.cena [CZK] | J122: Cena celkem [CZK] | K122: Cenová soustava | N122: DPH | O122: J. Nh [h] | P122: Nh celkem [h] | Q122: J. hmotnost [t] | R122: Hmotnost celkem [t] | S122: J. suť [t] | T122: Suť Celkem [t]
C123: Náklady soupisu celkem | J123: =BK123 -> 0 | P123: =P124+P145+P174 -> 0 | R123: =R124+R145+R174 -> 4.5830462 | T123: =T124+T145+T174 -> 2.0135045 | AT123: D | AU123: -1 | BK123: =BK124+BK145+BK174 -> 0
D124: D | E124: HSV | F124: Práce a dodávky HSV | J124: =BK124 -> 0 | P124: =P125+P130+P137+P143 -> 0 | R124: =R125+R130+R137+R143 -> 4.3367775 | T124: =T125+T130+T137+T143 -> 1.8875 | AR124: 1 | AT124: D | AU124: 0 | AY124: ROZPOCET | BK124: =BK125+BK130+BK137+BK143 -> 0
D125: D | E125: 6 | F125: Úpravy povrchů, podlahy a osazování výplní | J125: =BK125 -> 0 | P125: =SUM(P126:P129) -> 0 | R125: =SUM(R126:R129) -> 4.3356 | T125: =SUM(T126:T129) -> 0 | AR125: 1 | AT125: D | AU125: 1 | AY125: ROZPOCET | BK125: =SUM(BK126:BK129) -> 0
C126: 1 | D126: K | E126: 611131121 | F126: Penetrační disperzní nátěr vnitřních stropů nanášený ručně | G126: m2 | H126: 8.75 | J126: =ROUND(I126*H126,2) -> 0 | K126: CS ÚRS 2020 01 | N126: základní | P126: =O126*H126 -> 0 | Q126: 0.00026 | R126: =Q126*H126 -> 0.002275 | S126: 0 | T126: =S126*H126 -> 0 | AR126: 4 | AT126: K | AU126: 2 | AY126: ROZPOCET | BE126: =IF(N126="základní",J126,0) -> 0 | BF126: =IF(N126="snížená",J126,0) -> 0 | BG126: =IF(N126="zákl. přenesená",J126,0) -> 0 | BH126: =IF(N126="sníž. přenesená",J126,0) -> 0 | BI126: =IF(N126="nulová",J126,0) -> 0 | BJ126: 1 | BK126: =ROUND(I126*H126,2) -> 0 | BL126: 4 | BM126: -374816355
C127: 2 | D127: K | E127: 611135101 | F127: Hrubá výplň rýh ve stropech maltou jakékoli šířky rýhy | G127: m2 | H127: 1 | J127: =ROUND(I127*H127,2) -> 0 | K127: CS ÚRS 2020 01 | N127: základní | P127: =O127*H127 -> 0 | Q127: 0.04 | R127: =Q127*H127 -> 0.04 | S127: 0 | T127: =S127*H127 -> 0 | AR127: 4 | AT127: K | AU127: 2 | AY127: ROZPOCET | BE127: =IF(N127="základní",J127,0) -> 0 | BF127: =IF(N127="snížená",J127,0) -> 0 | BG127: =IF(N127="zákl. přenesená",J127,0) -> 0 | BH127: =IF(N127="sníž. přenesená",J127,0) -> 0 | BI127: =IF(N127="nulová",J127,0) -> 0 | BJ127: 1 | BK127: =ROUND(I127*H127,2) -> 0 | BL127: 4 | BM127: -1341785599
C128: 3 | D128: K | E128: 611321141 | F128: Vápenocementová omítka štuková dvouvrstvá vnitřních stropů rovných 1PP | G128: m2 | H128: 8.75 | J128: =ROUND(I128*H128,2) -> 0 | K128: CS ÚRS 2020 01 | N128: základní | P128: =O128*H128 -> 0 | Q128: 0.01838 | R128: =Q128*H128 -> 0.160825 | S128: 0 | T128: =S128*H128 -> 0 | AR128: 4 | AT128: K | AU128: 2 | AY128: ROZPOCET | BE128: =IF(N128="základní",J128,0) -> 0 | BF128: =IF(N128="snížená",J128,0) -> 0 | BG128: =IF(N128="zákl. přenesená",J128,0) -> 0 | BH128: =IF(N128="sníž. přenesená",J128,0) -> 0 | BI128: =IF(N128="nulová",J128,0) -> 0 | BJ128: 1 | BK128: =ROUND(I128*H128,2) -> 0 | BL128: 4 | BM128: 1403194435
C129: 4 | D129: K | E129: 612325421 | F129: Oprava vnitřní vápenocementové štukové omítky stěn v rozsahu plochy do 10% | G129: m2 | H129: 725 | J129: =ROUND(I129*H129,2) -> 0 | K129: CS ÚRS 2020 01 | N129: základní | P129: =O129*H129 -> 0 | Q129: 0.0057 | R129: =Q129*H129 -> 4.1325 | S129: 0 | T129: =S129*H129 -> 0 | AR129: 4 | AT129: K | AU129: 2 | AY129: ROZPOCET | BE129: =IF(N129="základní",J129,0) -> 0 | BF129: =IF(N129="snížená",J129,0) -> 0 | BG129: =IF(N129="zákl. přenesená",J129,0) -> 0 | BH129: =IF(N129="sníž. přenesená",J129,0) -> 0 | BI129: =IF(N129="nulová",J129,0) -> 0 | BJ129: 1 | BK129: =ROUND(I129*H129,2) -> 0 | BL129: 4 | BM129: -811360131
D130: D | E130: 9 | F130: Ostatní konstrukce a práce, bourání | J130: =BK130 -> 0 | P130: =SUM(P131:P136) -> 0 | R130: =SUM(R131:R136) -> 0.0011775 | T130: =SUM(T131:T136) -> 1.8875 | AR130: 1 | AT130: D | AU130: 1 | AY130: ROZPOCET | BK130: =SUM(BK131:BK136) -> 0
C131: 5 | D131: K | E131: 949101111 | F131: Lešení pomocné pro objekty pozemních staveb s lešeňovou podlahou v do 1,9 m zatížení do 150 kg/m2-oprava stropu v 1pp | G131: m2 | H131: 8.75 | J131: =ROUND(I131*H131,2) -> 0 | K131: CS ÚRS 2020 01 | N131: základní | P131: =O131*H131 -> 0 | Q131: 0.00013 | R131: =Q131*H131 -> 0.0011375 | S131: 0 | T131: =S131*H131 -> 0 | AR131: 4 | AT131: K | AU131: 2 | AY131: ROZPOCET | BE131: =IF(N131="základní",J131,0) -> 0 | BF131: =IF(N131="snížená",J131,0) -> 0 | BG131: =IF(N131="zákl. přenesená",J131,0) -> 0 | BH131: =IF(N131="sníž. přenesená",J131,0) -> 0 | BI131: =IF(N131="nulová",J131,0) -> 0 | BJ131: 1 | BK131: =ROUND(I131*H131,2) -> 0 | BL131: 4 | BM131: 1560155850
D132: VV | F132: 2,5*3,5"1pp" | H132: 8.75 | AT132: VV | AU132: 2 | AV132: 2 | AW132: True | AX132: 1 | AY132: ROZPOCET
C133: 6 | D133: K | E133: 952901111 | F133: Vyčištění budov bytové a občanské výstavby při výšce podlaží do 4 m po malbách | G133: sada | H133: 1 | J133: =ROUND(I133*H133,2) -> 0 | K133: CS ÚRS 2020 01 | N133: základní | P133: =O133*H133 -> 0 | Q133: 4e-05 | R133: =Q133*H133 -> 4e-05 | S133: 0 | T133: =S133*H133 -> 0 | AR133: 4 | AT133: K | AU133: 2 | AY133: ROZPOCET | BE133: =IF(N133="základní",J133,0) -> 0 | BF133: =IF(N133="snížená",J133,0) -> 0 | BG133: =IF(N133="zákl. přenesená",J133,0) -> 0 | BH133: =IF(N133="sníž. přenesená",J133,0) -> 0 | BI133: =IF(N133="nulová",J133,0) -> 0 | BJ133: 1 | BK133: =ROUND(I133*H133,2) -> 0 | BL133: 4 | BM133: 411430760
C134: 7 | D134: K | E134: 978011191 | F134: Otlučení (osekání) vnitřní vápenné nebo vápenocementové omítky stropů v rozsahu do 100 % | G134: m2 | H134: 8.75 | J134: =ROUND(I134*H134,2) -> 0 | K134: CS ÚRS 2020 01 | N134: základní | P134: =O134*H134 -> 0 | Q134: 0 | R134: =Q134*H134 -> 0 | S134: 0.05 | T134: =S134*H134 -> 0.4375 | AR134: 4 | AT134: K | AU134: 2 | AY134: ROZPOCET | BE134: =IF(N134="základní",J134,0) -> 0 | BF134: =IF(N134="snížená",J134,0) -> 0 | BG134: =IF(N134="zákl. přenesená",J134,0) -> 0 | BH134: =IF(N134="sníž. přenesená",J134,0) -> 0 | BI134: =IF(N134="nulová",J134,0) -> 0 | BJ134: 1 | BK134: =ROUND(I134*H134,2) -> 0 | BL134: 4 | BM134: -1310024088
D135: VV | F135: 3,5*2,5"místnost v 1pp" | H135: 8.75 | AT135: VV | AU135: 2 | AV135: 2 | AW135: True | AX135: 1 | AY135: ROZPOCET
C136: 8 | D136: K | E136: 978013111 | F136: Otlučení (osekání) vnitřní vápenné nebo vápenocementové omítky stěn v rozsahu do 5 % | G136: m2 | H136: 725 | J136: =ROUND(I136*H136,2) -> 0 | K136: CS ÚRS 2020 01 | N136: základní | P136: =O136*H136 -> 0 | Q136: 0 | R136: =Q136*H136 -> 0 | S136: 0.002 | T136: =S136*H136 -> 1.45 | AR136: 4 | AT136: K | AU136: 2 | AY136: ROZPOCET | BE136: =IF(N136="základní",J136,0) -> 0 | BF136: =IF(N136="snížená",J136,0) -> 0 | BG136: =IF(N136="zákl. přenesená",J136,0) -> 0 | BH136: =IF(N136="sníž. přenesená",J136,0) -> 0 | BI136: =IF(N136="nulová",J136,0) -> 0 | BJ136: 1 | BK136: =ROUND(I136*H136,2) -> 0 | BL136: 4 | BM136: 235457348
D137: D | E137: 997 | F137: Přesun sutě | J137: =BK137 -> 0 | P137: =SUM(P138:P142) -> 0 | R137: =SUM(R138:R142) -> 0 | T137: =SUM(T138:T142) -> 0 | AR137: 1 | AT137: D | AU137: 1 | AY137: ROZPOCET | BK137: =SUM(BK138:BK142) -> 0
C138: 9 | D138: K | E138: 997013211 | F138: Vnitrostaveništní doprava suti a vybouraných hmot pro budovy v do 6 m ručně | G138: t | H138: 2.014 | J138: =ROUND(I138*H138,2) -> 0 | K138: CS ÚRS 2020 01 | N138: základní | P138: =O138*H138 -> 0 | Q138: 0 | R138: =Q138*H138 -> 0 | S138: 0 | T138: =S138*H138 -> 0 | AR138: 4 | AT138: K | AU138: 2 | AY138: ROZPOCET | BE138: =IF(N138="základní",J138,0) -> 0 | BF138: =IF(N138="snížená",J138,0) -> 0 | BG138: =IF(N138="zákl. přenesená",J138,0) -> 0 | BH138: =IF(N138="sníž. přenesená",J138,0) -> 0 | BI138: =IF(N138="nulová",J138,0) -> 0 | BJ138: 1 | BK138: =ROUND(I138*H138,2) -> 0 | BL138: 4 | BM138: 33417397
C139: 10 | D139: K | E139: 997013501 | F139: Odvoz suti a vybouraných hmot na skládku nebo meziskládku do 1 km se složením | G139: t | H139: 2.014 | J139: =ROUND(I139*H139,2) -> 0 | K139: CS ÚRS 2020 01 | N139: základní | P139: =O139*H139 -> 0 | Q139: 0 | R139: =Q139*H139 -> 0 | S139: 0 | T139: =S139*H139 -> 0 | AR139: 4 | AT139: K | AU139: 2 | AY139: ROZPOCET | BE139: =IF(N139="základní",J139,0) -> 0 | BF139: =IF(N139="snížená",J139,0) -> 0 | BG139: =IF(N139="zákl. přenesená",J139,0) -> 0 | BH139: =IF(N139="sníž. přenesená",J139,0) -> 0 | BI139: =IF(N139="nulová",J139,0) -> 0 | BJ139: 1 | BK139: =ROUND(I139*H139,2) -> 0 | BL139: 4 | BM139: 666399823
C140: 11 | D140: K | E140: 997013509 | F140: Příplatek k odvozu suti a vybouraných hmot na skládku ZKD 1 km přes 1 km | G140: t | H140: 38.266 | J140: =ROUND(I140*H140,2) -> 0 | K140: CS ÚRS 2020 01 | N140: základní | P140: =O140*H140 -> 0 | Q140: 0 | R140: =Q140*H140 -> 0 | S140: 0 | T140: =S140*H140 -> 0 | AR140: 4 | AT140: K | AU140: 2 | AY140: ROZPOCET | BE140: =IF(N140="základní",J140,0) -> 0 | BF140: =IF(N140="snížená",J140,0) -> 0 | BG140: =IF(N140="zákl. přenesená",J140,0) -> 0 | BH140: =IF(N140="sníž. přenesená",J140,0) -> 0 | BI140: =IF(N140="nulová",J140,0) -> 0 | BJ140: 1 | BK140: =ROUND(I140*H140,2) -> 0 | BL140: 4 | BM140: 1597590174
D141: VV | F141: 2,014*19 'Přepočtené koeficientem množství | H141: 38.266 | AT141: VV | AU141: 2 | AV141: 2 | AW141: False | AX141: 1 | AY141: ROZPOCET
C142: 12 | D142: K | E142: 997013609 | F142: Poplatek za uložení na skládce (skládkovné) stavebního odpadu ze směsí nebo oddělených frakcí betonu, cihel a keramických výrobků kód odpadu 17 01 07 | G142: t | H142: 2.014 | J142: =ROUND(I142*H142,2) -> 0 | K142: CS ÚRS 2020 01 | N142: základní | P142: =O142*H142 -> 0 | Q142: 0 | R142: =Q142*H142 -> 0 | S142: 0 | T142: =S142*H142 -> 0 | AR142: 4 | AT142: K | AU142: 2 | AY142: ROZPOCET | BE142: =IF(N142="základní",J142,0) -> 0 | BF142: =IF(N142="snížená",J142,0) -> 0 | BG142: =IF(N142="zákl. přenesená",J142,0) -> 0 | BH142: =IF(N142="sníž. přenesená",J142,0) -> 0 | BI142: =IF(N142="nulová",J142,0) -> 0 | BJ142: 1 | BK142: =ROUND(I142*H142,2) -> 0 | BL142: 4 | BM142: -1755271879
D143: D | E143: 998 | F143: Přesun hmot | J143: =BK143 -> 0 | P143: =P144 -> 0 | R143: =R144 -> 0 | T143: =T144 -> 0 | AR143: 1 | AT143: D | AU143: 1 | AY143: ROZPOCET | BK143: =BK144 -> 0
C144: 13 | D144: K | E144: 998018003 | F144: Přesun hmot ruční pro budovy v do 24 m | G144: t | H144: 4.337 | J144: =ROUND(I144*H144,2) -> 0 | K144: CS ÚRS 2020 01 | N144: základní | P144: =O144*H144 -> 0 | Q144: 0 | R144: =Q144*H144 -> 0 | S144: 0 | T144: =S144*H144 -> 0 | AR144: 4 | AT144: K | AU144: 2 | AY144: ROZPOCET | BE144: =IF(N144="základní",J144,0) -> 0 | BF144: =IF(N144="snížená",J144,0) -> 0 | BG144: =IF(N144="zákl. přenesená",J144,0) -> 0 | BH144: =IF(N144="sníž. přenesená",J144,0) -> 0 | BI144: =IF(N144="nulová",J144,0) -> 0 | BJ144: 1 | BK144: =ROUND(I144*H144,2) -> 0 | BL144: 4 | BM144: 1205443021
D145: D | E145: PSV | F145: Práce a dodávky PSV | J145: =BK145 -> 0 | P145: =P146 -> 0 | R145: =R146 -> 0.2462687 | T145: =T146 -> 0.1260045 | AR145: 2 | AT145: D | AU145: 0 | AY145: ROZPOCET | BK145: =BK146 -> 0
D146: D | E146: 784 | F146: Dokončovací práce - malby a tapety | J146: =BK146 -> 0 | P146: =SUM(P147:P173) -> 0 | R146: =SUM(R147:R173) -> 0.2462687 | T146: =SUM(T147:T173) -> 0.1260045 | AR146: 2 | AT146: D | AU146: 1 | AY146: ROZPOCET | BK146: =SUM(BK147:BK173) -> 0
C147: 14 | D147: K | E147: 784111011 | F147: Obroušení podkladu omítnutého v místnostech výšky do 3,80 m | G147: m2 | H147: 484.455 | J147: =ROUND(I147*H147,2) -> 0 | K147: CS ÚRS 2020 01 | N147: základní | P147: =O147*H147 -> 0 | Q147: 0 | R147: =Q147*H147 -> 0 | S147: 0.00015 | T147: =S147*H147 -> 0.07266825 | AR147: 16 | AT147: K | AU147: 2 | AY147: ROZPOCET | BE147: =IF(N147="základní",J147,0) -> 0 | BF147: =IF(N147="snížená",J147,0) -> 0 | BG147: =IF(N147="zákl. přenesená",J147,0) -> 0 | BH147: =IF(N147="sníž. přenesená",J147,0) -> 0 | BI147: =IF(N147="nulová",J147,0) -> 0 | BJ147: 1 | BK147: =ROUND(I147*H147,2) -> 0 | BL147: 16 | BM147: 790826626
D148: VV | F148: "4-bez stropu"(9,0+1,65)*2*3,05+4,0*0,7 | H148: 67.765 | AT148: VV | AU148: 2 | AV148: 2 | AW148: True | AX148: 0 | AY148: ROZPOCET
D149: VV | F149: Mezisoučet | H149: 67.765 | AT149: VV | AU149: 2 | AV149: 3 | AW149: True | AX149: 0 | AY149: ROZPOCET
D150: VV | F150: "3-bez stropu"(9,0+1,65)*2*3,4+4,0*0,7 | H150: 75.22 | AT150: VV | AU150: 2 | AV150: 2 | AW150: True | AX150: 0 | AY150: ROZPOCET
D151: VV | F151: Mezisoučet | H151: 75.22 | AT151: VV | AU151: 2 | AV151: 3 | AW151: True | AX151: 0 | AY151: ROZPOCET
D152: VV | F152: "2-bez stropu"(8,2+1,65)*2*3,45+4,0*0,7 | H152: 70.765 | AT152: VV | AU152: 2 | AV152: 2 | AW152: True | AX152: 0 | AY152: ROZPOCET
D153: VV | F153: Mezisoučet | H153: 70.765 | AT153: VV | AU153: 2 | AV153: 3 | AW153: True | AX153: 0 | AY153: ROZPOCET
D154: VV | F154: "1-bez stropu"(8,0+1,65+3,5)*2*3,45+4,0*0,7 | H154: 93.535 | AT154: VV | AU154: 2 | AV154: 2 | AW154: True | AX154: 0 | AY154: ROZPOCET
D155: VV | F155: Mezisoučet | H155: 93.535 | AT155: VV | AU155: 2 | AV155: 3 | AW155: True | AX155: 0 | AY155: ROZPOCET
D156: VV | F156: "1pp"(10,6+1,65+3,8)*2*2,9+1,2*0,2*2+2,3*0,4*2+2,1*0,4 | H156: 96.25 | AT156: VV | AU156: 2 | AV156: 2 | AW156: True | AX156: 0 | AY156: ROZPOCET
D157: VV | F157: 1,65*10,6+3,8*2,1 | H157: 25.47 | AT157: VV | AU157: 2 | AV157: 2 | AW157: True | AX157: 0 | AY157: ROZPOCET
D158: VV | F158: Mezisoučet | H158: 121.72 | AT158: VV | AU158: 2 | AV158: 3 | AW158: True | AX158: 0 | AY158: ROZPOCET
D159: VV | F159: "sklepní prostor"(5,5+2,5+0,6)*2*2,76+5,5*2,5-1,95*2*1,48 | H159: 55.45 | AT159: VV | AU159: 2 | AV159: 2 | AW159: True | AX159: 0 | AY159: ROZPOCET
... D161: VV | F161: Součet | H161: 484.455 | AT161: VV | AU161: 2 | AV161: 4 | AW161: True | AX161: 1 | AY161: ROZPOCET
C162: 15 | D162: K | E162: 784111017 | F162: Obroušení podkladu omítnutého na schodišti o výšce podlaží do 3,80 m | G162: m2 | H162: 355.575 | J162: =ROUND(I162*H162,2) -> 0 | K162: CS ÚRS 2020 01 | N162: základní | P162: =O162*H162 -> 0 | Q162: 0 | R162: =Q162*H162 -> 0 | S162: 0.00015 | T162: =S162*H162 -> 0.05333625 | AR162: 16 | AT162: K | AU162: 2 | AY162: ROZPOCET | BE162: =IF(N162="základní",J162,0) -> 0 | BF162: =IF(N162="snížená",J162,0) -> 0 | BG162: =IF(N162="zákl. přenesená",J162,0) -> 0 | BH162: =IF(N162="sníž. přenesená",J162,0) -> 0 | BI162: =IF(N162="nulová",J162,0) -> 0 | BJ162: 1 | BK162: =ROUND(I162*H162,2) -> 0 | BL162: 16 | BM162: -977811282
D163: VV | F163: "strop"1,0*5,4+3,14*2,7*2,7*0,5 | H163: 16.845 | AT163: VV | AU163: 2 | AV163: 2 | AW163: True | AX163: 0 | AY163: ROZPOCET
D164: VV | F164: "půda"1,5*3,05+3,9*3,7 | H164: 19.005 | AT164: VV | AU164: 2 | AV164: 2 | AW164: True | AX164: 0 | AY164: ROZPOCET
D165: VV | F165: Mezisoučet | H165: 35.85 | AT165: VV | AU165: 2 | AV165: 3 | AW165: True | AX165: 0 | AY165: ROZPOCET
D166: VV | F166: "stěny schodiště"10,5*21,95 | H166: 230.475 | AT166: VV | AU166: 2 | AV166: 2 | AW166: True | AX166: 0 | AY166: ROZPOCET
D167: VV | F167: "strop schodů"10,5*1,7*5 | H167: 89.25 | AT167: VV | AU167: 2 | AV167: 2 | AW167: True | AX167: 0 | AY167: ROZPOCET
D168: VV | F168: Mezisoučet | H168: 319.725 | AT168: VV | AU168: 2 | AV168: 3 | AW168: True | AX168: 0 | AY168: ROZPOCET
D169: VV | F169: Součet | H169: 355.575 | AT169: VV | AU169: 2 | AV169: 4 | AW169: True | AX169: 1 | AY169: ROZPOCET
...
