Workbook

Sheet Rekapitulace stavby
A1: Export Komplet | BA1: 2.0 | BT1: False | BU1: False | BV1: {a540ce26-f09c-4b28-83d5-2b72f817779c}
AR2: >> skryté sloupce << | BS2: 0,01 | BT2: 21
BS3: 0,01 | BT3: 15
D4: REKAPITULACE STAVBY | AS4: v --- níže se nacházejí doplnkové a pomocné údaje k sestavám --- v | BE4: Návod na vyplnění | BS4: 0,001
D5: Kód: | K5: Palack146-Baletizol | BE5: Měnit lze pouze buňky se žlutým podbarvením!_x005F_x000d_ _x005F_x000d_ 1) na prvním listu Rekapitulace stavby vyplňte v sestavě_x005F_x000d_ _x005F_x000d_ a) Souhrnný list_x005F_x000d_ - údaje o Uchazeči_x005F_x000d_ (přenesou se do ostatních sestav i v jiných listech)_x005F_x000d_ _x005F_x000d_ b) Rekapitulace objektů_x005F_x000d_ - potřebné Ostatní náklady_x005F_x000d_ _x005F_x000d_ 2) na vybraných listech vyplňte v sestavě_x005F_x000d_ _x005F_x000d_ a) Krycí list_x005F_x000d_ - údaje o Uchazeči, pokud se liší od údajů o Uchazeči na Souhrnném listu_x005F_x000d_ (údaje se přenesou do ostatních sestav v daném listu)_x005F_x000d_ _x005F_x000d_ b) Rekapitulace rozpočtu_x005F_x000d_ - potřebné Ostatní náklady_x005F_x000d_ _x005F_x000d_ c) Celkové náklady za stavbu_x005F_x000d_ - ceny u položek_x005F_x000d_ - množství, pokud má žluté podbarvení_x005F_x000d_ - a v případě potřeby poznámku (ta je ve skrytém sloupci) | BS5: 0,01
D6: Stavba: | K6: Výměna beletizolu v 1np-taneční sál | BS6: 0,01
D7: KSO: | AK7: CC-CZ: | BS7: 0,01
D8: Místo: | K8: ZUŠ Palackého 146,Brno | AK8: Datum: | AN8: 7. 9. 2020 | BS8: 0,01
BS9: 0,01
D10: Zadavatel: | AK10: IČ: | BS10: 0,01
E11: MMB,OSM,Husova 3,Brno | AK11: DIČ: | BS11: 0,01
BS12: 0,01
D13: Uchazeč: | AK13: IČ: | AN13: Vyplň údaj | BS13: 0,01
E14: Vyplň údaj | AK14: DIČ: | AN14: Vyplň údaj | BS14: 0,01
BS15: False
D16: Projektant: | AK16: IČ: | BS16: False
AK17: DIČ: | BS17: True
BS18: 0,01
D19: Zpracovatel: | AK19: IČ: | BS19: 0,01
E20: ing.Ševelová | AK20: DIČ: | BS20: True
D22: Poznámka:
D26: Cena bez DPH | AK26: =ROUND(AG94,2) -> 0
L28: Sazba daně | W28: Základ daně | AK28: Výše daně
D29: DPH | F29: základní | L29: 0.21 | W29: =ROUND(AZ94, 2) -> 0 | AK29: =ROUND(AV94, 2) -> 0
F30: snížená | L30: 0.15 | W30: =ROUND(BA94, 2) -> 0 | AK30: =ROUND(AW94, 2) -> 0
F31: zákl. přenesená | L31: 0.21 | W31: =ROUND(BB94, 2) -> 0 | AK31: 0
F32: sníž. přenesená | L32: 0.15 | W32: =ROUND(BC94, 2) -> 0 | AK32: 0
F33: nulová | L33: 0 | W33: =ROUND(BD94, 2) -> 0 | AK33: 0
D35: Cena s DPH | T35: v | X35: CZK | AK35: =SUM(AK26:AK33) -> 0
D49: Projektant | AH49: Zpracovatel
D60: Datum a podpis: | V60: Razítko | AH60: Datum a podpis: | AM60: Razítko
D64: Objednavatel | AH64: Uchazeč
D75: Datum a podpis: | V75: Razítko | AH75: Datum a podpis: | AM75: Razítko
C82: REKAPITULACE OBJEKTŮ STAVBY A SOUPISŮ PRACÍ
C84: Kód: | L84: =K5 -> Palack146-Baletizol
C85: Stavba: | L85: =K6 -> Výměna beletizolu v 1np-taneční sál
C87: Místo: | L87: =IF(K8="","",K8) -> ZUŠ Palackého 146,Brno | AI87: Datum: | AM87: =IF(AN8= "","",AN8) -> 7. 9. 2020
C89: Zadavatel: | L89: =IF(E11= "","",E11) -> MMB,OSM,Husova 3,Brno | AI89: Projektant: | AM89: =IF(E17="","",E17) | AS89: Informatívní údaje z listů zakázek
C90: Uchazeč: | L90: =IF(E14= "Vyplň údaj","",E14) | AI90: Zpracovatel: | AM90: =IF(E20="","",E20) -> ing.Ševelová
C92: Kód | I92: Popis | AG92: Cena bez DPH [CZK] | AN92: Cena s DPH [CZK] | AQ92: Typ | AS92: z toho Ostat._x005F_x000d_ náklady [CZK] | AT92: DPH [CZK] | AU92: Normohodiny [h] | AV92: DPH základní [CZK] | AW92: DPH snížená [CZK] | AX92: DPH základní přenesená_x005F_x000d_ [CZK] | AY92: DPH snížená přenesená_x005F_x000d_ [CZK] | AZ92: Základna_x005F_x000d_ DPH základní | BA92: Základna_x005F_x000d_ DPH snížená | BB92: Základna_x005F_x000d_ DPH zákl. přenesená | BC92: Základna_x005F_x000d_ DPH sníž. přenesená | BD92: Základna_x005F_x000d_ DPH nulová
C94: Náklady z rozpočtů | AG94: =ROUND(AG95,2) -> 0 | AN94: =SUM(AG94,AT94) -> 0 | AS94: =ROUND(AS95,2) -> 0 | AT94: =ROUND(SUM(AV94:AW94),2) -> 0 | AU94: =ROUND(AU95,5) -> 0 | AV94: =ROUND(AZ94*L29,2) -> 0 | AW94: =ROUND(BA94*L30,2) -> 0 | AX94: =ROUND(BB94*L29,2) -> 0 | AY94: =ROUND(BC94*L30,2) -> 0 | AZ94: =ROUND(AZ95,2) -> 0 | BA94: =ROUND(BA95,2) -> 0 | BB94: =ROUND(BB95,2) -> 0 | BC94: =ROUND(BC95,2) -> 0 | BD94: =ROUND(BD95,2) -> 0 | BS94: D | BT94: 0 | BV94: IMPORT | BW94: {a540ce26-f09c-4b28-83d5-2b72f817779c} | BX94: {00000000-0000-0000-0000-000000000000}
A95: / | D95: Palack146-Baletizol | J95: Výměna beletizolu v 1np-taneční sál | AG95: ='Palack146-Baletizol - Vým...'!J28 -> 0 | AN95: =SUM(AG95,AT95) -> 0 | AQ95: STA | AS95: 0 | AT95: =ROUND(SUM(AV95:AW95),2) -> 0 | AU95: ='Palack146-Baletizol - Vým...'!P123 -> 0 | AV95: ='Palack146-Baletizol - Vým...'!J31 -> 0 | AW95: ='Palack146-Baletizol - Vým...'!J32 -> 0 | AX95: ='Palack146-Baletizol - Vým...'!J33 -> 0 | AY95: ='Palack146-Baletizol - Vým...'!J34 -> 0 | AZ95: ='Palack146-Baletizol - Vým...'!F31 -> 0 | BA95: ='Palack146-Baletizol - Vým...'!F32 -> 0 | BB95: ='Palack146-Baletizol - Vým...'!F33 -> 0 | BC95: ='Palack146-Baletizol - Vým...'!F34 -> 0 | BD95: ='Palack146-Baletizol - Vým...'!F35 -> 0 | BT95: 1 | BU95: ###NOINSERT### | BV95: IMPORT | BW95: {a540ce26-f09c-4b28-83d5-2b72f817779c} | BX95: {00000000-0000-0000-0000-000000000000}

Sheet Palack146-Baletizol - Vým...
L2: >> skryté sloupce << | AT2: {a540ce26-f09c-4b28-83d5-2b72f817779c}
AT3: 2
D4: KRYCÍ LIST SOUPISU PRACÍ | M4: v --- níže se nacházejí doplnkové a pomocné údaje k sestavám --- v | AT4: False
D6: Stavba:
E7: Výměna beletizolu v 1np-taneční sál
D9: KSO: | I9: CC-CZ:
D10: Místo: | F10: ZUŠ Palackého 146,Brno | I10: Datum: | J10: ='Rekapitulace stavby'!AN8 -> 7. 9. 2020
D12: Zadavatel: | I12: IČ:
E13: MMB,OSM,Husova 3,Brno | I13: DIČ:
D15: Uchazeč: | I15: IČ: | J15: ='Rekapitulace stavby'!AN13 -> Vyplň údaj
E16: ='Rekapitulace stavby'!E14 -> Vyplň údaj | I16: DIČ: | J16: ='Rekapitulace stavby'!AN14 -> Vyplň údaj
D18: Projektant: | I18: IČ: | J18: =IF('Rekapitulace stavby'!AN16="","",'Rekapitulace stavby'!AN16)
E19: =IF('Rekapitulace stavby'!E17="","",'Rekapitulace stavby'!E17) | I19: DIČ: | J19: =IF('Rekapitulace stavby'!AN17="","",'Rekapitulace stavby'!AN17)
D21: Zpracovatel: | I21: IČ:
E22: ing.Ševelová | I22: DIČ:
D24: Poznámka:
D28: Cena bez DPH | J28: =ROUND(J123, 2) -> 0
F30: Základ daně | I30: Sazba daně | J30: Výše daně
D31: DPH | E31: základní | F31: =ROUND((SUM(BE123:BE158)), 2) -> 0 | I31: 0.21 | J31: =ROUND(((SUM(BE123:BE158))*I31), 2) -> 0
E32: snížená | F32: =ROUND((SUM(BF123:BF158)), 2) -> 0 | I32: 0.15 | J32: =ROUND(((SUM(BF123:BF158))*I32), 2) -> 0
E33: zákl. přenesená | F33: =ROUND((SUM(BG123:BG158)), 2) -> 0 | I33: 0.21 | J33: =0 -> 0
E34: sníž. přenesená | F34: =ROUND((SUM(BH123:BH158)), 2) -> 0 | I34: 0.15 | J34: =0 -> 0
E35: nulová | F35: =ROUND((SUM(BI123:BI158)), 2) -> 0 | I35: 0 | J35: =0 -> 0
D37: Cena s DPH | G37: v | H37: CZK | J37: =SUM(J28:J35) -> 0
D50: Projektant | G50: Zpracovatel
D61: Datum a podpis: | F61: Razítko | G61: Datum a podpis: | J61: Razítko
D65: Objednavatel | G65: Uchazeč
D76: Datum a podpis: | F76: Razítko | G76: Datum a podpis: | J76: Razítko
C82: REKAPITULACE ČLENĚNÍ SOUPISU PRACÍ
C84: Stavba:
E85: =E7 -> Výměna beletizolu v 1np-taneční sál
C87: Místo: | F87: =F10 -> ZUŠ Palackého 146,Brno | I87: Datum: | J87: =IF(J10="","",J10) -> 7. 9. 2020
C89: Zadavatel: | F89: =E13 -> MMB,OSM,Husova 3,Brno | I89: Projektant: | J89: =E19
C90: Uchazeč: | F90: =IF(E16="","",E16) -> Vyplň údaj | I90: Zpracovatel: | J90: =E22 -> ing.Ševelová
C92: Kód dílu - Popis | J92: Cena celkem [CZK]
C94: Náklady ze soupisu prací | J94: =J123 -> 0 | AU94: -1
D95: HSV - Práce a dodávky HSV | J95: =J124 -> 0
D96: 1 - Dozor | J96: =J125 -> 0
D97: 6 - Úpravy povrchů, podlahy a osazování výplní | J97: =J127 -> 0
D98: 9 - Ostatní konstrukce a práce, bourání | J98: =J129 -> 0
D99: 997 - Přesun sutě | J99: =J133 -> 0
D100: PSV - Práce a dodávky PSV | J100: =J139 -> 0
D101: 776 - Podlahy povlakové | J101: =J140 -> 0
D102: VRN - Vedlejší rozpočtové náklady | J102: =J152 -> 0
D103: VRN3 - Zařízení staveniště | J103: =J153 -> 0
D104: VRN6 - Územní vlivy | J104: =J155 -> 0
D105: VRN7 - Provozní vlivy | J105: =J157 -> 0
C112: SOUPIS PRACÍ
C114: Stavba:
E115: =E7 -> Výměna beletizolu v 1np-taneční sál
C117: Místo: | F117: =F10 -> ZUŠ Palackého 146,Brno | I117: Datum: | J117: =IF(J10="","",J10) -> 7. 9. 2020
C119: Zadavatel: | F119: =E13 -> MMB,OSM,Husova 3,Brno | I119: Projektant: | J119: =E19
C120: Uchazeč: | F120: =IF(E16="","",E16) -> Vyplň údaj | I120: Zpracovatel: | J120: =E22 -> ing.Ševelová
C122: PČ | D122: Typ | E122: Kód | F122: Popis | G122: MJ | H122: Množství | I122: J.cena [CZK] | J122: Cena celkem [CZK] | K122: Cenová soustava | N122: DPH | O122: J. Nh [h] | P122: Nh celkem [h] | Q122: J. hmotnost [t] | R122: Hmotnost celkem [t] | S122: J. suť [t] | T122: Suť Celkem [t]
C123: Náklady soupisu celkem | J123: =BK123 -> 0 | P123: =P124+P139+P152 -> 0 | R123: =R124+R139+R152 -> 0.3149 | T123: =T124+T139+T152 -> 2.7 | AT123: D | AU123: -1 | BK123: =BK124+BK139+BK152 -> 0
D124: D | E124: HSV | F124: Práce a dodávky HSV | J124: =BK124 -> 0 | P124: =P125+P127+P129+P133 -> 0 | R124: =R125+R127+R129+R133 -> 0.00011 | T124: =T125+T127+T129+T133 -> 0 | AR124: 1 | AT124: D | AU124: 0 | AY124: ROZPOCET | BK124: =BK125+BK127+BK129+BK133 -> 0
D125: D | E125: 1 | F125: Dozor | J125: =BK125 -> 0 | P125: =P126 -> 0 | R125: =R126 -> 8e-05 | T125: =T126 -> 0 | AR125: 1 | AT125: D | AU125: 1 | AY125: ROZPOCET | BK125: =BK126 -> 0
C126: 1 | D126: K | E126: 100-pc 1 | F126: Autorský dozor | G126: sada | H126: 1 | J126: =ROUND(I126*H126,2) -> 0 | N126: základní | P126: =O126*H126 -> 0 | Q126: 8e-05 | R126: =Q126*H126 -> 8e-05 | S126: 0 | T126: =S126*H126 -> 0 | AR126: 4 | AT126: K | AU126: 2 | AY126: ROZPOCET | BE126: =IF(N126="základní",J126,0) -> 0 | BF126: =IF(N126="snížená",J126,0) -> 0 | BG126: =IF(N126="zákl. přenesená",J126,0) -> 0 | BH126: =IF(N126="sníž. přenesená",J126,0) -> 0 | BI126: =IF(N126="nulová",J126,0) -> 0 | BJ126: 1 | BK126: =ROUND(I126*H126,2) -> 0 | BL126: 4 | BM126: 1452727632
D127: D | E127: 6 | F127: Úpravy povrchů, podlahy a osazování výplní | J127: =BK127 -> 0 | P127: =P128 -> 0 | R127: =R128 -> 0 | T127: =T128 -> 0 | AR127: 1 | AT127: D | AU127: 1 | AY127: ROZPOCET | BK127: =BK128 -> 0
C128: 2 | D128: K | E128: 633811111 | F128: Broušení podkladu | G128: m2 | H128: 90 | J128: =ROUND(I128*H128,2) -> 0 | K128: CS ÚRS 2020 01 | N128: základní | P128: =O128*H128 -> 0 | Q128: 0 | R128: =Q128*H128 -> 0 | S128: 0 | T128: =S128*H128 -> 0 | AR128: 4 | AT128: K | AU128: 2 | AY128: ROZPOCET | BE128: =IF(N128="základní",J128,0) -> 0 | BF128: =IF(N128="snížená",J128,0) -> 0 | BG128: =IF(N128="zákl. přenesená",J128,0) -> 0 | BH128: =IF(N128="sníž. přenesená",J128,0) -> 0 | BI128: =IF(N128="nulová",J128,0) -> 0 | BJ128: 1 | BK128: =ROUND(I128*H128,2) -> 0 | BL128: 4 | BM128: 1917637851
D129: D | E129: 9 | F129: Ostatní konstrukce a práce, bourání | J129: =BK129 -> 0 | P129: =SUM(P130:P132) -> 0 | R129: =SUM(R130:R132) -> 3e-05 | T129: =SUM(T130:T132) -> 0 | AR129: 1 | AT129: D | AU129: 1 | AY129: ROZPOCET | BK129: =SUM(BK130:BK132) -> 0
C130: 3 | D130: K | E130: 9529011R1 | F130: Vyčištění budov po opravě | G130: sada | H130: 1 | J130: =ROUND(I130*H130,2) -> 0 | N130: základní | P130: =O130*H130 -> 0 | Q130: 1e-05 | R130: =Q130*H130 -> 1e-05 | S130: 0 | T130: =S130*H130 -> 0 | AR130: 4 | AT130: K | AU130: 2 | AY130: ROZPOCET | BE130: =IF(N130="základní",J130,0) -> 0 | BF130: =IF(N130="snížená",J130,0) -> 0 | BG130: =IF(N130="zákl. přenesená",J130,0) -> 0 | BH130: =IF(N130="sníž. přenesená",J130,0) -> 0 | BI130: =IF(N130="nulová",J130,0) -> 0 | BJ130: 1 | BK130: =ROUND(I130*H130,2) -> 0 | BL130: 4 | BM130: 484322917
C131: 4 | D131: K | E131: 9529011R2 | F131: Průběžní úklid na stavbě | G131: sada | H131: 1 | J131: =ROUND(I131*H131,2) -> 0 | N131: základní | P131: =O131*H131 -> 0 | Q131: 1e-05 | R131: =Q131*H131 -> 1e-05 | S131: 0 | T131: =S131*H131 -> 0 | AR131: 4 | AT131: K | AU131: 2 | AY131: ROZPOCET | BE131: =IF(N131="základní",J131,0) -> 0 | BF131: =IF(N131="snížená",J131,0) -> 0 | BG131: =IF(N131="zákl. přenesená",J131,0) -> 0 | BH131: =IF(N131="sníž. přenesená",J131,0) -> 0 | BI131: =IF(N131="nulová",J131,0) -> 0 | BJ131: 1 | BK131: =ROUND(I131*H131,2) -> 0 | BL131: 4 | BM131: 1142778005
C132: 5 | D132: K | E132: 952-pc 1 | F132: Zábor chodníku | G132: sada | H132: 1 | J132: =ROUND(I132*H132,2) -> 0 | N132: základní | P132: =O132*H132 -> 0 | Q132: 1e-05 | R132: =Q132*H132 -> 1e-05 | S132: 0 | T132: =S132*H132 -> 0 | AR132: 4 | AT132: K | AU132: 2 | AY132: ROZPOCET | BE132: =IF(N132="základní",J132,0) -> 0 | BF132: =IF(N132="snížená",J132,0) -> 0 | BG132: =IF(N132="zákl. přenesená",J132,0) -> 0 | BH132: =IF(N132="sníž. přenesená",J132,0) -> 0 | BI132: =IF(N132="nulová",J132,0) -> 0 | BJ132: 1 | BK132: =ROUND(I132*H132,2) -> 0 | BL132: 4 | BM132: -1700734812
D133: D | E133: 997 | F133: Přesun sutě | J133: =BK133 -> 0 | P133: =SUM(P134:P138) -> 0 | R133: =SUM(R134:R138) -> 0 | T133: =SUM(T134:T138) -> 0 | AR133: 1 | AT133: D | AU133: 1 | AY133: ROZPOCET | BK133: =SUM(BK134:BK138) -> 0
C134: 6 | D134: K | E134: 997013211 | F134: Vnitrostaveništní doprava suti a vybouraných hmot pro budovy v do 6 m ručně | G134: t | H134: 2.7 | J134: =ROUND(I134*H134,2) -> 0 | K134: CS ÚRS 2020 01 | N134: základní | P134: =O134*H134 -> 0 | Q134: 0 | R134: =Q134*H134 -> 0 | S134: 0 | T134: =S134*H134 -> 0 | AR134: 4 | AT134: K | AU134: 2 | AY134: ROZPOCET | BE134: =IF(N134="základní",J134,0) -> 0 | BF134: =IF(N134="snížená",J134,0) -> 0 | BG134: =IF(N134="zákl. přenesená",J134,0) -> 0 | BH134: =IF(N134="sníž. přenesená",J134,0) -> 0 | BI134: =IF(N134="nulová",J134,0) -> 0 | BJ134: 1 | BK134: =ROUND(I134*H134,2) -> 0 | BL134: 4 | BM134: 616444393
C135: 7 | D135: K | E135: 997013501 | F135: Odvoz suti a vybouraných hmot na skládku nebo meziskládku do 1 km se složením | G135: t | H135: 2.7 | J135: =ROUND(I135*H135,2) -> 0 | K135: CS ÚRS 2020 01 | N135: základní | P135: =O135*H135 -> 0 | Q135: 0 | R135: =Q135*H135 -> 0 | S135: 0 | T135: =S135*H135 -> 0 | AR135: 4 | AT135: K | AU135: 2 | AY135: ROZPOCET | BE135: =IF(N135="základní",J135,0) -> 0 | BF135: =IF(N135="snížená",J135,0) -> 0 | BG135: =IF(N135="zákl. přenesená",J135,0) -> 0 | BH135: =IF(N135="sníž. přenesená",J135,0) -> 0 | BI135: =IF(N135="nulová",J135,0) -> 0 | BJ135: 1 | BK135: =ROUND(I135*H135,2) -> 0 | BL135: 4 | BM135: -767899683
C136: 8 | D136: K | E136: 997013509 | F136: Příplatek k odvozu suti a vybouraných hmot na skládku ZKD 1 km přes 1 km | G136: t | H136: 64.8 | J136: =ROUND(I136*H136,2) -> 0 | K136: CS ÚRS 2020 01 | N136: základní | P136: =O136*H136 -> 0 | Q136: 0 | R136: =Q136*H136 -> 0 | S136: 0 | T136: =S136*H136 -> 0 | AR136: 4 | AT136: K | AU136: 2 | AY136: ROZPOCET | BE136: =IF(N136="základní",J136,0) -> 0 | BF136: =IF(N136="snížená",J136,0) -> 0 | BG136: =IF(N136="zákl. přenesená",J136,0) -> 0 | BH136: =IF(N136="sníž. přenesená",J136,0) -> 0 | BI136: =IF(N136="nulová",J136,0) -> 0 | BJ136: 1 | BK136: =ROUND(I136*H136,2) -> 0 | BL136: 4 | BM136: -2133627587
D137: VV | F137: 2,7*24 'Přepočtené koeficientem množství | H137: 64.8 | AT137: VV | AU137: 2 | AV137: 2 | AW137: False | AX137: 1 | AY137: ROZPOCET
C138: 9 | D138: K | E138: 997013801 | F138: Poplatek za uložení na skládce (skládkovné) stavebního odpadu | G138: t | H138: 2.7 | J138: =ROUND(I138*H138,2) -> 0 | K138: CS ÚRS 2020 01 | N138: základní | P138: =O138*H138 -> 0 | Q138: 0 | R138: =Q138*H138 -> 0 | S138: 0 | T138: =S138*H138 -> 0 | AR138: 4 | AT138: K | AU138: 2 | AY138: ROZPOCET | BE138: =IF(N138="základní",J138,0) -> 0 | BF138: =IF(N138="snížená",J138,0) -> 0 | BG138: =IF(N138="zákl. přenesená",J138,0) -> 0 | BH138: =IF(N138="sníž. přenesená",J138,0) -> 0 | BI138: =IF(N138="nulová",J138,0) -> 0 | BJ138: 1 | BK138: =ROUND(I138*H138,2) -> 0 | BL138: 4 | BM138: -1053790566
D139: D | E139: PSV | F139: Práce a dodávky PSV | J139: =BK139 -> 0 | P139: =P140 -> 0 | R139: =R140 -> 0.31479 | T139: =T140 -> 2.7 | AR139: 2 | AT139: D | AU139: 0 | AY139: ROZPOCET | BK139: =BK140 -> 0
D140: D | E140: 776 | F140: Podlahy povlakové | J140: =BK140 -> 0 | P140: =SUM(P141:P151) -> 0 | R140: =SUM(R141:R151) -> 0.31479 | T140: =SUM(T141:T151) -> 2.7 | AR140: 2 | AT140: D | AU140: 1 | AY140: ROZPOCET | BK140: =SUM(BK141:BK151) -> 0
C141: 10 | D141: K | E141: 776111311 | F141: Vysátí podkladu | G141: m2 | H141: 90 | J141: =ROUND(I141*H141,2) -> 0 | K141: CS ÚRS 2020 01 | N141: základní | P141: =O141*H141 -> 0 | Q141: 0 | R141: =Q141*H141 -> 0 | S141: 0 | T141: =S141*H141 -> 0 | AR141: 16 | AT141: K | AU141: 2 | AY141: ROZPOCET | BE141: =IF(N141="základní",J141,0) -> 0 | BF141: =IF(N141="snížená",J141,0) -> 0 | BG141: =IF(N141="zákl. přenesená",J141,0) -> 0 | BH141: =IF(N141="sníž. přenesená",J141,0) -> 0 | BI141: =IF(N141="nulová",J141,0) -> 0 | BJ141: 1 | BK141: =ROUND(I141*H141,2) -> 0 | BL141: 16 | BM141: -973757862
C142: 11 | D142: K | E142: 776121311 | F142: Penetrace | G142: m2 | H142: 90 | J142: =ROUND(I142*H142,2) -> 0 | K142: CS ÚRS 2020 01 | N142: základní | P142: =O142*H142 -> 0 | Q142: 7e-05 | R142: =Q142*H142 -> 0.0063 | S142: 0 | T142: =S142*H142 -> 0 | AR142: 16 | AT142: K | AU142: 2 | AY142: ROZPOCET | BE142: =IF(N142="základní",J142,0) -> 0 | BF142: =IF(N142="snížená",J142,0) -> 0 | BG142: =IF(N142="zákl. přenesená",J142,0) -> 0 | BH142: =IF(N142="sníž. přenesená",J142,0) -> 0 | BI142: =IF(N142="nulová",J142,0) -> 0 | BJ142: 1 | BK142: =ROUND(I142*H142,2) -> 0 | BL142: 16 | BM142: -2094965283
C143: 12 | D143: K | E143: 776-pc 1 | F143: Demontáž -odstranění starého Baletizolu | G143: m2 | H143: 90 | J143: =ROUND(I143*H143,2) -> 0 | N143: základní | P143: =O143*H143 -> 0 | Q143: 0 | R143: =Q143*H143 -> 0 | S143: 0.03 | T143: =S143*H143 -> 2.7 | AR143: 16 | AT143: K | AU143: 2 | AY143: ROZPOCET | BE143: =IF(N143="základní",J143,0) -> 0 | BF143: =IF(N143="snížená",J143,0) -> 0 | BG143: =IF(N143="zákl. přenesená",J143,0) -> 0 | BH143: =IF(N143="sníž. přenesená",J143,0) -> 0 | BI143: =IF(N143="nulová",J143,0) -> 0 | BJ143: 1 | BK143: =ROUND(I143*H143,2) -> 0 | BL143: 16 | BM143: 71421608
C144: 13 | D144: K | E144: 776-pc 2 | F144: Instalace gumokorkové komfortní podložky-lepení,slicování,řezání,broušení,tmelení | G144: m2 | H144: 90 | J144: =ROUND(I144*H144,2) -> 0 | N144: základní | P144: =O144*H144 -> 0 | Q144: 0.0003 | R144: =Q144*H144 -> 0.027 | S144: 0 | T144: =S144*H144 -> 0 | AR144: 16 | AT144: K | AU144: 2 | AY144: ROZPOCET | BE144: =IF(N144="základní",J144,0) -> 0 | BF144: =IF(N144="snížená",J144,0) -> 0 | BG144: =IF(N144="zákl. přenesená",J144,0) -> 0 | BH144: =IF(N144="sníž. přenesená",J144,0) -> 0 | BI144: =IF(N144="nulová",J144,0) -> 0 | BJ144: 1 | BK144: =ROUND(I144*H144,2) -> 0 | BL144: 16 | BM144: -1053709061
C145: 14 | D145: M | E145: 284pc 3 | F145: Gumokorková komfortní podložka BASF 3mm | G145: m2 | H145: 99 | J145: =ROUND(I145*H145,2) -> 0 | N145: základní | P145: =O145*H145 -> 0 | Q145: 0.00283 | R145: =Q145*H145 -> 0.28017 | S145: 0 | T145: =S145*H145 -> 0 | AR145: 32 | AT145: M | AU145: 2 | AY145: ROZPOCET | BE145: =IF(N145="základní",J145,0) -> 0 | BF145: =IF(N145="snížená",J145,0) -> 0 | BG145: =IF(N145="zákl. přenesená",J145,0) -> 0 | BH145: =IF(N145="sníž. přenesená",J145,0) -> 0 | BI145: =IF(N145="nulová",J145,0) -> 0 | BJ145: 1 | BK145: =ROUND(I145*H145,2) -> 0 | BL145: 16 | BM145: -1077306645
D146: VV | F146: 90*1,1 'Přepočtené koeficientem množství | H146: 99 | AT146: VV | AU146: 2 | AV146: 2 | AW146: False | AX146: 1 | AY146: ROZPOCET
C147: 15 | D147: K | E147: 776-pc 4 | F147: Nalepení baletního povrchu vč.řezání,lepení a dořezů a studeného svařování | G147: sada | H147: 90 | J147: =ROUND(I147*H147,2) -> 0 | N147: základní | P147: =O147*H147 -> 0 | Q147: 0 | R147: =Q147*H147 -> 0 | S147: 0 | T147: =S147*H147 -> 0 | AR147: 16 | AT147: K | AU147: 2 | AY147: ROZPOCET | BE147: =IF(N147="základní",J147,0) -> 0 | BF147: =IF(N147="snížená",J147,0) -> 0 | BG147: =IF(N147="zákl. přenesená",J147,0) -> 0 | BH147: =IF(N147="sníž. přenesená",J147,0) -> 0 | BI147: =IF(N147="nulová",J147,0) -> 0 | BJ147: 1 | BK147: =ROUND(I147*H147,2) -> 0 | BL147: 16 | BM147: -816911311
C148: 16 | D148: K | E148: 776-pc 5 | F148: Baletní povrch Baletizol Coppália v 2,0,100% vinyl,1.340g/m2EN13501,1,síla 2,0mm,jednostranný,skleněné vlákno | G148: m2 | H148: 99 | J148: =ROUND(I148*H148,2) -> 0 | N148: základní | P148: =O148*H148 -> 0 | Q148: 1e-05 | R148: =Q148*H148 -> 0.00099 | S148: 0 | T148: =S148*H148 -> 0 | AR148: 16 | AT148: K | AU148: 2 | AY148: ROZPOCET | BE148: =IF(N148="základní",J148,0) -> 0 | BF148: =IF(N148="snížená",J148,0) -> 0 | BG148: =IF(N148="zákl. přenesená",J148,0) -> 0 | BH148: =IF(N148="sníž. přenesená",J148,0) -> 0 | BI148: =IF(N148="nulová",J148,0) -> 0 | BJ148: 1 | BK148: =ROUND(I148*H148,2) -> 0 | BL148: 16 | BM148: 715211674
D149: VV | F149: 99 | H149: 99 | AT149: VV | AU149: 2 | AV149: 2 | AW149: True | AX149: 1 | AY149: ROZPOCET
C150: 17 | D150: K | E150: 776-pc 6 | F150: D+m 5cm sokl z baletního povrchu s DSL lištou ,100% vinyl,1.340g/m2,EN13501,1,síla 2,0mm,jednostranný,minerální vlákno | G150: m | H150: 33 | J150: =ROUND(I150*H150,2) -> 0 | N150: základní | P150: =O150*H150 -> 0 | Q150: 1e-05 | R150: =Q150*H150 -> 0.00033 | S150: 0 | T150: =S150*H150 -> 0 | AR150: 16 | AT150: K | AU150: 2 | AY150: ROZPOCET | BE150: =IF(N150="základní",J150,0) -> 0 | BF150: =IF(N150="snížená",J150,0) -> 0 | BG150: =IF(N150="zákl. přenesená",J150,0) -> 0 | BH150: =IF(N150="sníž. přenesená",J150,0) -> 0 | BI150: =IF(N150="nulová",J150,0) -> 0 | BJ150: 1 | BK150: =ROUND(I150*H150,2) -> 0 | BL150: 16 | BM150: 1407208520
C151: 18 | D151: K | E151: 998776201 | F151: Přesun hmot procentní pro podlahy povlakové v objektech v do 6 m | G151: % | J151: =ROUND(I151*H151,2) -> 0 | K151: CS ÚRS 2020 01 | N151: základní | P151: =O151*H151 -> 0 | Q151: 0 | R151: =Q151*H151 -> 0 | S151: 0 | T151: =S151*H151 -> 0 | AR151: 16 | AT151: K | AU151: 2 | AY151: ROZPOCET | BE151: =IF(N151="základní",J151,0) -> 0 | BF151: =IF(N151="snížená",J151,0) -> 0 | BG151: =IF(N151="zákl. přenesená",J151,0) -> 0 | BH151: =IF(N151="sníž. přenesená",J151,0) -> 0 | BI151: =IF(N151="nulová",J151,0) -> 0 | BJ151: 1 | BK151: =ROUND(I151*H151,2) -> 0 | BL151: 16 | BM151: 510821367
D152: D | E152: VRN | F152: Vedlejší rozpočtové náklady | J152: =BK152 -> 0 | P152: =P153+P155+P157 -> 0 | R152: =R153+R155+R157 -> 0 | T152: =T153+T155+T157 -> 0 | AR152: 5 | AT152: D | AU152: 0 | AY152: ROZPOCET | BK152: =BK153+BK155+BK157 -> 0
D153: D | E153: VRN3 | F153: Zařízení staveniště | J153: =BK153 -> 0 | P153: =P154 -> 0 | R153: =R154 -> 0 | T153: =T154 -> 0 | AR153: 5 | AT153: D | AU153: 1 | AY153: ROZPOCET | BK153: =BK154 -> 0
C154: 19 | D154: K | E154: 030001000 | F154: Zařízení staveniště 3% | G154: sada | H154: 1 | J154: =ROUND(I154*H154,2) -> 0 | K154: CS ÚRS 2020 01 | N154: základní | P154: =O154*H154 -> 0 | Q154: 0 | R154: =Q154*H154 -> 0 | S154: 0 | T154: =S154*H154 -> 0 | AR154: 1024 | AT154: K | AU154: 2 | AY154: ROZPOCET | BE154: =IF(N154="základní",J154,0) -> 0 | BF154: =IF(N154="snížená",J154,0) -> 0 | BG154: =IF(N154="zákl. přenesená",J154,0) -> 0 | BH154: =IF(N154="sníž. přenesená",J154,0) -> 0 | BI154: =IF(N154="nulová",J154,0) -> 0 | BJ154: 1 | BK154: =ROUND(I154*H154,2) -> 0 | BL154: 1024 | BM154: 1833812535
D155: D | E155: VRN6 | F155: Územní vlivy | J155: =BK155 -> 0 | P155: =P156 -> 0 | R155: =R156 -> 0 | T155: =T156 -> 0 | AR155: 5 | AT155: D | AU155: 1 | AY155: ROZPOCET | BK155: =BK156 -> 0
C156: 20 | D156: K | E156: 060001000 | F156: Územní vlivy 3,2% | G156: sada | H156: 1 | J156: =ROUND(I156*H156,2) -> 0 | K156: CS ÚRS 2020 01 | N156: základní | P156: =O156*H156 -> 0 | Q156: 0 | R156: =Q156*H156 -> 0 | S156: 0 | T156: =S156*H156 -> 0 | AR156: 1024 | AT156: K | AU156: 2 | AY156: ROZPOCET | BE156: =IF(N156="základní",J156,0) -> 0 | BF156: =IF(N156="snížená",J156,0) -> 0 | BG156: =IF(N156="zákl. přenesená",J156,0) -> 0 | BH156: =IF(N156="sníž. přenesená",J156,0) -> 0 | BI156: =IF(N156="nulová",J156,0) -> 0 | BJ156: 1 | BK156: =ROUND(I156*H156,2) -> 0 | BL156: 1024 | BM156: -753450777
D157: D | E157: VRN7 | F157: Provozní vlivy | J157: =BK157 -> 0 | P157: =P158 -> 0 | R157: =R158 -> 0 | T157: =T158 -> 0 | AR157: 5 | AT157: D | AU157: 1 | AY157: ROZPOCET | BK157: =BK158 -> 0
C158: 21 | D158: K | E158: 070001000 | F158: Provozní vlivy 1% | G158: sada | H158: 1 | J158: =ROUND(I158*H158,2) -> 0 | K158: CS ÚRS 2020 01 | N158: základní | P158: =O158*H158 -> 0 | Q158: 0 | R158: =Q158*H158 -> 0 | S158: 0 | T158: =S158*H158 -> 0 | AR158: 1024 | AT158: K | AU158: 2 | AY158: ROZPOCET | BE158: =IF(N158="základní",J158,0) -> 0 | BF158: =IF(N158="snížená",J158,0) -> 0 | BG158: =IF(N158="zákl. přenesená",J158,0) -> 0 | BH158: =IF(N158="sníž. přenesená",J158,0) -> 0 | BI158: =IF(N158="nulová",J158,0) -> 0 | BJ158: 1 | BK158: =ROUND(I158*H158,2) -> 0 | BL158: 1024 | BM158: -1206996442
