Workbook
Name CelkemDPHVypocet: Stavba!$H$43
Name CenaCelkem: Stavba!$G$29
Name CenaCelkemBezDPH: Stavba!$G$28
Name CenaCelkemVypocet: Stavba!$I$43
Name cisloobjektu: Stavba!$D$3
Name CisloRozpoctu: '[1]Krycí list'!$C$2
Name CisloStavby: Stavba!$D$2
Name cislostavby: '[1]Krycí list'!$A$7
Name CisloStavebnihoRozpoctu: Stavba!$D$4
Name dadresa: Stavba!$D$12:$G$12
Name DIČ: Stavba!$I$12
Name dmisto: Stavba!$E$13:$G$13
Name DPHSni: Stavba!$G$24
Name DPHZakl: Stavba!$G$26
Name dpsc: Stavba!$D$13
Name IČO: Stavba!$I$11
Name Mena: Stavba!$J$29
Name MistoStavby: Stavba!$D$4
Name nazevobjektu: Stavba!$E$3
Name NazevRozpoctu: '[1]Krycí list'!$D$2
Name NazevStavby: Stavba!$E$2
Name nazevstavby: '[1]Krycí list'!$C$7
Name NazevStavebnihoRozpoctu: Stavba!$E$4
Name oadresa: Stavba!$D$6
Name Objednatel: Stavba!$D$5
Name Objekt: Stavba!$B$38
Name odic: Stavba!$I$6
Name oico: Stavba!$I$5
Name omisto: Stavba!$E$7
Name onazev: Stavba!$D$6
Name opsc: Stavba!$D$7
Name padresa: Stavba!$D$9
Name pdic: Stavba!$I$9
Name pico: Stavba!$I$8
Name pmisto: Stavba!$E$10
Name PocetMJ: #REF!
Name PoptavkaID: Stavba!$A$1
Name pPSC: Stavba!$D$10
Name Projektant: Stavba!$D$8
Name SazbaDPH1: Stavba!$E$23
Name SazbaDPH1: '[1]Krycí list'!$C$30
Name SazbaDPH2: Stavba!$E$25
Name SazbaDPH2: '[1]Krycí list'!$C$32
Name SloupecCC: #REF!
Name SloupecCisloPol: #REF!
Name SloupecJC: #REF!
Name SloupecMJ: #REF!
Name SloupecMnozstvi: #REF!
Name SloupecNazPol: #REF!
Name SloupecPC: #REF!
Name Vypracoval: Stavba!$D$14
Name ZakladDPHSni: Stavba!$G$23
Name ZakladDPHSniVypocet: Stavba!$F$43
Name ZakladDPHZakl: Stavba!$G$25
Name ZakladDPHZaklVypocet: Stavba!$G$43
Name ZaObjednatele: Stavba!$G$34
Name Zaokrouhleni: Stavba!$G$27
Name ZaZhotovitele: Stavba!$D$34
Name Zhotovitel: Stavba!$D$11:$G$11

Sheet Pokyny pro vyplnění
A1: Pokyny pro vyplnění
A2: Ve všech listech tohoto souboru můžete měnit pouze buňky s modrým pozadím. Jedná se o tyto údaje : - údaje o firmě - jednotkové ceny položek zadané na maximálně dvě desetinná místa

Sheet Stavba
A1: #RTSROZP# | B1: Soupis stavebních prací, dodávek a služeb
B2: Stavba: | D2: 141/2020/01 | E2: Starobrněnská 20 oprava štítu
B3: Objekt: | D3: 141/2020/01 | E3: Starobrněnská 20 oprava štítu
A4: 3960 | B4: Rozpočet: | D4: 141/2020/01 | E4: Starobrněnská 20 oprava štítu
B5: Zadavatel | H5: IČO:
H6: DIČ:
B8: Projektant: | H8: IČO:
H9: DIČ:
B11: Zhotovitel: | H11: IČO:
H12: DIČ:
B14: Vypracoval: | D14: Marečková
B15: Rozpis ceny | I15: Celkem
A16: HSV | B16: HSV | I16: =SUMIF(F50:F58,A16,I50:I58)+SUMIF(F50:F58,"PSU",I50:I58) -> 0
A17: PSV | B17: PSV | I17: =SUMIF(F50:F58,A17,I50:I58) -> 0
A18: MON | B18: MON | I18: =SUMIF(F50:F58,A18,I50:I58) -> 0
A19: VN | B19: Vedlejší náklady | I19: =SUMIF(F50:F58,A19,I50:I58) -> 0
A20: ON | B20: Ostatní náklady | I20: =SUMIF(F50:F58,A20,I50:I58) -> 0
B21: Celkem | I21: =SUM(I16:J20) -> 0
B22: Rekapitulace daní
A23: =ZakladDPHSni*SazbaDPH1/100 -> 0 | B23: Základ pro sníženou DPH | E23: 15 | F23: % | G23: =ZakladDPHSniVypocet -> 0 | J23: =Mena -> CZK
A24: =(A23-INT(A23))*100 -> 0 | B24: Snížená DPH | E24: =SazbaDPH1 -> 15 | F24: % | G24: =A23 -> 0 | J24: =Mena -> CZK
A25: =ZakladDPHZakl*SazbaDPH2/100 -> 0 | B25: Základ pro základní DPH | E25: 21 | F25: % | G25: =ZakladDPHZaklVypocet -> 0 | J25: =Mena -> CZK
A26: =(A25-INT(A25))*100 -> 0 | B26: Základní DPH | E26: =SazbaDPH2 -> 21 | F26: % | G26: =A25 -> 0 | J26: =Mena -> CZK
A27: =ZakladDPHSni+DPHSni+ZakladDPHZakl+DPHZakl -> 0 | B27: Zaokrouhlení | G27: =CenaCelkem-(ZakladDPHSni+DPHSni+ZakladDPHZakl+DPHZakl) -> 0 | J27: =Mena -> CZK
B28: Cena celkem bez DPH | G28: =ZakladDPHSniVypocet+ZakladDPHZaklVypocet -> 0 | J28: =Mena -> CZK
A29: =(A27-INT(A27))*100 -> 0 | B29: Cena celkem s DPH | G29: =A27 -> 0 | J29: CZK
C32: v | F32: dne
D34: sdfsdf | G34: OSM MMB
D35: Za zhotovitele | H35: Za objednatele
B37: Rekapitulace dílčích částí
A38: #CASTI>> | B38: Číslo | C38: Název | F38: =B23 -> Základ pro sníženou DPH | G38: =B25 -> Základ pro základní DPH | H38: DPH celkem | I38: Cena celkem | J38: %
A39: 1 | B39: Stavba | F39: ='141_2020_01 141_2020_01 Pol'!AE119 -> 0 | G39: ='141_2020_01 141_2020_01 Pol'!AF119 -> 0 | H39: =(F39*SazbaDPH1/100)+(G39*SazbaDPH2/100) -> 0 | I39: =F39+G39+H39 -> 0 | J39: =IF(CenaCelkemVypocet=0,"",I39/CenaCelkemVypocet*100)
A40: 2 | C40: Stavební objekt | H40: =(F40*SazbaDPH1/100)+(G40*SazbaDPH2/100) -> 0 | I40: =F40+G40+H40 -> 0 | J40: =IF(CenaCelkemVypocet=0,"",I40/CenaCelkemVypocet*100)
A41: 2 | B41: 141/2020/01 | C41: Starobrněnská 20 oprava štítu | F41: ='141_2020_01 141_2020_01 Pol'!AE119 -> 0 | G41: ='141_2020_01 141_2020_01 Pol'!AF119 -> 0 | H41: =(F41*SazbaDPH1/100)+(G41*SazbaDPH2/100) -> 0 | I41: =F41+G41+H41 -> 0 | J41: =IF(CenaCelkemVypocet=0,"",I41/CenaCelkemVypocet*100)
A42: 3 | B42: 141/2020/01 | C42: Starobrněnská 20 oprava štítu | F42: ='141_2020_01 141_2020_01 Pol'!AE119 -> 0 | G42: ='141_2020_01 141_2020_01 Pol'!AF119 -> 0 | H42: =(F42*SazbaDPH1/100)+(G42*SazbaDPH2/100) -> 0 | I42: =F42+G42+H42 -> 0 | J42: =IF(CenaCelkemVypocet=0,"",I42/CenaCelkemVypocet*100)
B43: Celkem za stavbu | F43: =SUMIF(A39:A42,"=1",F39:F42) -> 0 | G43: =SUMIF(A39:A42,"=1",G39:G42) -> 0 | H43: =SUMIF(A39:A42,"=1",H39:H42) -> 0 | I43: =SUMIF(A39:A42,"=1",I39:I42) -> 0 | J43: =SUMIF(A39:A42,"=1",J39:J42) -> 0
B47: Rekapitulace dílů
B49: Číslo | C49: Název | F49: Typ dílu | I49: Celkem | J49: %
B50: 62 | C50: Úpravy povrchů vnější | F50: HSV | I50: ='141_2020_01 141_2020_01 Pol'!G8 -> 0 | J50: =IF(I59=0,"",I50/I59*100)
B51: 94 | C51: Lešení a stavební výtahy | F51: HSV | I51: ='141_2020_01 141_2020_01 Pol'!G18 -> 0 | J51: =IF(I59=0,"",I51/I59*100)
...

Sheet VzorPolozky
A1: Položkový rozpočet
A2: S:
A3: O:
A4: R:

Sheet 141_2020_01 141_2020_01 Pol
A1: Položkový soupis prací a dodávek | AG1: #TypZaznamu#
A2: S: | B2: 141/2020/01 | C2: Starobrněnská 20 oprava štítu | AG2: STA
A3: O: | B3: 141/2020/01 | C3: Starobrněnská 20 oprava štítu | AC3: STA | AG3: OBJ
A4: R: | B4: 141/2020/01 | C4: Starobrněnská 20 oprava štítu | AG4: ROZ
A6: P.č. | B6: Číslo položky | C6: Název položky | D6: MJ | E6: Množství | F6: Cena / MJ | G6: Celkem | H6: Dodávka | I6: Dodávka celk. | J6: Montáž | K6: Montáž celk. | L6: DPH | M6: Cena s DPH | N6: Hmotnost / MJ | O6: Hmotnost celk.(t) | P6: Dem. hmotnost / MJ | Q6: Dem. hmotnost celk.(t) | R6: Ceník | S6: Cen. soustava / platnost | T6: Cenová úroveň | U6: Nhod / MJ | V6: Nhod celk. | W6: Dodavatel | X6: Typ položky
A8: Díl: | B8: 62 | C8: Úpravy povrchů vnější | G8: =SUMIF(AG9:AG17,"<>NOR",G9:G17) -> 0 | I8: =SUM(I9:I17) -> 0 | K8: =SUM(K9:K17) -> 0 | M8: =SUM(M9:M17) -> 0 | O8: =SUM(O9:O17) -> 1.55 | Q8: =SUM(Q9:Q17) -> 0 | V8: =SUM(V9:V17) -> 75.08 | AG8: DIL
A9: 1 | B9: 622471319RV6 | C9: Nátěry a nástřiky vnějších stěn a pilířů základním a krycím nátěrem (nebo přestřikem povrchu) hmota silikátová, složitost 5 , | D9: m2 | E9: 32.5 | G9: =ROUND(E9*F9,2) -> 0 | I9: =ROUND(E9*H9,2) -> 0 | K9: =ROUND(E9*J9,2) -> 0 | L9: 21 | M9: =G9*(1+L9/100) -> 0 | N9: 0.00103 | O9: =ROUND(E9*N9,2) -> 0.03 | P9: 0 | Q9: =ROUND(E9*P9,2) -> 0 | R9: 801-1 | S9: RTS 20/ I | T9: RTS 20/ I | U9: 0.33 | V9: =ROUND(E9*U9,2) -> 10.73 | X9: Práce | AG9: POL1_
C10: Penetrace + 2 x krycí nátěr. | AG10: SPI
C11: štít : 13*5/2 | E11: 32.5 | AG11: VV | AH11: 0
AG12: SPU
A13: 2 | B13: 622472115R00 | C13: Omítka vnější stěn z hotových maltových směsí štuková ze suché maltové směsi_x000D_ stupeň složitosti 5, ručně, | D13: m2 | E13: 32.5 | G13: =ROUND(E13*F13,2) -> 0 | I13: =ROUND(E13*H13,2) -> 0 | K13: =ROUND(E13*J13,2) -> 0 | L13: 21 | M13: =G13*(1+L13/100) -> 0 | N13: 0.0468 | O13: =ROUND(E13*N13,2) -> 1.52 | P13: 0 | Q13: =ROUND(E13*P13,2) -> 0 | R13: 801-1 | S13: RTS 20/ I | T13: RTS 20/ I | U13: 1.8 | V13: =ROUND(E13*U13,2) -> 58.5 | X13: Práce | AG13: POL1_
C14: kompletní omítkové souvrství | AG14: SPI
AG15: SPU
A16: 3 | B16: 622904115R00 | C16: Očištění fasád tlakovou vodou, složitost fasády 3 - 5 | D16: m2 | E16: 32.5 | G16: =ROUND(E16*F16,2) -> 0 | I16: =ROUND(E16*H16,2) -> 0 | K16: =ROUND(E16*J16,2) -> 0 | L16: 21 | M16: =G16*(1+L16/100) -> 0 | N16: 2e-05 | O16: =ROUND(E16*N16,2) -> 0 | P16: 0 | Q16: =ROUND(E16*P16,2) -> 0 | R16: 801-1 | S16: RTS 20/ I | T16: RTS 20/ I | U16: 0.18 | V16: =ROUND(E16*U16,2) -> 5.85 | X16: Práce | AG16: POL1_
AG17: SPU
A18: Díl: | B18: 94 | C18: Lešení a stavební výtahy | G18: =SUMIF(AG19:AG54,"<>NOR",G19:G54) -> 0 | I18: =SUM(I19:I54) -> 0 | K18: =SUM(K19:K54) -> 0 | M18: =SUM(M19:M54) -> 0 | O18: =SUM(O19:O54) -> 0.13 | Q18: =SUM(Q19:Q54) -> 0 | V18: =SUM(V19:V54) -> 56.03 | AG18: DIL
A19: 4 | B19: 944944011R00 | C19: Montáž ochranné sítě z umělých vláken | D19: m2 | E19: 30 | G19: =ROUND(E19*F19,2) -> 0 | I19: =ROUND(E19*H19,2) -> 0 | K19: =ROUND(E19*J19,2) -> 0 | L19: 21 | M19: =G19*(1+L19/100) -> 0 | N19: 0 | O19: =ROUND(E19*N19,2) -> 0 | P19: 0 | Q19: =ROUND(E19*P19,2) -> 0 | R19: 800-3 | S19: RTS 20/ I | T19: RTS 20/ I | U19: 0.03 | V19: =ROUND(E19*U19,2) -> 0.9 | X19: Práce | AG19: POL1_
C20: 10*1,5*2 | E20: 30 | AG20: VV | AH20: 0
AG21: SPU
A22: 5 | B22: 944944081R00 | C22: Demontáž ochranné sítě z umělých vláken | D22: m2 | E22: 30 | G22: =ROUND(E22*F22,2) -> 0 | I22: =ROUND(E22*H22,2) -> 0 | K22: =ROUND(E22*J22,2) -> 0 | L22: 21 | M22: =G22*(1+L22/100) -> 0 | N22: 0 | O22: =ROUND(E22*N22,2) -> 0 | P22: 0 | Q22: =ROUND(E22*P22,2) -> 0 | R22: 800-3 | S22: RTS 20/ I | T22: RTS 20/ I | U22: 0.02 | V22: =ROUND(E22*U22,2) -> 0.6 | X22: Práce | AG22: POL1_
AG23: SPU
A24: 6 | B24: 944945013R00 | C24: Montáž záchytné stříšky šířky přes 2 m | D24: m | E24: 5 | G24: =ROUND(E24*F24,2) -> 0 | I24: =ROUND(E24*H24,2) -> 0 | K24: =ROUND(E24*J24,2) -> 0 | L24: 21 | M24: =G24*(1+L24/100) -> 0 | N24: 0.02372 | O24: =ROUND(E24*N24,2) -> 0.12 | P24: 0 | Q24: =ROUND(E24*P24,2) -> 0 | R24: 800-3 | S24: RTS 20/ I | T24: RTS 20/ I | U24: 0.239 | V24: =ROUND(E24*U24,2) -> 1.2 | X24: Práce | AG24: POL1_
AG25: SPU
A26: 7 | B26: 944945813R00 | C26: Demontáž záchytné stříšky šířky přes 2 m | D26: m | E26: 5 | G26: =ROUND(E26*F26,2) -> 0 | I26: =ROUND(E26*H26,2) -> 0 | K26: =ROUND(E26*J26,2) -> 0 | L26: 21 | M26: =G26*(1+L26/100) -> 0 | N26: 0 | O26: =ROUND(E26*N26,2) -> 0 | P26: 0 | Q26: =ROUND(E26*P26,2) -> 0 | R26: 800-3 | S26: RTS 20/ I | T26: RTS 20/ I | U26: 0.154 | V26: =ROUND(E26*U26,2) -> 0.77 | X26: Práce | AG26: POL1_
C27: zřizované současně s lehkým nebo těžkým lešením, | AG27: SPI
AG28: SPU
A29: 8 | B29: 944946111RT2 | C29: Ochrana před propadem suti na lešových podlahách z geotextilie, včetně dodávky textílie, 500 g/m2 | D29: m2 | E29: 19.5 | G29: =ROUND(E29*F29,2) -> 0 | I29: =ROUND(E29*H29,2) -> 0 | K29: =ROUND(E29*J29,2) -> 0 | L29: 21 | M29: =G29*(1+L29/100) -> 0 | N29: 0.0006 | O29: =ROUND(E29*N29,2) -> 0.01 | P29: 0 | Q29: =ROUND(E29*P29,2) -> 0 | R29: 800-3 | S29: RTS 20/ I | T29: RTS 20/ I | U29: 0.04 | V29: =ROUND(E29*U29,2) -> 0.78 | X29: Práce | AG29: POL1_
C30: 13*1,5 | E30: 19.5 | AG30: VV | AH30: 0
AG31: SPU
A32: 9 | B32: 945931101R00 | C32: Zřízení horolezeckého úvazu pro práci ve výškách | D32: kus | E32: 3 | G32: =ROUND(E32*F32,2) -> 0 | I32: =ROUND(E32*H32,2) -> 0 | K32: =ROUND(E32*J32,2) -> 0 | L32: 21 | M32: =G32*(1+L32/100) -> 0 | N32: 0.0006 | O32: =ROUND(E32*N32,2) -> 0 | P32: 0 | Q32: =ROUND(E32*P32,2) -> 0 | R32: 800-3 | S32: RTS 20/ I | T32: RTS 20/ I | U32: 4 | V32: =ROUND(E32*U32,2) -> 12 | X32: Práce | AG32: POL1_
C33: při opravách vnějších plášťů budov horolezeckým způsobem, | AG33: SPI
AG34: SPU
A35: 10 | B35: 945943001R00 | C35: Montáž závěsného lešení konzolového na chemické kotvy, průchozí šířka do 1 m, výška zábradlí 1,5 m | D35: m | E35: 13 | G35: =ROUND(E35*F35,2) -> 0 | I35: =ROUND(E35*H35,2) -> 0 | K35: =ROUND(E35*J35,2) -> 0 | L35: 21 | M35: =G35*(1+L35/100) -> 0 | N35: 0 | O35: =ROUND(E35*N35,2) -> 0 | P35: 0 | Q35: =ROUND(E35*P35,2) -> 0 | R35: 800-3 | S35: RTS 20/ I | T35: RTS 20/ I | U35: 1.99 | V35: =ROUND(E35*U35,2) -> 25.87 | X35: Práce | AG35: POL1_
C36: horolezeckým způsobem pro montážní a údržbové práce na střechách, věžích, pro budování nástaveb na panelové domy, při stavbách a opravách komínů a říms, montáží podbití, instalaci reklam | AG36: SPI | BA36: =C36 -> horolezeckým způsobem pro montážní a údržbové práce na střechách, věžích, pro budování nástaveb na panelové domy, při stavbách a opravách komínů a říms, montáží podbití, instalaci reklam
AG37: SPU
A38: 11 | B38: 945943091R00 | C38: Montáž závěsného lešení konzolového Pronájem konzolového lešení za den | D38: m | E38: 130 | G38: =ROUND(E38*F38,2) -> 0 | I38: =ROUND(E38*H38,2) -> 0 | K38: =ROUND(E38*J38,2) -> 0 | L38: 21 | M38: =G38*(1+L38/100) -> 0 | N38: 0 | O38: =ROUND(E38*N38,2) -> 0 | P38: 0 | Q38: =ROUND(E38*P38,2) -> 0 | R38: 800-3 | S38: RTS 20/ I | T38: RTS 20/ I | U38: 0 | V38: =ROUND(E38*U38,2) -> 0 | X38: Práce | AG38: POL1_
C39: horolezeckým způsobem pro montážní a údržbové práce na střechách, věžích, pro budování nástaveb na panelové domy, při stavbách a opravách komínů a říms, montáží podbití, instalaci reklam | AG39: SPI | BA39: =C39 -> horolezeckým způsobem pro montážní a údržbové práce na střechách, věžích, pro budování nástaveb na panelové domy, při stavbách a opravách komínů a říms, montáží podbití, instalaci reklam
C40: 10 dní : 13*10 | E40: 130 | AG40: VV | AH40: 0
AG41: SPU
A42: 12 | B42: 945943501R00 | C42: Montáž závěsného lešení konzolového Dovoz a odvoz konzolového závěsného lešení sady pro 50-130 m | D42: km | E42: 15 | G42: =ROUND(E42*F42,2) -> 0 | I42: =ROUND(E42*H42,2) -> 0 | K42: =ROUND(E42*J42,2) -> 0 | L42: 21 | M42: =G42*(1+L42/100) -> 0 | N42: 0 | O42: =ROUND(E42*N42,2) -> 0 | P42: 0 | Q42: =ROUND(E42*P42,2) -> 0 | R42: 800-3 | S42: RTS 20/ I | T42: RTS 20/ I | U42: 0 | V42: =ROUND(E42*U42,2) -> 0 | X42: Práce | AG42: POL1_
...
