Workbook
Name CelkemDPHVypocet: Stavba!$H$43
Name CenaCelkem: Stavba!$G$29
Name CenaCelkemBezDPH: Stavba!$G$28
Name CenaCelkemVypocet: Stavba!$I$43
Name cisloobjektu: Stavba!$D$3
Name CisloRozpoctu: '[1]Krycí list'!$C$2
Name CisloStavby: Stavba!$D$2
Name cislostavby: '[1]Krycí list'!$A$7
Name CisloStavebnihoRozpoctu: Stavba!$D$4
Name dadresa: Stavba!$D$12:$G$12
Name DIČ: Stavba!$I$12
Name dmisto: Stavba!$E$13:$G$13
Name DPHSni: Stavba!$G$24
Name DPHZakl: Stavba!$G$26
Name dpsc: Stavba!$D$13
Name IČO: Stavba!$I$11
Name Mena: Stavba!$J$29
Name MistoStavby: Stavba!$D$4
Name nazevobjektu: Stavba!$E$3
Name NazevRozpoctu: '[1]Krycí list'!$D$2
Name NazevStavby: Stavba!$E$2
Name nazevstavby: '[1]Krycí list'!$C$7
Name NazevStavebnihoRozpoctu: Stavba!$E$4
Name oadresa: Stavba!$D$6
Name Objednatel: Stavba!$D$5
Name Objekt: Stavba!$B$38
Name odic: Stavba!$I$6
Name oico: Stavba!$I$5
Name omisto: Stavba!$E$7
Name onazev: Stavba!$D$6
Name opsc: Stavba!$D$7
Name padresa: Stavba!$D$9
Name pdic: Stavba!$I$9
Name pico: Stavba!$I$8
Name pmisto: Stavba!$E$10
Name PocetMJ: #REF!
Name PoptavkaID: Stavba!$A$1
Name pPSC: Stavba!$D$10
Name Projektant: Stavba!$D$8
Name SazbaDPH1: Stavba!$E$23
Name SazbaDPH1: '[1]Krycí list'!$C$30
Name SazbaDPH2: Stavba!$E$25
Name SazbaDPH2: '[1]Krycí list'!$C$32
Name SloupecCC: #REF!
Name SloupecCisloPol: #REF!
Name SloupecJC: #REF!
Name SloupecMJ: #REF!
Name SloupecMnozstvi: #REF!
Name SloupecNazPol: #REF!
Name SloupecPC: #REF!
Name Vypracoval: Stavba!$D$14
Name ZakladDPHSni: Stavba!$G$23
Name ZakladDPHSniVypocet: Stavba!$F$43
Name ZakladDPHZakl: Stavba!$G$25
Name ZakladDPHZaklVypocet: Stavba!$G$43
Name ZaObjednatele: Stavba!$G$34
Name Zaokrouhleni: Stavba!$G$27
Name ZaZhotovitele: Stavba!$D$34
Name Zhotovitel: Stavba!$D$11:$G$11

Sheet Pokyny pro vyplnění
A1: Pokyny pro vyplnění
A2: Ve všech listech tohoto souboru můžete měnit pouze buňky s modrým pozadím. Jedná se o tyto údaje : - údaje o firmě - jednotkové ceny položek zadané na maximálně dvě desetinná místa

Sheet Stavba
A1: #RTSROZP# | B1: Soupis stavebních prací, dodávek a služeb
B2: Stavba: | D2: 141/2020/01 | E2: Starobrněnská 20 oprava štítu
B3: Objekt: | D3: 141/2020/01 | E3: Starobrněnská 20 oprava štítu
A4: 3960 | B4: Rozpočet: | D4: 141/2020/01 | E4: Starobrněnská 20 oprava štítu
B5: Zadavatel | H5: IČO:
H6: DIČ:
B8: Projektant: | H8: IČO:
H9: DIČ:
B11: Zhotovitel: | H11: IČO:
H12: DIČ:
B14: Vypracoval: | D14: Marečková
B15: Rozpis ceny | I15: Celkem
A16: HSV | B16: HSV | I16: =SUMIF(F50:F58,A16,I50:I58)+SUMIF(F50:F58,"PSU",I50:I58) -> 0
A17: PSV | B17: PSV | I17: =SUMIF(F50:F58,A17,I50:I58) -> 0
A18: MON | B18: MON | I18: =SUMIF(F50:F58,A18,I50:I58) -> 0
A19: VN | B19: Vedlejší náklady | I19: =SUMIF(F50:F58,A19,I50:I58) -> 0
A20: ON | B20: Ostatní náklady | I20: =SUMIF(F50:F58,A20,I50:I58) -> 0
B21: Celkem | I21: =SUM(I16:J20) -> 0
B22: Rekapitulace daní
A23: =ZakladDPHSni*SazbaDPH1/100 -> 0 | B23: Základ pro sníženou DPH | E23: 15 | F23: % | G23: =ZakladDPHSniVypocet -> 0 | J23: =Mena -> CZK
A24: =(A23-INT(A23))*100 -> 0 | B24: Snížená DPH | E24: =SazbaDPH1 -> 15 | F24: % | G24: =A23 -> 0 | J24: =Mena -> CZK
A25: =ZakladDPHZakl*SazbaDPH2/100 -> 0 | B25: Základ pro základní DPH | E25: 21 | F25: % | G25: =ZakladDPHZaklVypocet -> 0 | J25: =Mena -> CZK
A26: =(A25-INT(A25))*100 -> 0 | B26: Základní DPH | E26: =SazbaDPH2 -> 21 | F26: % | G26: =A25 -> 0 | J26: =Mena -> CZK
A27: =ZakladDPHSni+DPHSni+ZakladDPHZakl+DPHZakl -> 0 | B27: Zaokrouhlení | G27: =CenaCelkem-(ZakladDPHSni+DPHSni+ZakladDPHZakl+DPHZakl) -> 0 | J27: =Mena -> CZK
B28: Cena celkem bez DPH | G28: =ZakladDPHSniVypocet+ZakladDPHZaklVypocet -> 0 | J28: =Mena -> CZK
A29: =(A27-INT(A27))*100 -> 0 | B29: Cena celkem s DPH | G29: =A27 -> 0 | J29: CZK
C32: v | F32: dne
D34: sdfsdf | G34: OSM MMB
D35: Za zhotovitele | H35: Za objednatele
B37: Rekapitulace dílčích částí
A38: #CASTI>> | B38: Číslo | C38: Název | F38: =B23 -> Základ pro sníženou DPH | G38: =B25 -> Základ pro základní DPH | H38: DPH celkem | I38: Cena celkem | J38: %
A39: 1 | B39: Stavba | F39: ='141_2020_01 141_2020_01 Pol'!AE119 -> 0 | G39: ='141_2020_01 141_2020_01 Pol'!AF119 -> 0 | H39: =(F39*SazbaDPH1/100)+(G39*SazbaDPH2/100) -> 0 | I39: =F39+G39+H39 -> 0 | J39: =IF(CenaCelkemVypocet=0,"",I39/CenaCelkemVypocet*100)
A40: 2 | C40: Stavební objekt | H40: =(F40*SazbaDPH1/100)+(G40*SazbaDPH2/100) -> 0 | I40: =F40+G40+H40 -> 0 | J40: =IF(CenaCelkemVypocet=0,"",I40/CenaCelkemVypocet*100)
A41: 2 | B41: 141/2020/01 | C41: Starobrněnská 20 oprava štítu | F41: ='141_2020_01 141_2020_01 Pol'!AE119 -> 0 | G41: ='141_2020_01 141_2020_01 Pol'!AF119 -> 0 | H41: =(F41*SazbaDPH1/100)+(G41*SazbaDPH2/100) -> 0 | I41: =F41+G41+H41 -> 0 | J41: =IF(CenaCelkemVypocet=0,"",I41/CenaCelkemVypocet*100)
A42: 3 | B42: 141/2020/01 | C42: Starobrněnská 20 oprava štítu | F42: ='141_2020_01 141_2020_01 Pol'!AE119 -> 0 | G42: ='141_2020_01 141_2020_01 Pol'!AF119 -> 0 | H42: =(F42*SazbaDPH1/100)+(G42*SazbaDPH2/100) -> 0 | I42: =F42+G42+H42 -> 0 | J42: =IF(CenaCelkemVypocet=0,"",I42/CenaCelkemVypocet*100)
B43: Celkem za stavbu | F43: =SUMIF(A39:A42,"=1",F39:F42) -> 0 | G43: =SUMIF(A39:A42,"=1",G39:G42) -> 0 | H43: =SUMIF(A39:A42,"=1",H39:H42) -> 0 | I43: =SUMIF(A39:A42,"=1",I39:I42) -> 0 | J43: =SUMIF(A39:A42,"=1",J39:J42) -> 0
B47: Rekapitulace dílů
B49: Číslo | C49: Název | F49: Typ dílu | I49: Celkem | J49: %
B50: 62 | C50: Úpravy povrchů vnější | F50: HSV | I50: ='141_2020_01 141_2020_01 Pol'!G8 -> 0 | J50: =IF(I59=0,"",I50/I59*100)
B51: 94 | C51: Lešení a stavební výtahy | F51: HSV | I51: ='141_2020_01 141_2020_01 Pol'!G18 -> 0 | J51: =IF(I59=0,"",I51/I59*100)
B52: 95 | C52: Dokončovací konstrukce na pozemních stavbách | F52: HSV | I52: ='141_2020_01 141_2020_01 Pol'!G55 -> 0 | J52: =IF(I59=0,"",I52/I59*100)
B53: 96 | C53: Bourání konstrukcí | F53: HSV | I53: ='141_2020_01 141_2020_01 Pol'!G59 -> 0 | J53: =IF(I59=0,"",I53/I59*100)
B54: 99 | C54: Staveništní přesun hmot | F54: HSV | I54: ='141_2020_01 141_2020_01 Pol'!G62 -> 0 | J54: =IF(I59=0,"",I54/I59*100)
B55: 764 | C55: Konstrukce klempířské | F55: PSV | I55: ='141_2020_01 141_2020_01 Pol'!G66 -> 0 | J55: =IF(I59=0,"",I55/I59*100)
B56: D96 | C56: Přesuny suti a vybouraných hmot | F56: PSU | I56: ='141_2020_01 141_2020_01 Pol'!G79 -> 0 | J56: =IF(I59=0,"",I56/I59*100)
B57: VN | C57: Vedlejší náklady | F57: VN | I57: ='141_2020_01 141_2020_01 Pol'!G98 -> 0 | J57: =IF(I59=0,"",I57/I59*100)
B58: ON | C58: Ostatní náklady | F58: ON | I58: ='141_2020_01 141_2020_01 Pol'!G109 -> 0 | J58: =IF(I59=0,"",I58/I59*100)
B59: Cena celkem | I59: =SUM(I50:I58) -> 0 | J59: =SUM(J50:J58) -> 0

Sheet VzorPolozky
A1: Položkový rozpočet
A2: S:
A3: O:
A4: R:

Sheet 141_2020_01 141_2020_01 Pol
A1: Položkový soupis prací a dodávek | AG1: #TypZaznamu#
A2: S: | B2: 141/2020/01 | C2: Starobrněnská 20 oprava štítu | AG2: STA
A3: O: | B3: 141/2020/01 | C3: Starobrněnská 20 oprava štítu | AC3: STA | AG3: OBJ
A4: R: | B4: 141/2020/01 | C4: Starobrněnská 20 oprava štítu | AG4: ROZ
A6: P.č. | B6: Číslo položky | C6: Název položky | D6: MJ | E6: Množství | F6: Cena / MJ | G6: Celkem | H6: Dodávka | I6: Dodávka celk. | J6: Montáž | K6: Montáž celk. | L6: DPH | M6: Cena s DPH | N6: Hmotnost / MJ | O6: Hmotnost celk.(t) | P6: Dem. hmotnost / MJ | Q6: Dem. hmotnost celk.(t) | R6: Ceník | S6: Cen. soustava / platnost | T6: Cenová úroveň | U6: Nhod / MJ | V6: Nhod celk. | W6: Dodavatel | X6: Typ položky
A8: Díl: | B8: 62 | C8: Úpravy povrchů vnější | G8: =SUMIF(AG9:AG17,"<>NOR",G9:G17) -> 0 | I8: =SUM(I9:I17) -> 0 | K8: =SUM(K9:K17) -> 0 | M8: =SUM(M9:M17) -> 0 | O8: =SUM(O9:O17) -> 1.55 | Q8: =SUM(Q9:Q17) -> 0 | V8: =SUM(V9:V17) -> 75.08 | AG8: DIL
A9: 1 | B9: 622471319RV6 | C9: Nátěry a nástřiky vnějších stěn a pilířů základním a krycím nátěrem (nebo přestřikem povrchu) hmota silikátová, složitost 5 , | D9: m2 | E9: 32.5 | G9: =ROUND(E9*F9,2) -> 0 | I9: =ROUND(E9*H9,2) -> 0 | K9: =ROUND(E9*J9,2) -> 0 | L9: 21 | M9: =G9*(1+L9/100) -> 0 | N9: 0.00103 | O9: =ROUND(E9*N9,2) -> 0.03 | P9: 0 | Q9: =ROUND(E9*P9,2) -> 0 | R9: 801-1 | S9: RTS 20/ I | T9: RTS 20/ I | U9: 0.33 | V9: =ROUND(E9*U9,2) -> 10.73 | X9: Práce | AG9: POL1_
C10: Penetrace + 2 x krycí nátěr. | AG10: SPI
C11: štít : 13*5/2 | E11: 32.5 | AG11: VV | AH11: 0
AG12: SPU
A13: 2 | B13: 622472115R00 | C13: Omítka vnější stěn z hotových maltových směsí štuková ze suché maltové směsi_x000D_ stupeň složitosti 5, ručně, | D13: m2 | E13: 32.5 | G13: =ROUND(E13*F13,2) -> 0 | I13: =ROUND(E13*H13,2) -> 0 | K13: =ROUND(E13*J13,2) -> 0 | L13: 21 | M13: =G13*(1+L13/100) -> 0 | N13: 0.0468 | O13: =ROUND(E13*N13,2) -> 1.52 | P13: 0 | Q13: =ROUND(E13*P13,2) -> 0 | R13: 801-1 | S13: RTS 20/ I | T13: RTS 20/ I | U13: 1.8 | V13: =ROUND(E13*U13,2) -> 58.5 | X13: Práce | AG13: POL1_
C14: kompletní omítkové souvrství | AG14: SPI
AG15: SPU
A16: 3 | B16: 622904115R00 | C16: Očištění fasád tlakovou vodou, složitost fasády 3 - 5 | D16: m2 | E16: 32.5 | G16: =ROUND(E16*F16,2) -> 0 | I16: =ROUND(E16*H16,2) -> 0 | K16: =ROUND(E16*J16,2) -> 0 | L16: 21 | M16: =G16*(1+L16/100) -> 0 | N16: 2e-05 | O16: =ROUND(E16*N16,2) -> 0 | P16: 0 | Q16: =ROUND(E16*P16,2) -> 0 | R16: 801-1 | S16: RTS 20/ I | T16: RTS 20/ I | U16: 0.18 | V16: =ROUND(E16*U16,2) -> 5.85 | X16: Práce | AG16: POL1_
AG17: SPU
A18: Díl: | B18: 94 | C18: Lešení a stavební výtahy | G18: =SUMIF(AG19:AG54,"<>NOR",G19:G54) -> 0 | I18: =SUM(I19:I54) -> 0 | K18: =SUM(K19:K54) -> 0 | M18: =SUM(M19:M54) -> 0 | O18: =SUM(O19:O54) -> 0.13 | Q18: =SUM(Q19:Q54) -> 0 | V18: =SUM(V19:V54) -> 56.03 | AG18: DIL
A19: 4 | B19: 944944011R00 | C19: Montáž ochranné sítě z umělých vláken | D19: m2 | E19: 30 | G19: =ROUND(E19*F19,2) -> 0 | I19: =ROUND(E19*H19,2) -> 0 | K19: =ROUND(E19*J19,2) -> 0 | L19: 21 | M19: =G19*(1+L19/100) -> 0 | N19: 0 | O19: =ROUND(E19*N19,2) -> 0 | P19: 0 | Q19: =ROUND(E19*P19,2) -> 0 | R19: 800-3 | S19: RTS 20/ I | T19: RTS 20/ I | U19: 0.03 | V19: =ROUND(E19*U19,2) -> 0.9 | X19: Práce | AG19: POL1_
C20: 10*1,5*2 | E20: 30 | AG20: VV | AH20: 0
AG21: SPU
A22: 5 | B22: 944944081R00 | C22: Demontáž ochranné sítě z umělých vláken | D22: m2 | E22: 30 | G22: =ROUND(E22*F22,2) -> 0 | I22: =ROUND(E22*H22,2) -> 0 | K22: =ROUND(E22*J22,2) -> 0 | L22: 21 | M22: =G22*(1+L22/100) -> 0 | N22: 0 | O22: =ROUND(E22*N22,2) -> 0 | P22: 0 | Q22: =ROUND(E22*P22,2) -> 0 | R22: 800-3 | S22: RTS 20/ I | T22: RTS 20/ I | U22: 0.02 | V22: =ROUND(E22*U22,2) -> 0.6 | X22: Práce | AG22: POL1_
AG23: SPU
A24: 6 | B24: 944945013R00 | C24: Montáž záchytné stříšky šířky přes 2 m | D24: m | E24: 5 | G24: =ROUND(E24*F24,2) -> 0 | I24: =ROUND(E24*H24,2) -> 0 | K24: =ROUND(E24*J24,2) -> 0 | L24: 21 | M24: =G24*(1+L24/100) -> 0 | N24: 0.02372 | O24: =ROUND(E24*N24,2) -> 0.12 | P24: 0 | Q24: =ROUND(E24*P24,2) -> 0 | R24: 800-3 | S24: RTS 20/ I | T24: RTS 20/ I | U24: 0.239 | V24: =ROUND(E24*U24,2) -> 1.2 | X24: Práce | AG24: POL1_
AG25: SPU
A26: 7 | B26: 944945813R00 | C26: Demontáž záchytné stříšky šířky přes 2 m | D26: m | E26: 5 | G26: =ROUND(E26*F26,2) -> 0 | I26: =ROUND(E26*H26,2) -> 0 | K26: =ROUND(E26*J26,2) -> 0 | L26: 21 | M26: =G26*(1+L26/100) -> 0 | N26: 0 | O26: =ROUND(E26*N26,2) -> 0 | P26: 0 | Q26: =ROUND(E26*P26,2) -> 0 | R26: 800-3 | S26: RTS 20/ I | T26: RTS 20/ I | U26: 0.154 | V26: =ROUND(E26*U26,2) -> 0.77 | X26: Práce | AG26: POL1_
C27: zřizované současně s lehkým nebo těžkým lešením, | AG27: SPI
AG28: SPU
A29: 8 | B29: 944946111RT2 | C29: Ochrana před propadem suti na lešových podlahách z geotextilie, včetně dodávky textílie, 500 g/m2 | D29: m2 | E29: 19.5 | G29: =ROUND(E29*F29,2) -> 0 | I29: =ROUND(E29*H29,2) -> 0 | K29: =ROUND(E29*J29,2) -> 0 | L29: 21 | M29: =G29*(1+L29/100) -> 0 | N29: 0.0006 | O29: =ROUND(E29*N29,2) -> 0.01 | P29: 0 | Q29: =ROUND(E29*P29,2) -> 0 | R29: 800-3 | S29: RTS 20/ I | T29: RTS 20/ I | U29: 0.04 | V29: =ROUND(E29*U29,2) -> 0.78 | X29: Práce | AG29: POL1_
C30: 13*1,5 | E30: 19.5 | AG30: VV | AH30: 0
AG31: SPU
A32: 9 | B32: 945931101R00 | C32: Zřízení horolezeckého úvazu pro práci ve výškách | D32: kus | E32: 3 | G32: =ROUND(E32*F32,2) -> 0 | I32: =ROUND(E32*H32,2) -> 0 | K32: =ROUND(E32*J32,2) -> 0 | L32: 21 | M32: =G32*(1+L32/100) -> 0 | N32: 0.0006 | O32: =ROUND(E32*N32,2) -> 0 | P32: 0 | Q32: =ROUND(E32*P32,2) -> 0 | R32: 800-3 | S32: RTS 20/ I | T32: RTS 20/ I | U32: 4 | V32: =ROUND(E32*U32,2) -> 12 | X32: Práce | AG32: POL1_
C33: při opravách vnějších plášťů budov horolezeckým způsobem, | AG33: SPI
AG34: SPU
A35: 10 | B35: 945943001R00 | C35: Montáž závěsného lešení konzolového na chemické kotvy, průchozí šířka do 1 m, výška zábradlí 1,5 m | D35: m | E35: 13 | G35: =ROUND(E35*F35,2) -> 0 | I35: =ROUND(E35*H35,2) -> 0 | K35: =ROUND(E35*J35,2) -> 0 | L35: 21 | M35: =G35*(1+L35/100) -> 0 | N35: 0 | O35: =ROUND(E35*N35,2) -> 0 | P35: 0 | Q35: =ROUND(E35*P35,2) -> 0 | R35: 800-3 | S35: RTS 20/ I | T35: RTS 20/ I | U35: 1.99 | V35: =ROUND(E35*U35,2) -> 25.87 | X35: Práce | AG35: POL1_
C36: horolezeckým způsobem pro montážní a údržbové práce na střechách, věžích, pro budování nástaveb na panelové domy, při stavbách a opravách komínů a říms, montáží podbití, instalaci reklam | AG36: SPI | BA36: =C36 -> horolezeckým způsobem pro montážní a údržbové práce na střechách, věžích, pro budování nástaveb na panelové domy, při stavbách a opravách komínů a říms, montáží podbití, instalaci reklam
AG37: SPU
A38: 11 | B38: 945943091R00 | C38: Montáž závěsného lešení konzolového Pronájem konzolového lešení za den | D38: m | E38: 130 | G38: =ROUND(E38*F38,2) -> 0 | I38: =ROUND(E38*H38,2) -> 0 | K38: =ROUND(E38*J38,2) -> 0 | L38: 21 | M38: =G38*(1+L38/100) -> 0 | N38: 0 | O38: =ROUND(E38*N38,2) -> 0 | P38: 0 | Q38: =ROUND(E38*P38,2) -> 0 | R38: 800-3 | S38: RTS 20/ I | T38: RTS 20/ I | U38: 0 | V38: =ROUND(E38*U38,2) -> 0 | X38: Práce | AG38: POL1_
C39: horolezeckým způsobem pro montážní a údržbové práce na střechách, věžích, pro budování nástaveb na panelové domy, při stavbách a opravách komínů a říms, montáží podbití, instalaci reklam | AG39: SPI | BA39: =C39 -> horolezeckým způsobem pro montážní a údržbové práce na střechách, věžích, pro budování nástaveb na panelové domy, při stavbách a opravách komínů a říms, montáží podbití, instalaci reklam
C40: 10 dní : 13*10 | E40: 130 | AG40: VV | AH40: 0
AG41: SPU
A42: 12 | B42: 945943501R00 | C42: Montáž závěsného lešení konzolového Dovoz a odvoz konzolového závěsného lešení sady pro 50-130 m | D42: km | E42: 15 | G42: =ROUND(E42*F42,2) -> 0 | I42: =ROUND(E42*H42,2) -> 0 | K42: =ROUND(E42*J42,2) -> 0 | L42: 21 | M42: =G42*(1+L42/100) -> 0 | N42: 0 | O42: =ROUND(E42*N42,2) -> 0 | P42: 0 | Q42: =ROUND(E42*P42,2) -> 0 | R42: 800-3 | S42: RTS 20/ I | T42: RTS 20/ I | U42: 0 | V42: =ROUND(E42*U42,2) -> 0 | X42: Práce | AG42: POL1_
C43: horolezeckým způsobem pro montážní a údržbové práce na střechách, věžích, pro budování nástaveb na panelové domy, při stavbách a opravách komínů a říms, montáží podbití, instalaci reklam | AG43: SPI | BA43: =C43 -> horolezeckým způsobem pro montážní a údržbové práce na střechách, věžích, pro budování nástaveb na panelové domy, při stavbách a opravách komínů a říms, montáží podbití, instalaci reklam
AG44: SPU
A45: 13 | B45: 945943801R00 | C45: Demontáž závěsného lešení konzolového šířka do 1 m, výška zábradlí 1,5 m | D45: m | E45: 13 | G45: =ROUND(E45*F45,2) -> 0 | I45: =ROUND(E45*H45,2) -> 0 | K45: =ROUND(E45*J45,2) -> 0 | L45: 21 | M45: =G45*(1+L45/100) -> 0 | N45: 0 | O45: =ROUND(E45*N45,2) -> 0 | P45: 0 | Q45: =ROUND(E45*P45,2) -> 0 | R45: 800-3 | S45: RTS 20/ I | T45: RTS 20/ I | U45: 1.07 | V45: =ROUND(E45*U45,2) -> 13.91 | X45: Práce | AG45: POL1_
C46: horolezeckým způsobem | AG46: SPI
AG47: SPU
A48: 14 | B48: 9449400 | C48: Demontáž a montáž lešení fasádní na sousedním objektu na šikné střeše | D48: soubor | E48: 1 | G48: =ROUND(E48*F48,2) -> 0 | I48: =ROUND(E48*H48,2) -> 0 | K48: =ROUND(E48*J48,2) -> 0 | L48: 21 | M48: =G48*(1+L48/100) -> 0 | N48: 0 | O48: =ROUND(E48*N48,2) -> 0 | P48: 0 | Q48: =ROUND(E48*P48,2) -> 0 | S48: Vlastní | T48: Indiv | U48: 0 | V48: =ROUND(E48*U48,2) -> 0 | X48: Práce | AG48: POL1_
AG49: VV | AH49: 0
C50: podkladní ochranná konstrukce na střechu cca 20m2 : | AG50: VV | AH50: 0
C51: ochrana střechy proti znešištění cca 20 m2 : | AG51: VV | AH51: 0
C52: kompletní dodávka : | AG52: VV | AH52: 0
C53: 1 | E53: 1 | AG53: VV | AH53: 0
AG54: SPU
A55: Díl: | B55: 95 | C55: Dokončovací konstrukce na pozemních stavbách | G55: =SUMIF(AG56:AG58,"<>NOR",G56:G58) -> 0 | I55: =SUM(I56:I58) -> 0 | K55: =SUM(K56:K58) -> 0 | M55: =SUM(M56:M58) -> 0 | O55: =SUM(O56:O58) -> 0 | Q55: =SUM(Q56:Q58) -> 0 | V55: =SUM(V56:V58) -> 8.4 | AG55: DIL
A56: 15 | B56: 952901411R00 | C56: Vyčištění budov a ostatních objektů ostatních objektů (např. kanálů, zásobníků, kůlen apod.) - vynesení zbytků stavebního rumu, kropení a 2 x zametení podlah, oprášení stěn a výplní otvorů jakékoliv výšky podlaží | D56: m2 | E56: 60 | G56: =ROUND(E56*F56,2) -> 0 | I56: =ROUND(E56*H56,2) -> 0 | K56: =ROUND(E56*J56,2) -> 0 | L56: 21 | M56: =G56*(1+L56/100) -> 0 | N56: 0 | O56: =ROUND(E56*N56,2) -> 0 | P56: 0 | Q56: =ROUND(E56*P56,2) -> 0 | R56: 801-1 | S56: RTS 20/ I | T56: RTS 20/ I | U56: 0.14 | V56: =ROUND(E56*U56,2) -> 8.4 | X56: Práce | AG56: POL1_
C57: 10*3*2 | E57: 60 | AG57: VV | AH57: 0
AG58: SPU
A59: Díl: | B59: 96 | C59: Bourání konstrukcí | G59: =SUMIF(AG60:AG61,"<>NOR",G60:G61) -> 0 | I59: =SUM(I60:I61) -> 0 | K59: =SUM(K60:K61) -> 0 | M59: =SUM(M60:M61) -> 0 | O59: =SUM(O60:O61) -> 0 | Q59: =SUM(Q60:Q61) -> 2.99 | V59: =SUM(V60:V61) -> 8.45 | AG59: DIL
A60: 16 | B60: 978015391R00 | C60: Otlučení omítek vápenných nebo vápenocementových vnějších s vyškrabáním spár, s očištěním zdiva_x000D_ 5. až 7. stupni složitosti, v rozsahu do 100 % | D60: m2 | E60: 32.5 | G60: =ROUND(E60*F60,2) -> 0 | I60: =ROUND(E60*H60,2) -> 0 | K60: =ROUND(E60*J60,2) -> 0 | L60: 21 | M60: =G60*(1+L60/100) -> 0 | N60: 0 | O60: =ROUND(E60*N60,2) -> 0 | P60: 0.092 | Q60: =ROUND(E60*P60,2) -> 2.99 | R60: 801-3 | S60: RTS 20/ I | T60: RTS 20/ I | U60: 0.26 | V60: =ROUND(E60*U60,2) -> 8.45 | X60: Práce | AG60: POL1_
AG61: SPU
A62: Díl: | B62: 99 | C62: Staveništní přesun hmot | G62: =SUMIF(AG63:AG65,"<>NOR",G63:G65) -> 0 | I62: =SUM(I63:I65) -> 0 | K62: =SUM(K63:K65) -> 0 | M62: =SUM(M63:M65) -> 0 | O62: =SUM(O63:O65) -> 0 | Q62: =SUM(Q63:Q65) -> 0 | V62: =SUM(V63:V65) -> 4.35 | AG62: DIL
A63: 17 | B63: 999281111R00 | C63: Přesun hmot pro opravy a údržbu objektů pro opravy a údržbu dosavadních objektů včetně vnějších plášťů_x000D_ výšky do 25 m, | D63: t | E63: 1.68723 | G63: =ROUND(E63*F63,2) -> 0 | I63: =ROUND(E63*H63,2) -> 0 | K63: =ROUND(E63*J63,2) -> 0 | L63: 21 | M63: =G63*(1+L63/100) -> 0 | N63: 0 | O63: =ROUND(E63*N63,2) -> 0 | P63: 0 | Q63: =ROUND(E63*P63,2) -> 0 | R63: 801-4 | S63: RTS 20/ I | T63: RTS 20/ I | U63: 2.577 | V63: =ROUND(E63*U63,2) -> 4.35 | X63: Přesun hmot | AG63: POL7_
C64: oborů 801, 803, 811 a 812 | AG64: SPI
AG65: SPU
A66: Díl: | B66: 764 | C66: Konstrukce klempířské | G66: =SUMIF(AG67:AG78,"<>NOR",G67:G78) -> 0 | I66: =SUM(I67:I78) -> 0 | K66: =SUM(K67:K78) -> 0 | M66: =SUM(M67:M78) -> 0 | O66: =SUM(O67:O78) -> 0.08 | Q66: =SUM(Q67:Q78) -> 0.06 | V66: =SUM(V67:V78) -> 9.6 | AG66: DIL
A67: 18 | B67: 764231250R00 | C67: Lemování z měděného plechu výroba a montáž lemování zdí_x000D_ na střechách s tvrdou krytinou včetně rohů a ukončení před požární zdí, rš 500 mm | D67: m | E67: 20 | G67: =ROUND(E67*F67,2) -> 0 | I67: =ROUND(E67*H67,2) -> 0 | K67: =ROUND(E67*J67,2) -> 0 | L67: 21 | M67: =G67*(1+L67/100) -> 0 | N67: 0.00312 | O67: =ROUND(E67*N67,2) -> 0.06 | P67: 0 | Q67: =ROUND(E67*P67,2) -> 0 | R67: 800-764 | S67: RTS 20/ I | T67: RTS 20/ I | U67: 0.31 | V67: =ROUND(E67*U67,2) -> 6.2 | X67: Práce | AG67: POL1_
C68: 10*2 | E68: 20 | AG68: VV | AH68: 0
AG69: SPU
A70: 19 | B70: 764296230R00 | C70: Ostatní střešní prvky z měděného plechu výroba a montáž _x000D_ připojovací lišty dilatační, rš 120 mm | D70: m | E70: 20 | G70: =ROUND(E70*F70,2) -> 0 | I70: =ROUND(E70*H70,2) -> 0 | K70: =ROUND(E70*J70,2) -> 0 | L70: 21 | M70: =G70*(1+L70/100) -> 0 | N70: 0.00119 | O70: =ROUND(E70*N70,2) -> 0.02 | P70: 0 | Q70: =ROUND(E70*P70,2) -> 0 | R70: 800-764 | S70: RTS 20/ I | T70: RTS 20/ I | U70: 0.11 | V70: =ROUND(E70*U70,2) -> 2.2 | X70: Práce | AG70: POL1_
C71: 10*2 | E71: 20 | AG71: VV | AH71: 0
AG72: SPU
A73: 20 | B73: 764331850R00 | C73: Demontáž lemování zdí_x000D_ na střechách s tvrdou krytinou, rš 400 a 500 mm, sklonu do 30° | D73: m | E73: 20 | G73: =ROUND(E73*F73,2) -> 0 | I73: =ROUND(E73*H73,2) -> 0 | K73: =ROUND(E73*J73,2) -> 0 | L73: 21 | M73: =G73*(1+L73/100) -> 0 | N73: 0 | O73: =ROUND(E73*N73,2) -> 0 | P73: 0.00298 | Q73: =ROUND(E73*P73,2) -> 0.06 | R73: 800-764 | S73: RTS 20/ I | T73: RTS 20/ I | U73: 0.06 | V73: =ROUND(E73*U73,2) -> 1.2 | X73: Práce | AG73: POL1_
C74: 10*2 | E74: 20 | AG74: VV | AH74: 0
AG75: SPU
A76: 21 | B76: 998764202R00 | C76: Přesun hmot pro konstrukce klempířské v objektech výšky do 12 m | D76: % | G76: =ROUND(E76*F76,2) -> 0 | I76: =ROUND(E76*H76,2) -> 0 | K76: =ROUND(E76*J76,2) -> 0 | L76: 21 | M76: =G76*(1+L76/100) -> 0 | N76: 0 | O76: =ROUND(E76*N76,2) -> 0 | P76: 0 | Q76: =ROUND(E76*P76,2) -> 0 | R76: 800-764 | S76: RTS 20/ I | T76: RTS 20/ I | U76: 0 | V76: =ROUND(E76*U76,2) -> 0 | X76: Přesun hmot | AG76: POL7_
C77: 50 m vodorovně | AG77: SPI
AG78: SPU
A79: Díl: | B79: D96 | C79: Přesuny suti a vybouraných hmot | G79: =SUMIF(AG80:AG97,"<>NOR",G80:G97) -> 0 | I79: =SUM(I80:I97) -> 0 | K79: =SUM(K80:K97) -> 0 | M79: =SUM(M80:M97) -> 0 | O79: =SUM(O80:O97) -> 0 | Q79: =SUM(Q80:Q97) -> 0 | V79: =SUM(V80:V97) -> 9.52 | AG79: DIL
A80: 22 | B80: 979087212R00 | C80: Nakládání na dopravní prostředky suti | D80: t | E80: 3.0496 | G80: =ROUND(E80*F80,2) -> 0 | I80: =ROUND(E80*H80,2) -> 0 | K80: =ROUND(E80*J80,2) -> 0 | L80: 21 | M80: =G80*(1+L80/100) -> 0 | N80: 0 | O80: =ROUND(E80*N80,2) -> 0 | P80: 0 | Q80: =ROUND(E80*P80,2) -> 0 | R80: 822-1 | S80: RTS 20/ I | T80: RTS 20/ I | U80: 0.099 | V80: =ROUND(E80*U80,2) -> 0.3 | X80: Přesun suti | AG80: POL8_
C81: pro vodorovnou dopravu | AG81: SPI
AG82: SPU
A83: 23 | B83: 979011111R00 | C83: Svislá doprava suti a vybouraných hmot za prvé podlaží nad nebo pod základním podlažím | D83: t | E83: 3.0496 | G83: =ROUND(E83*F83,2) -> 0 | I83: =ROUND(E83*H83,2) -> 0 | K83: =ROUND(E83*J83,2) -> 0 | L83: 21 | M83: =G83*(1+L83/100) -> 0 | N83: 0 | O83: =ROUND(E83*N83,2) -> 0 | P83: 0 | Q83: =ROUND(E83*P83,2) -> 0 | R83: 801-3 | S83: RTS 20/ I | T83: RTS 20/ I | U83: 0.933 | V83: =ROUND(E83*U83,2) -> 2.85 | X83: Přesun suti | AG83: POL8_
AG84: SPU
A85: 24 | B85: 979011121R00 | C85: Svislá doprava suti a vybouraných hmot příplatek za každé další podlaží | D85: t | E85: 3.0496 | G85: =ROUND(E85*F85,2) -> 0 | I85: =ROUND(E85*H85,2) -> 0 | K85: =ROUND(E85*J85,2) -> 0 | L85: 21 | M85: =G85*(1+L85/100) -> 0 | N85: 0 | O85: =ROUND(E85*N85,2) -> 0 | P85: 0 | Q85: =ROUND(E85*P85,2) -> 0 | R85: 801-3 | S85: RTS 20/ I | T85: RTS 20/ I | U85: 0.653 | V85: =ROUND(E85*U85,2) -> 1.99 | X85: Přesun suti | AG85: POL8_
AG86: SPU
A87: 25 | B87: 979081111R00 | C87: Odvoz suti a vybouraných hmot na skládku do 1 km | D87: t | E87: 3.0496 | G87: =ROUND(E87*F87,2) -> 0 | I87: =ROUND(E87*H87,2) -> 0 | K87: =ROUND(E87*J87,2) -> 0 | L87: 21 | M87: =G87*(1+L87/100) -> 0 | N87: 0 | O87: =ROUND(E87*N87,2) -> 0 | P87: 0 | Q87: =ROUND(E87*P87,2) -> 0 | R87: 801-3 | S87: RTS 20/ I | T87: RTS 20/ I | U87: 0.49 | V87: =ROUND(E87*U87,2) -> 1.49 | X87: Přesun suti | AG87: POL8_
AG88: SPU
A89: 26 | B89: 979081121R00 | C89: Odvoz suti a vybouraných hmot na skládku příplatek za každý další 1 km | D89: t | E89: 45.744 | G89: =ROUND(E89*F89,2) -> 0 | I89: =ROUND(E89*H89,2) -> 0 | K89: =ROUND(E89*J89,2) -> 0 | L89: 21 | M89: =G89*(1+L89/100) -> 0 | N89: 0 | O89: =ROUND(E89*N89,2) -> 0 | P89: 0 | Q89: =ROUND(E89*P89,2) -> 0 | R89: 801-3 | S89: RTS 20/ I | T89: RTS 20/ I | U89: 0 | V89: =ROUND(E89*U89,2) -> 0 | X89: Přesun suti | AG89: POL8_
AG90: SPU
A91: 27 | B91: 979082111R00 | C91: Vnitrostaveništní doprava suti a vybouraných hmot do 10 m | D91: t | E91: 3.0496 | G91: =ROUND(E91*F91,2) -> 0 | I91: =ROUND(E91*H91,2) -> 0 | K91: =ROUND(E91*J91,2) -> 0 | L91: 21 | M91: =G91*(1+L91/100) -> 0 | N91: 0 | O91: =ROUND(E91*N91,2) -> 0 | P91: 0 | Q91: =ROUND(E91*P91,2) -> 0 | R91: 801-3 | S91: RTS 20/ I | T91: RTS 20/ I | U91: 0.942 | V91: =ROUND(E91*U91,2) -> 2.87 | X91: Přesun suti | AG91: POL8_
AG92: SPU
A93: 28 | B93: 979999999R00 | C93: Poplatek za skládku suti s 10 % příměsí - DUFONEV Brno, | D93: t | E93: 3.0496 | G93: =ROUND(E93*F93,2) -> 0 | I93: =ROUND(E93*H93,2) -> 0 | K93: =ROUND(E93*J93,2) -> 0 | L93: 21 | M93: =G93*(1+L93/100) -> 0 | N93: 0 | O93: =ROUND(E93*N93,2) -> 0 | P93: 0 | Q93: =ROUND(E93*P93,2) -> 0 | R93: 801-3 | S93: RTS 20/ I | T93: RTS 20/ I | U93: 0 | V93: =ROUND(E93*U93,2) -> 0 | X93: Přesun suti | AG93: POL8_
AG94: SPU
A95: 29 | B95: 979093111R00 | C95: Uložení suti na skládku bez zhutnění | D95: t | E95: 3.0496 | G95: =ROUND(E95*F95,2) -> 0 | I95: =ROUND(E95*H95,2) -> 0 | K95: =ROUND(E95*J95,2) -> 0 | L95: 21 | M95: =G95*(1+L95/100) -> 0 | N95: 0 | O95: =ROUND(E95*N95,2) -> 0 | P95: 0 | Q95: =ROUND(E95*P95,2) -> 0 | R95: 800-6 | S95: RTS 20/ I | T95: RTS 20/ I | U95: 0.006 | V95: =ROUND(E95*U95,2) -> 0.02 | X95: Přesun suti | AG95: POL8_
C96: s hrubým urovnáním, | AG96: SPI
AG97: SPU
A98: Díl: | B98: VN | C98: Vedlejší náklady | G98: =SUMIF(AG99:AG108,"<>NOR",G99:G108) -> 0 | I98: =SUM(I99:I108) -> 0 | K98: =SUM(K99:K108) -> 0 | M98: =SUM(M99:M108) -> 0 | O98: =SUM(O99:O108) -> 0 | Q98: =SUM(Q99:Q108) -> 0 | V98: =SUM(V99:V108) -> 0 | AG98: DIL
A99: 30 | B99: 005121 R | C99: Zařízení staveniště | D99: Soubor | E99: 1 | G99: =ROUND(E99*F99,2) -> 0 | I99: =ROUND(E99*H99,2) -> 0 | K99: =ROUND(E99*J99,2) -> 0 | L99: 21 | M99: =G99*(1+L99/100) -> 0 | N99: 0 | O99: =ROUND(E99*N99,2) -> 0 | P99: 0 | Q99: =ROUND(E99*P99,2) -> 0 | S99: RTS 20/ I | T99: Indiv | U99: 0 | V99: =ROUND(E99*U99,2) -> 0 | X99: VRN | AG99: POL99_2
AG100: SPU
A101: 31 | B101: 005121020R | C101: Provoz zařízení staveniště | D101: Soubor | E101: 1 | G101: =ROUND(E101*F101,2) -> 0 | I101: =ROUND(E101*H101,2) -> 0 | K101: =ROUND(E101*J101,2) -> 0 | L101: 21 | M101: =G101*(1+L101/100) -> 0 | N101: 0 | O101: =ROUND(E101*N101,2) -> 0 | P101: 0 | Q101: =ROUND(E101*P101,2) -> 0 | S101: RTS 20/ I | T101: Indiv | U101: 0 | V101: =ROUND(E101*U101,2) -> 0 | X101: VRN | AG101: POL99_2
AG102: SPU
...
