Workbook
Name CelkemDPHVypocet: Stavba!$H$43
Name CenaCelkem: Stavba!$G$29
Name CenaCelkemBezDPH: Stavba!$G$28
Name CenaCelkemVypocet: Stavba!$I$43
Name cisloobjektu: Stavba!$D$3
Name CisloRozpoctu: '[1]Krycí list'!$C$2
Name CisloStavby: Stavba!$D$2
Name cislostavby: '[1]Krycí list'!$A$7
Name CisloStavebnihoRozpoctu: Stavba!$D$4
Name dadresa: Stavba!$D$12:$G$12
Name DIČ: Stavba!$I$12
Name dmisto: Stavba!$E$13:$G$13
Name DPHSni: Stavba!$G$24
Name DPHZakl: Stavba!$G$26
Name dpsc: Stavba!$D$13
Name IČO: Stavba!$I$11
Name Mena: Stavba!$J$29
Name MistoStavby: Stavba!$D$4
Name nazevobjektu: Stavba!$E$3
Name NazevRozpoctu: '[1]Krycí list'!$D$2
Name NazevStavby: Stavba!$E$2
Name nazevstavby: '[1]Krycí list'!$C$7
Name NazevStavebnihoRozpoctu: Stavba!$E$4
Name oadresa: Stavba!$D$6
Name Objednatel: Stavba!$D$5
Name Objekt: Stavba!$B$38
Name odic: Stavba!$I$6
Name oico: Stavba!$I$5
Name omisto: Stavba!$E$7
Name onazev: Stavba!$D$6
Name opsc: Stavba!$D$7
Name padresa: Stavba!$D$9
Name pdic: Stavba!$I$9
Name pico: Stavba!$I$8
Name pmisto: Stavba!$E$10
Name PocetMJ: #REF!
Name PoptavkaID: Stavba!$A$1
Name pPSC: Stavba!$D$10
Name Projektant: Stavba!$D$8
Name SazbaDPH1: Stavba!$E$23
Name SazbaDPH1: '[1]Krycí list'!$C$30
Name SazbaDPH2: Stavba!$E$25
Name SazbaDPH2: '[1]Krycí list'!$C$32
Name SloupecCC: #REF!
Name SloupecCisloPol: #REF!
Name SloupecJC: #REF!
Name SloupecMJ: #REF!
Name SloupecMnozstvi: #REF!
Name SloupecNazPol: #REF!
Name SloupecPC: #REF!
Name Vypracoval: Stavba!$D$14
Name ZakladDPHSni: Stavba!$G$23
Name ZakladDPHSniVypocet: Stavba!$F$43
Name ZakladDPHZakl: Stavba!$G$25
Name ZakladDPHZaklVypocet: Stavba!$G$43
Name ZaObjednatele: Stavba!$G$34
Name Zaokrouhleni: Stavba!$G$27
Name ZaZhotovitele: Stavba!$D$34
Name Zhotovitel: Stavba!$D$11:$G$11

Sheet Pokyny pro vyplnění
A1: Pokyny pro vyplnění
A2: Ve všech listech tohoto souboru můžete měnit pouze buňky s modrým pozadím. Jedná se o tyto údaje : - údaje o firmě - jednotkové ceny položek zadané na maximálně dvě desetinná místa

Sheet Stavba
A1: #RTSROZP# | B1: Soupis stavebních prací, dodávek a služeb
B2: Stavba: | D2: 007/2020/01 | E2: Staňkova 47 výměna PO dveří
B3: Objekt: | D3: 007/2020/01 | E3: Staňkova 47 výměna PO dveří
A4: 4288 | B4: Rozpočet: | D4: 007/2020/01 | E4: Staňkova 47 výměna PO dveří
B5: Zadavatel | H5: IČO:
H6: DIČ:
B8: Projektant: | H8: IČO:
H9: DIČ:
B11: Zhotovitel: | H11: IČO:
H12: DIČ:
B14: Vypracoval: | D14: Marečková
B15: Rozpis ceny | I15: Celkem
A16: HSV | B16: HSV | I16: =SUMIF(F50:F58,A16,I50:I58)+SUMIF(F50:F58,"PSU",I50:I58) -> 0
A17: PSV | B17: PSV | I17: =SUMIF(F50:F58,A17,I50:I58) -> 0
A18: MON | B18: MON | I18: =SUMIF(F50:F58,A18,I50:I58) -> 0
A19: VN | B19: Vedlejší náklady | I19: =SUMIF(F50:F58,A19,I50:I58) -> 0
A20: ON | B20: Ostatní náklady | I20: =SUMIF(F50:F58,A20,I50:I58) -> 0
B21: Celkem | I21: =SUM(I16:J20) -> 0
B22: Rekapitulace daní
A23: =ZakladDPHSni*SazbaDPH1/100 -> 0 | B23: Základ pro sníženou DPH | E23: 15 | F23: % | G23: =ZakladDPHSniVypocet -> 0 | J23: =Mena -> CZK
A24: =(A23-INT(A23))*100 -> 0 | B24: Snížená DPH | E24: =SazbaDPH1 -> 15 | F24: % | G24: =A23 -> 0 | J24: =Mena -> CZK
A25: =ZakladDPHZakl*SazbaDPH2/100 -> 0 | B25: Základ pro základní DPH | E25: 21 | F25: % | G25: =ZakladDPHZaklVypocet -> 0 | J25: =Mena -> CZK
A26: =(A25-INT(A25))*100 -> 0 | B26: Základní DPH | E26: =SazbaDPH2 -> 21 | F26: % | G26: =A25 -> 0 | J26: =Mena -> CZK
A27: =ZakladDPHSni+DPHSni+ZakladDPHZakl+DPHZakl -> 0 | B27: Zaokrouhlení | G27: =CenaCelkem-(ZakladDPHSni+DPHSni+ZakladDPHZakl+DPHZakl) -> 0 | J27: =Mena -> CZK
B28: Cena celkem bez DPH | G28: =ZakladDPHSniVypocet+ZakladDPHZaklVypocet -> 0 | J28: =Mena -> CZK
A29: =(A27-INT(A27))*100 -> 0 | B29: Cena celkem s DPH | G29: =A27 -> 0 | J29: CZK
C32: v | F32: dne
D34: sdfsdf | G34: OSM MMB
D35: Za zhotovitele | H35: Za objednatele
B37: Rekapitulace dílčích částí
A38: #CASTI>> | B38: Číslo | C38: Název | F38: =B23 -> Základ pro sníženou DPH | G38: =B25 -> Základ pro základní DPH | H38: DPH celkem | I38: Cena celkem | J38: %
A39: 1 | B39: Stavba | F39: ='007_2020_01 007_2020_01 Pol'!AE97 -> 0 | G39: ='007_2020_01 007_2020_01 Pol'!AF97 -> 0 | H39: =(F39*SazbaDPH1/100)+(G39*SazbaDPH2/100) -> 0 | I39: =F39+G39+H39 -> 0 | J39: =IF(CenaCelkemVypocet=0,"",I39/CenaCelkemVypocet*100)
A40: 2 | C40: Stavební objekt | H40: =(F40*SazbaDPH1/100)+(G40*SazbaDPH2/100) -> 0
A41: 2 | B41: 007/2020/01 | C41: Staňkova 47 výměna PO dveří | F41: ='007_2020_01 007_2020_01 Pol'!AE97 -> 0 | G41: ='007_2020_01 007_2020_01 Pol'!AF97 -> 0 | H41: =(F41*SazbaDPH1/100)+(G41*SazbaDPH2/100) -> 0 | I41: =F41+G41+H41 -> 0 | J41: =IF(CenaCelkemVypocet=0,"",I41/CenaCelkemVypocet*100)
A42: 3 | B42: 007/2020/01 | C42: Staňkova 47 výměna PO dveří | F42: ='007_2020_01 007_2020_01 Pol'!AE97 -> 0 | G42: ='007_2020_01 007_2020_01 Pol'!AF97 -> 0 | H42: =(F42*SazbaDPH1/100)+(G42*SazbaDPH2/100) -> 0 | I42: =F42+G42+H42 -> 0 | J42: =IF(CenaCelkemVypocet=0,"",I42/CenaCelkemVypocet*100)
B43: Celkem za stavbu | F43: =SUMIF(A39:A42,"=1",F39:F42) -> 0 | G43: =SUMIF(A39:A42,"=1",G39:G42) -> 0 | H43: =SUMIF(A39:A42,"=1",H39:H42) -> 0 | I43: =SUMIF(A39:A42,"=1",I39:I42) -> 0 | J43: =SUMIF(A39:A42,"=1",J39:J42) -> 0
B47: Rekapitulace dílů
B49: Číslo | C49: Název | F49: Typ dílu | I49: Celkem | J49: %
B50: 61 | C50: Úpravy povrchů vnitřní | F50: HSV | I50: ='007_2020_01 007_2020_01 Pol'!G8 -> 0 | J50: =IF(I59=0,"",I50/I59*100)
B51: 64 | C51: Výplně otvorů | F51: HSV | I51: ='007_2020_01 007_2020_01 Pol'!G13 -> 0 | J51: =IF(I59=0,"",I51/I59*100)
B52: 95 | C52: Dokončovací konstrukce na pozemních stavbách | F52: HSV | I52: ='007_2020_01 007_2020_01 Pol'!G25 -> 0 | J52: =IF(I59=0,"",I52/I59*100)
B53: 96 | C53: Bourání konstrukcí | F53: HSV | I53: ='007_2020_01 007_2020_01 Pol'!G29 -> 0 | J53: =IF(I59=0,"",I53/I59*100)
B54: 99 | C54: Staveništní přesun hmot | F54: HSV | I54: ='007_2020_01 007_2020_01 Pol'!G37 -> 0 | J54: =IF(I59=0,"",I54/I59*100)
B55: 766 | C55: Konstrukce truhlářské | F55: PSV | I55: ='007_2020_01 007_2020_01 Pol'!G47 -> 0 | J55: =IF(I59=0,"",I55/I59*100)
B56: 783 | C56: Nátěry | F56: PSV | I56: ='007_2020_01 007_2020_01 Pol'!G64 -> 0 | J56: =IF(I59=0,"",I56/I59*100)
B57: 784 | C57: Malby | F57: PSV | I57: ='007_2020_01 007_2020_01 Pol'!G69 -> 0 | J57: =IF(I59=0,"",I57/I59*100)
B58: D96 | C58: Přesuny suti a vybouraných hmot | F58: PSU | I58: ='007_2020_01 007_2020_01 Pol'!G80 -> 0 | J58: =IF(I59=0,"",I58/I59*100)
B59: Cena celkem | I59: =SUM(I50:I58) -> 0 | J59: =SUM(J50:J58) -> 0

Sheet VzorPolozky
A1: Položkový rozpočet
A2: S:
A3: O:
A4: R:

Sheet 007_2020_01 007_2020_01 Pol
A1: Položkový soupis prací a dodávek | AG1: #TypZaznamu#
A2: S: | B2: 007/2020/01 | C2: Staňkova 47 výměna PO dveří | AG2: STA
A3: O: | B3: 007/2020/01 | C3: Staňkova 47 výměna PO dveří | AC3: STA | AG3: OBJ
A4: R: | B4: 007/2020/01 | C4: Staňkova 47 výměna PO dveří | AG4: ROZ
A6: P.č. | B6: Číslo položky | C6: Název položky | D6: MJ | E6: Množství | F6: Cena / MJ | G6: Celkem | H6: Dodávka | I6: Dodávka celk. | J6: Montáž | K6: Montáž celk. | L6: DPH | M6: Cena s DPH | N6: Hmotnost / MJ | O6: Hmotnost celk.(t) | P6: Dem. hmotnost / MJ | Q6: Dem. hmotnost celk.(t) | R6: Ceník | S6: Cen. soustava / platnost | T6: Cenová úroveň | U6: Nhod / MJ | V6: Nhod celk. | W6: Dodavatel | X6: Typ položky
A8: Díl: | B8: 61 | C8: Úpravy povrchů vnitřní | G8: =SUMIF(AG9:AG12,"<>NOR",G9:G12) -> 0 | I8: =SUM(I9:I12) -> 0 | K8: =SUM(K9:K12) -> 0 | M8: =SUM(M9:M12) -> 0 | O8: =SUM(O9:O12) -> 0.07 | Q8: =SUM(Q9:Q12) -> 0 | V8: =SUM(V9:V12) -> 5.09 | AG8: DIL
A9: 1 | B9: 612409991RT2 | C9: Začištění omítek kolem oken, dveří a obkladů apod. s použitím suché maltové směsi | D9: m | E9: 27.9 | G9: =ROUND(E9*F9,2) -> 0 | I9: =ROUND(E9*H9,2) -> 0 | K9: =ROUND(E9*J9,2) -> 0 | L9: 21 | M9: =G9*(1+L9/100) -> 0 | N9: 0.00238 | O9: =ROUND(E9*N9,2) -> 0.07 | P9: 0 | Q9: =ROUND(E9*P9,2) -> 0 | R9: 801-4 | S9: RTS 20/ II | T9: RTS 20/ I | U9: 0.18233 | V9: =ROUND(E9*U9,2) -> 5.09 | X9: Práce | AG9: POL1_
C10: (2*2+0,6)*5 | E10: 23 | AG10: VV | AH10: 0
C11: (2*2+0,9)*1 | E11: 4.9 | AG11: VV | AH11: 0
AG12: SPU
A13: Díl: | B13: 64 | C13: Výplně otvorů | G13: =SUMIF(AG14:AG24,"<>NOR",G14:G24) -> 0 | I13: =SUM(I14:I24) -> 0 | K13: =SUM(K14:K24) -> 0 | M13: =SUM(M14:M24) -> 0 | O13: =SUM(O14:O24) -> 3.06 | Q13: =SUM(Q14:Q24) -> 0 | V13: =SUM(V14:V24) -> 54.78 | AG13: DIL
A14: 2 | B14: 642942111R00 | C14: Osazení zárubní dveřních ocelových bez dveřních křídel, do zdiva včetně kotvení, na jakoukoliv cementovou maltu, s vybetonováním prahu v zárubni a s osazením špalíků nebo latí pro dřevěný práh_x000D_ plocha do 2,5 m2 | D14: kus | E14: 1 | G14: =ROUND(E14*F14,2) -> 0 | I14: =ROUND(E14*H14,2) -> 0 | K14: =ROUND(E14*J14,2) -> 0 | L14: 21 | M14: =G14*(1+L14/100) -> 0 | N14: 0.01897 | O14: =ROUND(E14*N14,2) -> 0.02 | P14: 0 | Q14: =ROUND(E14*P14,2) -> 0 | R14: 801-1 | S14: RTS 20/ II | T14: RTS 20/ I | U14: 1.86 | V14: =ROUND(E14*U14,2) -> 1.86 | X14: Práce | AG14: POL1_
AG15: SPU
A16: 3 | B16: 642945111R00 | C16: Osazení ocelových zárubní protipožárních jednokřídlových, obetonováním | D16: kus | E16: 6 | G16: =ROUND(E16*F16,2) -> 0 | I16: =ROUND(E16*H16,2) -> 0 | K16: =ROUND(E16*J16,2) -> 0 | L16: 21 | M16: =G16*(1+L16/100) -> 0 | N16: 0.49075 | O16: =ROUND(E16*N16,2) -> 2.94 | P16: 0 | Q16: =ROUND(E16*P16,2) -> 0 | R16: 801-1 | S16: RTS 20/ II | T16: RTS 20/ I | U16: 8.82 | V16: =ROUND(E16*U16,2) -> 52.92 | X16: Práce | AG16: POL1_
C17: a protiplynových dveří bez nebo včetně dveřních křídel do vynechaného otvoru, s obetonováním , včetně manipulační dopravy, kotvení zárubně do zdiva např. s uklínováním, s případným přivařením k obnažené výztuži, se zalitím, resp. zabetonováním, včetně bednění. | AG17: SPI | BA17: =C17 -> a protiplynových dveří bez nebo včetně dveřních křídel do vynechaného otvoru, s obetonováním , včetně manipulační dopravy, kotvení zárubně do zdiva např. s uklínováním, s případným přivařením k obnažené výztuži, se zalitím, resp. zabetonováním, včetně bednění.
AG18: SPU
A19: 4 | B19: 553310762R | C19: zárubeň kovová univerzální; pro zděné stěny, příčky, pro přesné zdění; ústí 150 mm; š průchodu 800 mm; h průchodu 1 970 mm; L, P | D19: kus | E19: 1 | G19: =ROUND(E19*F19,2) -> 0 | I19: =ROUND(E19*H19,2) -> 0 | K19: =ROUND(E19*J19,2) -> 0 | L19: 21 | M19: =G19*(1+L19/100) -> 0 | N19: 0.019 | O19: =ROUND(E19*N19,2) -> 0.02 | P19: 0 | Q19: =ROUND(E19*P19,2) -> 0 | R19: SPCM | S19: RTS 20/ II | T19: RTS 20/ I | U19: 0 | V19: =ROUND(E19*U19,2) -> 0 | X19: Specifikace | AG19: POL3_
AG20: SPU
A21: 5 | B21: 5533300131R | C21: zárubeň kovová pro klasické zdění; š profilu 110 mm; š průchodu 900 mm; h průchodu 1 970 mm; L, P; závěsy pevné; požární odolnost | D21: kus | E21: 1 | G21: =ROUND(E21*F21,2) -> 0 | I21: =ROUND(E21*H21,2) -> 0 | K21: =ROUND(E21*J21,2) -> 0 | L21: 21 | M21: =G21*(1+L21/100) -> 0 | N21: 0.0113 | O21: =ROUND(E21*N21,2) -> 0.01 | P21: 0 | Q21: =ROUND(E21*P21,2) -> 0 | R21: SPCM | S21: RTS 20/ II | T21: RTS 20/ I | U21: 0 | V21: =ROUND(E21*U21,2) -> 0 | X21: Specifikace | AG21: POL3_
AG22: SPU
A23: 6 | B23: 5533300401R | C23: zárubeň kovová pro klasické zdění; š profilu 160 mm; š průchodu 600 mm; h průchodu 1 970 mm; L, P; závěsy pevné; požární odolnost | D23: kus | E23: 5 | G23: =ROUND(E23*F23,2) -> 0 | I23: =ROUND(E23*H23,2) -> 0 | K23: =ROUND(E23*J23,2) -> 0 | L23: 21 | M23: =G23*(1+L23/100) -> 0 | N23: 0.0133 | O23: =ROUND(E23*N23,2) -> 0.07 | P23: 0 | Q23: =ROUND(E23*P23,2) -> 0 | R23: SPCM | S23: RTS 20/ II | T23: RTS 20/ I | U23: 0 | V23: =ROUND(E23*U23,2) -> 0 | X23: Specifikace | AG23: POL3_
AG24: SPU
A25: Díl: | B25: 95 | C25: Dokončovací konstrukce na pozemních stavbách | G25: =SUMIF(AG26:AG28,"<>NOR",G26:G28) -> 0 | I25: =SUM(I26:I28) -> 0 | K25: =SUM(K26:K28) -> 0 | M25: =SUM(M26:M28) -> 0 | O25: =SUM(O26:O28) -> 0 | Q25: =SUM(Q26:Q28) -> 0 | V25: =SUM(V26:V28) -> 16.63 | AG25: DIL
A26: 7 | B26: 952901111R00 | C26: Vyčištění budov a ostatních objektů budov bytové nebo občanské výstavby - zametení a umytí podlah, dlažeb, obkladů, schodů v místnostech, chodbách a schodištích, vyčištění a umytí oken, dveří s rámy, zárubněmi, umytí a vyčištění jiných zasklených a natíraných ploch a zařizovacích předmětů před předáním do užívání světlá výška podlaží do 4 m | D26: m2 | E26: 54 | G26: =ROUND(E26*F26,2) -> 0 | I26: =ROUND(E26*H26,2) -> 0 | K26: =ROUND(E26*J26,2) -> 0 | L26: 21 | M26: =G26*(1+L26/100) -> 0 | N26: 4e-05 | O26: =ROUND(E26*N26,2) -> 0 | P26: 0 | Q26: =ROUND(E26*P26,2) -> 0 | R26: 801-1 | S26: RTS 20/ II | T26: RTS 20/ I | U26: 0.308 | V26: =ROUND(E26*U26,2) -> 16.63 | X26: Práce | AG26: POL1_
C27: 3*3*6 | E27: 54 | AG27: VV | AH27: 0
AG28: SPU
A29: Díl: | B29: 96 | C29: Bourání konstrukcí | G29: =SUMIF(AG30:AG36,"<>NOR",G30:G36) -> 0 | I29: =SUM(I30:I36) -> 0 | K29: =SUM(K30:K36) -> 0 | M29: =SUM(M30:M36) -> 0 | O29: =SUM(O30:O36) -> 0.01 | Q29: =SUM(Q30:Q36) -> 0.59 | V29: =SUM(V30:V36) -> 7.62 | AG29: DIL
A30: 8 | B30: 968061125R00 | C30: Vyvěšení nebo zavěšení dřevěných křídel dveří, plochy do 2 m2 | D30: kus | E30: 6 | G30: =ROUND(E30*F30,2) -> 0 | I30: =ROUND(E30*H30,2) -> 0 | K30: =ROUND(E30*J30,2) -> 0 | L30: 21 | M30: =G30*(1+L30/100) -> 0 | N30: 0 | O30: =ROUND(E30*N30,2) -> 0 | P30: 0 | Q30: =ROUND(E30*P30,2) -> 0 | R30: 801-3 | S30: RTS 20/ II | T30: RTS 20/ I | U30: 0.05 | V30: =ROUND(E30*U30,2) -> 0.3 | X30: Práce | AG30: POL1_
C31: oken, dveří a vrat, s uložením a opětovným zavěšením po provedení stavebních změn, | AG31: SPI
AG32: SPU
A33: 9 | B33: 968072455R00 | C33: Vybourání a vyjmutí kovových rámů a rolet rámů, včetně pomocného lešení o výšce podlahy do 1900 mm a pro zatížení do 1,5 kPa (150 kg/m2) dveřních zárubní, plochy do 2 m2 | D33: m2 | E33: 7.8 | G33: =ROUND(E33*F33,2) -> 0 | I33: =ROUND(E33*H33,2) -> 0 | K33: =ROUND(E33*J33,2) -> 0 | L33: 21 | M33: =G33*(1+L33/100) -> 0 | N33: 0.00117 | O33: =ROUND(E33*N33,2) -> 0.01 | P33: 0.076 | Q33: =ROUND(E33*P33,2) -> 0.59 | R33: 801-3 | S33: RTS 20/ II | T33: RTS 20/ I | U33: 0.939 | V33: =ROUND(E33*U33,2) -> 7.32 | X33: Práce | AG33: POL1_
C34: 0,6*2*5 | E34: 6 | AG34: VV | AH34: 0
C35: 0,9*2*1 | E35: 1.8 | AG35: VV | AH35: 0
AG36: SPU
A37: Díl: | B37: 99 | C37: Staveništní přesun hmot | G37: =SUMIF(AG38:AG46,"<>NOR",G38:G46) -> 0 | I37: =SUM(I38:I46) -> 0 | K37: =SUM(K38:K46) -> 0 | M37: =SUM(M38:M46) -> 0 | O37: =SUM(O38:O46) -> 0 | Q37: =SUM(Q38:Q46) -> 0 | V37: =SUM(V38:V46) -> 1.39 | AG37: DIL
A38: 10 | B38: 998011002R00 | C38: Přesun hmot pro budovy s nosnou konstrukcí zděnou výšky přes 6 do 12 m | D38: t | E38: 3.13796 | G38: =ROUND(E38*F38,2) -> 0 | I38: =ROUND(E38*H38,2) -> 0 | K38: =ROUND(E38*J38,2) -> 0 | L38: 21 | M38: =G38*(1+L38/100) -> 0 | N38: 0 | O38: =ROUND(E38*N38,2) -> 0 | P38: 0 | Q38: =ROUND(E38*P38,2) -> 0 | R38: 801-1 | S38: RTS 20/ II | T38: RTS 20/ I | U38: 0.307 | V38: =ROUND(E38*U38,2) -> 0.96 | X38: Přesun hmot | AG38: POL7_
C39: přesun hmot pro budovy občanské výstavby (JKSO 801), budovy pro bydlení (JKSO 803) budovy pro výrobu a služby (JKSO 812) s nosnou svislou konstrukcí zděnou z cihel nebo tvárnic nebo kovovou | AG39: SPI | BA39: =C39 -> přesun hmot pro budovy občanské výstavby (JKSO 801), budovy pro bydlení (JKSO 803) budovy pro výrobu a služby (JKSO 812) s nosnou svislou konstrukcí zděnou z cihel nebo tvárnic nebo kovovou
AG40: SPU
A41: 11 | B41: 998011018R00 | C41: Přesun hmot pro budovy s nosnou konstrukcí zděnou příplatek za zvětšený přesun přes vymezenou největší dopravní vzdálenost_x000D_ do 5000 m | D41: t | E41: 3.13796 | G41: =ROUND(E41*F41,2) -> 0 | I41: =ROUND(E41*H41,2) -> 0 | K41: =ROUND(E41*J41,2) -> 0 | L41: 21 | M41: =G41*(1+L41/100) -> 0 | N41: 0 | O41: =ROUND(E41*N41,2) -> 0 | P41: 0 | Q41: =ROUND(E41*P41,2) -> 0 | R41: 801-1 | S41: RTS 20/ II | T41: RTS 20/ I | U41: 0.138 | V41: =ROUND(E41*U41,2) -> 0.43 | X41: Přesun hmot | AG41: POL7_
C42: přesun hmot pro budovy občanské výstavby (JKSO 801), budovy pro bydlení (JKSO 803) budovy pro výrobu a služby (JKSO 812) s nosnou svislou konstrukcí zděnou z cihel nebo tvárnic nebo kovovou | AG42: SPI | BA42: =C42 -> přesun hmot pro budovy občanské výstavby (JKSO 801), budovy pro bydlení (JKSO 803) budovy pro výrobu a služby (JKSO 812) s nosnou svislou konstrukcí zděnou z cihel nebo tvárnic nebo kovovou
AG43: SPU
A44: 12 | B44: 998011019R00 | C44: Přesun hmot pro budovy s nosnou konstrukcí zděnou příplatek za zvětšený přesun přes vymezenou největší dopravní vzdálenost_x000D_ za každých dalších i započatých 5000 m | D44: t | E44: 3.13796 | G44: =ROUND(E44*F44,2) -> 0 | I44: =ROUND(E44*H44,2) -> 0 | K44: =ROUND(E44*J44,2) -> 0 | L44: 21 | M44: =G44*(1+L44/100) -> 0 | N44: 0 | O44: =ROUND(E44*N44,2) -> 0 | P44: 0 | Q44: =ROUND(E44*P44,2) -> 0 | R44: 801-1 | S44: RTS 20/ II | T44: RTS 20/ I | U44: 0 | V44: =ROUND(E44*U44,2) -> 0 | X44: Přesun hmot | AG44: POL7_
C45: přesun hmot pro budovy občanské výstavby (JKSO 801), budovy pro bydlení (JKSO 803) budovy pro výrobu a služby (JKSO 812) s nosnou svislou konstrukcí zděnou z cihel nebo tvárnic nebo kovovou | AG45: SPI | BA45: =C45 -> přesun hmot pro budovy občanské výstavby (JKSO 801), budovy pro bydlení (JKSO 803) budovy pro výrobu a služby (JKSO 812) s nosnou svislou konstrukcí zděnou z cihel nebo tvárnic nebo kovovou
AG46: SPU
A47: Díl: | B47: 766 | C47: Konstrukce truhlářské | G47: =SUMIF(AG48:AG63,"<>NOR",G48:G63) -> 0 | I47: =SUM(I48:I63) -> 0 | K47: =SUM(K48:K63) -> 0 | M47: =SUM(M48:M63) -> 0 | O47: =SUM(O48:O63) -> 0.15 | Q47: =SUM(Q48:Q63) -> 0.01 | V47: =SUM(V48:V63) -> 11.09 | AG47: DIL
A48: 13 | B48: 766661112R00 | C48: Montáž dveřních křídel kompletizovaných otevíravých , , do ocelové nebo fošnové zárubně, jednokřídlových, šířky do 800 mm | D48: kus | E48: 5 | G48: =ROUND(E48*F48,2) -> 0 | I48: =ROUND(E48*H48,2) -> 0 | K48: =ROUND(E48*J48,2) -> 0 | L48: 21 | M48: =G48*(1+L48/100) -> 0 | N48: 0 | O48: =ROUND(E48*N48,2) -> 0 | P48: 0 | Q48: =ROUND(E48*P48,2) -> 0 | R48: 800-766 | S48: RTS 20/ II | T48: RTS 20/ I | U48: 1.45 | V48: =ROUND(E48*U48,2) -> 7.25 | X48: Práce | AG48: POL1_
AG49: SPU
A50: 14 | B50: 766661122R00 | C50: Montáž dveřních křídel kompletizovaných otevíravých , , do ocelové nebo fošnové zárubně, jednokřídlových, šířky přes 800 mm | D50: kus | E50: 1 | G50: =ROUND(E50*F50,2) -> 0 | I50: =ROUND(E50*H50,2) -> 0 | K50: =ROUND(E50*J50,2) -> 0 | L50: 21 | M50: =G50*(1+L50/100) -> 0 | N50: 0 | O50: =ROUND(E50*N50,2) -> 0 | P50: 0 | Q50: =ROUND(E50*P50,2) -> 0 | R50: 800-766 | S50: RTS 20/ II | T50: RTS 20/ I | U50: 1.5 | V50: =ROUND(E50*U50,2) -> 1.5 | X50: Práce | AG50: POL1_
AG51: SPU
A52: 15 | B52: 766662811R00 | C52: Demontáž dveřních křídel prahů dveří_x000D_ jednokřídlových | D52: kus | E52: 6 | G52: =ROUND(E52*F52,2) -> 0 | I52: =ROUND(E52*H52,2) -> 0 | K52: =ROUND(E52*J52,2) -> 0 | L52: 21 | M52: =G52*(1+L52/100) -> 0 | N52: 0 | O52: =ROUND(E52*N52,2) -> 0 | P52: 0.0018 | Q52: =ROUND(E52*P52,2) -> 0.01 | R52: 800-766 | S52: RTS 20/ II | T52: RTS 20/ I | U52: 0.11 | V52: =ROUND(E52*U52,2) -> 0.66 | X52: Práce | AG52: POL1_
AG53: SPU
A54: 16 | B54: 766695213R00 | C54: Ostatní montáž prahů dveří_x000D_ jednokřídlých, šířky přes 100 mm | D54: kus | E54: 6 | G54: =ROUND(E54*F54,2) -> 0 | I54: =ROUND(E54*H54,2) -> 0 | K54: =ROUND(E54*J54,2) -> 0 | L54: 21 | M54: =G54*(1+L54/100) -> 0 | N54: 1e-05 | O54: =ROUND(E54*N54,2) -> 0 | P54: 0 | Q54: =ROUND(E54*P54,2) -> 0 | R54: 800-766 | S54: RTS 20/ II | T54: RTS 20/ I | U54: 0.28 | V54: =ROUND(E54*U54,2) -> 1.68 | X54: Práce | AG54: POL1_
AG55: SPU
A56: 17 | B56: 61165609R | C56: dveře speciální protipožární; vnitřní; vnější; š = 600 mm; h = 1 970,0 mm; hladké; EI 30 min; otevíravé; počet křídel 1; plné; povrch. úprava laminát | D56: kus | E56: 5 | G56: =ROUND(E56*F56,2) -> 0 | I56: =ROUND(E56*H56,2) -> 0 | K56: =ROUND(E56*J56,2) -> 0 | L56: 21 | M56: =G56*(1+L56/100) -> 0 | N56: 0.021 | O56: =ROUND(E56*N56,2) -> 0.11 | P56: 0 | Q56: =ROUND(E56*P56,2) -> 0 | R56: SPCM | S56: RTS 20/ II | T56: RTS 20/ I | U56: 0 | V56: =ROUND(E56*U56,2) -> 0 | X56: Specifikace | AG56: POL3_
AG57: SPU
A58: 18 | B58: 61165612R | C58: dveře speciální protipožární; vnitřní; vnější; š = 900 mm; h = 1 970,0 mm; hladké; EI 30 min; otevíravé; počet křídel 1; plné; povrch. úprava laminát | D58: kus | E58: 1 | G58: =ROUND(E58*F58,2) -> 0 | I58: =ROUND(E58*H58,2) -> 0 | K58: =ROUND(E58*J58,2) -> 0 | L58: 21 | M58: =G58*(1+L58/100) -> 0 | N58: 0.027 | O58: =ROUND(E58*N58,2) -> 0.03 | P58: 0 | Q58: =ROUND(E58*P58,2) -> 0 | R58: SPCM | S58: RTS 20/ II | T58: RTS 20/ I | U58: 0 | V58: =ROUND(E58*U58,2) -> 0 | X58: Specifikace | AG58: POL3_
AG59: SPU
A60: 19 | B60: 61187121R | C60: práh dub; š = 150 mm; l = 600,0 mm; tl = 20,0 mm | D60: kus | E60: 5 | G60: =ROUND(E60*F60,2) -> 0 | I60: =ROUND(E60*H60,2) -> 0 | K60: =ROUND(E60*J60,2) -> 0 | L60: 21 | M60: =G60*(1+L60/100) -> 0 | N60: 0.00121 | O60: =ROUND(E60*N60,2) -> 0.01 | P60: 0 | Q60: =ROUND(E60*P60,2) -> 0 | R60: SPCM | S60: RTS 20/ II | T60: RTS 20/ I | U60: 0 | V60: =ROUND(E60*U60,2) -> 0 | X60: Specifikace | AG60: POL3_
AG61: SPU
A62: 20 | B62: 61187181R | C62: práh dub; š = 150 mm; l = 900,0 mm; tl = 20,0 mm | D62: kus | E62: 1 | G62: =ROUND(E62*F62,2) -> 0 | I62: =ROUND(E62*H62,2) -> 0 | K62: =ROUND(E62*J62,2) -> 0 | L62: 21 | M62: =G62*(1+L62/100) -> 0 | N62: 0.00181 | O62: =ROUND(E62*N62,2) -> 0 | P62: 0 | Q62: =ROUND(E62*P62,2) -> 0 | R62: SPCM | S62: RTS 20/ II | T62: RTS 20/ I | U62: 0 | V62: =ROUND(E62*U62,2) -> 0 | X62: Specifikace | AG62: POL3_
AG63: SPU
A64: Díl: | B64: 783 | C64: Nátěry | G64: =SUMIF(AG65:AG68,"<>NOR",G65:G68) -> 0 | I64: =SUM(I65:I68) -> 0 | K64: =SUM(K65:K68) -> 0 | M64: =SUM(M65:M68) -> 0 | O64: =SUM(O65:O68) -> 0.01 | Q64: =SUM(Q65:Q68) -> 0 | V64: =SUM(V65:V68) -> 4 | AG64: DIL
A65: 21 | B65: 783222110R00 | C65: Nátěry kov.stavebních doplňk.konstrukcí syntetické 2x email, | D65: m2 | E65: 13.95 | G65: =ROUND(E65*F65,2) -> 0 | I65: =ROUND(E65*H65,2) -> 0 | K65: =ROUND(E65*J65,2) -> 0 | L65: 21 | M65: =G65*(1+L65/100) -> 0 | N65: 0.00042 | O65: =ROUND(E65*N65,2) -> 0.01 | P65: 0 | Q65: =ROUND(E65*P65,2) -> 0 | R65: 800-783 | S65: RTS 20/ II | T65: RTS 20/ I | U65: 0.287 | V65: =ROUND(E65*U65,2) -> 4 | X65: Práce | AG65: POL1_
C66: zárubně : (2*2+0,6)*0,5*5 | E66: 11.5 | AG66: VV | AH66: 0
C67: (2*2+0,9)*0,5*1 | E67: 2.45 | AG67: VV | AH67: 0
AG68: SPU
A69: Díl: | B69: 784 | C69: Malby | G69: =SUMIF(AG70:AG79,"<>NOR",G70:G79) -> 0 | I69: =SUM(I70:I79) -> 0 | K69: =SUM(K70:K79) -> 0 | M69: =SUM(M70:M79) -> 0 | O69: =SUM(O70:O79) -> 0.01 | Q69: =SUM(Q70:Q79) -> 0 | V69: =SUM(V70:V79) -> 7.6 | AG69: DIL
A70: 22 | B70: 784432911R00 | C70: Opravy malby klihové se začištěním v místnostech do 3,8 m, dvojnásobné bez pačokování, jednobarevné, s obroušením a oprášením | D70: m2 | E70: 30.5 | G70: =ROUND(E70*F70,2) -> 0 | I70: =ROUND(E70*H70,2) -> 0 | K70: =ROUND(E70*J70,2) -> 0 | L70: 21 | M70: =G70*(1+L70/100) -> 0 | N70: 0.00012 | O70: =ROUND(E70*N70,2) -> 0 | P70: 0 | Q70: =ROUND(E70*P70,2) -> 0 | R70: 800-784 | S70: RTS 20/ II | T70: RTS 20/ I | U70: 0.06831 | V70: =ROUND(E70*U70,2) -> 2.08 | X70: Práce | AG70: POL1_
AG71: SPU
A72: 23 | B72: 784498911R00 | C72: Ostatní práce vyhlazení malířskou masou jednonásobné, v místnostech výšky nebo na schodišti o výšce podlaží do 3,8 m | D72: m2 | E72: 30.5 | G72: =ROUND(E72*F72,2) -> 0 | I72: =ROUND(E72*H72,2) -> 0 | K72: =ROUND(E72*J72,2) -> 0 | L72: 21 | M72: =G72*(1+L72/100) -> 0 | N72: 0.00034 | O72: =ROUND(E72*N72,2) -> 0.01 | P72: 0 | Q72: =ROUND(E72*P72,2) -> 0 | R72: 800-784 | S72: RTS 20/ II | T72: RTS 20/ I | U72: 0.135 | V72: =ROUND(E72*U72,2) -> 4.12 | X72: Práce | AG72: POL1_
C73: (2*2+1)*0,5*5*2 | E73: 25 | AG73: VV | AH73: 0
C74: (2*2+1,5)*0,5*2 | E74: 5.5 | AG74: VV | AH74: 0
AG75: SPU
A76: 24 | B76: 784498931R00 | C76: Ostatní práce tmelení trhlin v omítce š. do 4 mm akryl. tmelem , v místnostech do 3,8 m | D76: m | E76: 27.9 | G76: =ROUND(E76*F76,2) -> 0 | I76: =ROUND(E76*H76,2) -> 0 | K76: =ROUND(E76*J76,2) -> 0 | L76: 21 | M76: =G76*(1+L76/100) -> 0 | N76: 1e-05 | O76: =ROUND(E76*N76,2) -> 0 | P76: 0 | Q76: =ROUND(E76*P76,2) -> 0 | R76: 800-784 | S76: RTS 20/ II | T76: RTS 20/ I | U76: 0.05 | V76: =ROUND(E76*U76,2) -> 1.4 | X76: Práce | AG76: POL1_
C77: (2*2+0,6)*5 | E77: 23 | AG77: VV | AH77: 0
C78: (2*2+0,9)*1 | E78: 4.9 | AG78: VV | AH78: 0
AG79: SPU
A80: Díl: | B80: D96 | C80: Přesuny suti a vybouraných hmot | G80: =SUMIF(AG81:AG95,"<>NOR",G81:G95) -> 0 | I80: =SUM(I81:I95) -> 0 | K80: =SUM(K81:K95) -> 0 | M80: =SUM(M81:M95) -> 0 | O80: =SUM(O81:O95) -> 0 | Q80: =SUM(Q81:Q95) -> 0 | V80: =SUM(V81:V95) -> 2.83 | AG80: DIL
A81: 25 | B81: 979086112R00 | C81: Vodorovná doprava suti a vybouraných hmot nakládání nebo překládání suti a vybouraných hmot na dopravní prostředek při vodorovné dopravě, , | D81: t | E81: 0.6036 | G81: =ROUND(E81*F81,2) -> 0 | I81: =ROUND(E81*H81,2) -> 0 | K81: =ROUND(E81*J81,2) -> 0 | L81: 21 | M81: =G81*(1+L81/100) -> 0 | N81: 0 | O81: =ROUND(E81*N81,2) -> 0 | P81: 0 | Q81: =ROUND(E81*P81,2) -> 0 | R81: 832-1 | S81: RTS 20/ II | T81: RTS 20/ I | U81: 0.277 | V81: =ROUND(E81*U81,2) -> 0.17 | X81: Přesun suti | AG81: POL8_
C82: bez naložení, s vyložením a hrubým urovnáním | AG82: SPI
AG83: SPU
A84: 26 | B84: 979011211R00 | C84: Svislá doprava suti a vybouraných hmot nošením za prvé podlaží nad základním podlažím | D84: t | E84: 0.6036 | G84: =ROUND(E84*F84,2) -> 0 | I84: =ROUND(E84*H84,2) -> 0 | K84: =ROUND(E84*J84,2) -> 0 | L84: 21 | M84: =G84*(1+L84/100) -> 0 | N84: 0 | O84: =ROUND(E84*N84,2) -> 0 | P84: 0 | Q84: =ROUND(E84*P84,2) -> 0 | R84: 801-3 | S84: RTS 20/ II | T84: RTS 20/ I | U84: 2.009 | V84: =ROUND(E84*U84,2) -> 1.21 | X84: Přesun suti | AG84: POL8_
AG85: SPU
A86: 27 | B86: 979011219R00 | C86: Svislá doprava suti a vybouraných hmot nošením příplatek zakaždé další podlaží nad prvním základním podlažím | D86: t | E86: 0.6036 | G86: =ROUND(E86*F86,2) -> 0 | I86: =ROUND(E86*H86,2) -> 0 | K86: =ROUND(E86*J86,2) -> 0 | L86: 21 | M86: =G86*(1+L86/100) -> 0 | N86: 0 | O86: =ROUND(E86*N86,2) -> 0 | P86: 0 | Q86: =ROUND(E86*P86,2) -> 0 | R86: 801-3 | S86: RTS 20/ II | T86: RTS 20/ I | U86: 0.959 | V86: =ROUND(E86*U86,2) -> 0.58 | X86: Přesun suti | AG86: POL8_
AG87: SPU
A88: 28 | B88: 979081111R00 | C88: Odvoz suti a vybouraných hmot na skládku do 1 km | D88: t | E88: 0.6036 | G88: =ROUND(E88*F88,2) -> 0 | I88: =ROUND(E88*H88,2) -> 0 | K88: =ROUND(E88*J88,2) -> 0 | L88: 21 | M88: =G88*(1+L88/100) -> 0 | N88: 0 | O88: =ROUND(E88*N88,2) -> 0 | P88: 0 | Q88: =ROUND(E88*P88,2) -> 0 | R88: 801-3 | S88: RTS 20/ II | T88: RTS 20/ I | U88: 0.49 | V88: =ROUND(E88*U88,2) -> 0.3 | X88: Přesun suti | AG88: POL8_
AG89: SPU
A90: 29 | B90: 979081121R00 | C90: Odvoz suti a vybouraných hmot na skládku příplatek za každý další 1 km | D90: t | E90: 6.036 | G90: =ROUND(E90*F90,2) -> 0 | I90: =ROUND(E90*H90,2) -> 0 | K90: =ROUND(E90*J90,2) -> 0 | L90: 21 | M90: =G90*(1+L90/100) -> 0 | N90: 0 | O90: =ROUND(E90*N90,2) -> 0 | P90: 0 | Q90: =ROUND(E90*P90,2) -> 0 | R90: 801-3 | S90: RTS 20/ II | T90: RTS 20/ I | U90: 0 | V90: =ROUND(E90*U90,2) -> 0 | X90: Přesun suti | AG90: POL8_
AG91: SPU
A92: 30 | B92: 979082111R00 | C92: Vnitrostaveništní doprava suti a vybouraných hmot do 10 m | D92: t | E92: 0.6036 | G92: =ROUND(E92*F92,2) -> 0 | I92: =ROUND(E92*H92,2) -> 0 | K92: =ROUND(E92*J92,2) -> 0 | L92: 21 | M92: =G92*(1+L92/100) -> 0 | N92: 0 | O92: =ROUND(E92*N92,2) -> 0 | P92: 0 | Q92: =ROUND(E92*P92,2) -> 0 | R92: 801-3 | S92: RTS 20/ II | T92: RTS 20/ I | U92: 0.942 | V92: =ROUND(E92*U92,2) -> 0.57 | X92: Přesun suti | AG92: POL8_
AG93: SPU
A94: 31 | B94: 979999999R00 | C94: Poplatek za skládku suti s 10 % příměsí - DUFONEV Brno, | D94: t | E94: 0.6036 | G94: =ROUND(E94*F94,2) -> 0 | I94: =ROUND(E94*H94,2) -> 0 | K94: =ROUND(E94*J94,2) -> 0 | L94: 21 | M94: =G94*(1+L94/100) -> 0 | N94: 0 | O94: =ROUND(E94*N94,2) -> 0 | P94: 0 | Q94: =ROUND(E94*P94,2) -> 0 | R94: 801-3 | S94: RTS 20/ II | T94: RTS 20/ I | U94: 0 | V94: =ROUND(E94*U94,2) -> 0 | X94: Přesun suti | AG94: POL8_
AG95: SPU
AE96: 15 | AF96: 21 | AG96: DPH
B97: Celkem | G97: =G8+G13+G25+G29+G37+G47+G64+G69+G80 -> 0 | AE97: =SUMIF(L7:L95,AE96,G7:G95) -> 0 | AF97: =SUMIF(L7:L95,AF96,G7:G95) -> 0 | AG97: SUM
AG98: END
