Workbook
Name CelkemDPHVypocet: Stavba!$H$43
Name CenaCelkem: Stavba!$G$29
Name CenaCelkemBezDPH: Stavba!$G$28
Name CenaCelkemVypocet: Stavba!$I$43
Name cisloobjektu: Stavba!$D$3
Name CisloRozpoctu: '[1]Krycí list'!$C$2
Name CisloStavby: Stavba!$D$2
Name cislostavby: '[1]Krycí list'!$A$7
Name CisloStavebnihoRozpoctu: Stavba!$D$4
Name dadresa: Stavba!$D$12:$G$12
Name DIČ: Stavba!$I$12
Name dmisto: Stavba!$E$13:$G$13
Name DPHSni: Stavba!$G$24
Name DPHZakl: Stavba!$G$26
Name dpsc: Stavba!$D$13
Name IČO: Stavba!$I$11
Name Mena: Stavba!$J$29
Name MistoStavby: Stavba!$D$4
Name nazevobjektu: Stavba!$E$3
Name NazevRozpoctu: '[1]Krycí list'!$D$2
Name NazevStavby: Stavba!$E$2
Name nazevstavby: '[1]Krycí list'!$C$7
Name NazevStavebnihoRozpoctu: Stavba!$E$4
Name oadresa: Stavba!$D$6
Name Objednatel: Stavba!$D$5
Name Objekt: Stavba!$B$38
Name odic: Stavba!$I$6
Name oico: Stavba!$I$5
Name omisto: Stavba!$E$7
Name onazev: Stavba!$D$6
Name opsc: Stavba!$D$7
Name padresa: Stavba!$D$9
Name pdic: Stavba!$I$9
Name pico: Stavba!$I$8
Name pmisto: Stavba!$E$10
Name PocetMJ: #REF!
Name PoptavkaID: Stavba!$A$1
Name pPSC: Stavba!$D$10
Name Projektant: Stavba!$D$8
Name SazbaDPH1: Stavba!$E$23
Name SazbaDPH1: '[1]Krycí list'!$C$30
Name SazbaDPH2: Stavba!$E$25
Name SazbaDPH2: '[1]Krycí list'!$C$32
Name SloupecCC: #REF!
Name SloupecCisloPol: #REF!
Name SloupecJC: #REF!
Name SloupecMJ: #REF!
Name SloupecMnozstvi: #REF!
Name SloupecNazPol: #REF!
Name SloupecPC: #REF!
Name Vypracoval: Stavba!$D$14
Name ZakladDPHSni: Stavba!$G$23
Name ZakladDPHSniVypocet: Stavba!$F$43
Name ZakladDPHZakl: Stavba!$G$25
Name ZakladDPHZaklVypocet: Stavba!$G$43
Name ZaObjednatele: Stavba!$G$34
Name Zaokrouhleni: Stavba!$G$27
Name ZaZhotovitele: Stavba!$D$34
Name Zhotovitel: Stavba!$D$11:$G$11

Sheet Pokyny pro vyplnění
A1: Pokyny pro vyplnění
A2: Ve všech listech tohoto souboru můžete měnit pouze buňky s modrým pozadím. Jedná se o tyto údaje : - údaje o firmě - jednotkové ceny položek zadané na maximálně dvě desetinná místa

Sheet Stavba
A1: #RTSROZP# | B1: Soupis stavebních prací, dodávek a služeb
B2: Stavba: | D2: 007/2020/01 | E2: Staňkova 47 výměna PO dveří
B3: Objekt: | D3: 007/2020/01 | E3: Staňkova 47 výměna PO dveří
A4: 4288 | B4: Rozpočet: | D4: 007/2020/01 | E4: Staňkova 47 výměna PO dveří
B5: Zadavatel | H5: IČO:
H6: DIČ:
B8: Projektant: | H8: IČO:
H9: DIČ:
B11: Zhotovitel: | H11: IČO:
H12: DIČ:
B14: Vypracoval: | D14: Marečková
B15: Rozpis ceny | I15: Celkem
A16: HSV | B16: HSV | I16: =SUMIF(F50:F58,A16,I50:I58)+SUMIF(F50:F58,"PSU",I50:I58) -> 0
A17: PSV | B17: PSV | I17: =SUMIF(F50:F58,A17,I50:I58) -> 0
A18: MON | B18: MON | I18: =SUMIF(F50:F58,A18,I50:I58) -> 0
A19: VN | B19: Vedlejší náklady | I19: =SUMIF(F50:F58,A19,I50:I58) -> 0
A20: ON | B20: Ostatní náklady | I20: =SUMIF(F50:F58,A20,I50:I58) -> 0
B21: Celkem | I21: =SUM(I16:J20) -> 0
B22: Rekapitulace daní
A23: =ZakladDPHSni*SazbaDPH1/100 -> 0 | B23: Základ pro sníženou DPH | E23: 15 | F23: % | G23: =ZakladDPHSniVypocet -> 0 | J23: =Mena -> CZK
A24: =(A23-INT(A23))*100 -> 0 | B24: Snížená DPH | E24: =SazbaDPH1 -> 15 | F24: % | G24: =A23 -> 0 | J24: =Mena -> CZK
A25: =ZakladDPHZakl*SazbaDPH2/100 -> 0 | B25: Základ pro základní DPH | E25: 21 | F25: % | G25: =ZakladDPHZaklVypocet -> 0 | J25: =Mena -> CZK
A26: =(A25-INT(A25))*100 -> 0 | B26: Základní DPH | E26: =SazbaDPH2 -> 21 | F26: % | G26: =A25 -> 0 | J26: =Mena -> CZK
A27: =ZakladDPHSni+DPHSni+ZakladDPHZakl+DPHZakl -> 0 | B27: Zaokrouhlení | G27: =CenaCelkem-(ZakladDPHSni+DPHSni+ZakladDPHZakl+DPHZakl) -> 0 | J27: =Mena -> CZK
B28: Cena celkem bez DPH | G28: =ZakladDPHSniVypocet+ZakladDPHZaklVypocet -> 0 | J28: =Mena -> CZK
A29: =(A27-INT(A27))*100 -> 0 | B29: Cena celkem s DPH | G29: =A27 -> 0 | J29: CZK
C32: v | F32: dne
D34: sdfsdf | G34: OSM MMB
D35: Za zhotovitele | H35: Za objednatele
B37: Rekapitulace dílčích částí
A38: #CASTI>> | B38: Číslo | C38: Název | F38: =B23 -> Základ pro sníženou DPH | G38: =B25 -> Základ pro základní DPH | H38: DPH celkem | I38: Cena celkem | J38: %
A39: 1 | B39: Stavba | F39: ='007_2020_01 007_2020_01 Pol'!AE97 -> 0 | G39: ='007_2020_01 007_2020_01 Pol'!AF97 -> 0 | H39: =(F39*SazbaDPH1/100)+(G39*SazbaDPH2/100) -> 0 | I39: =F39+G39+H39 -> 0 | J39: =IF(CenaCelkemVypocet=0,"",I39/CenaCelkemVypocet*100)
A40: 2 | C40: Stavební objekt | H40: =(F40*SazbaDPH1/100)+(G40*SazbaDPH2/100) -> 0
A41: 2 | B41: 007/2020/01 | C41: Staňkova 47 výměna PO dveří | F41: ='007_2020_01 007_2020_01 Pol'!AE97 -> 0 | G41: ='007_2020_01 007_2020_01 Pol'!AF97 -> 0 | H41: =(F41*SazbaDPH1/100)+(G41*SazbaDPH2/100) -> 0 | I41: =F41+G41+H41 -> 0 | J41: =IF(CenaCelkemVypocet=0,"",I41/CenaCelkemVypocet*100)
A42: 3 | B42: 007/2020/01 | C42: Staňkova 47 výměna PO dveří | F42: ='007_2020_01 007_2020_01 Pol'!AE97 -> 0 | G42: ='007_2020_01 007_2020_01 Pol'!AF97 -> 0 | H42: =(F42*SazbaDPH1/100)+(G42*SazbaDPH2/100) -> 0 | I42: =F42+G42+H42 -> 0 | J42: =IF(CenaCelkemVypocet=0,"",I42/CenaCelkemVypocet*100)
B43: Celkem za stavbu | F43: =SUMIF(A39:A42,"=1",F39:F42) -> 0 | G43: =SUMIF(A39:A42,"=1",G39:G42) -> 0 | H43: =SUMIF(A39:A42,"=1",H39:H42) -> 0 | I43: =SUMIF(A39:A42,"=1",I39:I42) -> 0 | J43: =SUMIF(A39:A42,"=1",J39:J42) -> 0
B47: Rekapitulace dílů
B49: Číslo | C49: Název | F49: Typ dílu | I49: Celkem | J49: %
B50: 61 | C50: Úpravy povrchů vnitřní | F50: HSV | I50: ='007_2020_01 007_2020_01 Pol'!G8 -> 0 | J50: =IF(I59=0,"",I50/I59*100)
B51: 64 | C51: Výplně otvorů | F51: HSV | I51: ='007_2020_01 007_2020_01 Pol'!G13 -> 0 | J51: =IF(I59=0,"",I51/I59*100)
...

Sheet VzorPolozky
A1: Položkový rozpočet
A2: S:
A3: O:
A4: R:

Sheet 007_2020_01 007_2020_01 Pol
A1: Položkový soupis prací a dodávek | AG1: #TypZaznamu#
A2: S: | B2: 007/2020/01 | C2: Staňkova 47 výměna PO dveří | AG2: STA
A3: O: | B3: 007/2020/01 | C3: Staňkova 47 výměna PO dveří | AC3: STA | AG3: OBJ
A4: R: | B4: 007/2020/01 | C4: Staňkova 47 výměna PO dveří | AG4: ROZ
A6: P.č. | B6: Číslo položky | C6: Název položky | D6: MJ | E6: Množství | F6: Cena / MJ | G6: Celkem | H6: Dodávka | I6: Dodávka celk. | J6: Montáž | K6: Montáž celk. | L6: DPH | M6: Cena s DPH | N6: Hmotnost / MJ | O6: Hmotnost celk.(t) | P6: Dem. hmotnost / MJ | Q6: Dem. hmotnost celk.(t) | R6: Ceník | S6: Cen. soustava / platnost | T6: Cenová úroveň | U6: Nhod / MJ | V6: Nhod celk. | W6: Dodavatel | X6: Typ položky
A8: Díl: | B8: 61 | C8: Úpravy povrchů vnitřní | G8: =SUMIF(AG9:AG12,"<>NOR",G9:G12) -> 0 | I8: =SUM(I9:I12) -> 0 | K8: =SUM(K9:K12) -> 0 | M8: =SUM(M9:M12) -> 0 | O8: =SUM(O9:O12) -> 0.07 | Q8: =SUM(Q9:Q12) -> 0 | V8: =SUM(V9:V12) -> 5.09 | AG8: DIL
A9: 1 | B9: 612409991RT2 | C9: Začištění omítek kolem oken, dveří a obkladů apod. s použitím suché maltové směsi | D9: m | E9: 27.9 | G9: =ROUND(E9*F9,2) -> 0 | I9: =ROUND(E9*H9,2) -> 0 | K9: =ROUND(E9*J9,2) -> 0 | L9: 21 | M9: =G9*(1+L9/100) -> 0 | N9: 0.00238 | O9: =ROUND(E9*N9,2) -> 0.07 | P9: 0 | Q9: =ROUND(E9*P9,2) -> 0 | R9: 801-4 | S9: RTS 20/ II | T9: RTS 20/ I | U9: 0.18233 | V9: =ROUND(E9*U9,2) -> 5.09 | X9: Práce | AG9: POL1_
C10: (2*2+0,6)*5 | E10: 23 | AG10: VV | AH10: 0
C11: (2*2+0,9)*1 | E11: 4.9 | AG11: VV | AH11: 0
AG12: SPU
A13: Díl: | B13: 64 | C13: Výplně otvorů | G13: =SUMIF(AG14:AG24,"<>NOR",G14:G24) -> 0 | I13: =SUM(I14:I24) -> 0 | K13: =SUM(K14:K24) -> 0 | M13: =SUM(M14:M24) -> 0 | O13: =SUM(O14:O24) -> 3.06 | Q13: =SUM(Q14:Q24) -> 0 | V13: =SUM(V14:V24) -> 54.78 | AG13: DIL
A14: 2 | B14: 642942111R00 | C14: Osazení zárubní dveřních ocelových bez dveřních křídel, do zdiva včetně kotvení, na jakoukoliv cementovou maltu, s vybetonováním prahu v zárubni a s osazením špalíků nebo latí pro dřevěný práh_x000D_ plocha do 2,5 m2 | D14: kus | E14: 1 | G14: =ROUND(E14*F14,2) -> 0 | I14: =ROUND(E14*H14,2) -> 0 | K14: =ROUND(E14*J14,2) -> 0 | L14: 21 | M14: =G14*(1+L14/100) -> 0 | N14: 0.01897 | O14: =ROUND(E14*N14,2) -> 0.02 | P14: 0 | Q14: =ROUND(E14*P14,2) -> 0 | R14: 801-1 | S14: RTS 20/ II | T14: RTS 20/ I | U14: 1.86 | V14: =ROUND(E14*U14,2) -> 1.86 | X14: Práce | AG14: POL1_
AG15: SPU
A16: 3 | B16: 642945111R00 | C16: Osazení ocelových zárubní protipožárních jednokřídlových, obetonováním | D16: kus | E16: 6 | G16: =ROUND(E16*F16,2) -> 0 | I16: =ROUND(E16*H16,2) -> 0 | K16: =ROUND(E16*J16,2) -> 0 | L16: 21 | M16: =G16*(1+L16/100) -> 0 | N16: 0.49075 | O16: =ROUND(E16*N16,2) -> 2.94 | P16: 0 | Q16: =ROUND(E16*P16,2) -> 0 | R16: 801-1 | S16: RTS 20/ II | T16: RTS 20/ I | U16: 8.82 | V16: =ROUND(E16*U16,2) -> 52.92 | X16: Práce | AG16: POL1_
C17: a protiplynových dveří bez nebo včetně dveřních křídel do vynechaného otvoru, s obetonováním , včetně manipulační dopravy, kotvení zárubně do zdiva např. s uklínováním, s případným přivařením k obnažené výztuži, se zalitím, resp. zabetonováním, včetně bednění. | AG17: SPI | BA17: =C17 -> a protiplynových dveří bez nebo včetně dveřních křídel do vynechaného otvoru, s obetonováním , včetně manipulační dopravy, kotvení zárubně do zdiva např. s uklínováním, s případným přivařením k obnažené výztuži, se zalitím, resp. zabetonováním, včetně bednění.
AG18: SPU
A19: 4 | B19: 553310762R | C19: zárubeň kovová univerzální; pro zděné stěny, příčky, pro přesné zdění; ústí 150 mm; š průchodu 800 mm; h průchodu 1 970 mm; L, P | D19: kus | E19: 1 | G19: =ROUND(E19*F19,2) -> 0 | I19: =ROUND(E19*H19,2) -> 0 | K19: =ROUND(E19*J19,2) -> 0 | L19: 21 | M19: =G19*(1+L19/100) -> 0 | N19: 0.019 | O19: =ROUND(E19*N19,2) -> 0.02 | P19: 0 | Q19: =ROUND(E19*P19,2) -> 0 | R19: SPCM | S19: RTS 20/ II | T19: RTS 20/ I | U19: 0 | V19: =ROUND(E19*U19,2) -> 0 | X19: Specifikace | AG19: POL3_
AG20: SPU
A21: 5 | B21: 5533300131R | C21: zárubeň kovová pro klasické zdění; š profilu 110 mm; š průchodu 900 mm; h průchodu 1 970 mm; L, P; závěsy pevné; požární odolnost | D21: kus | E21: 1 | G21: =ROUND(E21*F21,2) -> 0 | I21: =ROUND(E21*H21,2) -> 0 | K21: =ROUND(E21*J21,2) -> 0 | L21: 21 | M21: =G21*(1+L21/100) -> 0 | N21: 0.0113 | O21: =ROUND(E21*N21,2) -> 0.01 | P21: 0 | Q21: =ROUND(E21*P21,2) -> 0 | R21: SPCM | S21: RTS 20/ II | T21: RTS 20/ I | U21: 0 | V21: =ROUND(E21*U21,2) -> 0 | X21: Specifikace | AG21: POL3_
AG22: SPU
A23: 6 | B23: 5533300401R | C23: zárubeň kovová pro klasické zdění; š profilu 160 mm; š průchodu 600 mm; h průchodu 1 970 mm; L, P; závěsy pevné; požární odolnost | D23: kus | E23: 5 | G23: =ROUND(E23*F23,2) -> 0 | I23: =ROUND(E23*H23,2) -> 0 | K23: =ROUND(E23*J23,2) -> 0 | L23: 21 | M23: =G23*(1+L23/100) -> 0 | N23: 0.0133 | O23: =ROUND(E23*N23,2) -> 0.07 | P23: 0 | Q23: =ROUND(E23*P23,2) -> 0 | R23: SPCM | S23: RTS 20/ II | T23: RTS 20/ I | U23: 0 | V23: =ROUND(E23*U23,2) -> 0 | X23: Specifikace | AG23: POL3_
AG24: SPU
A25: Díl: | B25: 95 | C25: Dokončovací konstrukce na pozemních stavbách | G25: =SUMIF(AG26:AG28,"<>NOR",G26:G28) -> 0 | I25: =SUM(I26:I28) -> 0 | K25: =SUM(K26:K28) -> 0 | M25: =SUM(M26:M28) -> 0 | O25: =SUM(O26:O28) -> 0 | Q25: =SUM(Q26:Q28) -> 0 | V25: =SUM(V26:V28) -> 16.63 | AG25: DIL
A26: 7 | B26: 952901111R00 | C26: Vyčištění budov a ostatních objektů budov bytové nebo občanské výstavby - zametení a umytí podlah, dlažeb, obkladů, schodů v místnostech, chodbách a schodištích, vyčištění a umytí oken, dveří s rámy, zárubněmi, umytí a vyčištění jiných zasklených a natíraných ploch a zařizovacích předmětů před předáním do užívání světlá výška podlaží do 4 m | D26: m2 | E26: 54 | G26: =ROUND(E26*F26,2) -> 0 | I26: =ROUND(E26*H26,2) -> 0 | K26: =ROUND(E26*J26,2) -> 0 | L26: 21 | M26: =G26*(1+L26/100) -> 0 | N26: 4e-05 | O26: =ROUND(E26*N26,2) -> 0 | P26: 0 | Q26: =ROUND(E26*P26,2) -> 0 | R26: 801-1 | S26: RTS 20/ II | T26: RTS 20/ I | U26: 0.308 | V26: =ROUND(E26*U26,2) -> 16.63 | X26: Práce | AG26: POL1_
C27: 3*3*6 | E27: 54 | AG27: VV | AH27: 0
AG28: SPU
A29: Díl: | B29: 96 | C29: Bourání konstrukcí | G29: =SUMIF(AG30:AG36,"<>NOR",G30:G36) -> 0 | I29: =SUM(I30:I36) -> 0 | K29: =SUM(K30:K36) -> 0 | M29: =SUM(M30:M36) -> 0 | O29: =SUM(O30:O36) -> 0.01 | Q29: =SUM(Q30:Q36) -> 0.59 | V29: =SUM(V30:V36) -> 7.62 | AG29: DIL
A30: 8 | B30: 968061125R00 | C30: Vyvěšení nebo zavěšení dřevěných křídel dveří, plochy do 2 m2 | D30: kus | E30: 6 | G30: =ROUND(E30*F30,2) -> 0 | I30: =ROUND(E30*H30,2) -> 0 | K30: =ROUND(E30*J30,2) -> 0 | L30: 21 | M30: =G30*(1+L30/100) -> 0 | N30: 0 | O30: =ROUND(E30*N30,2) -> 0 | P30: 0 | Q30: =ROUND(E30*P30,2) -> 0 | R30: 801-3 | S30: RTS 20/ II | T30: RTS 20/ I | U30: 0.05 | V30: =ROUND(E30*U30,2) -> 0.3 | X30: Práce | AG30: POL1_
C31: oken, dveří a vrat, s uložením a opětovným zavěšením po provedení stavebních změn, | AG31: SPI
AG32: SPU
A33: 9 | B33: 968072455R00 | C33: Vybourání a vyjmutí kovových rámů a rolet rámů, včetně pomocného lešení o výšce podlahy do 1900 mm a pro zatížení do 1,5 kPa (150 kg/m2) dveřních zárubní, plochy do 2 m2 | D33: m2 | E33: 7.8 | G33: =ROUND(E33*F33,2) -> 0 | I33: =ROUND(E33*H33,2) -> 0 | K33: =ROUND(E33*J33,2) -> 0 | L33: 21 | M33: =G33*(1+L33/100) -> 0 | N33: 0.00117 | O33: =ROUND(E33*N33,2) -> 0.01 | P33: 0.076 | Q33: =ROUND(E33*P33,2) -> 0.59 | R33: 801-3 | S33: RTS 20/ II | T33: RTS 20/ I | U33: 0.939 | V33: =ROUND(E33*U33,2) -> 7.32 | X33: Práce | AG33: POL1_
C34: 0,6*2*5 | E34: 6 | AG34: VV | AH34: 0
C35: 0,9*2*1 | E35: 1.8 | AG35: VV | AH35: 0
AG36: SPU
A37: Díl: | B37: 99 | C37: Staveništní přesun hmot | G37: =SUMIF(AG38:AG46,"<>NOR",G38:G46) -> 0 | I37: =SUM(I38:I46) -> 0 | K37: =SUM(K38:K46) -> 0 | M37: =SUM(M38:M46) -> 0 | O37: =SUM(O38:O46) -> 0 | Q37: =SUM(Q38:Q46) -> 0 | V37: =SUM(V38:V46) -> 1.39 | AG37: DIL
A38: 10 | B38: 998011002R00 | C38: Přesun hmot pro budovy s nosnou konstrukcí zděnou výšky přes 6 do 12 m | D38: t | E38: 3.13796 | G38: =ROUND(E38*F38,2) -> 0 | I38: =ROUND(E38*H38,2) -> 0 | K38: =ROUND(E38*J38,2) -> 0 | L38: 21 | M38: =G38*(1+L38/100) -> 0 | N38: 0 | O38: =ROUND(E38*N38,2) -> 0 | P38: 0 | Q38: =ROUND(E38*P38,2) -> 0 | R38: 801-1 | S38: RTS 20/ II | T38: RTS 20/ I | U38: 0.307 | V38: =ROUND(E38*U38,2) -> 0.96 | X38: Přesun hmot | AG38: POL7_
C39: přesun hmot pro budovy občanské výstavby (JKSO 801), budovy pro bydlení (JKSO 803) budovy pro výrobu a služby (JKSO 812) s nosnou svislou konstrukcí zděnou z cihel nebo tvárnic nebo kovovou | AG39: SPI | BA39: =C39 -> přesun hmot pro budovy občanské výstavby (JKSO 801), budovy pro bydlení (JKSO 803) budovy pro výrobu a služby (JKSO 812) s nosnou svislou konstrukcí zděnou z cihel nebo tvárnic nebo kovovou
AG40: SPU
A41: 11 | B41: 998011018R00 | C41: Přesun hmot pro budovy s nosnou konstrukcí zděnou příplatek za zvětšený přesun přes vymezenou největší dopravní vzdálenost_x000D_ do 5000 m | D41: t | E41: 3.13796 | G41: =ROUND(E41*F41,2) -> 0 | I41: =ROUND(E41*H41,2) -> 0 | K41: =ROUND(E41*J41,2) -> 0 | L41: 21 | M41: =G41*(1+L41/100) -> 0 | N41: 0 | O41: =ROUND(E41*N41,2) -> 0 | P41: 0 | Q41: =ROUND(E41*P41,2) -> 0 | R41: 801-1 | S41: RTS 20/ II | T41: RTS 20/ I | U41: 0.138 | V41: =ROUND(E41*U41,2) -> 0.43 | X41: Přesun hmot | AG41: POL7_
C42: přesun hmot pro budovy občanské výstavby (JKSO 801), budovy pro bydlení (JKSO 803) budovy pro výrobu a služby (JKSO 812) s nosnou svislou konstrukcí zděnou z cihel nebo tvárnic nebo kovovou | AG42: SPI | BA42: =C42 -> přesun hmot pro budovy občanské výstavby (JKSO 801), budovy pro bydlení (JKSO 803) budovy pro výrobu a služby (JKSO 812) s nosnou svislou konstrukcí zděnou z cihel nebo tvárnic nebo kovovou
...
