Workbook

Sheet Rekapitulace stavby
A1: Export Komplet | BA1: 2.0 | BT1: False | BU1: False | BV1: {faf8a983-14ec-42a9-87d9-43181184031e}
AR2: >> skryté sloupce << | BS2: 0,01 | BT2: 21
BS3: 0,01 | BT3: 15
D4: REKAPITULACE STAVBY | AS4: v --- níže se nacházejí doplnkové a pomocné údaje k sestavám --- v | BE4: Návod na vyplnění | BS4: 0,001
D5: Kód: | K5: MalinNam3 | BE5: Měnit lze pouze buňky se žlutým podbarvením!_x005F_x000d_ _x005F_x000d_ 1) na prvním listu Rekapitulace stavby vyplňte v sestavě_x005F_x000d_ _x005F_x000d_ a) Souhrnný list_x005F_x000d_ - údaje o Uchazeči_x005F_x000d_ (přenesou se do ostatních sestav i v jiných listech)_x005F_x000d_ _x005F_x000d_ b) Rekapitulace objektů_x005F_x000d_ - potřebné Ostatní náklady_x005F_x000d_ _x005F_x000d_ 2) na vybraných listech vyplňte v sestavě_x005F_x000d_ _x005F_x000d_ a) Krycí list_x005F_x000d_ - údaje o Uchazeči, pokud se liší od údajů o Uchazeči na Souhrnném listu_x005F_x000d_ (údaje se přenesou do ostatních sestav v daném listu)_x005F_x000d_ _x005F_x000d_ b) Rekapitulace rozpočtu_x005F_x000d_ - potřebné Ostatní náklady_x005F_x000d_ _x005F_x000d_ c) Celkové náklady za stavbu_x005F_x000d_ - ceny u položek_x005F_x000d_ - množství, pokud má žluté podbarvení_x005F_x000d_ - a v případě potřeby poznámku (ta je ve skrytém sloupci) | BS5: 0,01
D6: Stavba: | K6: Oprava hlavního schodiště | BS6: 0,01
D7: KSO: | AK7: CC-CZ: | BS7: 0,01
D8: Místo: | K8: Malinovského náměstí 3,Brno | AK8: Datum: | AN8: 3. 9. 2020 | BS8: 0,01
BS9: 0,01
D10: Zadavatel: | AK10: IČ: | BS10: 0,01
E11: MmBrna,OSM,Husova3,Brno | AK11: DIČ: | BS11: 0,01
BS12: 0,01
D13: Uchazeč: | AK13: IČ: | AN13: Vyplň údaj | BS13: 0,01
E14: Vyplň údaj | AK14: DIČ: | AN14: Vyplň údaj | BS14: 0,01
BS15: False
D16: Projektant: | AK16: IČ: | BS16: False
E17: R.Volková | AK17: DIČ: | BS17: True
BS18: 0,01
D19: Zpracovatel: | AK19: IČ: | BS19: 0,01
E20: R.Volková | AK20: DIČ: | BS20: True
D22: Poznámka:
D26: Cena bez DPH | AK26: =ROUND(AG94,2) -> 0
L28: Sazba daně | W28: Základ daně | AK28: Výše daně
D29: DPH | F29: základní | L29: 0.21 | W29: =ROUND(AZ94, 2) -> 0 | AK29: =ROUND(AV94, 2) -> 0
F30: snížená | L30: 0.15 | W30: =ROUND(BA94, 2) -> 0 | AK30: =ROUND(AW94, 2) -> 0
F31: zákl. přenesená | L31: 0.21 | W31: =ROUND(BB94, 2) -> 0 | AK31: 0
F32: sníž. přenesená | L32: 0.15 | W32: =ROUND(BC94, 2) -> 0 | AK32: 0
F33: nulová | L33: 0 | W33: =ROUND(BD94, 2) -> 0 | AK33: 0
D35: Cena s DPH | T35: v | X35: CZK | AK35: =SUM(AK26:AK33) -> 0
D49: Projektant | AH49: Zpracovatel
D60: Datum a podpis: | V60: Razítko | AH60: Datum a podpis: | AM60: Razítko
D64: Objednavatel | AH64: Uchazeč
D75: Datum a podpis: | V75: Razítko | AH75: Datum a podpis: | AM75: Razítko
C82: REKAPITULACE OBJEKTŮ STAVBY A SOUPISŮ PRACÍ
C84: Kód: | L84: =K5 -> MalinNam3
C85: Stavba: | L85: =K6 -> Oprava hlavního schodiště
C87: Místo: | L87: =IF(K8="","",K8) -> Malinovského náměstí 3,Brno | AI87: Datum: | AM87: =IF(AN8= "","",AN8) -> 3. 9. 2020
C89: Zadavatel: | L89: =IF(E11= "","",E11) -> MmBrna,OSM,Husova3,Brno | AI89: Projektant: | AM89: =IF(E17="","",E17) -> R.Volková | AS89: Informatívní údaje z listů zakázek
C90: Uchazeč: | L90: =IF(E14= "Vyplň údaj","",E14) | AI90: Zpracovatel: | AM90: =IF(E20="","",E20) -> R.Volková
C92: Kód | I92: Popis | AG92: Cena bez DPH [CZK] | AN92: Cena s DPH [CZK] | AQ92: Typ | AS92: z toho Ostat._x005F_x000d_ náklady [CZK] | AT92: DPH [CZK] | AU92: Normohodiny [h] | AV92: DPH základní [CZK] | AW92: DPH snížená [CZK] | AX92: DPH základní přenesená_x005F_x000d_ [CZK] | AY92: DPH snížená přenesená_x005F_x000d_ [CZK] | AZ92: Základna_x005F_x000d_ DPH základní | BA92: Základna_x005F_x000d_ DPH snížená | BB92: Základna_x005F_x000d_ DPH zákl. přenesená | BC92: Základna_x005F_x000d_ DPH sníž. přenesená | BD92: Základna_x005F_x000d_ DPH nulová
C94: Náklady z rozpočtů | AG94: =ROUND(AG95,2) -> 0 | AN94: =SUM(AG94,AT94) -> 0 | AS94: =ROUND(AS95,2) -> 0 | AT94: =ROUND(SUM(AV94:AW94),2) -> 0 | AU94: =ROUND(AU95,5) -> 0 | AV94: =ROUND(AZ94*L29,2) -> 0 | AW94: =ROUND(BA94*L30,2) -> 0 | AX94: =ROUND(BB94*L29,2) -> 0 | AY94: =ROUND(BC94*L30,2) -> 0 | AZ94: =ROUND(AZ95,2) -> 0 | BA94: =ROUND(BA95,2) -> 0 | BB94: =ROUND(BB95,2) -> 0 | BC94: =ROUND(BC95,2) -> 0 | BD94: =ROUND(BD95,2) -> 0 | BS94: D | BT94: 0 | BV94: IMPORT | BW94: {faf8a983-14ec-42a9-87d9-43181184031e} | BX94: {00000000-0000-0000-0000-000000000000}
A95: / | D95: MalinNam3 | J95: Oprava hlavního schodiště | AG95: ='MalinNam3 - Oprava hlavní...'!J28 -> 0 | AN95: =SUM(AG95,AT95) -> 0 | AQ95: STA | AS95: 0 | AT95: =ROUND(SUM(AV95:AW95),2) -> 0 | AU95: ='MalinNam3 - Oprava hlavní...'!P125 -> 0 | AV95: ='MalinNam3 - Oprava hlavní...'!J31 -> 0 | AW95: ='MalinNam3 - Oprava hlavní...'!J32 -> 0 | AX95: ='MalinNam3 - Oprava hlavní...'!J33 -> 0 | AY95: ='MalinNam3 - Oprava hlavní...'!J34 -> 0 | AZ95: ='MalinNam3 - Oprava hlavní...'!F31 -> 0 | BA95: ='MalinNam3 - Oprava hlavní...'!F32 -> 0 | BB95: ='MalinNam3 - Oprava hlavní...'!F33 -> 0 | BC95: ='MalinNam3 - Oprava hlavní...'!F34 -> 0 | BD95: ='MalinNam3 - Oprava hlavní...'!F35 -> 0 | BT95: 1 | BU95: ###NOINSERT### | BV95: IMPORT | BW95: {faf8a983-14ec-42a9-87d9-43181184031e} | BX95: {00000000-0000-0000-0000-000000000000}

Sheet MalinNam3 - Oprava hlavní...
L2: >> skryté sloupce << | AT2: {faf8a983-14ec-42a9-87d9-43181184031e}
AT3: 2
D4: KRYCÍ LIST SOUPISU PRACÍ | M4: v --- níže se nacházejí doplnkové a pomocné údaje k sestavám --- v | AT4: False
D6: Stavba:
E7: Oprava hlavního schodiště
D9: KSO: | I9: CC-CZ:
D10: Místo: | F10: Malinovského náměstí 3,Brno | I10: Datum: | J10: ='Rekapitulace stavby'!AN8 -> 3. 9. 2020
D12: Zadavatel: | I12: IČ:
E13: MmBrna,OSM,Husova3,Brno | I13: DIČ:
D15: Uchazeč: | I15: IČ: | J15: ='Rekapitulace stavby'!AN13 -> Vyplň údaj
E16: ='Rekapitulace stavby'!E14 -> Vyplň údaj | I16: DIČ: | J16: ='Rekapitulace stavby'!AN14 -> Vyplň údaj
D18: Projektant: | I18: IČ:
E19: R.Volková | I19: DIČ:
D21: Zpracovatel: | I21: IČ:
E22: R.Volková | I22: DIČ:
D24: Poznámka:
D28: Cena bez DPH | J28: =ROUND(J125, 2) -> 0
F30: Základ daně | I30: Sazba daně | J30: Výše daně
D31: DPH | E31: základní | F31: =ROUND((SUM(BE125:BE222)), 2) -> 0 | I31: 0.21 | J31: =ROUND(((SUM(BE125:BE222))*I31), 2) -> 0
E32: snížená | F32: =ROUND((SUM(BF125:BF222)), 2) -> 0 | I32: 0.15 | J32: =ROUND(((SUM(BF125:BF222))*I32), 2) -> 0
E33: zákl. přenesená | F33: =ROUND((SUM(BG125:BG222)), 2) -> 0 | I33: 0.21 | J33: =0 -> 0
E34: sníž. přenesená | F34: =ROUND((SUM(BH125:BH222)), 2) -> 0 | I34: 0.15 | J34: =0 -> 0
E35: nulová | F35: =ROUND((SUM(BI125:BI222)), 2) -> 0 | I35: 0 | J35: =0 -> 0
D37: Cena s DPH | G37: v | H37: CZK | J37: =SUM(J28:J35) -> 0
D50: Projektant | G50: Zpracovatel
D61: Datum a podpis: | F61: Razítko | G61: Datum a podpis: | J61: Razítko
D65: Objednavatel | G65: Uchazeč
D76: Datum a podpis: | F76: Razítko | G76: Datum a podpis: | J76: Razítko
C82: REKAPITULACE ČLENĚNÍ SOUPISU PRACÍ
C84: Stavba:
E85: =E7 -> Oprava hlavního schodiště
C87: Místo: | F87: =F10 -> Malinovského náměstí 3,Brno | I87: Datum: | J87: =IF(J10="","",J10) -> 3. 9. 2020
C89: Zadavatel: | F89: =E13 -> MmBrna,OSM,Husova3,Brno | I89: Projektant: | J89: =E19 -> R.Volková
C90: Uchazeč: | F90: =IF(E16="","",E16) -> Vyplň údaj | I90: Zpracovatel: | J90: =E22 -> R.Volková
C92: Kód dílu - Popis | J92: Cena celkem [CZK]
C94: Náklady ze soupisu prací | J94: =J125 -> 0 | AU94: -1
D95: HSV - Práce a dodávky HSV | J95: =J126 -> 0
D96: 6 - Úpravy povrchů, podlahy a osazování výplní | J96: =J127 -> 0
D97: 9 - Ostatní konstrukce a práce, bourání | J97: =J144 -> 0
D98: 997 - Přesun sutě | J98: =J156 -> 0
D99: 998 - Přesun hmot | J99: =J162 -> 0
D100: PSV - Práce a dodávky PSV | J100: =J164 -> 0
D101: 771 - Podlahy z dlaždic | J101: =J165 -> 0
D102: 783 - Dokončovací práce - nátěry | J102: =J183 -> 0
D103: 784 - Dokončovací práce - malby a tapety | J103: =J198 -> 0
D104: VRN - Vedlejší rozpočtové náklady | J104: =J216 -> 0
D105: VRN3 - Zařízení staveniště | J105: =J217 -> 0
D106: VRN6 - Územní vlivy | J106: =J219 -> 0
D107: VRN7 - Provozní vlivy | J107: =J221 -> 0
C114: SOUPIS PRACÍ
C116: Stavba:
E117: =E7 -> Oprava hlavního schodiště
C119: Místo: | F119: =F10 -> Malinovského náměstí 3,Brno | I119: Datum: | J119: =IF(J10="","",J10) -> 3. 9. 2020
C121: Zadavatel: | F121: =E13 -> MmBrna,OSM,Husova3,Brno | I121: Projektant: | J121: =E19 -> R.Volková
C122: Uchazeč: | F122: =IF(E16="","",E16) -> Vyplň údaj | I122: Zpracovatel: | J122: =E22 -> R.Volková
C124: PČ | D124: Typ | E124: Kód | F124: Popis | G124: MJ | H124: Množství | I124: J.cena [CZK] | J124: Cena celkem [CZK] | K124: Cenová soustava | N124: DPH | O124: J. Nh [h] | P124: Nh celkem [h] | Q124: J. hmotnost [t] | R124: Hmotnost celkem [t] | S124: J. suť [t] | T124: Suť Celkem [t]
C125: Náklady soupisu celkem | J125: =BK125 -> 0 | P125: =P126+P164+P216 -> 0 | R125: =R126+R164+R216 -> 3.5617472 | T125: =T126+T164+T216 -> 1.4231569 | AT125: D | AU125: -1 | BK125: =BK126+BK164+BK216 -> 0
D126: D | E126: HSV | F126: Práce a dodávky HSV | J126: =BK126 -> 0 | P126: =P127+P144+P156+P162 -> 0 | R126: =R127+R144+R156+R162 -> 2.2816401 | T126: =T127+T144+T156+T162 -> 1.13393 | AR126: 1 | AT126: D | AU126: 0 | AY126: ROZPOCET | BK126: =BK127+BK144+BK156+BK162 -> 0
D127: D | E127: 6 | F127: Úpravy povrchů, podlahy a osazování výplní | J127: =BK127 -> 0 | P127: =SUM(P128:P143) -> 0 | R127: =SUM(R128:R143) -> 2.2492081 | T127: =SUM(T128:T143) -> 0 | AR127: 1 | AT127: D | AU127: 1 | AY127: ROZPOCET | BK127: =SUM(BK128:BK143) -> 0
C128: 1 | D128: K | E128: 611142001 | F128: Potažení vnitřních stropů sklovláknitým pletivem vtlačeným do tenkovrstvé hmoty-4patro | G128: m2 | H128: 42.795 | J128: =ROUND(I128*H128,2) -> 0 | K128: CS ÚRS 2020 01 | N128: základní | P128: =O128*H128 -> 0 | Q128: 0.00438 | R128: =Q128*H128 -> 0.1874421 | S128: 0 | T128: =S128*H128 -> 0 | AR128: 4 | AT128: K | AU128: 2 | AY128: ROZPOCET | BE128: =IF(N128="základní",J128,0) -> 0 | BF128: =IF(N128="snížená",J128,0) -> 0 | BG128: =IF(N128="zákl. přenesená",J128,0) -> 0 | BH128: =IF(N128="sníž. přenesená",J128,0) -> 0 | BI128: =IF(N128="nulová",J128,0) -> 0 | BJ128: 1 | BK128: =ROUND(I128*H128,2) -> 0 | BL128: 4 | BM128: -1879785834
D129: VV | F129: 9,15*5,4"4p"-3*1,5-4,7*0,45 | H129: 42.795 | AT129: VV | AU129: 2 | AV129: 2 | AW129: True | AX129: 1 | AY129: ROZPOCET
C130: 2 | D130: K | E130: 611311131 | F130: Potažení vnitřních rovných stropů vápenným štukem tloušťky do 3 mm | G130: m2 | H130: 42.795 | J130: =ROUND(I130*H130,2) -> 0 | K130: CS ÚRS 2020 01 | N130: základní | P130: =O130*H130 -> 0 | Q130: 0.003 | R130: =Q130*H130 -> 0.128385 | S130: 0 | T130: =S130*H130 -> 0 | AR130: 4 | AT130: K | AU130: 2 | AY130: ROZPOCET | BE130: =IF(N130="základní",J130,0) -> 0 | BF130: =IF(N130="snížená",J130,0) -> 0 | BG130: =IF(N130="zákl. přenesená",J130,0) -> 0 | BH130: =IF(N130="sníž. přenesená",J130,0) -> 0 | BI130: =IF(N130="nulová",J130,0) -> 0 | BJ130: 1 | BK130: =ROUND(I130*H130,2) -> 0 | BL130: 4 | BM130: 2035909796
C131: 3 | D131: K | E131: 611325422 | F131: Oprava vnitřní vápenocementové štukové omítky stropů v rozsahu plochy do 20%-4patro | G131: m2 | H131: 42.795 | J131: =ROUND(I131*H131,2) -> 0 | K131: CS ÚRS 2020 01 | N131: základní | P131: =O131*H131 -> 0 | Q131: 0.017 | R131: =Q131*H131 -> 0.727515 | S131: 0 | T131: =S131*H131 -> 0 | AR131: 4 | AT131: K | AU131: 2 | AY131: ROZPOCET | BE131: =IF(N131="základní",J131,0) -> 0 | BF131: =IF(N131="snížená",J131,0) -> 0 | BG131: =IF(N131="zákl. přenesená",J131,0) -> 0 | BH131: =IF(N131="sníž. přenesená",J131,0) -> 0 | BI131: =IF(N131="nulová",J131,0) -> 0 | BJ131: 1 | BK131: =ROUND(I131*H131,2) -> 0 | BL131: 4 | BM131: 856376374
C132: 4 | D132: K | E132: 612325421R | F132: Oprava prasklin na stěnách 3 patro-přízemí | G132: sada | H132: 1 | J132: =ROUND(I132*H132,2) -> 0 | N132: základní | P132: =O132*H132 -> 0 | Q132: 0.0057 | R132: =Q132*H132 -> 0.0057 | S132: 0 | T132: =S132*H132 -> 0 | AR132: 4 | AT132: K | AU132: 2 | AY132: ROZPOCET | BE132: =IF(N132="základní",J132,0) -> 0 | BF132: =IF(N132="snížená",J132,0) -> 0 | BG132: =IF(N132="zákl. přenesená",J132,0) -> 0 | BH132: =IF(N132="sníž. přenesená",J132,0) -> 0 | BI132: =IF(N132="nulová",J132,0) -> 0 | BJ132: 1 | BK132: =ROUND(I132*H132,2) -> 0 | BL132: 4 | BM132: 2071925339
C133: 5 | D133: K | E133: 612325422 | F133: Oprava vnitřní vápenocementové štukové omítky stěn v rozsahu plochy do 20%-trhliny-4patro | G133: m2 | H133: 70.598 | J133: =ROUND(I133*H133,2) -> 0 | K133: CS ÚRS 2020 01 | N133: základní | P133: =O133*H133 -> 0 | Q133: 0.017 | R133: =Q133*H133 -> 1.200166 | S133: 0 | T133: =S133*H133 -> 0 | AR133: 4 | AT133: K | AU133: 2 | AY133: ROZPOCET | BE133: =IF(N133="základní",J133,0) -> 0 | BF133: =IF(N133="snížená",J133,0) -> 0 | BG133: =IF(N133="zákl. přenesená",J133,0) -> 0 | BH133: =IF(N133="sníž. přenesená",J133,0) -> 0 | BI133: =IF(N133="nulová",J133,0) -> 0 | BJ133: 1 | BK133: =ROUND(I133*H133,2) -> 0 | BL133: 4 | BM133: 1517433293
D134: VV | F134: "4"(5,5+5,35+9,15)*3,35+(0,7*2)*3,35 | H134: 71.69 | AT134: VV | AU134: 2 | AV134: 2 | AW134: True | AX134: 0 | AY134: ROZPOCET
D135: VV | F135: -0,98*1,9*6+(1+1,9*2)*0,35*6 | H135: -1.092 | AT135: VV | AU135: 2 | AV135: 2 | AW135: True | AX135: 0 | AY135: ROZPOCET
D136: VV | F136: Mezisoučet | H136: 70.598 | AT136: VV | AU136: 2 | AV136: 3 | AW136: True | AX136: 1 | AY136: ROZPOCET
C137: 6 | D137: K | E137: 619991011 | F137: Obalení konstrukcí a prvků fólií přilepenou lepící páskou-okna,hydranty.. | G137: m2 | H137: 91.06 | J137: =ROUND(I137*H137,2) -> 0 | K137: CS ÚRS 2020 01 | N137: základní | P137: =O137*H137 -> 0 | Q137: 0 | R137: =Q137*H137 -> 0 | S137: 0 | T137: =S137*H137 -> 0 | AR137: 4 | AT137: K | AU137: 2 | AY137: ROZPOCET | BE137: =IF(N137="základní",J137,0) -> 0 | BF137: =IF(N137="snížená",J137,0) -> 0 | BG137: =IF(N137="zákl. přenesená",J137,0) -> 0 | BH137: =IF(N137="sníž. přenesená",J137,0) -> 0 | BI137: =IF(N137="nulová",J137,0) -> 0 | BJ137: 1 | BK137: =ROUND(I137*H137,2) -> 0 | BL137: 4 | BM137: -182918002
D138: VV | F138: "přízemí"1,14*2,75*3+1,24*2,75+0,8*2+1*2,75*2 | H138: 19.915 | AT138: VV | AU138: 2 | AV138: 2 | AW138: True | AX138: 0 | AY138: ROZPOCET
D139: VV | F139: "3-1"19,915*3 | H139: 59.745 | AT139: VV | AU139: 2 | AV139: 2 | AW139: True | AX139: 0 | AY139: ROZPOCET
D140: VV | F140: "4"1*1,9*6 | H140: 11.4 | AT140: VV | AU140: 2 | AV140: 2 | AW140: True | AX140: 0 | AY140: ROZPOCET
D141: VV | F141: Součet | H141: 91.06 | AT141: VV | AU141: 2 | AV141: 4 | AW141: True | AX141: 1 | AY141: ROZPOCET
C142: 7 | D142: K | E142: 619-pc 2 | F142: Demontáž a opětovná montáž oznamovacích,informačních tabulek | G142: sada | H142: 1 | J142: =ROUND(I142*H142,2) -> 0 | N142: základní | P142: =O142*H142 -> 0 | Q142: 0 | R142: =Q142*H142 -> 0 | S142: 0 | T142: =S142*H142 -> 0 | AR142: 4 | AT142: K | AU142: 2 | AY142: ROZPOCET | BE142: =IF(N142="základní",J142,0) -> 0 | BF142: =IF(N142="snížená",J142,0) -> 0 | BG142: =IF(N142="zákl. přenesená",J142,0) -> 0 | BH142: =IF(N142="sníž. přenesená",J142,0) -> 0 | BI142: =IF(N142="nulová",J142,0) -> 0 | BJ142: 1 | BK142: =ROUND(I142*H142,2) -> 0 | BL142: 4 | BM142: -1551519095
D143: VV | F143: 1 | H143: 1 | AT143: VV | AU143: 2 | AV143: 2 | AW143: True | AX143: 1 | AY143: ROZPOCET
D144: D | E144: 9 | F144: Ostatní konstrukce a práce, bourání | J144: =BK144 -> 0 | P144: =SUM(P145:P155) -> 0 | R144: =SUM(R145:R155) -> 0.032432 | T144: =SUM(T145:T155) -> 1.13393 | AR144: 1 | AT144: D | AU144: 1 | AY144: ROZPOCET | BK144: =SUM(BK145:BK155) -> 0
C145: 8 | D145: K | E145: 949101112 | F145: Lešení pomocné pro objekty pozemních staveb s lešeňovou podlahou v do 3,5 m zatížení do 150 kg/m2 | G145: m2 | H145: 99 | J145: =ROUND(I145*H145,2) -> 0 | K145: CS ÚRS 2020 01 | N145: základní | P145: =O145*H145 -> 0 | Q145: 0.00021 | R145: =Q145*H145 -> 0.02079 | S145: 0 | T145: =S145*H145 -> 0 | AR145: 4 | AT145: K | AU145: 2 | AY145: ROZPOCET | BE145: =IF(N145="základní",J145,0) -> 0 | BF145: =IF(N145="snížená",J145,0) -> 0 | BG145: =IF(N145="zákl. přenesená",J145,0) -> 0 | BH145: =IF(N145="sníž. přenesená",J145,0) -> 0 | BI145: =IF(N145="nulová",J145,0) -> 0 | BJ145: 1 | BK145: =ROUND(I145*H145,2) -> 0 | BL145: 4 | BM145: -1845792639
D146: VV | F146: 45"4"+9*1,2 | H146: 55.8 | AT146: VV | AU146: 2 | AV146: 2 | AW146: True | AX146: 0 | AY146: ROZPOCET
D147: VV | F147: "3-1"9*1,2*3 | H147: 32.4 | AT147: VV | AU147: 2 | AV147: 2 | AW147: True | AX147: 0 | AY147: ROZPOCET
D148: VV | F148: "přízemi"9*1,2 | H148: 10.8 | AT148: VV | AU148: 2 | AV148: 2 | AW148: True | AX148: 0 | AY148: ROZPOCET
D149: VV | F149: Součet | H149: 99 | AT149: VV | AU149: 2 | AV149: 4 | AW149: True | AX149: 1 | AY149: ROZPOCET
C150: 9 | D150: K | E150: 949-pc 1 | F150: Výměna nástěných světel ve schodištovém prostoru -za nová letková | G150: m2 | H150: 20 | J150: =ROUND(I150*H150,2) -> 0 | N150: základní | P150: =O150*H150 -> 0 | Q150: 0.00013 | R150: =Q150*H150 -> 0.0026 | S150: 0 | T150: =S150*H150 -> 0 | AR150: 4 | AT150: K | AU150: 2 | AY150: ROZPOCET | BE150: =IF(N150="základní",J150,0) -> 0 | BF150: =IF(N150="snížená",J150,0) -> 0 | BG150: =IF(N150="zákl. přenesená",J150,0) -> 0 | BH150: =IF(N150="sníž. přenesená",J150,0) -> 0 | BI150: =IF(N150="nulová",J150,0) -> 0 | BJ150: 1 | BK150: =ROUND(I150*H150,2) -> 0 | BL150: 4 | BM150: -1521339944
D151: VV | F151: 4*5 | H151: 20 | AT151: VV | AU151: 2 | AV151: 2 | AW151: True | AX151: 1 | AY151: ROZPOCET
C152: 10 | D152: K | E152: 952901111 | F152: Vyčištění budov bytové a občanské výstavby při výšce podlaží do 4 m | G152: m2 | H152: 226.05 | J152: =ROUND(I152*H152,2) -> 0 | K152: CS ÚRS 2020 01 | N152: základní | P152: =O152*H152 -> 0 | Q152: 4e-05 | R152: =Q152*H152 -> 0.009042 | S152: 0 | T152: =S152*H152 -> 0 | AR152: 4 | AT152: K | AU152: 2 | AY152: ROZPOCET | BE152: =IF(N152="základní",J152,0) -> 0 | BF152: =IF(N152="snížená",J152,0) -> 0 | BG152: =IF(N152="zákl. přenesená",J152,0) -> 0 | BH152: =IF(N152="sníž. přenesená",J152,0) -> 0 | BI152: =IF(N152="nulová",J152,0) -> 0 | BJ152: 1 | BK152: =ROUND(I152*H152,2) -> 0 | BL152: 4 | BM152: 1402774007
D153: VV | F153: (9,15*2,2+2,2*3,2*2)*5+10*5,5 | H153: 226.05 | AT153: VV | AU153: 2 | AV153: 2 | AW153: True | AX153: 1 | AY153: ROZPOCET
C154: 11 | D154: K | E154: 978011141 | F154: Otlučení (osekání) vnitřní vápenné nebo vápenocementové omítky stropů v rozsahu do 20 %-4patro | G154: m2 | H154: 42.795 | J154: =ROUND(I154*H154,2) -> 0 | K154: CS ÚRS 2020 01 | N154: základní | P154: =O154*H154 -> 0 | Q154: 0 | R154: =Q154*H154 -> 0 | S154: 0.01 | T154: =S154*H154 -> 0.42795 | AR154: 4 | AT154: K | AU154: 2 | AY154: ROZPOCET | BE154: =IF(N154="základní",J154,0) -> 0 | BF154: =IF(N154="snížená",J154,0) -> 0 | BG154: =IF(N154="zákl. přenesená",J154,0) -> 0 | BH154: =IF(N154="sníž. přenesená",J154,0) -> 0 | BI154: =IF(N154="nulová",J154,0) -> 0 | BJ154: 1 | BK154: =ROUND(I154*H154,2) -> 0 | BL154: 4 | BM154: 1245433580
C155: 12 | D155: K | E155: 978013141 | F155: Otlučení (osekání) vnitřní vápenné nebo vápenocementové omítky stěn v rozsahu do 20 %-4patro | G155: m2 | H155: 70.598 | J155: =ROUND(I155*H155,2) -> 0 | K155: CS ÚRS 2020 01 | N155: základní | P155: =O155*H155 -> 0 | Q155: 0 | R155: =Q155*H155 -> 0 | S155: 0.01 | T155: =S155*H155 -> 0.70598 | AR155: 4 | AT155: K | AU155: 2 | AY155: ROZPOCET | BE155: =IF(N155="základní",J155,0) -> 0 | BF155: =IF(N155="snížená",J155,0) -> 0 | BG155: =IF(N155="zákl. přenesená",J155,0) -> 0 | BH155: =IF(N155="sníž. přenesená",J155,0) -> 0 | BI155: =IF(N155="nulová",J155,0) -> 0 | BJ155: 1 | BK155: =ROUND(I155*H155,2) -> 0 | BL155: 4 | BM155: -923100544
D156: D | E156: 997 | F156: Přesun sutě | J156: =BK156 -> 0 | P156: =SUM(P157:P161) -> 0 | R156: =SUM(R157:R161) -> 0 | T156: =SUM(T157:T161) -> 0 | AR156: 1 | AT156: D | AU156: 1 | AY156: ROZPOCET | BK156: =SUM(BK157:BK161) -> 0
C157: 13 | D157: K | E157: 997013216 | F157: Vnitrostaveništní doprava suti a vybouraných hmot pro budovy v do 21 m ručně | G157: t | H157: 1.423 | J157: =ROUND(I157*H157,2) -> 0 | K157: CS ÚRS 2020 01 | N157: základní | P157: =O157*H157 -> 0 | Q157: 0 | R157: =Q157*H157 -> 0 | S157: 0 | T157: =S157*H157 -> 0 | AR157: 4 | AT157: K | AU157: 2 | AY157: ROZPOCET | BE157: =IF(N157="základní",J157,0) -> 0 | BF157: =IF(N157="snížená",J157,0) -> 0 | BG157: =IF(N157="zákl. přenesená",J157,0) -> 0 | BH157: =IF(N157="sníž. přenesená",J157,0) -> 0 | BI157: =IF(N157="nulová",J157,0) -> 0 | BJ157: 1 | BK157: =ROUND(I157*H157,2) -> 0 | BL157: 4 | BM157: 1490184486
C158: 14 | D158: K | E158: 997013501 | F158: Odvoz suti a vybouraných hmot na skládku nebo meziskládku do 1 km se složením | G158: t | H158: 1.423 | J158: =ROUND(I158*H158,2) -> 0 | K158: CS ÚRS 2020 01 | N158: základní | P158: =O158*H158 -> 0 | Q158: 0 | R158: =Q158*H158 -> 0 | S158: 0 | T158: =S158*H158 -> 0 | AR158: 4 | AT158: K | AU158: 2 | AY158: ROZPOCET | BE158: =IF(N158="základní",J158,0) -> 0 | BF158: =IF(N158="snížená",J158,0) -> 0 | BG158: =IF(N158="zákl. přenesená",J158,0) -> 0 | BH158: =IF(N158="sníž. přenesená",J158,0) -> 0 | BI158: =IF(N158="nulová",J158,0) -> 0 | BJ158: 1 | BK158: =ROUND(I158*H158,2) -> 0 | BL158: 4 | BM158: -421697244
C159: 15 | D159: K | E159: 997013509 | F159: Příplatek k odvozu suti a vybouraných hmot na skládku ZKD 1 km přes 1 km | G159: t | H159: 34.152 | J159: =ROUND(I159*H159,2) -> 0 | K159: CS ÚRS 2020 01 | N159: základní | P159: =O159*H159 -> 0 | Q159: 0 | R159: =Q159*H159 -> 0 | S159: 0 | T159: =S159*H159 -> 0 | AR159: 4 | AT159: K | AU159: 2 | AY159: ROZPOCET | BE159: =IF(N159="základní",J159,0) -> 0 | BF159: =IF(N159="snížená",J159,0) -> 0 | BG159: =IF(N159="zákl. přenesená",J159,0) -> 0 | BH159: =IF(N159="sníž. přenesená",J159,0) -> 0 | BI159: =IF(N159="nulová",J159,0) -> 0 | BJ159: 1 | BK159: =ROUND(I159*H159,2) -> 0 | BL159: 4 | BM159: -247609624
D160: VV | F160: 1,423*24 'Přepočtené koeficientem množství | H160: 34.152 | AT160: VV | AU160: 2 | AV160: 2 | AW160: False | AX160: 1 | AY160: ROZPOCET
C161: 16 | D161: K | E161: 997013801 | F161: Poplatek za uložení na skládce (skládkovné) stavebního odpadu | G161: t | H161: 1.423 | J161: =ROUND(I161*H161,2) -> 0 | K161: CS ÚRS 2020 01 | N161: základní | P161: =O161*H161 -> 0 | Q161: 0 | R161: =Q161*H161 -> 0 | S161: 0 | T161: =S161*H161 -> 0 | AR161: 4 | AT161: K | AU161: 2 | AY161: ROZPOCET | BE161: =IF(N161="základní",J161,0) -> 0 | BF161: =IF(N161="snížená",J161,0) -> 0 | BG161: =IF(N161="zákl. přenesená",J161,0) -> 0 | BH161: =IF(N161="sníž. přenesená",J161,0) -> 0 | BI161: =IF(N161="nulová",J161,0) -> 0 | BJ161: 1 | BK161: =ROUND(I161*H161,2) -> 0 | BL161: 4 | BM161: -928262522
D162: D | E162: 998 | F162: Přesun hmot | J162: =BK162 -> 0 | P162: =P163 -> 0 | R162: =R163 -> 0 | T162: =T163 -> 0 | AR162: 1 | AT162: D | AU162: 1 | AY162: ROZPOCET | BK162: =BK163 -> 0
C163: 17 | D163: K | E163: 998018003 | F163: Přesun hmot ruční pro budovy v do 24 m | G163: t | H163: 2.282 | J163: =ROUND(I163*H163,2) -> 0 | K163: CS ÚRS 2020 01 | N163: základní | P163: =O163*H163 -> 0 | Q163: 0 | R163: =Q163*H163 -> 0 | S163: 0 | T163: =S163*H163 -> 0 | AR163: 4 | AT163: K | AU163: 2 | AY163: ROZPOCET | BE163: =IF(N163="základní",J163,0) -> 0 | BF163: =IF(N163="snížená",J163,0) -> 0 | BG163: =IF(N163="zákl. přenesená",J163,0) -> 0 | BH163: =IF(N163="sníž. přenesená",J163,0) -> 0 | BI163: =IF(N163="nulová",J163,0) -> 0 | BJ163: 1 | BK163: =ROUND(I163*H163,2) -> 0 | BL163: 4 | BM163: 1637608873
D164: D | E164: PSV | F164: Práce a dodávky PSV | J164: =BK164 -> 0 | P164: =P165+P183+P198 -> 0 | R164: =R165+R183+R198 -> 1.2801071 | T164: =T165+T183+T198 -> 0.2892269 | AR164: 2 | AT164: D | AU164: 0 | AY164: ROZPOCET | BK164: =BK165+BK183+BK198 -> 0
D165: D | E165: 771 | F165: Podlahy z dlaždic | J165: =BK165 -> 0 | P165: =SUM(P166:P182) -> 0 | R165: =SUM(R166:R182) -> 0.00116 | T165: =SUM(T166:T182) -> 0 | AR165: 2 | AT165: D | AU165: 1 | AY165: ROZPOCET | BK165: =SUM(BK166:BK182) -> 0
C166: 18 | D166: K | E166: 771-pc 1 | F166: Oprava soklu z teraca-ulomený roh | G166: kus | H166: 1 | J166: =ROUND(I166*H166,2) -> 0 | N166: základní | P166: =O166*H166 -> 0 | Q166: 0.00058 | R166: =Q166*H166 -> 0.00058 | S166: 0 | T166: =S166*H166 -> 0 | AR166: 16 | AT166: K | AU166: 2 | AY166: ROZPOCET | BE166: =IF(N166="základní",J166,0) -> 0 | BF166: =IF(N166="snížená",J166,0) -> 0 | BG166: =IF(N166="zákl. přenesená",J166,0) -> 0 | BH166: =IF(N166="sníž. přenesená",J166,0) -> 0 | BI166: =IF(N166="nulová",J166,0) -> 0 | BJ166: 1 | BK166: =ROUND(I166*H166,2) -> 0 | BL166: 16 | BM166: -59887208
C167: 19 | D167: K | E167: 771-pc 2 | F167: Označení 1 nastupního a výstupního schodu reflexními terči v každém patře | G167: sada | H167: 1 | J167: =ROUND(I167*H167,2) -> 0 | N167: základní | P167: =O167*H167 -> 0 | Q167: 0.00058 | R167: =Q167*H167 -> 0.00058 | S167: 0 | T167: =S167*H167 -> 0 | AR167: 16 | AT167: K | AU167: 2 | AY167: ROZPOCET | BE167: =IF(N167="základní",J167,0) -> 0 | BF167: =IF(N167="snížená",J167,0) -> 0 | BG167: =IF(N167="zákl. přenesená",J167,0) -> 0 | BH167: =IF(N167="sníž. přenesená",J167,0) -> 0 | BI167: =IF(N167="nulová",J167,0) -> 0 | BJ167: 1 | BK167: =ROUND(I167*H167,2) -> 0 | BL167: 16 | BM167: -1619564936
D168: VV | F168: 1 | H168: 1 | AT168: VV | AU168: 2 | AV168: 2 | AW168: True | AX168: 1 | AY168: ROZPOCET
...
