Workbook

Sheet Rekapitulace stavby
A1: Export Komplet | BA1: 2.0 | BT1: False | BU1: False | BV1: {87763701-5e30-4469-844c-6a5e42863eda}
AR2: >> skryté sloupce << | BS2: 0,01 | BT2: 21
BS3: 0,01 | BT3: 15
D4: REKAPITULACE STAVBY | AS4: v --- níže se nacházejí doplnkové a pomocné údaje k sestavám --- v | BE4: Návod na vyplnění | BS4: 0,001
D5: Kód: | K5: MalinNam3 | BE5: Měnit lze pouze buňky se žlutým podbarvením!_x005F_x000d_ _x005F_x000d_ 1) na prvním listu Rekapitulace stavby vyplňte v sestavě_x005F_x000d_ _x005F_x000d_ a) Souhrnný list_x005F_x000d_ - údaje o Uchazeči_x005F_x000d_ (přenesou se do ostatních sestav i v jiných listech)_x005F_x000d_ _x005F_x000d_ b) Rekapitulace objektů_x005F_x000d_ - potřebné Ostatní náklady_x005F_x000d_ _x005F_x000d_ 2) na vybraných listech vyplňte v sestavě_x005F_x000d_ _x005F_x000d_ a) Krycí list_x005F_x000d_ - údaje o Uchazeči, pokud se liší od údajů o Uchazeči na Souhrnném listu_x005F_x000d_ (údaje se přenesou do ostatních sestav v daném listu)_x005F_x000d_ _x005F_x000d_ b) Rekapitulace rozpočtu_x005F_x000d_ - potřebné Ostatní náklady_x005F_x000d_ _x005F_x000d_ c) Celkové náklady za stavbu_x005F_x000d_ - ceny u položek_x005F_x000d_ - množství, pokud má žluté podbarvení_x005F_x000d_ - a v případě potřeby poznámku (ta je ve skrytém sloupci) | BS5: 0,01
D6: Stavba: | K6: Oprava schodiště západního křídla | BS6: 0,01
D7: KSO: | AK7: CC-CZ: | BS7: 0,01
D8: Místo: | K8: Malinovského náměstí 3,Brno | AK8: Datum: | AN8: 3. 9. 2020 | BS8: 0,01
BS9: 0,01
D10: Zadavatel: | AK10: IČ: | BS10: 0,01
E11: MmBrna,OSM,Husova3,Brno | AK11: DIČ: | BS11: 0,01
BS12: 0,01
D13: Uchazeč: | AK13: IČ: | AN13: Vyplň údaj | BS13: 0,01
E14: Vyplň údaj | AK14: DIČ: | AN14: Vyplň údaj | BS14: 0,01
BS15: False
D16: Projektant: | AK16: IČ: | BS16: False
E17: R.Volková | AK17: DIČ: | BS17: True
BS18: 0,01
D19: Zpracovatel: | AK19: IČ: | BS19: 0,01
E20: R.Volková | AK20: DIČ: | BS20: True
D22: Poznámka:
D26: Cena bez DPH | AK26: =ROUND(AG94,2) -> 0
L28: Sazba daně | W28: Základ daně | AK28: Výše daně
D29: DPH | F29: základní | L29: 0.21 | W29: =ROUND(AZ94, 2) -> 0 | AK29: =ROUND(AV94, 2) -> 0
F30: snížená | L30: 0.15 | W30: =ROUND(BA94, 2) -> 0 | AK30: =ROUND(AW94, 2) -> 0
F31: zákl. přenesená | L31: 0.21 | W31: =ROUND(BB94, 2) -> 0 | AK31: 0
F32: sníž. přenesená | L32: 0.15 | W32: =ROUND(BC94, 2) -> 0 | AK32: 0
F33: nulová | L33: 0 | W33: =ROUND(BD94, 2) -> 0 | AK33: 0
D35: Cena s DPH | T35: v | X35: CZK | AK35: =SUM(AK26:AK33) -> 0
D49: Projektant | AH49: Zpracovatel
D60: Datum a podpis: | V60: Razítko | AH60: Datum a podpis: | AM60: Razítko
D64: Objednavatel | AH64: Uchazeč
D75: Datum a podpis: | V75: Razítko | AH75: Datum a podpis: | AM75: Razítko
C82: REKAPITULACE OBJEKTŮ STAVBY A SOUPISŮ PRACÍ
C84: Kód: | L84: =K5 -> MalinNam3
C85: Stavba: | L85: =K6 -> Oprava schodiště západního křídla
C87: Místo: | L87: =IF(K8="","",K8) -> Malinovského náměstí 3,Brno | AI87: Datum: | AM87: =IF(AN8= "","",AN8) -> 3. 9. 2020
C89: Zadavatel: | L89: =IF(E11= "","",E11) -> MmBrna,OSM,Husova3,Brno | AI89: Projektant: | AM89: =IF(E17="","",E17) -> R.Volková | AS89: Informatívní údaje z listů zakázek
C90: Uchazeč: | L90: =IF(E14= "Vyplň údaj","",E14) | AI90: Zpracovatel: | AM90: =IF(E20="","",E20) -> R.Volková
C92: Kód | I92: Popis | AG92: Cena bez DPH [CZK] | AN92: Cena s DPH [CZK] | AQ92: Typ | AS92: z toho Ostat._x005F_x000d_ náklady [CZK] | AT92: DPH [CZK] | AU92: Normohodiny [h] | AV92: DPH základní [CZK] | AW92: DPH snížená [CZK] | AX92: DPH základní přenesená_x005F_x000d_ [CZK] | AY92: DPH snížená přenesená_x005F_x000d_ [CZK] | AZ92: Základna_x005F_x000d_ DPH základní | BA92: Základna_x005F_x000d_ DPH snížená | BB92: Základna_x005F_x000d_ DPH zákl. přenesená | BC92: Základna_x005F_x000d_ DPH sníž. přenesená | BD92: Základna_x005F_x000d_ DPH nulová
C94: Náklady z rozpočtů | AG94: =ROUND(AG95,2) -> 0 | AN94: =SUM(AG94,AT94) -> 0 | AS94: =ROUND(AS95,2) -> 0 | AT94: =ROUND(SUM(AV94:AW94),2) -> 0 | AU94: =ROUND(AU95,5) -> 0 | AV94: =ROUND(AZ94*L29,2) -> 0 | AW94: =ROUND(BA94*L30,2) -> 0 | AX94: =ROUND(BB94*L29,2) -> 0 | AY94: =ROUND(BC94*L30,2) -> 0 | AZ94: =ROUND(AZ95,2) -> 0 | BA94: =ROUND(BA95,2) -> 0 | BB94: =ROUND(BB95,2) -> 0 | BC94: =ROUND(BC95,2) -> 0 | BD94: =ROUND(BD95,2) -> 0 | BS94: D | BT94: 0 | BV94: IMPORT | BW94: {87763701-5e30-4469-844c-6a5e42863eda} | BX94: {00000000-0000-0000-0000-000000000000}
A95: / | D95: MalinNam3 | J95: Oprava schodiště západního křídla | AG95: ='MalinNam3 - Oprava schodi...'!J28 -> 0 | AN95: =SUM(AG95,AT95) -> 0 | AQ95: STA | AS95: 0 | AT95: =ROUND(SUM(AV95:AW95),2) -> 0 | AU95: ='MalinNam3 - Oprava schodi...'!P127 -> 0 | AV95: ='MalinNam3 - Oprava schodi...'!J31 -> 0 | AW95: ='MalinNam3 - Oprava schodi...'!J32 -> 0 | AX95: ='MalinNam3 - Oprava schodi...'!J33 -> 0 | AY95: ='MalinNam3 - Oprava schodi...'!J34 -> 0 | AZ95: ='MalinNam3 - Oprava schodi...'!F31 -> 0 | BA95: ='MalinNam3 - Oprava schodi...'!F32 -> 0 | BB95: ='MalinNam3 - Oprava schodi...'!F33 -> 0 | BC95: ='MalinNam3 - Oprava schodi...'!F34 -> 0 | BD95: ='MalinNam3 - Oprava schodi...'!F35 -> 0 | BT95: 1 | BU95: ###NOINSERT### | BV95: IMPORT | BW95: {87763701-5e30-4469-844c-6a5e42863eda} | BX95: {00000000-0000-0000-0000-000000000000}

Sheet MalinNam3 - Oprava schodi...
L2: >> skryté sloupce << | AT2: {87763701-5e30-4469-844c-6a5e42863eda}
AT3: 2
D4: KRYCÍ LIST SOUPISU PRACÍ | M4: v --- níže se nacházejí doplnkové a pomocné údaje k sestavám --- v | AT4: False
D6: Stavba:
E7: Oprava schodiště západního křídla
D9: KSO: | I9: CC-CZ:
D10: Místo: | F10: Malinovského náměstí 3,Brno | I10: Datum: | J10: ='Rekapitulace stavby'!AN8 -> 3. 9. 2020
D12: Zadavatel: | I12: IČ:
E13: MmBrna,OSM,Husova3,Brno | I13: DIČ:
D15: Uchazeč: | I15: IČ: | J15: ='Rekapitulace stavby'!AN13 -> Vyplň údaj
E16: ='Rekapitulace stavby'!E14 -> Vyplň údaj | I16: DIČ: | J16: ='Rekapitulace stavby'!AN14 -> Vyplň údaj
D18: Projektant: | I18: IČ:
E19: R.Volková | I19: DIČ:
D21: Zpracovatel: | I21: IČ:
E22: R.Volková | I22: DIČ:
D24: Poznámka:
D28: Cena bez DPH | J28: =ROUND(J127, 2) -> 0
F30: Základ daně | I30: Sazba daně | J30: Výše daně
D31: DPH | E31: základní | F31: =ROUND((SUM(BE127:BE241)), 2) -> 0 | I31: 0.21 | J31: =ROUND(((SUM(BE127:BE241))*I31), 2) -> 0
E32: snížená | F32: =ROUND((SUM(BF127:BF241)), 2) -> 0 | I32: 0.15 | J32: =ROUND(((SUM(BF127:BF241))*I32), 2) -> 0
E33: zákl. přenesená | F33: =ROUND((SUM(BG127:BG241)), 2) -> 0 | I33: 0.21 | J33: =0 -> 0
E34: sníž. přenesená | F34: =ROUND((SUM(BH127:BH241)), 2) -> 0 | I34: 0.15 | J34: =0 -> 0
E35: nulová | F35: =ROUND((SUM(BI127:BI241)), 2) -> 0 | I35: 0 | J35: =0 -> 0
D37: Cena s DPH | G37: v | H37: CZK | J37: =SUM(J28:J35) -> 0
D50: Projektant | G50: Zpracovatel
D61: Datum a podpis: | F61: Razítko | G61: Datum a podpis: | J61: Razítko
D65: Objednavatel | G65: Uchazeč
D76: Datum a podpis: | F76: Razítko | G76: Datum a podpis: | J76: Razítko
C82: REKAPITULACE ČLENĚNÍ SOUPISU PRACÍ
C84: Stavba:
E85: =E7 -> Oprava schodiště západního křídla
C87: Místo: | F87: =F10 -> Malinovského náměstí 3,Brno | I87: Datum: | J87: =IF(J10="","",J10) -> 3. 9. 2020
C89: Zadavatel: | F89: =E13 -> MmBrna,OSM,Husova3,Brno | I89: Projektant: | J89: =E19 -> R.Volková
C90: Uchazeč: | F90: =IF(E16="","",E16) -> Vyplň údaj | I90: Zpracovatel: | J90: =E22 -> R.Volková
C92: Kód dílu - Popis | J92: Cena celkem [CZK]
C94: Náklady ze soupisu prací | J94: =J127 -> 0 | AU94: -1
D95: HSV - Práce a dodávky HSV | J95: =J128 -> 0
D96: 6 - Úpravy povrchů, podlahy a osazování výplní | J96: =J129 -> 0
D97: 9 - Ostatní konstrukce a práce, bourání | J97: =J150 -> 0
D98: 997 - Přesun sutě | J98: =J165 -> 0
D99: 998 - Přesun hmot | J99: =J171 -> 0
D100: PSV - Práce a dodávky PSV | J100: =J173 -> 0
D101: 766 - Konstrukce truhlářské | J101: =J174 -> 0
D102: 771 - Podlahy z dlaždic | J102: =J178 -> 0
D103: 776 - Podlahy povlakové | J103: =J196 -> 0
D104: 783 - Dokončovací práce - nátěry | J104: =J201 -> 0
D105: 784 - Dokončovací práce - malby a tapety | J105: =J220 -> 0
D106: VRN - Vedlejší rozpočtové náklady | J106: =J235 -> 0
D107: VRN3 - Zařízení staveniště | J107: =J236 -> 0
D108: VRN6 - Územní vlivy | J108: =J238 -> 0
D109: VRN7 - Provozní vlivy | J109: =J240 -> 0
C116: SOUPIS PRACÍ
C118: Stavba:
E119: =E7 -> Oprava schodiště západního křídla
C121: Místo: | F121: =F10 -> Malinovského náměstí 3,Brno | I121: Datum: | J121: =IF(J10="","",J10) -> 3. 9. 2020
C123: Zadavatel: | F123: =E13 -> MmBrna,OSM,Husova3,Brno | I123: Projektant: | J123: =E19 -> R.Volková
C124: Uchazeč: | F124: =IF(E16="","",E16) -> Vyplň údaj | I124: Zpracovatel: | J124: =E22 -> R.Volková
C126: PČ | D126: Typ | E126: Kód | F126: Popis | G126: MJ | H126: Množství | I126: J.cena [CZK] | J126: Cena celkem [CZK] | K126: Cenová soustava | N126: DPH | O126: J. Nh [h] | P126: Nh celkem [h] | Q126: J. hmotnost [t] | R126: Hmotnost celkem [t] | S126: J. suť [t] | T126: Suť Celkem [t]
C127: Náklady soupisu celkem | J127: =BK127 -> 0 | P127: =P128+P173+P235 -> 0 | R127: =R128+R173+R235 -> 4.1102814 | T127: =T128+T173+T235 -> 1.0297523 | AT127: D | AU127: -1 | BK127: =BK128+BK173+BK235 -> 0
D128: D | E128: HSV | F128: Práce a dodávky HSV | J128: =BK128 -> 0 | P128: =P129+P150+P165+P171 -> 0 | R128: =R129+R150+R165+R171 -> 2.680586 | T128: =T129+T150+T165+T171 -> 0.72455 | AR128: 1 | AT128: D | AU128: 0 | AY128: ROZPOCET | BK128: =BK129+BK150+BK165+BK171 -> 0
D129: D | E129: 6 | F129: Úpravy povrchů, podlahy a osazování výplní | J129: =BK129 -> 0 | P129: =SUM(P130:P149) -> 0 | R129: =SUM(R130:R149) -> 2.6408835 | T129: =SUM(T130:T149) -> 0 | AR129: 1 | AT129: D | AU129: 1 | AY129: ROZPOCET | BK129: =SUM(BK130:BK149) -> 0
C130: 1 | D130: K | E130: 611142001 | F130: Potažení vnitřních stropů sklovláknitým pletivem vtlačeným do tenkovrstvé hmoty-4patro | G130: m2 | H130: 31.825 | J130: =ROUND(I130*H130,2) -> 0 | K130: CS ÚRS 2020 01 | N130: základní | P130: =O130*H130 -> 0 | Q130: 0.00438 | R130: =Q130*H130 -> 0.1393935 | S130: 0 | T130: =S130*H130 -> 0 | AR130: 4 | AT130: K | AU130: 2 | AY130: ROZPOCET | BE130: =IF(N130="základní",J130,0) -> 0 | BF130: =IF(N130="snížená",J130,0) -> 0 | BG130: =IF(N130="zákl. přenesená",J130,0) -> 0 | BH130: =IF(N130="sníž. přenesená",J130,0) -> 0 | BI130: =IF(N130="nulová",J130,0) -> 0 | BJ130: 1 | BK130: =ROUND(I130*H130,2) -> 0 | BL130: 4 | BM130: -1439615595
D131: VV | F131: 9,5*3,35"4p" | H131: 31.825 | AT131: VV | AU131: 2 | AV131: 2 | AW131: True | AX131: 1 | AY131: ROZPOCET
C132: 2 | D132: K | E132: 611311131 | F132: Potažení vnitřních rovných stropů vápenným štukem tloušťky do 3 mm | G132: m2 | H132: 31.825 | J132: =ROUND(I132*H132,2) -> 0 | K132: CS ÚRS 2020 01 | N132: základní | P132: =O132*H132 -> 0 | Q132: 0.003 | R132: =Q132*H132 -> 0.095475 | S132: 0 | T132: =S132*H132 -> 0 | AR132: 4 | AT132: K | AU132: 2 | AY132: ROZPOCET | BE132: =IF(N132="základní",J132,0) -> 0 | BF132: =IF(N132="snížená",J132,0) -> 0 | BG132: =IF(N132="zákl. přenesená",J132,0) -> 0 | BH132: =IF(N132="sníž. přenesená",J132,0) -> 0 | BI132: =IF(N132="nulová",J132,0) -> 0 | BJ132: 1 | BK132: =ROUND(I132*H132,2) -> 0 | BL132: 4 | BM132: 612772879
C133: 3 | D133: K | E133: 611325422 | F133: Oprava vnitřní vápenocementové štukové omítky stropů v rozsahu plochy do 30%-4patro | G133: m2 | H133: 31.825 | J133: =ROUND(I133*H133,2) -> 0 | K133: CS ÚRS 2020 01 | N133: základní | P133: =O133*H133 -> 0 | Q133: 0.017 | R133: =Q133*H133 -> 0.541025 | S133: 0 | T133: =S133*H133 -> 0 | AR133: 4 | AT133: K | AU133: 2 | AY133: ROZPOCET | BE133: =IF(N133="základní",J133,0) -> 0 | BF133: =IF(N133="snížená",J133,0) -> 0 | BG133: =IF(N133="zákl. přenesená",J133,0) -> 0 | BH133: =IF(N133="sníž. přenesená",J133,0) -> 0 | BI133: =IF(N133="nulová",J133,0) -> 0 | BJ133: 1 | BK133: =ROUND(I133*H133,2) -> 0 | BL133: 4 | BM133: 1902376623
D134: VV | F134: "4"9,5*3,35 | H134: 31.825 | AT134: VV | AU134: 2 | AV134: 2 | AW134: True | AX134: 1 | AY134: ROZPOCET
C135: 4 | D135: K | E135: 612325421R | F135: Oprava prasklin na stěnách 3 patro-přízemí | G135: sada | H135: 1 | J135: =ROUND(I135*H135,2) -> 0 | N135: základní | P135: =O135*H135 -> 0 | Q135: 0.0057 | R135: =Q135*H135 -> 0.0057 | S135: 0 | T135: =S135*H135 -> 0 | AR135: 4 | AT135: K | AU135: 2 | AY135: ROZPOCET | BE135: =IF(N135="základní",J135,0) -> 0 | BF135: =IF(N135="snížená",J135,0) -> 0 | BG135: =IF(N135="zákl. přenesená",J135,0) -> 0 | BH135: =IF(N135="sníž. přenesená",J135,0) -> 0 | BI135: =IF(N135="nulová",J135,0) -> 0 | BJ135: 1 | BK135: =ROUND(I135*H135,2) -> 0 | BL135: 4 | BM135: 2071925339
C136: 5 | D136: K | E136: 612325422 | F136: Oprava vnitřní vápenocementové štukové omítky stěn v rozsahu plochy do 30%-trhliny-4patro | G136: m2 | H136: 109.37 | J136: =ROUND(I136*H136,2) -> 0 | K136: CS ÚRS 2020 01 | N136: základní | P136: =O136*H136 -> 0 | Q136: 0.017 | R136: =Q136*H136 -> 1.85929 | S136: 0 | T136: =S136*H136 -> 0 | AR136: 4 | AT136: K | AU136: 2 | AY136: ROZPOCET | BE136: =IF(N136="základní",J136,0) -> 0 | BF136: =IF(N136="snížená",J136,0) -> 0 | BG136: =IF(N136="zákl. přenesená",J136,0) -> 0 | BH136: =IF(N136="sníž. přenesená",J136,0) -> 0 | BI136: =IF(N136="nulová",J136,0) -> 0 | BJ136: 1 | BK136: =ROUND(I136*H136,2) -> 0 | BL136: 4 | BM136: 1601336781
D137: VV | F137: "4"2,6*5,7*2+3,35*5,7+4,0*2*(5,7+3,3)*0,5+(2,9*2+3,35)*3,3 | H137: 114.93 | AT137: VV | AU137: 2 | AV137: 2 | AW137: True | AX137: 0 | AY137: ROZPOCET
D138: VV | F138: -1,85*1,9*3-2*2,0+1,9*3*0,35*3+2*3*0,5 | H138: -5.56 | AT138: VV | AU138: 2 | AV138: 2 | AW138: True | AX138: 0 | AY138: ROZPOCET
D139: VV | F139: Mezisoučet | H139: 109.37 | AT139: VV | AU139: 2 | AV139: 3 | AW139: True | AX139: 1 | AY139: ROZPOCET
C140: 6 | D140: K | E140: 619991011 | F140: Obalení konstrukcí a prvků fólií přilepenou lepící páskou-okna,hydranty.. | G140: m2 | H140: 60.825 | J140: =ROUND(I140*H140,2) -> 0 | K140: CS ÚRS 2020 01 | N140: základní | P140: =O140*H140 -> 0 | Q140: 0 | R140: =Q140*H140 -> 0 | S140: 0 | T140: =S140*H140 -> 0 | AR140: 4 | AT140: K | AU140: 2 | AY140: ROZPOCET | BE140: =IF(N140="základní",J140,0) -> 0 | BF140: =IF(N140="snížená",J140,0) -> 0 | BG140: =IF(N140="zákl. přenesená",J140,0) -> 0 | BH140: =IF(N140="sníž. přenesená",J140,0) -> 0 | BI140: =IF(N140="nulová",J140,0) -> 0 | BJ140: 1 | BK140: =ROUND(I140*H140,2) -> 0 | BL140: 4 | BM140: -182918002
D141: VV | F141: "4p"1,85*1,9*3+0,9*0,9*2 | H141: 12.165 | AT141: VV | AU141: 2 | AV141: 2 | AW141: True | AX141: 0 | AY141: ROZPOCET
D142: VV | F142: "3-příz"12,165*4 | H142: 48.66 | AT142: VV | AU142: 2 | AV142: 2 | AW142: True | AX142: 0 | AY142: ROZPOCET
D143: VV | F143: Součet | H143: 60.825 | AT143: VV | AU143: 2 | AV143: 4 | AW143: True | AX143: 1 | AY143: ROZPOCET
C144: 7 | D144: K | E144: 619-pc 1 | F144: Označení rohu stropu v přízemí u východu reflexními terči | G144: sada | H144: 1 | J144: =ROUND(I144*H144,2) -> 0 | N144: základní | P144: =O144*H144 -> 0 | Q144: 0 | R144: =Q144*H144 -> 0 | S144: 0 | T144: =S144*H144 -> 0 | AR144: 4 | AT144: K | AU144: 2 | AY144: ROZPOCET | BE144: =IF(N144="základní",J144,0) -> 0 | BF144: =IF(N144="snížená",J144,0) -> 0 | BG144: =IF(N144="zákl. přenesená",J144,0) -> 0 | BH144: =IF(N144="sníž. přenesená",J144,0) -> 0 | BI144: =IF(N144="nulová",J144,0) -> 0 | BJ144: 1 | BK144: =ROUND(I144*H144,2) -> 0 | BL144: 4 | BM144: -1862533970
D145: VV | F145: 1 | H145: 1 | AT145: VV | AU145: 2 | AV145: 2 | AW145: True | AX145: 1 | AY145: ROZPOCET
C146: 8 | D146: K | E146: 619-pc 2 | F146: Demontáž a opětovná montáž oznamovacích,informačních tabulek | G146: sada | H146: 1 | J146: =ROUND(I146*H146,2) -> 0 | N146: základní | P146: =O146*H146 -> 0 | Q146: 0 | R146: =Q146*H146 -> 0 | S146: 0 | T146: =S146*H146 -> 0 | AR146: 4 | AT146: K | AU146: 2 | AY146: ROZPOCET | BE146: =IF(N146="základní",J146,0) -> 0 | BF146: =IF(N146="snížená",J146,0) -> 0 | BG146: =IF(N146="zákl. přenesená",J146,0) -> 0 | BH146: =IF(N146="sníž. přenesená",J146,0) -> 0 | BI146: =IF(N146="nulová",J146,0) -> 0 | BJ146: 1 | BK146: =ROUND(I146*H146,2) -> 0 | BL146: 4 | BM146: -1551519095
D147: VV | F147: 1 | H147: 1 | AT147: VV | AU147: 2 | AV147: 2 | AW147: True | AX147: 1 | AY147: ROZPOCET
C148: 9 | D148: K | E148: 619-pc 3 | F148: Očištění sklobetonových tvárnic-nadsvětlík dveří | G148: sada | H148: 1 | J148: =ROUND(I148*H148,2) -> 0 | N148: základní | P148: =O148*H148 -> 0 | Q148: 0 | R148: =Q148*H148 -> 0 | S148: 0 | T148: =S148*H148 -> 0 | AR148: 4 | AT148: K | AU148: 2 | AY148: ROZPOCET | BE148: =IF(N148="základní",J148,0) -> 0 | BF148: =IF(N148="snížená",J148,0) -> 0 | BG148: =IF(N148="zákl. přenesená",J148,0) -> 0 | BH148: =IF(N148="sníž. přenesená",J148,0) -> 0 | BI148: =IF(N148="nulová",J148,0) -> 0 | BJ148: 1 | BK148: =ROUND(I148*H148,2) -> 0 | BL148: 4 | BM148: 820515634
D149: VV | F149: 1 | H149: 1 | AT149: VV | AU149: 2 | AV149: 2 | AW149: True | AX149: 1 | AY149: ROZPOCET
D150: D | E150: 9 | F150: Ostatní konstrukce a práce, bourání | J150: =BK150 -> 0 | P150: =SUM(P151:P164) -> 0 | R150: =SUM(R151:R164) -> 0.0397025 | T150: =SUM(T151:T164) -> 0.72455 | AR150: 1 | AT150: D | AU150: 1 | AY150: ROZPOCET | BK150: =SUM(BK151:BK164) -> 0
C151: 10 | D151: K | E151: 949101111 | F151: Lešení pomocné pro objekty pozemních staveb s lešeňovou podlahou v do 1,9 m zatížení do 150 kg/m2 | G151: m2 | H151: 10.05 | J151: =ROUND(I151*H151,2) -> 0 | K151: CS ÚRS 2020 01 | N151: základní | P151: =O151*H151 -> 0 | Q151: 0.00013 | R151: =Q151*H151 -> 0.0013065 | S151: 0 | T151: =S151*H151 -> 0 | AR151: 4 | AT151: K | AU151: 2 | AY151: ROZPOCET | BE151: =IF(N151="základní",J151,0) -> 0 | BF151: =IF(N151="snížená",J151,0) -> 0 | BG151: =IF(N151="zákl. přenesená",J151,0) -> 0 | BH151: =IF(N151="sníž. přenesená",J151,0) -> 0 | BI151: =IF(N151="nulová",J151,0) -> 0 | BJ151: 1 | BK151: =ROUND(I151*H151,2) -> 0 | BL151: 4 | BM151: -1102816790
D152: VV | F152: "4"3*3,35 | H152: 10.05 | AT152: VV | AU152: 2 | AV152: 2 | AW152: True | AX152: 1 | AY152: ROZPOCET
C153: 11 | D153: K | E153: 949101112 | F153: Lešení pomocné pro objekty pozemních staveb s lešeňovou podlahou v do 3,5 m zatížení do 150 kg/m2 | G153: m2 | H153: 131.1 | J153: =ROUND(I153*H153,2) -> 0 | K153: CS ÚRS 2020 01 | N153: základní | P153: =O153*H153 -> 0 | Q153: 0.00021 | R153: =Q153*H153 -> 0.027531 | S153: 0 | T153: =S153*H153 -> 0 | AR153: 4 | AT153: K | AU153: 2 | AY153: ROZPOCET | BE153: =IF(N153="základní",J153,0) -> 0 | BF153: =IF(N153="snížená",J153,0) -> 0 | BG153: =IF(N153="zákl. přenesená",J153,0) -> 0 | BH153: =IF(N153="sníž. přenesená",J153,0) -> 0 | BI153: =IF(N153="nulová",J153,0) -> 0 | BJ153: 1 | BK153: =ROUND(I153*H153,2) -> 0 | BL153: 4 | BM153: -1845792639
D154: VV | F154: 6*3,35"4" | H154: 20.1 | AT154: VV | AU154: 2 | AV154: 2 | AW154: True | AX154: 0 | AY154: ROZPOCET
D155: VV | F155: "3-1"10*1,5*2*3 | H155: 90 | AT155: VV | AU155: 2 | AV155: 2 | AW155: True | AX155: 0 | AY155: ROZPOCET
D156: VV | F156: "přízemi"4*1,5*2+3*1,5*2 | H156: 21 | AT156: VV | AU156: 2 | AV156: 2 | AW156: True | AX156: 0 | AY156: ROZPOCET
D157: VV | F157: Součet | H157: 131.1 | AT157: VV | AU157: 2 | AV157: 4 | AW157: True | AX157: 1 | AY157: ROZPOCET
C158: 12 | D158: K | E158: 949-pc 1 | F158: Výměna nástěných světel ve schodištovém prostoru -za nová letková | G158: m2 | H158: 25 | J158: =ROUND(I158*H158,2) -> 0 | N158: základní | P158: =O158*H158 -> 0 | Q158: 0.00013 | R158: =Q158*H158 -> 0.00325 | S158: 0 | T158: =S158*H158 -> 0 | AR158: 4 | AT158: K | AU158: 2 | AY158: ROZPOCET | BE158: =IF(N158="základní",J158,0) -> 0 | BF158: =IF(N158="snížená",J158,0) -> 0 | BG158: =IF(N158="zákl. přenesená",J158,0) -> 0 | BH158: =IF(N158="sníž. přenesená",J158,0) -> 0 | BI158: =IF(N158="nulová",J158,0) -> 0 | BJ158: 1 | BK158: =ROUND(I158*H158,2) -> 0 | BL158: 4 | BM158: -1521339944
D159: VV | F159: 4*5+5 | H159: 25 | AT159: VV | AU159: 2 | AV159: 2 | AW159: True | AX159: 1 | AY159: ROZPOCET
C160: 13 | D160: K | E160: 952901111 | F160: Vyčištění budov bytové a občanské výstavby při výšce podlaží do 4 m | G160: m2 | H160: 190.375 | J160: =ROUND(I160*H160,2) -> 0 | K160: CS ÚRS 2020 01 | N160: základní | P160: =O160*H160 -> 0 | Q160: 4e-05 | R160: =Q160*H160 -> 0.007615 | S160: 0 | T160: =S160*H160 -> 0 | AR160: 4 | AT160: K | AU160: 2 | AY160: ROZPOCET | BE160: =IF(N160="základní",J160,0) -> 0 | BF160: =IF(N160="snížená",J160,0) -> 0 | BG160: =IF(N160="zákl. přenesená",J160,0) -> 0 | BH160: =IF(N160="sníž. přenesená",J160,0) -> 0 | BI160: =IF(N160="nulová",J160,0) -> 0 | BJ160: 1 | BK160: =ROUND(I160*H160,2) -> 0 | BL160: 4 | BM160: 1402774007
D161: VV | F161: 9,5*3,35*5+8*2,5+4,5*2,5 | H161: 190.375 | AT161: VV | AU161: 2 | AV161: 2 | AW161: True | AX161: 1 | AY161: ROZPOCET
C162: 14 | D162: K | E162: 968062455R | F162: Vyvěšení a odvoz dřevěných prosklených dveří 60/197-u vstupu do budovy-bývalá vrátnice | G162: kus | H162: 1 | J162: =ROUND(I162*H162,2) -> 0 | N162: základní | P162: =O162*H162 -> 0 | Q162: 0 | R162: =Q162*H162 -> 0 | S162: 0.088 | T162: =S162*H162 -> 0.088 | AR162: 4 | AT162: K | AU162: 2 | AY162: ROZPOCET | BE162: =IF(N162="základní",J162,0) -> 0 | BF162: =IF(N162="snížená",J162,0) -> 0 | BG162: =IF(N162="zákl. přenesená",J162,0) -> 0 | BH162: =IF(N162="sníž. přenesená",J162,0) -> 0 | BI162: =IF(N162="nulová",J162,0) -> 0 | BJ162: 1 | BK162: =ROUND(I162*H162,2) -> 0 | BL162: 4 | BM162: -813195536
C163: 15 | D163: K | E163: 978011141 | F163: Otlučení (osekání) vnitřní vápenné nebo vápenocementové omítky stropů v rozsahu do 30 %-4patro | G163: m2 | H163: 31.83 | J163: =ROUND(I163*H163,2) -> 0 | K163: CS ÚRS 2020 01 | N163: základní | P163: =O163*H163 -> 0 | Q163: 0 | R163: =Q163*H163 -> 0 | S163: 0.01 | T163: =S163*H163 -> 0.3183 | AR163: 4 | AT163: K | AU163: 2 | AY163: ROZPOCET | BE163: =IF(N163="základní",J163,0) -> 0 | BF163: =IF(N163="snížená",J163,0) -> 0 | BG163: =IF(N163="zákl. přenesená",J163,0) -> 0 | BH163: =IF(N163="sníž. přenesená",J163,0) -> 0 | BI163: =IF(N163="nulová",J163,0) -> 0 | BJ163: 1 | BK163: =ROUND(I163*H163,2) -> 0 | BL163: 4 | BM163: 1245433580
C164: 16 | D164: K | E164: 978013141 | F164: Otlučení (osekání) vnitřní vápenné nebo vápenocementové omítky stěn v rozsahu do 30 %-4patro | G164: m2 | H164: 31.825 | J164: =ROUND(I164*H164,2) -> 0 | K164: CS ÚRS 2020 01 | N164: základní | P164: =O164*H164 -> 0 | Q164: 0 | R164: =Q164*H164 -> 0 | S164: 0.01 | T164: =S164*H164 -> 0.31825 | AR164: 4 | AT164: K | AU164: 2 | AY164: ROZPOCET | BE164: =IF(N164="základní",J164,0) -> 0 | BF164: =IF(N164="snížená",J164,0) -> 0 | BG164: =IF(N164="zákl. přenesená",J164,0) -> 0 | BH164: =IF(N164="sníž. přenesená",J164,0) -> 0 | BI164: =IF(N164="nulová",J164,0) -> 0 | BJ164: 1 | BK164: =ROUND(I164*H164,2) -> 0 | BL164: 4 | BM164: -923100544
D165: D | E165: 997 | F165: Přesun sutě | J165: =BK165 -> 0 | P165: =SUM(P166:P170) -> 0 | R165: =SUM(R166:R170) -> 0 | T165: =SUM(T166:T170) -> 0 | AR165: 1 | AT165: D | AU165: 1 | AY165: ROZPOCET | BK165: =SUM(BK166:BK170) -> 0
C166: 17 | D166: K | E166: 997013216 | F166: Vnitrostaveništní doprava suti a vybouraných hmot pro budovy v do 21 m ručně | G166: t | H166: 1.03 | J166: =ROUND(I166*H166,2) -> 0 | K166: CS ÚRS 2020 01 | N166: základní | P166: =O166*H166 -> 0 | Q166: 0 | R166: =Q166*H166 -> 0 | S166: 0 | T166: =S166*H166 -> 0 | AR166: 4 | AT166: K | AU166: 2 | AY166: ROZPOCET | BE166: =IF(N166="základní",J166,0) -> 0 | BF166: =IF(N166="snížená",J166,0) -> 0 | BG166: =IF(N166="zákl. přenesená",J166,0) -> 0 | BH166: =IF(N166="sníž. přenesená",J166,0) -> 0 | BI166: =IF(N166="nulová",J166,0) -> 0 | BJ166: 1 | BK166: =ROUND(I166*H166,2) -> 0 | BL166: 4 | BM166: 1490184486
C167: 18 | D167: K | E167: 997013501 | F167: Odvoz suti a vybouraných hmot na skládku nebo meziskládku do 1 km se složením | G167: t | H167: 1.03 | J167: =ROUND(I167*H167,2) -> 0 | K167: CS ÚRS 2020 01 | N167: základní | P167: =O167*H167 -> 0 | Q167: 0 | R167: =Q167*H167 -> 0 | S167: 0 | T167: =S167*H167 -> 0 | AR167: 4 | AT167: K | AU167: 2 | AY167: ROZPOCET | BE167: =IF(N167="základní",J167,0) -> 0 | BF167: =IF(N167="snížená",J167,0) -> 0 | BG167: =IF(N167="zákl. přenesená",J167,0) -> 0 | BH167: =IF(N167="sníž. přenesená",J167,0) -> 0 | BI167: =IF(N167="nulová",J167,0) -> 0 | BJ167: 1 | BK167: =ROUND(I167*H167,2) -> 0 | BL167: 4 | BM167: -421697244
C168: 19 | D168: K | E168: 997013509 | F168: Příplatek k odvozu suti a vybouraných hmot na skládku ZKD 1 km přes 1 km | G168: t | H168: 24.72 | J168: =ROUND(I168*H168,2) -> 0 | K168: CS ÚRS 2020 01 | N168: základní | P168: =O168*H168 -> 0 | Q168: 0 | R168: =Q168*H168 -> 0 | S168: 0 | T168: =S168*H168 -> 0 | AR168: 4 | AT168: K | AU168: 2 | AY168: ROZPOCET | BE168: =IF(N168="základní",J168,0) -> 0 | BF168: =IF(N168="snížená",J168,0) -> 0 | BG168: =IF(N168="zákl. přenesená",J168,0) -> 0 | BH168: =IF(N168="sníž. přenesená",J168,0) -> 0 | BI168: =IF(N168="nulová",J168,0) -> 0 | BJ168: 1 | BK168: =ROUND(I168*H168,2) -> 0 | BL168: 4 | BM168: -247609624
...
