Workbook
Name CelkemDPHVypocet: Stavba!$H$43
Name CenaCelkem: Stavba!$G$29
Name CenaCelkemBezDPH: Stavba!$G$28
Name CenaCelkemVypocet: Stavba!$I$43
Name cisloobjektu: Stavba!$D$3
Name CisloRozpoctu: '[1]Krycí list'!$C$2
Name CisloStavby: Stavba!$D$2
Name cislostavby: '[1]Krycí list'!$A$7
Name CisloStavebnihoRozpoctu: Stavba!$D$4
Name dadresa: Stavba!$D$12:$G$12
Name DIČ: Stavba!$I$12
Name dmisto: Stavba!$E$13:$G$13
Name DPHSni: Stavba!$G$24
Name DPHZakl: Stavba!$G$26
Name dpsc: Stavba!$D$13
Name IČO: Stavba!$I$11
Name Mena: Stavba!$J$29
Name MistoStavby: Stavba!$D$4
Name nazevobjektu: Stavba!$E$3
Name NazevRozpoctu: '[1]Krycí list'!$D$2
Name NazevStavby: Stavba!$E$2
Name nazevstavby: '[1]Krycí list'!$C$7
Name NazevStavebnihoRozpoctu: Stavba!$E$4
Name oadresa: Stavba!$D$6
Name Objednatel: Stavba!$D$5
Name Objekt: Stavba!$B$38
Name odic: Stavba!$I$6
Name oico: Stavba!$I$5
Name omisto: Stavba!$E$7
Name onazev: Stavba!$D$6
Name opsc: Stavba!$D$7
Name padresa: Stavba!$D$9
Name pdic: Stavba!$I$9
Name pico: Stavba!$I$8
Name pmisto: Stavba!$E$10
Name PocetMJ: #REF!
Name PoptavkaID: Stavba!$A$1
Name pPSC: Stavba!$D$10
Name Projektant: Stavba!$D$8
Name SazbaDPH1: Stavba!$E$23
Name SazbaDPH1: '[1]Krycí list'!$C$30
Name SazbaDPH2: Stavba!$E$25
Name SazbaDPH2: '[1]Krycí list'!$C$32
Name SloupecCC: #REF!
Name SloupecCisloPol: #REF!
Name SloupecJC: #REF!
Name SloupecMJ: #REF!
Name SloupecMnozstvi: #REF!
Name SloupecNazPol: #REF!
Name SloupecPC: #REF!
Name Vypracoval: Stavba!$D$14
Name ZakladDPHSni: Stavba!$G$23
Name ZakladDPHSniVypocet: Stavba!$F$43
Name ZakladDPHZakl: Stavba!$G$25
Name ZakladDPHZaklVypocet: Stavba!$G$43
Name ZaObjednatele: Stavba!$G$34
Name Zaokrouhleni: Stavba!$G$27
Name ZaZhotovitele: Stavba!$D$34
Name Zhotovitel: Stavba!$D$11:$G$11

Sheet Pokyny pro vyplnění
A1: Pokyny pro vyplnění
A2: Ve všech listech tohoto souboru můžete měnit pouze buňky s modrým pozadím. Jedná se o tyto údaje : - údaje o firmě - jednotkové ceny položek zadané na maximálně dvě desetinná místa

Sheet Stavba
A1: #RTSROZP# | B1: Soupis stavebních prací, dodávek a služeb
B2: Stavba: | D2: 507/2021/01 | E2: Kounicova 67 oprava povrchů schodiště
B3: Objekt: | D3: 507/2021/01 | E3: Kounicova 67 oprava povrchů schodiště
A4: 4366 | B4: Rozpočet: | D4: 507/2021/01 | E4: Kounicova 67 oprava povrchů schodiště
B5: Zadavatel | H5: IČO:
H6: DIČ:
B8: Projektant: | H8: IČO:
H9: DIČ:
B11: Zhotovitel: | H11: IČO:
H12: DIČ:
B14: Vypracoval: | D14: Marečková
B15: Rozpis ceny | I15: Celkem
A16: HSV | B16: HSV | I16: =SUMIF(F50:F53,A16,I50:I53)+SUMIF(F50:F53,"PSU",I50:I53) -> 0
A17: PSV | B17: PSV | I17: =SUMIF(F50:F53,A17,I50:I53) -> 0
A18: MON | B18: MON | I18: =SUMIF(F50:F53,A18,I50:I53) -> 0
A19: VN | B19: Vedlejší náklady | I19: =SUMIF(F50:F53,A19,I50:I53) -> 0
A20: ON | B20: Ostatní náklady | I20: =SUMIF(F50:F53,A20,I50:I53) -> 0
B21: Celkem | I21: =SUM(I16:J20) -> 0
B22: Rekapitulace daní
A23: =ZakladDPHSni*SazbaDPH1/100 -> 0 | B23: Základ pro sníženou DPH | E23: 15 | F23: % | G23: =ZakladDPHSniVypocet -> 0 | J23: =Mena -> CZK
A24: =(A23-INT(A23))*100 -> 0 | B24: Snížená DPH | E24: =SazbaDPH1 -> 15 | F24: % | G24: =A23 -> 0 | J24: =Mena -> CZK
A25: =ZakladDPHZakl*SazbaDPH2/100 -> 0 | B25: Základ pro základní DPH | E25: 21 | F25: % | G25: =ZakladDPHZaklVypocet -> 0 | J25: =Mena -> CZK
A26: =(A25-INT(A25))*100 -> 0 | B26: Základní DPH | E26: =SazbaDPH2 -> 21 | F26: % | G26: =A25 -> 0 | J26: =Mena -> CZK
A27: =ZakladDPHSni+DPHSni+ZakladDPHZakl+DPHZakl -> 0 | B27: Zaokrouhlení | G27: =CenaCelkem-(ZakladDPHSni+DPHSni+ZakladDPHZakl+DPHZakl) -> 0 | J27: =Mena -> CZK
B28: Cena celkem bez DPH | G28: =ZakladDPHSniVypocet+ZakladDPHZaklVypocet -> 0 | J28: =Mena -> CZK
A29: =(A27-INT(A27))*100 -> 0 | B29: Cena celkem s DPH | G29: =A27 -> 0 | J29: CZK
C32: v | F32: dne
D34: sdfsdf | G34: OSM MMB
D35: Za zhotovitele | H35: Za objednatele
B37: Rekapitulace dílčích částí
A38: #CASTI>> | B38: Číslo | C38: Název | F38: =B23 -> Základ pro sníženou DPH | G38: =B25 -> Základ pro základní DPH | H38: DPH celkem | I38: Cena celkem | J38: %
A39: 1 | B39: Stavba | F39: ='507_2021_01 507_2021_01 Pol'!AE103 -> 0 | G39: ='507_2021_01 507_2021_01 Pol'!AF103 -> 0 | H39: =(F39*SazbaDPH1/100)+(G39*SazbaDPH2/100) -> 0 | I39: =F39+G39+H39 -> 0 | J39: =IF(_xlfn.SINGLE(CenaCelkemVypocet)=0,"",I39/_xlfn.SINGLE(CenaCelkemVypocet)*100)
A40: 2 | C40: Stavební objekt | H40: =(F40*SazbaDPH1/100)+(G40*SazbaDPH2/100) -> 0
A41: 2 | B41: 507/2021/01 | C41: Kounicova 67 oprava povrchů schodiště | F41: ='507_2021_01 507_2021_01 Pol'!AE103 -> 0 | G41: ='507_2021_01 507_2021_01 Pol'!AF103 -> 0 | H41: =(F41*SazbaDPH1/100)+(G41*SazbaDPH2/100) -> 0 | I41: =F41+G41+H41 -> 0 | J41: =IF(_xlfn.SINGLE(CenaCelkemVypocet)=0,"",I41/_xlfn.SINGLE(CenaCelkemVypocet)*100)
A42: 3 | B42: 507/2021/01 | C42: Kounicova 67 oprava povrchů schodiště | F42: ='507_2021_01 507_2021_01 Pol'!AE103 -> 0 | G42: ='507_2021_01 507_2021_01 Pol'!AF103 -> 0 | H42: =(F42*SazbaDPH1/100)+(G42*SazbaDPH2/100) -> 0 | I42: =F42+G42+H42 -> 0 | J42: =IF(_xlfn.SINGLE(CenaCelkemVypocet)=0,"",I42/_xlfn.SINGLE(CenaCelkemVypocet)*100)
B43: Celkem za stavbu | F43: =SUMIF(A39:A42,"=1",F39:F42) -> 0 | G43: =SUMIF(A39:A42,"=1",G39:G42) -> 0 | H43: =SUMIF(A39:A42,"=1",H39:H42) -> 0 | I43: =SUMIF(A39:A42,"=1",I39:I42) -> 0 | J43: =SUMIF(A39:A42,"=1",J39:J42) -> 0
B47: Rekapitulace dílů
B49: Číslo | C49: Název | F49: Typ dílu | I49: Celkem | J49: %
B50: 63 | C50: Podlahy a podlahové konstrukce | F50: HSV | I50: ='507_2021_01 507_2021_01 Pol'!G8 -> 0 | J50: =IF(I54=0,"",I50/I54*100)
B51: 95 | C51: Dokončovací konstrukce na pozemních stavbách | F51: HSV | I51: ='507_2021_01 507_2021_01 Pol'!G20 -> 0 | J51: =IF(I54=0,"",I51/I54*100)
...

Sheet VzorPolozky
A1: Položkový rozpočet
A2: S:
A3: O:
A4: R:

Sheet 507_2021_01 507_2021_01 Pol
A1: Položkový soupis prací a dodávek | AG1: #TypZaznamu#
A2: S: | B2: 507/2021/01 | C2: Kounicova 67 oprava povrchů schodiště | AG2: STA
A3: O: | B3: 507/2021/01 | C3: Kounicova 67 oprava povrchů schodiště | AC3: STA | AG3: OBJ
A4: R: | B4: 507/2021/01 | C4: Kounicova 67 oprava povrchů schodiště | AG4: ROZ
A6: P.č. | B6: Číslo položky | C6: Název položky | D6: MJ | E6: Množství | F6: Cena / MJ | G6: Celkem | H6: Dodávka | I6: Dodávka celk. | J6: Montáž | K6: Montáž celk. | L6: DPH | M6: Cena s DPH | N6: Hmotnost / MJ | O6: Hmotnost celk.(t) | P6: Dem. hmotnost / MJ | Q6: Dem. hmotnost celk.(t) | R6: Ceník | S6: Cen. soustava / platnost | T6: Cenová úroveň | U6: Nhod / MJ | V6: Nhod celk. | W6: Dodavatel | X6: Typ položky
A8: Díl: | B8: 63 | C8: Podlahy a podlahové konstrukce | G8: =SUMIF(AG9:AG19,"<>NOR",G9:G19) -> 0 | I8: =SUM(I9:I19) -> 0 | K8: =SUM(K9:K19) -> 0 | M8: =SUM(M9:M19) -> 0 | O8: =SUM(O9:O19) -> 5.08 | Q8: =SUM(Q9:Q19) -> 0 | V8: =SUM(V9:V19) -> 11.72 | AG8: DIL
A9: 1 | B9: 631311121R00 | C9: Doplnění mazanin betonem prostým o ploše jednotlivě do 1 m2 tloušťky do 80 mm | D9: m3 | E9: 1.99374 | G9: =ROUND(E9*F9,2) -> 0 | I9: =ROUND(E9*H9,2) -> 0 | K9: =ROUND(E9*J9,2) -> 0 | L9: 21 | M9: =G9*(1+L9/100) -> 0 | N9: 2.5 | O9: =ROUND(E9*N9,2) -> 4.98 | P9: 0 | Q9: =ROUND(E9*P9,2) -> 0 | R9: 801-4 | S9: RTS 21/ I | T9: RTS 20/ II | U9: 4.66 | V9: =ROUND(E9*U9,2) -> 9.29 | X9: Práce | AG9: POL1_
C10: prostým betonem (s dodáním hmot) bez potěru, | AG10: SPI
C11: doplnění hran schodišťových stupňů : | AG11: VV | AH11: 0
C12: plocha schodiště 66,458 m2 : | AG12: VV | AH12: 0
C13: předpoklad opravy 20 % : | AG13: VV | AH13: 0
C14: 66,4580*0,1*1,5*0,2 | E14: 1.99374 | AG14: VV | AH14: 0
AG15: SPU
A16: 2 | B16: 631663111R00 | C16: Oprava trhlin a výtluků v podlahách epoxidovým tmelem, | D16: m | E16: 34.72 | G16: =ROUND(E16*F16,2) -> 0 | I16: =ROUND(E16*H16,2) -> 0 | K16: =ROUND(E16*J16,2) -> 0 | L16: 21 | M16: =G16*(1+L16/100) -> 0 | N16: 0.003 | O16: =ROUND(E16*N16,2) -> 0.1 | P16: 0 | Q16: =ROUND(E16*P16,2) -> 0 | R16: 801-4 | S16: RTS 21/ I | T16: RTS 20/ II | U16: 0.07 | V16: =ROUND(E16*U16,2) -> 2.43 | X16: Práce | AG16: POL1_
C17: předpokládaný rozsah 20% : 173,6*0,2 | E17: 34.72 | AG17: VV | AH17: 0
C18: celková délka stupňů 173,60 bm : | AG18: VV | AH18: 0
AG19: SPU
A20: Díl: | B20: 95 | C20: Dokončovací konstrukce na pozemních stavbách | G20: =SUMIF(AG21:AG22,"<>NOR",G21:G22) -> 0 | I20: =SUM(I21:I22) -> 0 | K20: =SUM(K21:K22) -> 0 | M20: =SUM(M21:M22) -> 0 | O20: =SUM(O21:O22) -> 0 | Q20: =SUM(Q21:Q22) -> 0 | V20: =SUM(V21:V22) -> 4 | AG20: DIL
A21: 3 | B21: 952902110R00 | C21: Čištění budov zametáním v místnostech, chodbách, na schodišti a na půdě | D21: m2 | E21: 200 | G21: =ROUND(E21*F21,2) -> 0 | I21: =ROUND(E21*H21,2) -> 0 | K21: =ROUND(E21*J21,2) -> 0 | L21: 21 | M21: =G21*(1+L21/100) -> 0 | N21: 0 | O21: =ROUND(E21*N21,2) -> 0 | P21: 0 | Q21: =ROUND(E21*P21,2) -> 0 | R21: 801-4 | S21: RTS 21/ I | T21: RTS 20/ II | U21: 0.02 | V21: =ROUND(E21*U21,2) -> 4 | X21: Práce | AG21: POL1_
AG22: SPU
A23: Díl: | B23: 776 | C23: Podlahy povlakové | G23: =SUMIF(AG24:AG88,"<>NOR",G24:G88) -> 0 | I23: =SUM(I24:I88) -> 0 | K23: =SUM(K24:K88) -> 0 | M23: =SUM(M24:M88) -> 0 | O23: =SUM(O24:O88) -> 0.47 | Q23: =SUM(Q24:Q88) -> 0.15 | V23: =SUM(V24:V88) -> 218.56 | AG23: DIL
A24: 4 | B24: 776101101R00 | C24: Přípravné práce vysávání povlakových podlah průmyslovým vysavačem | D24: m2 | E24: 92.3124 | G24: =ROUND(E24*F24,2) -> 0 | I24: =ROUND(E24*H24,2) -> 0 | K24: =ROUND(E24*J24,2) -> 0 | L24: 21 | M24: =G24*(1+L24/100) -> 0 | N24: 0 | O24: =ROUND(E24*N24,2) -> 0 | P24: 0 | Q24: =ROUND(E24*P24,2) -> 0 | R24: 800-775 | S24: RTS 21/ I | T24: RTS 20/ II | U24: 0.02 | V24: =ROUND(E24*U24,2) -> 1.85 | X24: Práce | AG24: POL1_
C25: položky neobsahují žádný materiál | AG25: SPI
C26: 1,NP : (0,1615+0,29)*13*2*1,6+0,9*1,7 | E26: 20.3124 | AG26: VV | AH26: 0
C27: 2.NP : (0,15+0,3)*11*2*1,5+2,1*1,5 | E27: 18 | AG27: VV | AH27: 0
C28: 3.NP : (0,15+0,3)*11*2*1,5+2,1*1,5 | E28: 18 | AG28: VV | AH28: 0
C29: 4.NP : (0,15+0,3)*11*2*1,5+2,1*1,5 | E29: 18 | AG29: VV | AH29: 0
C30: 5.NP : (0,15+0,3)*11*2*1,5+2,1*1,5 | E30: 18 | AG30: VV | AH30: 0
AG31: SPU
A32: 5 | B32: 776101115R00 | C32: Přípravné práce vyrovnání podkladů samonivelační hmotou | D32: m2 | E32: 66.458 | G32: =ROUND(E32*F32,2) -> 0 | I32: =ROUND(E32*H32,2) -> 0 | K32: =ROUND(E32*J32,2) -> 0 | L32: 21 | M32: =G32*(1+L32/100) -> 0 | N32: 0 | O32: =ROUND(E32*N32,2) -> 0 | P32: 0 | Q32: =ROUND(E32*P32,2) -> 0 | R32: 800-775 | S32: RTS 21/ I | T32: RTS 20/ II | U32: 0.15 | V32: =ROUND(E32*U32,2) -> 9.97 | X32: Práce | AG32: POL1_
C33: položky neobsahují žádný materiál | AG33: SPI
C34: 1.NP : 0,29*1,7*13*2+1,6*0,9 | E34: 14.258 | AG34: VV | AH34: 0
C35: 2.NP : 0,3*1,5*11*2+2,1*1,5 | E35: 13.05 | AG35: VV | AH35: 0
C36: 3.NP : 0,3*1,5*11*2+2,1*1,5 | E36: 13.05 | AG36: VV | AH36: 0
C37: 4.NP : 0,3*1,5*11*2+2,1*1,5 | E37: 13.05 | AG37: VV | AH37: 0
C38: 5.NP : 0,3*1,5*11*2+2,1*1,5 | E38: 13.05 | AG38: VV | AH38: 0
AG39: SPU
A40: 6 | B40: 776101121R00 | C40: Přípravné práce penetrace podkladu | D40: m2 | E40: 92.3124 | G40: =ROUND(E40*F40,2) -> 0 | I40: =ROUND(E40*H40,2) -> 0 | K40: =ROUND(E40*J40,2) -> 0 | L40: 21 | M40: =G40*(1+L40/100) -> 0 | N40: 0 | O40: =ROUND(E40*N40,2) -> 0 | P40: 0 | Q40: =ROUND(E40*P40,2) -> 0 | R40: 800-775 | S40: RTS 21/ I | T40: RTS 20/ II | U40: 0.05 | V40: =ROUND(E40*U40,2) -> 4.62 | X40: Práce | AG40: POL1_
C41: položky neobsahují žádný materiál | AG41: SPI
AG42: SPU
...
