Workbook
Name CelkemDPHVypocet: Stavba!$H$43
Name CenaCelkem: Stavba!$G$29
Name CenaCelkemBezDPH: Stavba!$G$28
Name CenaCelkemVypocet: Stavba!$I$43
Name cisloobjektu: Stavba!$D$3
Name CisloRozpoctu: '[1]Krycí list'!$C$2
Name CisloStavby: Stavba!$D$2
Name cislostavby: '[1]Krycí list'!$A$7
Name CisloStavebnihoRozpoctu: Stavba!$D$4
Name dadresa: Stavba!$D$12:$G$12
Name DIČ: Stavba!$I$12
Name dmisto: Stavba!$E$13:$G$13
Name DPHSni: Stavba!$G$24
Name DPHZakl: Stavba!$G$26
Name dpsc: Stavba!$D$13
Name IČO: Stavba!$I$11
Name Mena: Stavba!$J$29
Name MistoStavby: Stavba!$D$4
Name nazevobjektu: Stavba!$E$3
Name NazevRozpoctu: '[1]Krycí list'!$D$2
Name NazevStavby: Stavba!$E$2
Name nazevstavby: '[1]Krycí list'!$C$7
Name NazevStavebnihoRozpoctu: Stavba!$E$4
Name oadresa: Stavba!$D$6
Name Objednatel: Stavba!$D$5
Name Objekt: Stavba!$B$38
Name odic: Stavba!$I$6
Name oico: Stavba!$I$5
Name omisto: Stavba!$E$7
Name onazev: Stavba!$D$6
Name opsc: Stavba!$D$7
Name padresa: Stavba!$D$9
Name pdic: Stavba!$I$9
Name pico: Stavba!$I$8
Name pmisto: Stavba!$E$10
Name PocetMJ: #REF!
Name PoptavkaID: Stavba!$A$1
Name pPSC: Stavba!$D$10
Name Projektant: Stavba!$D$8
Name SazbaDPH1: Stavba!$E$23
Name SazbaDPH1: '[1]Krycí list'!$C$30
Name SazbaDPH2: Stavba!$E$25
Name SazbaDPH2: '[1]Krycí list'!$C$32
Name SloupecCC: #REF!
Name SloupecCisloPol: #REF!
Name SloupecJC: #REF!
Name SloupecMJ: #REF!
Name SloupecMnozstvi: #REF!
Name SloupecNazPol: #REF!
Name SloupecPC: #REF!
Name Vypracoval: Stavba!$D$14
Name ZakladDPHSni: Stavba!$G$23
Name ZakladDPHSniVypocet: Stavba!$F$43
Name ZakladDPHZakl: Stavba!$G$25
Name ZakladDPHZaklVypocet: Stavba!$G$43
Name ZaObjednatele: Stavba!$G$34
Name Zaokrouhleni: Stavba!$G$27
Name ZaZhotovitele: Stavba!$D$34
Name Zhotovitel: Stavba!$D$11:$G$11

Sheet Pokyny pro vyplnění
A1: Pokyny pro vyplnění
A2: Ve všech listech tohoto souboru můžete měnit pouze buňky s modrým pozadím. Jedná se o tyto údaje : - údaje o firmě - jednotkové ceny položek zadané na maximálně dvě desetinná místa

Sheet Stavba
A1: #RTSROZP# | B1: Soupis stavebních prací, dodávek a služeb
B2: Stavba: | D2: 507/2021/01 | E2: Kounicova 67 oprava povrchů schodiště
B3: Objekt: | D3: 507/2021/01 | E3: Kounicova 67 oprava povrchů schodiště
A4: 4366 | B4: Rozpočet: | D4: 507/2021/01 | E4: Kounicova 67 oprava povrchů schodiště
B5: Zadavatel | H5: IČO:
H6: DIČ:
B8: Projektant: | H8: IČO:
H9: DIČ:
B11: Zhotovitel: | H11: IČO:
H12: DIČ:
B14: Vypracoval: | D14: Marečková
B15: Rozpis ceny | I15: Celkem
A16: HSV | B16: HSV | I16: =SUMIF(F50:F53,A16,I50:I53)+SUMIF(F50:F53,"PSU",I50:I53) -> 0
A17: PSV | B17: PSV | I17: =SUMIF(F50:F53,A17,I50:I53) -> 0
A18: MON | B18: MON | I18: =SUMIF(F50:F53,A18,I50:I53) -> 0
A19: VN | B19: Vedlejší náklady | I19: =SUMIF(F50:F53,A19,I50:I53) -> 0
A20: ON | B20: Ostatní náklady | I20: =SUMIF(F50:F53,A20,I50:I53) -> 0
B21: Celkem | I21: =SUM(I16:J20) -> 0
B22: Rekapitulace daní
A23: =ZakladDPHSni*SazbaDPH1/100 -> 0 | B23: Základ pro sníženou DPH | E23: 15 | F23: % | G23: =ZakladDPHSniVypocet -> 0 | J23: =Mena -> CZK
A24: =(A23-INT(A23))*100 -> 0 | B24: Snížená DPH | E24: =SazbaDPH1 -> 15 | F24: % | G24: =A23 -> 0 | J24: =Mena -> CZK
A25: =ZakladDPHZakl*SazbaDPH2/100 -> 0 | B25: Základ pro základní DPH | E25: 21 | F25: % | G25: =ZakladDPHZaklVypocet -> 0 | J25: =Mena -> CZK
A26: =(A25-INT(A25))*100 -> 0 | B26: Základní DPH | E26: =SazbaDPH2 -> 21 | F26: % | G26: =A25 -> 0 | J26: =Mena -> CZK
A27: =ZakladDPHSni+DPHSni+ZakladDPHZakl+DPHZakl -> 0 | B27: Zaokrouhlení | G27: =CenaCelkem-(ZakladDPHSni+DPHSni+ZakladDPHZakl+DPHZakl) -> 0 | J27: =Mena -> CZK
B28: Cena celkem bez DPH | G28: =ZakladDPHSniVypocet+ZakladDPHZaklVypocet -> 0 | J28: =Mena -> CZK
A29: =(A27-INT(A27))*100 -> 0 | B29: Cena celkem s DPH | G29: =A27 -> 0 | J29: CZK
C32: v | F32: dne
D34: sdfsdf | G34: OSM MMB
D35: Za zhotovitele | H35: Za objednatele
B37: Rekapitulace dílčích částí
A38: #CASTI>> | B38: Číslo | C38: Název | F38: =B23 -> Základ pro sníženou DPH | G38: =B25 -> Základ pro základní DPH | H38: DPH celkem | I38: Cena celkem | J38: %
A39: 1 | B39: Stavba | F39: ='507_2021_01 507_2021_01 Pol'!AE103 -> 0 | G39: ='507_2021_01 507_2021_01 Pol'!AF103 -> 0 | H39: =(F39*SazbaDPH1/100)+(G39*SazbaDPH2/100) -> 0 | I39: =F39+G39+H39 -> 0 | J39: =IF(_xlfn.SINGLE(CenaCelkemVypocet)=0,"",I39/_xlfn.SINGLE(CenaCelkemVypocet)*100)
A40: 2 | C40: Stavební objekt | H40: =(F40*SazbaDPH1/100)+(G40*SazbaDPH2/100) -> 0
A41: 2 | B41: 507/2021/01 | C41: Kounicova 67 oprava povrchů schodiště | F41: ='507_2021_01 507_2021_01 Pol'!AE103 -> 0 | G41: ='507_2021_01 507_2021_01 Pol'!AF103 -> 0 | H41: =(F41*SazbaDPH1/100)+(G41*SazbaDPH2/100) -> 0 | I41: =F41+G41+H41 -> 0 | J41: =IF(_xlfn.SINGLE(CenaCelkemVypocet)=0,"",I41/_xlfn.SINGLE(CenaCelkemVypocet)*100)
A42: 3 | B42: 507/2021/01 | C42: Kounicova 67 oprava povrchů schodiště | F42: ='507_2021_01 507_2021_01 Pol'!AE103 -> 0 | G42: ='507_2021_01 507_2021_01 Pol'!AF103 -> 0 | H42: =(F42*SazbaDPH1/100)+(G42*SazbaDPH2/100) -> 0 | I42: =F42+G42+H42 -> 0 | J42: =IF(_xlfn.SINGLE(CenaCelkemVypocet)=0,"",I42/_xlfn.SINGLE(CenaCelkemVypocet)*100)
B43: Celkem za stavbu | F43: =SUMIF(A39:A42,"=1",F39:F42) -> 0 | G43: =SUMIF(A39:A42,"=1",G39:G42) -> 0 | H43: =SUMIF(A39:A42,"=1",H39:H42) -> 0 | I43: =SUMIF(A39:A42,"=1",I39:I42) -> 0 | J43: =SUMIF(A39:A42,"=1",J39:J42) -> 0
B47: Rekapitulace dílů
B49: Číslo | C49: Název | F49: Typ dílu | I49: Celkem | J49: %
B50: 63 | C50: Podlahy a podlahové konstrukce | F50: HSV | I50: ='507_2021_01 507_2021_01 Pol'!G8 -> 0 | J50: =IF(I54=0,"",I50/I54*100)
B51: 95 | C51: Dokončovací konstrukce na pozemních stavbách | F51: HSV | I51: ='507_2021_01 507_2021_01 Pol'!G20 -> 0 | J51: =IF(I54=0,"",I51/I54*100)
B52: 776 | C52: Podlahy povlakové | F52: PSV | I52: ='507_2021_01 507_2021_01 Pol'!G23 -> 0 | J52: =IF(I54=0,"",I52/I54*100)
B53: D96 | C53: Přesuny suti a vybouraných hmot | F53: PSU | I53: ='507_2021_01 507_2021_01 Pol'!G89 -> 0 | J53: =IF(I54=0,"",I53/I54*100)
B54: Cena celkem | I54: =SUM(I50:I53) -> 0 | J54: =SUM(J50:J53) -> 0

Sheet VzorPolozky
A1: Položkový rozpočet
A2: S:
A3: O:
A4: R:

Sheet 507_2021_01 507_2021_01 Pol
A1: Položkový soupis prací a dodávek | AG1: #TypZaznamu#
A2: S: | B2: 507/2021/01 | C2: Kounicova 67 oprava povrchů schodiště | AG2: STA
A3: O: | B3: 507/2021/01 | C3: Kounicova 67 oprava povrchů schodiště | AC3: STA | AG3: OBJ
A4: R: | B4: 507/2021/01 | C4: Kounicova 67 oprava povrchů schodiště | AG4: ROZ
A6: P.č. | B6: Číslo položky | C6: Název položky | D6: MJ | E6: Množství | F6: Cena / MJ | G6: Celkem | H6: Dodávka | I6: Dodávka celk. | J6: Montáž | K6: Montáž celk. | L6: DPH | M6: Cena s DPH | N6: Hmotnost / MJ | O6: Hmotnost celk.(t) | P6: Dem. hmotnost / MJ | Q6: Dem. hmotnost celk.(t) | R6: Ceník | S6: Cen. soustava / platnost | T6: Cenová úroveň | U6: Nhod / MJ | V6: Nhod celk. | W6: Dodavatel | X6: Typ položky
A8: Díl: | B8: 63 | C8: Podlahy a podlahové konstrukce | G8: =SUMIF(AG9:AG19,"<>NOR",G9:G19) -> 0 | I8: =SUM(I9:I19) -> 0 | K8: =SUM(K9:K19) -> 0 | M8: =SUM(M9:M19) -> 0 | O8: =SUM(O9:O19) -> 5.08 | Q8: =SUM(Q9:Q19) -> 0 | V8: =SUM(V9:V19) -> 11.72 | AG8: DIL
A9: 1 | B9: 631311121R00 | C9: Doplnění mazanin betonem prostým o ploše jednotlivě do 1 m2 tloušťky do 80 mm | D9: m3 | E9: 1.99374 | G9: =ROUND(E9*F9,2) -> 0 | I9: =ROUND(E9*H9,2) -> 0 | K9: =ROUND(E9*J9,2) -> 0 | L9: 21 | M9: =G9*(1+L9/100) -> 0 | N9: 2.5 | O9: =ROUND(E9*N9,2) -> 4.98 | P9: 0 | Q9: =ROUND(E9*P9,2) -> 0 | R9: 801-4 | S9: RTS 21/ I | T9: RTS 20/ II | U9: 4.66 | V9: =ROUND(E9*U9,2) -> 9.29 | X9: Práce | AG9: POL1_
C10: prostým betonem (s dodáním hmot) bez potěru, | AG10: SPI
C11: doplnění hran schodišťových stupňů : | AG11: VV | AH11: 0
C12: plocha schodiště 66,458 m2 : | AG12: VV | AH12: 0
C13: předpoklad opravy 20 % : | AG13: VV | AH13: 0
C14: 66,4580*0,1*1,5*0,2 | E14: 1.99374 | AG14: VV | AH14: 0
AG15: SPU
A16: 2 | B16: 631663111R00 | C16: Oprava trhlin a výtluků v podlahách epoxidovým tmelem, | D16: m | E16: 34.72 | G16: =ROUND(E16*F16,2) -> 0 | I16: =ROUND(E16*H16,2) -> 0 | K16: =ROUND(E16*J16,2) -> 0 | L16: 21 | M16: =G16*(1+L16/100) -> 0 | N16: 0.003 | O16: =ROUND(E16*N16,2) -> 0.1 | P16: 0 | Q16: =ROUND(E16*P16,2) -> 0 | R16: 801-4 | S16: RTS 21/ I | T16: RTS 20/ II | U16: 0.07 | V16: =ROUND(E16*U16,2) -> 2.43 | X16: Práce | AG16: POL1_
C17: předpokládaný rozsah 20% : 173,6*0,2 | E17: 34.72 | AG17: VV | AH17: 0
C18: celková délka stupňů 173,60 bm : | AG18: VV | AH18: 0
AG19: SPU
A20: Díl: | B20: 95 | C20: Dokončovací konstrukce na pozemních stavbách | G20: =SUMIF(AG21:AG22,"<>NOR",G21:G22) -> 0 | I20: =SUM(I21:I22) -> 0 | K20: =SUM(K21:K22) -> 0 | M20: =SUM(M21:M22) -> 0 | O20: =SUM(O21:O22) -> 0 | Q20: =SUM(Q21:Q22) -> 0 | V20: =SUM(V21:V22) -> 4 | AG20: DIL
A21: 3 | B21: 952902110R00 | C21: Čištění budov zametáním v místnostech, chodbách, na schodišti a na půdě | D21: m2 | E21: 200 | G21: =ROUND(E21*F21,2) -> 0 | I21: =ROUND(E21*H21,2) -> 0 | K21: =ROUND(E21*J21,2) -> 0 | L21: 21 | M21: =G21*(1+L21/100) -> 0 | N21: 0 | O21: =ROUND(E21*N21,2) -> 0 | P21: 0 | Q21: =ROUND(E21*P21,2) -> 0 | R21: 801-4 | S21: RTS 21/ I | T21: RTS 20/ II | U21: 0.02 | V21: =ROUND(E21*U21,2) -> 4 | X21: Práce | AG21: POL1_
AG22: SPU
A23: Díl: | B23: 776 | C23: Podlahy povlakové | G23: =SUMIF(AG24:AG88,"<>NOR",G24:G88) -> 0 | I23: =SUM(I24:I88) -> 0 | K23: =SUM(K24:K88) -> 0 | M23: =SUM(M24:M88) -> 0 | O23: =SUM(O24:O88) -> 0.47 | Q23: =SUM(Q24:Q88) -> 0.15 | V23: =SUM(V24:V88) -> 218.56 | AG23: DIL
A24: 4 | B24: 776101101R00 | C24: Přípravné práce vysávání povlakových podlah průmyslovým vysavačem | D24: m2 | E24: 92.3124 | G24: =ROUND(E24*F24,2) -> 0 | I24: =ROUND(E24*H24,2) -> 0 | K24: =ROUND(E24*J24,2) -> 0 | L24: 21 | M24: =G24*(1+L24/100) -> 0 | N24: 0 | O24: =ROUND(E24*N24,2) -> 0 | P24: 0 | Q24: =ROUND(E24*P24,2) -> 0 | R24: 800-775 | S24: RTS 21/ I | T24: RTS 20/ II | U24: 0.02 | V24: =ROUND(E24*U24,2) -> 1.85 | X24: Práce | AG24: POL1_
C25: položky neobsahují žádný materiál | AG25: SPI
C26: 1,NP : (0,1615+0,29)*13*2*1,6+0,9*1,7 | E26: 20.3124 | AG26: VV | AH26: 0
C27: 2.NP : (0,15+0,3)*11*2*1,5+2,1*1,5 | E27: 18 | AG27: VV | AH27: 0
C28: 3.NP : (0,15+0,3)*11*2*1,5+2,1*1,5 | E28: 18 | AG28: VV | AH28: 0
C29: 4.NP : (0,15+0,3)*11*2*1,5+2,1*1,5 | E29: 18 | AG29: VV | AH29: 0
C30: 5.NP : (0,15+0,3)*11*2*1,5+2,1*1,5 | E30: 18 | AG30: VV | AH30: 0
AG31: SPU
A32: 5 | B32: 776101115R00 | C32: Přípravné práce vyrovnání podkladů samonivelační hmotou | D32: m2 | E32: 66.458 | G32: =ROUND(E32*F32,2) -> 0 | I32: =ROUND(E32*H32,2) -> 0 | K32: =ROUND(E32*J32,2) -> 0 | L32: 21 | M32: =G32*(1+L32/100) -> 0 | N32: 0 | O32: =ROUND(E32*N32,2) -> 0 | P32: 0 | Q32: =ROUND(E32*P32,2) -> 0 | R32: 800-775 | S32: RTS 21/ I | T32: RTS 20/ II | U32: 0.15 | V32: =ROUND(E32*U32,2) -> 9.97 | X32: Práce | AG32: POL1_
C33: položky neobsahují žádný materiál | AG33: SPI
C34: 1.NP : 0,29*1,7*13*2+1,6*0,9 | E34: 14.258 | AG34: VV | AH34: 0
C35: 2.NP : 0,3*1,5*11*2+2,1*1,5 | E35: 13.05 | AG35: VV | AH35: 0
C36: 3.NP : 0,3*1,5*11*2+2,1*1,5 | E36: 13.05 | AG36: VV | AH36: 0
C37: 4.NP : 0,3*1,5*11*2+2,1*1,5 | E37: 13.05 | AG37: VV | AH37: 0
C38: 5.NP : 0,3*1,5*11*2+2,1*1,5 | E38: 13.05 | AG38: VV | AH38: 0
AG39: SPU
A40: 6 | B40: 776101121R00 | C40: Přípravné práce penetrace podkladu | D40: m2 | E40: 92.3124 | G40: =ROUND(E40*F40,2) -> 0 | I40: =ROUND(E40*H40,2) -> 0 | K40: =ROUND(E40*J40,2) -> 0 | L40: 21 | M40: =G40*(1+L40/100) -> 0 | N40: 0 | O40: =ROUND(E40*N40,2) -> 0 | P40: 0 | Q40: =ROUND(E40*P40,2) -> 0 | R40: 800-775 | S40: RTS 21/ I | T40: RTS 20/ II | U40: 0.05 | V40: =ROUND(E40*U40,2) -> 4.62 | X40: Práce | AG40: POL1_
C41: položky neobsahují žádný materiál | AG41: SPI
AG42: SPU
A43: 7 | B43: 776200820RT1 | C43: Demontáž povlakových podlah ze schodišťových stupňů lepených, s podložkou, z ploch přes 10 m2 | D43: m | E43: 173.6 | G43: =ROUND(E43*F43,2) -> 0 | I43: =ROUND(E43*H43,2) -> 0 | K43: =ROUND(E43*J43,2) -> 0 | L43: 21 | M43: =G43*(1+L43/100) -> 0 | N43: 0 | O43: =ROUND(E43*N43,2) -> 0 | P43: 0.0005 | Q43: =ROUND(E43*P43,2) -> 0.09 | R43: 800-775 | S43: RTS 21/ I | T43: RTS 20/ II | U43: 0.11 | V43: =ROUND(E43*U43,2) -> 19.1 | X43: Práce | AG43: POL1_
C44: 1.NP : 1,6*13*2 | E44: 41.6 | AG44: VV | AH44: 0
C45: 2.NP : 1,5*11*2 | E45: 33 | AG45: VV | AH45: 0
C46: 3.NP : 1,5*11*2 | E46: 33 | AG46: VV | AH46: 0
C47: 4.NP : 1,5*11*2 | E47: 33 | AG47: VV | AH47: 0
C48: 5.NP : 1,5*11*2 | E48: 33 | AG48: VV | AH48: 0
AG49: SPU
A50: 8 | B50: 776200830R00 | C50: Demontáž povlakových podlah ze schodišťových stupňů odstranění hran scodišťových stupňů a uložení na hromady, , | D50: m | E50: 173.6 | G50: =ROUND(E50*F50,2) -> 0 | I50: =ROUND(E50*H50,2) -> 0 | K50: =ROUND(E50*J50,2) -> 0 | L50: 21 | M50: =G50*(1+L50/100) -> 0 | N50: 0 | O50: =ROUND(E50*N50,2) -> 0 | P50: 0.0003 | Q50: =ROUND(E50*P50,2) -> 0.05 | R50: 800-775 | S50: RTS 21/ I | T50: RTS 20/ II | U50: 0.04 | V50: =ROUND(E50*U50,2) -> 6.94 | X50: Práce | AG50: POL1_
C51: 1.NP : 1,6*13*2 | E51: 41.6 | AG51: VV | AH51: 0
C52: 2.NP : 1,5*11*2 | E52: 33 | AG52: VV | AH52: 0
C53: 3.NP : 1,5*11*2 | E53: 33 | AG53: VV | AH53: 0
C54: 4.NP : 1,5*11*2 | E54: 33 | AG54: VV | AH54: 0
C55: 5.NP : 1,5*11*2 | E55: 33 | AG55: VV | AH55: 0
AG56: SPU
A57: 9 | B57: 776210300RU2 | C57: Lepení podlah pryžových na schodišťových stupních včetně dodávky materiálu_x000D_ doplňkové práce_x000D_ lepení hran na stupně | D57: m | E57: 173.6 | G57: =ROUND(E57*F57,2) -> 0 | I57: =ROUND(E57*H57,2) -> 0 | K57: =ROUND(E57*J57,2) -> 0 | L57: 21 | M57: =G57*(1+L57/100) -> 0 | N57: 0.00074 | O57: =ROUND(E57*N57,2) -> 0.13 | P57: 0 | Q57: =ROUND(E57*P57,2) -> 0 | R57: 800-775 | S57: RTS 21/ I | T57: RTS 20/ II | U57: 0.13 | V57: =ROUND(E57*U57,2) -> 22.57 | X57: Práce | AG57: POL1_
AG58: SPU
A59: 10 | B59: 776220110RU2 | C59: Lepení podlah z plastů (PVC) na schodišťových stupních rovných, včetně podlahoviny, tloušťky 2,0 mm | D59: m | E59: 173.6 | G59: =ROUND(E59*F59,2) -> 0 | I59: =ROUND(E59*H59,2) -> 0 | K59: =ROUND(E59*J59,2) -> 0 | L59: 21 | M59: =G59*(1+L59/100) -> 0 | N59: 0.00105 | O59: =ROUND(E59*N59,2) -> 0.18 | P59: 0 | Q59: =ROUND(E59*P59,2) -> 0 | R59: 800-775 | S59: RTS 21/ I | T59: RTS 20/ II | U59: 0.39 | V59: =ROUND(E59*U59,2) -> 67.7 | X59: Práce | AG59: POL1_
AG60: SPU
A61: 11 | B61: 776220200RU2 | C61: Lepení podlah z plastů (PVC) na schodišťových stupních podstupnice, včetně podlahoviny, tloušťky 2,0 mm | D61: m | E61: 173.6 | G61: =ROUND(E61*F61,2) -> 0 | I61: =ROUND(E61*H61,2) -> 0 | K61: =ROUND(E61*J61,2) -> 0 | L61: 21 | M61: =G61*(1+L61/100) -> 0 | N61: 0.00063 | O61: =ROUND(E61*N61,2) -> 0.11 | P61: 0 | Q61: =ROUND(E61*P61,2) -> 0 | R61: 800-775 | S61: RTS 21/ I | T61: RTS 20/ II | U61: 0.45 | V61: =ROUND(E61*U61,2) -> 78.12 | X61: Práce | AG61: POL1_
AG62: SPU
A63: 12 | B63: 776511810RT3 | C63: Odstranění povlakových podlah z nášlapné plochy lepených, bez podložky, z ploch do 10 m2 | D63: m2 | E63: 14.04 | G63: =ROUND(E63*F63,2) -> 0 | I63: =ROUND(E63*H63,2) -> 0 | K63: =ROUND(E63*J63,2) -> 0 | L63: 21 | M63: =G63*(1+L63/100) -> 0 | N63: 0 | O63: =ROUND(E63*N63,2) -> 0 | P63: 0.001 | Q63: =ROUND(E63*P63,2) -> 0.01 | R63: 800-775 | S63: RTS 21/ I | T63: RTS 20/ II | U63: 0.13 | V63: =ROUND(E63*U63,2) -> 1.83 | X63: Práce | AG63: POL1_
C64: 1.NP mezipodesta : 1,6*0,9 | E64: 1.44 | AG64: VV | AH64: 0
C65: 2.NP mezipodesta : 1,5*2,1 | E65: 3.15 | AG65: VV | AH65: 0
C66: 3.NP mezipodesta : 1,5*2,1 | E66: 3.15 | AG66: VV | AH66: 0
C67: 4.NP mezipodesta : 1,5*2,1 | E67: 3.15 | AG67: VV | AH67: 0
C68: 5.NP mezipodesta : 1,5*2,1 | E68: 3.15 | AG68: VV | AH68: 0
AG69: SPU
A70: 13 | B70: 776521100RU2 | C70: Lepení povlakových podlah z plastů Lepení povlakových podlah z plastů - pásy z PVC, montáž včetně dodávky podlahoviny, tl. 2,0 mm | D70: m2 | E70: 14.04 | G70: =ROUND(E70*F70,2) -> 0 | I70: =ROUND(E70*H70,2) -> 0 | K70: =ROUND(E70*J70,2) -> 0 | L70: 21 | M70: =G70*(1+L70/100) -> 0 | N70: 0.00346 | O70: =ROUND(E70*N70,2) -> 0.05 | P70: 0 | Q70: =ROUND(E70*P70,2) -> 0 | R70: 800-775 | S70: RTS 21/ I | T70: RTS 20/ II | U70: 0.38 | V70: =ROUND(E70*U70,2) -> 5.34 | X70: Práce | AG70: POL1_
C71: 1.NP mezipodesta : 1,6*0,9 | E71: 1.44 | AG71: VV | AH71: 0
C72: 2.NP mezipodesta : 1,5*2,1 | E72: 3.15 | AG72: VV | AH72: 0
C73: 3.NP mezipodesta : 1,5*2,1 | E73: 3.15 | AG73: VV | AH73: 0
C74: 4.NP mezipodesta : 1,5*2,1 | E74: 3.15 | AG74: VV | AH74: 0
C75: 5.NP mezipodesta : 1,5*2,1 | E75: 3.15 | AG75: VV | AH75: 0
AG76: SPU
A77: 14 | B77: 998776103R00 | C77: Přesun hmot pro podlahy povlakové v objektech výšky do 24 m | D77: t | E77: 0.46869 | G77: =ROUND(E77*F77,2) -> 0 | I77: =ROUND(E77*H77,2) -> 0 | K77: =ROUND(E77*J77,2) -> 0 | L77: 21 | M77: =G77*(1+L77/100) -> 0 | N77: 0 | O77: =ROUND(E77*N77,2) -> 0 | P77: 0 | Q77: =ROUND(E77*P77,2) -> 0 | R77: 800-775 | S77: RTS 21/ I | T77: RTS 20/ II | U77: 1.11 | V77: =ROUND(E77*U77,2) -> 0.52 | X77: Přesun hmot | AG77: POL7_
C78: vodorovně do 50 m | AG78: SPI
AG79: SPU
A80: 15 | B80: 998776193R00 | C80: Přesun hmot pro podlahy povlakové příplatek k ceně za zvětšený přesun přes vymezenou největší dopravní vzdálenost_x000D_ do 500 m | D80: t | E80: 0.46869 | G80: =ROUND(E80*F80,2) -> 0 | I80: =ROUND(E80*H80,2) -> 0 | K80: =ROUND(E80*J80,2) -> 0 | L80: 21 | M80: =G80*(1+L80/100) -> 0 | N80: 0 | O80: =ROUND(E80*N80,2) -> 0 | P80: 0 | Q80: =ROUND(E80*P80,2) -> 0 | R80: 800-775 | S80: RTS 21/ I | T80: RTS 20/ II | U80: 0 | V80: =ROUND(E80*U80,2) -> 0 | X80: Přesun hmot | AG80: POL7_
C81: vodorovně do 50 m | AG81: SPI
AG82: SPU
A83: 16 | B83: 998776194R00 | C83: Přesun hmot pro podlahy povlakové příplatek k ceně za zvětšený přesun přes vymezenou největší dopravní vzdálenost_x000D_ do 1000 m | D83: t | E83: 0.46869 | G83: =ROUND(E83*F83,2) -> 0 | I83: =ROUND(E83*H83,2) -> 0 | K83: =ROUND(E83*J83,2) -> 0 | L83: 21 | M83: =G83*(1+L83/100) -> 0 | N83: 0 | O83: =ROUND(E83*N83,2) -> 0 | P83: 0 | Q83: =ROUND(E83*P83,2) -> 0 | R83: 800-775 | S83: RTS 21/ I | T83: RTS 20/ II | U83: 0 | V83: =ROUND(E83*U83,2) -> 0 | X83: Přesun hmot | AG83: POL7_
C84: vodorovně do 50 m | AG84: SPI
AG85: SPU
A86: 17 | B86: 998776199R00 | C86: Přesun hmot pro podlahy povlakové příplatek k ceně za zvětšený přesun přes vymezenou největší dopravní vzdálenost_x000D_ za každých dalších i započatých 1000 m přes 1000 m | D86: t | E86: 4.6869 | G86: =ROUND(E86*F86,2) -> 0 | I86: =ROUND(E86*H86,2) -> 0 | K86: =ROUND(E86*J86,2) -> 0 | L86: 21 | M86: =G86*(1+L86/100) -> 0 | N86: 0 | O86: =ROUND(E86*N86,2) -> 0 | P86: 0 | Q86: =ROUND(E86*P86,2) -> 0 | R86: 800-775 | S86: RTS 21/ I | T86: RTS 20/ II | U86: 0 | V86: =ROUND(E86*U86,2) -> 0 | X86: Přesun hmot | AG86: POL7_
C87: vodorovně do 50 m | AG87: SPI
AG88: SPU
A89: Díl: | B89: D96 | C89: Přesuny suti a vybouraných hmot | G89: =SUMIF(AG90:AG101,"<>NOR",G90:G101) -> 0 | I89: =SUM(I90:I101) -> 0 | K89: =SUM(K90:K101) -> 0 | M89: =SUM(M90:M101) -> 0 | O89: =SUM(O90:O101) -> 0 | Q89: =SUM(Q90:Q101) -> 0 | V89: =SUM(V90:V101) -> 1.18 | AG89: DIL
A90: 18 | B90: 979082213R00 | C90: Vodorovná doprava suti po suchu bez naložení, ale se složením a hrubým urovnáním na vzdálenost do 1 km | D90: t | E90: 0.15292 | G90: =ROUND(E90*F90,2) -> 0 | I90: =ROUND(E90*H90,2) -> 0 | K90: =ROUND(E90*J90,2) -> 0 | L90: 21 | M90: =G90*(1+L90/100) -> 0 | N90: 0 | O90: =ROUND(E90*N90,2) -> 0 | P90: 0 | Q90: =ROUND(E90*P90,2) -> 0 | R90: 822-1 | S90: RTS 21/ I | T90: RTS 20/ II | U90: 0.01 | V90: =ROUND(E90*U90,2) -> 0 | X90: Přesun suti | AG90: POL8_
AG91: SPU
A92: 19 | B92: 979082219R00 | C92: Vodorovná doprava suti po suchu příplatek k ceně za každý další i započatý 1 km přes 1 km | D92: t | E92: 1.5292 | G92: =ROUND(E92*F92,2) -> 0 | I92: =ROUND(E92*H92,2) -> 0 | K92: =ROUND(E92*J92,2) -> 0 | L92: 21 | M92: =G92*(1+L92/100) -> 0 | N92: 0 | O92: =ROUND(E92*N92,2) -> 0 | P92: 0 | Q92: =ROUND(E92*P92,2) -> 0 | R92: 822-1 | S92: RTS 21/ I | T92: RTS 20/ II | U92: 0 | V92: =ROUND(E92*U92,2) -> 0 | X92: Přesun suti | AG92: POL8_
AG93: SPU
A94: 20 | B94: 979011211R00 | C94: Svislá doprava suti a vybouraných hmot nošením za prvé podlaží nad základním podlažím | D94: t | E94: 0.15292 | G94: =ROUND(E94*F94,2) -> 0 | I94: =ROUND(E94*H94,2) -> 0 | K94: =ROUND(E94*J94,2) -> 0 | L94: 21 | M94: =G94*(1+L94/100) -> 0 | N94: 0 | O94: =ROUND(E94*N94,2) -> 0 | P94: 0 | Q94: =ROUND(E94*P94,2) -> 0 | R94: 801-3 | S94: RTS 21/ I | T94: RTS 20/ II | U94: 2.01 | V94: =ROUND(E94*U94,2) -> 0.31 | X94: Přesun suti | AG94: POL8_
AG95: SPU
A96: 21 | B96: 979011219R00 | C96: Svislá doprava suti a vybouraných hmot nošením příplatek zakaždé další podlaží nad prvním základním podlažím | D96: t | E96: 0.7646 | G96: =ROUND(E96*F96,2) -> 0 | I96: =ROUND(E96*H96,2) -> 0 | K96: =ROUND(E96*J96,2) -> 0 | L96: 21 | M96: =G96*(1+L96/100) -> 0 | N96: 0 | O96: =ROUND(E96*N96,2) -> 0 | P96: 0 | Q96: =ROUND(E96*P96,2) -> 0 | R96: 801-3 | S96: RTS 21/ I | T96: RTS 20/ II | U96: 0.96 | V96: =ROUND(E96*U96,2) -> 0.73 | X96: Přesun suti | AG96: POL8_
AG97: SPU
A98: 22 | B98: 979082111R00 | C98: Vnitrostaveništní doprava suti a vybouraných hmot do 10 m | D98: t | E98: 0.15292 | G98: =ROUND(E98*F98,2) -> 0 | I98: =ROUND(E98*H98,2) -> 0 | K98: =ROUND(E98*J98,2) -> 0 | L98: 21 | M98: =G98*(1+L98/100) -> 0 | N98: 0 | O98: =ROUND(E98*N98,2) -> 0 | P98: 0 | Q98: =ROUND(E98*P98,2) -> 0 | R98: 801-3 | S98: RTS 21/ I | T98: RTS 20/ II | U98: 0.94 | V98: =ROUND(E98*U98,2) -> 0.14 | X98: Přesun suti | AG98: POL8_
AG99: SPU
A100: 23 | B100: 979990181R00 | C100: Poplatek za skládku PVC podlahová krytina, skupina 17 02 03 z Katalogu odpadů | D100: t | E100: 0.15292 | G100: =ROUND(E100*F100,2) -> 0 | I100: =ROUND(E100*H100,2) -> 0 | K100: =ROUND(E100*J100,2) -> 0 | L100: 21 | M100: =G100*(1+L100/100) -> 0 | N100: 0 | O100: =ROUND(E100*N100,2) -> 0 | P100: 0 | Q100: =ROUND(E100*P100,2) -> 0 | R100: 801-3 | S100: RTS 21/ I | T100: RTS 20/ II | U100: 0 | V100: =ROUND(E100*U100,2) -> 0 | X100: Přesun suti | AG100: POL8_
AG101: SPU
AE102: 15 | AF102: 21 | AG102: DPH
...
