Workbook

Sheet Rekapitulace stavby
A1: Export Komplet | BA1: 2.0 | BT1: False | BU1: False | BV1: {fa25825e-5f45-43cc-8d35-7516b19f97e6}
AR2: >> skryté sloupce << | BS2: 0,01 | BT2: 21
BS3: 0,01 | BT3: 15
D4: REKAPITULACE STAVBY | AS4: v --- níže se nacházejí doplnkové a pomocné údaje k sestavám --- v | BE4: Návod na vyplnění | BS4: 0,001
D5: Kód: | K5: Videnska85 | BE5: Měnit lze pouze buňky se žlutým podbarvením!_x005F_x000d_ _x005F_x000d_ 1) na prvním listu Rekapitulace stavby vyplňte v sestavě_x005F_x000d_ _x005F_x000d_ a) Souhrnný list_x005F_x000d_ - údaje o Uchazeči_x005F_x000d_ (přenesou se do ostatních sestav i v jiných listech)_x005F_x000d_ _x005F_x000d_ b) Rekapitulace objektů_x005F_x000d_ - potřebné Ostatní náklady_x005F_x000d_ _x005F_x000d_ 2) na vybraných listech vyplňte v sestavě_x005F_x000d_ _x005F_x000d_ a) Krycí list_x005F_x000d_ - údaje o Uchazeči, pokud se liší od údajů o Uchazeči na Souhrnném listu_x005F_x000d_ (údaje se přenesou do ostatních sestav v daném listu)_x005F_x000d_ _x005F_x000d_ b) Rekapitulace rozpočtu_x005F_x000d_ - potřebné Ostatní náklady_x005F_x000d_ _x005F_x000d_ c) Celkové náklady za stavbu_x005F_x000d_ - ceny u položek_x005F_x000d_ - množství, pokud má žluté podbarvení_x005F_x000d_ - a v případě potřeby poznámku (ta je ve skrytém sloupci) | BS5: 0,01
D6: Stavba: | K6: Výměna šesti oken do dvora | BS6: 0,01
D7: KSO: | AK7: CC-CZ: | BS7: 0,01
D8: Místo: | K8: Vídeňská 85,Brno | AK8: Datum: | AN8: 8. 7. 2020 | BS8: 0,01
BS9: 0,01
D10: Zadavatel: | AK10: IČ: | BS10: 0,01
E11: MmBrna,OSM Husova 3,Brno | AK11: DIČ: | BS11: 0,01
BS12: 0,01
D13: Uchazeč: | AK13: IČ: | AN13: Vyplň údaj | BS13: 0,01
E14: Vyplň údaj | AK14: DIČ: | AN14: Vyplň údaj | BS14: 0,01
BS15: False
D16: Projektant: | AK16: IČ: | BS16: False
E17: R.Volková | AK17: DIČ: | BS17: True
BS18: 0,01
D19: Zpracovatel: | AK19: IČ: | BS19: 0,01
E20: R.Volková | AK20: DIČ: | BS20: True
D22: Poznámka:
D26: Cena bez DPH | AK26: =ROUND(AG94,2) -> 0
L28: Sazba daně | W28: Základ daně | AK28: Výše daně
D29: DPH | F29: základní | L29: 0.21 | W29: =ROUND(AZ94, 2) -> 0 | AK29: =ROUND(AV94, 2) -> 0
F30: snížená | L30: 0.15 | W30: =ROUND(BA94, 2) -> 0 | AK30: =ROUND(AW94, 2) -> 0
F31: zákl. přenesená | L31: 0.21 | W31: =ROUND(BB94, 2) -> 0 | AK31: 0
F32: sníž. přenesená | L32: 0.15 | W32: =ROUND(BC94, 2) -> 0 | AK32: 0
F33: nulová | L33: 0 | W33: =ROUND(BD94, 2) -> 0 | AK33: 0
D35: Cena s DPH | T35: v | X35: CZK | AK35: =SUM(AK26:AK33) -> 0
D49: Projektant | AH49: Zpracovatel
D60: Datum a podpis: | V60: Razítko | AH60: Datum a podpis: | AM60: Razítko
D64: Objednavatel | AH64: Uchazeč
D75: Datum a podpis: | V75: Razítko | AH75: Datum a podpis: | AM75: Razítko
C82: REKAPITULACE OBJEKTŮ STAVBY A SOUPISŮ PRACÍ
C84: Kód: | L84: =K5 -> Videnska85
C85: Stavba: | L85: =K6 -> Výměna šesti oken do dvora
C87: Místo: | L87: =IF(K8="","",K8) -> Vídeňská 85,Brno | AI87: Datum: | AM87: =IF(AN8= "","",AN8) -> 8. 7. 2020
C89: Zadavatel: | L89: =IF(E11= "","",E11) -> MmBrna,OSM Husova 3,Brno | AI89: Projektant: | AM89: =IF(E17="","",E17) -> R.Volková | AS89: Informatívní údaje z listů zakázek
C90: Uchazeč: | L90: =IF(E14= "Vyplň údaj","",E14) | AI90: Zpracovatel: | AM90: =IF(E20="","",E20) -> R.Volková
C92: Kód | I92: Popis | AG92: Cena bez DPH [CZK] | AN92: Cena s DPH [CZK] | AQ92: Typ | AS92: z toho Ostat._x005F_x000d_ náklady [CZK] | AT92: DPH [CZK] | AU92: Normohodiny [h] | AV92: DPH základní [CZK] | AW92: DPH snížená [CZK] | AX92: DPH základní přenesená_x005F_x000d_ [CZK] | AY92: DPH snížená přenesená_x005F_x000d_ [CZK] | AZ92: Základna_x005F_x000d_ DPH základní | BA92: Základna_x005F_x000d_ DPH snížená | BB92: Základna_x005F_x000d_ DPH zákl. přenesená | BC92: Základna_x005F_x000d_ DPH sníž. přenesená | BD92: Základna_x005F_x000d_ DPH nulová
C94: Náklady z rozpočtů | AG94: =ROUND(AG95,2) -> 0 | AN94: =SUM(AG94,AT94) -> 0 | AS94: =ROUND(AS95,2) -> 0 | AT94: =ROUND(SUM(AV94:AW94),2) -> 0 | AU94: =ROUND(AU95,5) -> 0 | AV94: =ROUND(AZ94*L29,2) -> 0 | AW94: =ROUND(BA94*L30,2) -> 0 | AX94: =ROUND(BB94*L29,2) -> 0 | AY94: =ROUND(BC94*L30,2) -> 0 | AZ94: =ROUND(AZ95,2) -> 0 | BA94: =ROUND(BA95,2) -> 0 | BB94: =ROUND(BB95,2) -> 0 | BC94: =ROUND(BC95,2) -> 0 | BD94: =ROUND(BD95,2) -> 0 | BS94: D | BT94: 0 | BV94: IMPORT | BW94: {fa25825e-5f45-43cc-8d35-7516b19f97e6} | BX94: {00000000-0000-0000-0000-000000000000}
A95: / | D95: Videnska85 | J95: Výměna šesti oken do dvora | AG95: ='Videnska85 - Výměna šesti...'!J28 -> 0 | AN95: =SUM(AG95,AT95) -> 0 | AQ95: STA | AS95: 0 | AT95: =ROUND(SUM(AV95:AW95),2) -> 0 | AU95: ='Videnska85 - Výměna šesti...'!P126 -> 0 | AV95: ='Videnska85 - Výměna šesti...'!J31 -> 0 | AW95: ='Videnska85 - Výměna šesti...'!J32 -> 0 | AX95: ='Videnska85 - Výměna šesti...'!J33 -> 0 | AY95: ='Videnska85 - Výměna šesti...'!J34 -> 0 | AZ95: ='Videnska85 - Výměna šesti...'!F31 -> 0 | BA95: ='Videnska85 - Výměna šesti...'!F32 -> 0 | BB95: ='Videnska85 - Výměna šesti...'!F33 -> 0 | BC95: ='Videnska85 - Výměna šesti...'!F34 -> 0 | BD95: ='Videnska85 - Výměna šesti...'!F35 -> 0 | BT95: 1 | BU95: ###NOINSERT### | BV95: IMPORT | BW95: {fa25825e-5f45-43cc-8d35-7516b19f97e6} | BX95: {00000000-0000-0000-0000-000000000000}

Sheet Videnska85 - Výměna šesti...
L2: >> skryté sloupce << | AT2: {fa25825e-5f45-43cc-8d35-7516b19f97e6}
AT3: 2
D4: KRYCÍ LIST SOUPISU PRACÍ | M4: v --- níže se nacházejí doplnkové a pomocné údaje k sestavám --- v | AT4: False
D6: Stavba:
E7: Výměna šesti oken do dvora
D9: KSO: | I9: CC-CZ:
D10: Místo: | F10: Vídeňská 85,Brno | I10: Datum: | J10: ='Rekapitulace stavby'!AN8 -> 8. 7. 2020
D12: Zadavatel: | I12: IČ:
E13: MmBrna,OSM Husova 3,Brno | I13: DIČ:
D15: Uchazeč: | I15: IČ: | J15: ='Rekapitulace stavby'!AN13 -> Vyplň údaj
E16: ='Rekapitulace stavby'!E14 -> Vyplň údaj | I16: DIČ: | J16: ='Rekapitulace stavby'!AN14 -> Vyplň údaj
D18: Projektant: | I18: IČ:
E19: R.Volková | I19: DIČ:
D21: Zpracovatel: | I21: IČ:
E22: R.Volková | I22: DIČ:
D24: Poznámka:
D28: Cena bez DPH | J28: =ROUND(J126, 2) -> 0
F30: Základ daně | I30: Sazba daně | J30: Výše daně
D31: DPH | E31: základní | F31: =ROUND((SUM(BE126:BE188)), 2) -> 0 | I31: 0.21 | J31: =ROUND(((SUM(BE126:BE188))*I31), 2) -> 0
E32: snížená | F32: =ROUND((SUM(BF126:BF188)), 2) -> 0 | I32: 0.15 | J32: =ROUND(((SUM(BF126:BF188))*I32), 2) -> 0
E33: zákl. přenesená | F33: =ROUND((SUM(BG126:BG188)), 2) -> 0 | I33: 0.21 | J33: =0 -> 0
E34: sníž. přenesená | F34: =ROUND((SUM(BH126:BH188)), 2) -> 0 | I34: 0.15 | J34: =0 -> 0
E35: nulová | F35: =ROUND((SUM(BI126:BI188)), 2) -> 0 | I35: 0 | J35: =0 -> 0
D37: Cena s DPH | G37: v | H37: CZK | J37: =SUM(J28:J35) -> 0
D50: Projektant | G50: Zpracovatel
D61: Datum a podpis: | F61: Razítko | G61: Datum a podpis: | J61: Razítko
D65: Objednavatel | G65: Uchazeč
D76: Datum a podpis: | F76: Razítko | G76: Datum a podpis: | J76: Razítko
C82: REKAPITULACE ČLENĚNÍ SOUPISU PRACÍ
C84: Stavba:
E85: =E7 -> Výměna šesti oken do dvora
C87: Místo: | F87: =F10 -> Vídeňská 85,Brno | I87: Datum: | J87: =IF(J10="","",J10) -> 8. 7. 2020
C89: Zadavatel: | F89: =E13 -> MmBrna,OSM Husova 3,Brno | I89: Projektant: | J89: =E19 -> R.Volková
C90: Uchazeč: | F90: =IF(E16="","",E16) -> Vyplň údaj | I90: Zpracovatel: | J90: =E22 -> R.Volková
C92: Kód dílu - Popis | J92: Cena celkem [CZK]
C94: Náklady ze soupisu prací | J94: =J126 -> 0 | AU94: -1
D95: HSV - Práce a dodávky HSV | J95: =J127 -> 0
D96: 6 - Úpravy povrchů, podlahy a osazování výplní | J96: =J128 -> 0
D97: 9 - Ostatní konstrukce a práce, bourání | J97: =J139 -> 0
D98: 997 - Přesun sutě | J98: =J146 -> 0
D99: 998 - Přesun hmot | J99: =J152 -> 0
D100: PSV - Práce a dodávky PSV | J100: =J154 -> 0
D101: 764 - Konstrukce klempířské | J101: =J155 -> 0
D102: 766 - Konstrukce truhlářské | J102: =J158 -> 0
D103: 781 - Dokončovací práce - obklady | J103: =J163 -> 0
D104: 784 - Dokončovací práce - malby a tapety | J104: =J179 -> 0
D105: VRN - Vedlejší rozpočtové náklady | J105: =J182 -> 0
D106: VRN3 - Zařízení staveniště | J106: =J183 -> 0
D107: VRN6 - Územní vlivy | J107: =J185 -> 0
D108: VRN7 - Provozní vlivy | J108: =J187 -> 0
C115: SOUPIS PRACÍ
C117: Stavba:
E118: =E7 -> Výměna šesti oken do dvora
C120: Místo: | F120: =F10 -> Vídeňská 85,Brno | I120: Datum: | J120: =IF(J10="","",J10) -> 8. 7. 2020
C122: Zadavatel: | F122: =E13 -> MmBrna,OSM Husova 3,Brno | I122: Projektant: | J122: =E19 -> R.Volková
C123: Uchazeč: | F123: =IF(E16="","",E16) -> Vyplň údaj | I123: Zpracovatel: | J123: =E22 -> R.Volková
C125: PČ | D125: Typ | E125: Kód | F125: Popis | G125: MJ | H125: Množství | I125: J.cena [CZK] | J125: Cena celkem [CZK] | K125: Cenová soustava | N125: DPH | O125: J. Nh [h] | P125: Nh celkem [h] | Q125: J. hmotnost [t] | R125: Hmotnost celkem [t] | S125: J. suť [t] | T125: Suť Celkem [t]
C126: Náklady soupisu celkem | J126: =BK126 -> 0 | P126: =P127+P154+P182 -> 0 | R126: =R127+R154+R182 -> 1.4027308 | T126: =T127+T154+T182 -> 0.894384 | AT126: D | AU126: -1 | BK126: =BK127+BK154+BK182 -> 0
D127: D | E127: HSV | F127: Práce a dodávky HSV | J127: =BK127 -> 0 | P127: =P128+P139+P146+P152 -> 0 | R127: =R128+R139+R146+R152 -> 1.3746892 | T127: =T128+T139+T146+T152 -> 0.8748 | AR127: 1 | AT127: D | AU127: 0 | AY127: ROZPOCET | BK127: =BK128+BK139+BK146+BK152 -> 0
D128: D | E128: 6 | F128: Úpravy povrchů, podlahy a osazování výplní | J128: =BK128 -> 0 | P128: =SUM(P129:P138) -> 0 | R128: =SUM(R129:R138) -> 1.37259 | T128: =SUM(T129:T138) -> 0 | AR128: 1 | AT128: D | AU128: 1 | AY128: ROZPOCET | BK128: =SUM(BK129:BK138) -> 0
C129: 1 | D129: K | E129: 611135101 | F129: Hrubá výplň rýh ve stropech maltou jakékoli šířky rýhy | G129: m2 | H129: 1.875 | J129: =ROUND(I129*H129,2) -> 0 | K129: CS ÚRS 2020 01 | N129: základní | P129: =O129*H129 -> 0 | Q129: 0.04 | R129: =Q129*H129 -> 0.075 | S129: 0 | T129: =S129*H129 -> 0 | AR129: 4 | AT129: K | AU129: 2 | AY129: ROZPOCET | BE129: =IF(N129="základní",J129,0) -> 0 | BF129: =IF(N129="snížená",J129,0) -> 0 | BG129: =IF(N129="zákl. přenesená",J129,0) -> 0 | BH129: =IF(N129="sníž. přenesená",J129,0) -> 0 | BI129: =IF(N129="nulová",J129,0) -> 0 | BJ129: 1 | BK129: =ROUND(I129*H129,2) -> 0 | BL129: 4 | BM129: -1913601372
D130: VV | F130: 1,25*0,25*6 | H130: 1.875 | AT130: VV | AU130: 2 | AV130: 2 | AW130: True | AX130: 1 | AY130: ROZPOCET
C131: 2 | D131: K | E131: 612135101 | F131: Hrubá výplň rýh ve stěnách maltou jakékoli šířky rýhy | G131: m2 | H131: 6.75 | J131: =ROUND(I131*H131,2) -> 0 | K131: CS ÚRS 2020 01 | N131: základní | P131: =O131*H131 -> 0 | Q131: 0.04 | R131: =Q131*H131 -> 0.27 | S131: 0 | T131: =S131*H131 -> 0 | AR131: 4 | AT131: K | AU131: 2 | AY131: ROZPOCET | BE131: =IF(N131="základní",J131,0) -> 0 | BF131: =IF(N131="snížená",J131,0) -> 0 | BG131: =IF(N131="zákl. přenesená",J131,0) -> 0 | BH131: =IF(N131="sníž. přenesená",J131,0) -> 0 | BI131: =IF(N131="nulová",J131,0) -> 0 | BJ131: 1 | BK131: =ROUND(I131*H131,2) -> 0 | BL131: 4 | BM131: 1667276950
D132: VV | F132: 2,25*0,25*12 | H132: 6.75 | AT132: VV | AU132: 2 | AV132: 2 | AW132: True | AX132: 1 | AY132: ROZPOCET
C133: 3 | D133: K | E133: 612142001 | F133: Potažení ostění sklovláknitým pletivem vtlačeným do tenkovrstvé hmoty | G133: m2 | H133: 17.25 | J133: =ROUND(I133*H133,2) -> 0 | K133: CS ÚRS 2020 01 | N133: základní | P133: =O133*H133 -> 0 | Q133: 0.00438 | R133: =Q133*H133 -> 0.075555 | S133: 0 | T133: =S133*H133 -> 0 | AR133: 4 | AT133: K | AU133: 2 | AY133: ROZPOCET | BE133: =IF(N133="základní",J133,0) -> 0 | BF133: =IF(N133="snížená",J133,0) -> 0 | BG133: =IF(N133="zákl. přenesená",J133,0) -> 0 | BH133: =IF(N133="sníž. přenesená",J133,0) -> 0 | BI133: =IF(N133="nulová",J133,0) -> 0 | BJ133: 1 | BK133: =ROUND(I133*H133,2) -> 0 | BL133: 4 | BM133: -1732998117
C134: 4 | D134: K | E134: 612325302R | F134: Přeštukování- ostění nebo nadpraží | G134: m2 | H134: 17.25 | J134: =ROUND(I134*H134,2) -> 0 | N134: základní | P134: =O134*H134 -> 0 | Q134: 0.03358 | R134: =Q134*H134 -> 0.579255 | S134: 0 | T134: =S134*H134 -> 0 | AR134: 4 | AT134: K | AU134: 2 | AY134: ROZPOCET | BE134: =IF(N134="základní",J134,0) -> 0 | BF134: =IF(N134="snížená",J134,0) -> 0 | BG134: =IF(N134="zákl. přenesená",J134,0) -> 0 | BH134: =IF(N134="sníž. přenesená",J134,0) -> 0 | BI134: =IF(N134="nulová",J134,0) -> 0 | BJ134: 1 | BK134: =ROUND(I134*H134,2) -> 0 | BL134: 4 | BM134: -405777371
D135: VV | F135: (1,25+2,25*2)*6*0,5 | H135: 17.25 | AT135: VV | AU135: 2 | AV135: 2 | AW135: True | AX135: 1 | AY135: ROZPOCET
C136: 5 | D136: K | E136: 612-pc 1 | F136: Úprava ostění po demontáži kastlových oken | G136: kus | H136: 6 | J136: =ROUND(I136*H136,2) -> 0 | N136: základní | P136: =O136*H136 -> 0 | Q136: 0.00438 | R136: =Q136*H136 -> 0.02628 | S136: 0 | T136: =S136*H136 -> 0 | AR136: 4 | AT136: K | AU136: 2 | AY136: ROZPOCET | BE136: =IF(N136="základní",J136,0) -> 0 | BF136: =IF(N136="snížená",J136,0) -> 0 | BG136: =IF(N136="zákl. přenesená",J136,0) -> 0 | BH136: =IF(N136="sníž. přenesená",J136,0) -> 0 | BI136: =IF(N136="nulová",J136,0) -> 0 | BJ136: 1 | BK136: =ROUND(I136*H136,2) -> 0 | BL136: 4 | BM136: 127223278
C137: 6 | D137: K | E137: 632450123 | F137: Vyrovnávací cementový potěr tl do 40 mm ze suchých směsí provedený v pásu | G137: m2 | H137: 4.125 | J137: =ROUND(I137*H137,2) -> 0 | K137: CS ÚRS 2020 01 | N137: základní | P137: =O137*H137 -> 0 | Q137: 0.084 | R137: =Q137*H137 -> 0.3465 | S137: 0 | T137: =S137*H137 -> 0 | AR137: 4 | AT137: K | AU137: 2 | AY137: ROZPOCET | BE137: =IF(N137="základní",J137,0) -> 0 | BF137: =IF(N137="snížená",J137,0) -> 0 | BG137: =IF(N137="zákl. přenesená",J137,0) -> 0 | BH137: =IF(N137="sníž. přenesená",J137,0) -> 0 | BI137: =IF(N137="nulová",J137,0) -> 0 | BJ137: 1 | BK137: =ROUND(I137*H137,2) -> 0 | BL137: 4 | BM137: -1168307858
D138: VV | F138: 1,25*0,55*6 | H138: 4.125 | AT138: VV | AU138: 2 | AV138: 2 | AW138: True | AX138: 1 | AY138: ROZPOCET
D139: D | E139: 9 | F139: Ostatní konstrukce a práce, bourání | J139: =BK139 -> 0 | P139: =SUM(P140:P145) -> 0 | R139: =SUM(R140:R145) -> 0.0020992 | T139: =SUM(T140:T145) -> 0.8748 | AR139: 1 | AT139: D | AU139: 1 | AY139: ROZPOCET | BK139: =SUM(BK140:BK145) -> 0
C140: 7 | D140: K | E140: 949101111 | F140: Lešení pomocné pro objekty pozemních staveb s lešeňovou podlahou v do 1,9 m zatížení do 150 kg/m2 | G140: m2 | H140: 15.84 | J140: =ROUND(I140*H140,2) -> 0 | K140: CS ÚRS 2020 01 | N140: základní | P140: =O140*H140 -> 0 | Q140: 0.00013 | R140: =Q140*H140 -> 0.0020592 | S140: 0 | T140: =S140*H140 -> 0 | AR140: 4 | AT140: K | AU140: 2 | AY140: ROZPOCET | BE140: =IF(N140="základní",J140,0) -> 0 | BF140: =IF(N140="snížená",J140,0) -> 0 | BG140: =IF(N140="zákl. přenesená",J140,0) -> 0 | BH140: =IF(N140="sníž. přenesená",J140,0) -> 0 | BI140: =IF(N140="nulová",J140,0) -> 0 | BJ140: 1 | BK140: =ROUND(I140*H140,2) -> 0 | BL140: 4 | BM140: 1414636937
D141: VV | F141: 2,2*1,2*6 | H141: 15.84 | AT141: VV | AU141: 2 | AV141: 2 | AW141: True | AX141: 1 | AY141: ROZPOCET
C142: 8 | D142: K | E142: 952901111 | F142: Vyčištění budov po výměně oken | G142: sada | H142: 1 | J142: =ROUND(I142*H142,2) -> 0 | K142: CS ÚRS 2020 01 | N142: základní | P142: =O142*H142 -> 0 | Q142: 4e-05 | R142: =Q142*H142 -> 4e-05 | S142: 0 | T142: =S142*H142 -> 0 | AR142: 4 | AT142: K | AU142: 2 | AY142: ROZPOCET | BE142: =IF(N142="základní",J142,0) -> 0 | BF142: =IF(N142="snížená",J142,0) -> 0 | BG142: =IF(N142="zákl. přenesená",J142,0) -> 0 | BH142: =IF(N142="sníž. přenesená",J142,0) -> 0 | BI142: =IF(N142="nulová",J142,0) -> 0 | BJ142: 1 | BK142: =ROUND(I142*H142,2) -> 0 | BL142: 4 | BM142: -931399797
D143: VV | F143: 1 | H143: 1 | AT143: VV | AU143: 2 | AV143: 2 | AW143: True | AX143: 1 | AY143: ROZPOCET
C144: 9 | D144: K | E144: 968062356R | F144: Vybourání dřevěných rámů oken dvojitých včetně křídel a vnitřního parapetu pl do 4 m2 | G144: m2 | H144: 16.2 | J144: =ROUND(I144*H144,2) -> 0 | N144: základní | P144: =O144*H144 -> 0 | Q144: 0 | R144: =Q144*H144 -> 0 | S144: 0.054 | T144: =S144*H144 -> 0.8748 | AR144: 4 | AT144: K | AU144: 2 | AY144: ROZPOCET | BE144: =IF(N144="základní",J144,0) -> 0 | BF144: =IF(N144="snížená",J144,0) -> 0 | BG144: =IF(N144="zákl. přenesená",J144,0) -> 0 | BH144: =IF(N144="sníž. přenesená",J144,0) -> 0 | BI144: =IF(N144="nulová",J144,0) -> 0 | BJ144: 1 | BK144: =ROUND(I144*H144,2) -> 0 | BL144: 4 | BM144: 422788881
D145: VV | F145: 1,2*2,25*6 | H145: 16.2 | AT145: VV | AU145: 2 | AV145: 2 | AW145: True | AX145: 1 | AY145: ROZPOCET
D146: D | E146: 997 | F146: Přesun sutě | J146: =BK146 -> 0 | P146: =SUM(P147:P151) -> 0 | R146: =SUM(R147:R151) -> 0 | T146: =SUM(T147:T151) -> 0 | AR146: 1 | AT146: D | AU146: 1 | AY146: ROZPOCET | BK146: =SUM(BK147:BK151) -> 0
C147: 10 | D147: K | E147: 997013213 | F147: Vnitrostaveništní doprava suti a vybouraných hmot pro budovy v do 12 m ručně | G147: t | H147: 0.894 | J147: =ROUND(I147*H147,2) -> 0 | K147: CS ÚRS 2020 01 | N147: základní | P147: =O147*H147 -> 0 | Q147: 0 | R147: =Q147*H147 -> 0 | S147: 0 | T147: =S147*H147 -> 0 | AR147: 4 | AT147: K | AU147: 2 | AY147: ROZPOCET | BE147: =IF(N147="základní",J147,0) -> 0 | BF147: =IF(N147="snížená",J147,0) -> 0 | BG147: =IF(N147="zákl. přenesená",J147,0) -> 0 | BH147: =IF(N147="sníž. přenesená",J147,0) -> 0 | BI147: =IF(N147="nulová",J147,0) -> 0 | BJ147: 1 | BK147: =ROUND(I147*H147,2) -> 0 | BL147: 4 | BM147: 527366870
C148: 11 | D148: K | E148: 997013501 | F148: Odvoz suti a vybouraných hmot na skládku nebo meziskládku do 1 km se složením | G148: t | H148: 0.894 | J148: =ROUND(I148*H148,2) -> 0 | K148: CS ÚRS 2020 01 | N148: základní | P148: =O148*H148 -> 0 | Q148: 0 | R148: =Q148*H148 -> 0 | S148: 0 | T148: =S148*H148 -> 0 | AR148: 4 | AT148: K | AU148: 2 | AY148: ROZPOCET | BE148: =IF(N148="základní",J148,0) -> 0 | BF148: =IF(N148="snížená",J148,0) -> 0 | BG148: =IF(N148="zákl. přenesená",J148,0) -> 0 | BH148: =IF(N148="sníž. přenesená",J148,0) -> 0 | BI148: =IF(N148="nulová",J148,0) -> 0 | BJ148: 1 | BK148: =ROUND(I148*H148,2) -> 0 | BL148: 4 | BM148: 1800913560
C149: 12 | D149: K | E149: 997013509 | F149: Příplatek k odvozu suti a vybouraných hmot na skládku ZKD 1 km přes 1 km | G149: t | H149: 16.986 | J149: =ROUND(I149*H149,2) -> 0 | K149: CS ÚRS 2020 01 | N149: základní | P149: =O149*H149 -> 0 | Q149: 0 | R149: =Q149*H149 -> 0 | S149: 0 | T149: =S149*H149 -> 0 | AR149: 4 | AT149: K | AU149: 2 | AY149: ROZPOCET | BE149: =IF(N149="základní",J149,0) -> 0 | BF149: =IF(N149="snížená",J149,0) -> 0 | BG149: =IF(N149="zákl. přenesená",J149,0) -> 0 | BH149: =IF(N149="sníž. přenesená",J149,0) -> 0 | BI149: =IF(N149="nulová",J149,0) -> 0 | BJ149: 1 | BK149: =ROUND(I149*H149,2) -> 0 | BL149: 4 | BM149: -1851182806
D150: VV | F150: 0,894*19 'Přepočtené koeficientem množství | H150: 16.986 | AT150: VV | AU150: 2 | AV150: 2 | AW150: False | AX150: 1 | AY150: ROZPOCET
C151: 13 | D151: K | E151: 997013804 | F151: Poplatek za uložení na skládce (skládkovné) stavebního odpadu ze skla (oken) kód odpadu 17 02 02 | G151: t | H151: 0.875 | J151: =ROUND(I151*H151,2) -> 0 | K151: CS ÚRS 2020 01 | N151: základní | P151: =O151*H151 -> 0 | Q151: 0 | R151: =Q151*H151 -> 0 | S151: 0 | T151: =S151*H151 -> 0 | AR151: 4 | AT151: K | AU151: 2 | AY151: ROZPOCET | BE151: =IF(N151="základní",J151,0) -> 0 | BF151: =IF(N151="snížená",J151,0) -> 0 | BG151: =IF(N151="zákl. přenesená",J151,0) -> 0 | BH151: =IF(N151="sníž. přenesená",J151,0) -> 0 | BI151: =IF(N151="nulová",J151,0) -> 0 | BJ151: 1 | BK151: =ROUND(I151*H151,2) -> 0 | BL151: 4 | BM151: -210337217
D152: D | E152: 998 | F152: Přesun hmot | J152: =BK152 -> 0 | P152: =P153 -> 0 | R152: =R153 -> 0 | T152: =T153 -> 0 | AR152: 1 | AT152: D | AU152: 1 | AY152: ROZPOCET | BK152: =BK153 -> 0
C153: 14 | D153: K | E153: 998018002 | F153: Přesun hmot ruční pro budovy v do 12 m | G153: t | H153: 1.375 | J153: =ROUND(I153*H153,2) -> 0 | K153: CS ÚRS 2020 01 | N153: základní | P153: =O153*H153 -> 0 | Q153: 0 | R153: =Q153*H153 -> 0 | S153: 0 | T153: =S153*H153 -> 0 | AR153: 4 | AT153: K | AU153: 2 | AY153: ROZPOCET | BE153: =IF(N153="základní",J153,0) -> 0 | BF153: =IF(N153="snížená",J153,0) -> 0 | BG153: =IF(N153="zákl. přenesená",J153,0) -> 0 | BH153: =IF(N153="sníž. přenesená",J153,0) -> 0 | BI153: =IF(N153="nulová",J153,0) -> 0 | BJ153: 1 | BK153: =ROUND(I153*H153,2) -> 0 | BL153: 4 | BM153: 1593878363
D154: D | E154: PSV | F154: Práce a dodávky PSV | J154: =BK154 -> 0 | P154: =P155+P158+P163+P179 -> 0 | R154: =R155+R158+R163+R179 -> 0.0280416 | T154: =T155+T158+T163+T179 -> 0.019584 | AR154: 2 | AT154: D | AU154: 0 | AY154: ROZPOCET | BK154: =BK155+BK158+BK163+BK179 -> 0
D155: D | E155: 764 | F155: Konstrukce klempířské | J155: =BK155 -> 0 | P155: =SUM(P156:P157) -> 0 | R155: =SUM(R156:R157) -> 0 | T155: =SUM(T156:T157) -> 0 | AR155: 2 | AT155: D | AU155: 1 | AY155: ROZPOCET | BK155: =SUM(BK156:BK157) -> 0
C156: 15 | D156: K | E156: 764-pc 1 | F156: Úprava vnějšího parapetu | G156: kus | H156: 6 | J156: =ROUND(I156*H156,2) -> 0 | N156: základní | P156: =O156*H156 -> 0 | Q156: 0 | R156: =Q156*H156 -> 0 | S156: 0 | T156: =S156*H156 -> 0 | AR156: 16 | AT156: K | AU156: 2 | AY156: ROZPOCET | BE156: =IF(N156="základní",J156,0) -> 0 | BF156: =IF(N156="snížená",J156,0) -> 0 | BG156: =IF(N156="zákl. přenesená",J156,0) -> 0 | BH156: =IF(N156="sníž. přenesená",J156,0) -> 0 | BI156: =IF(N156="nulová",J156,0) -> 0 | BJ156: 1 | BK156: =ROUND(I156*H156,2) -> 0 | BL156: 16 | BM156: -1609761694
C157: 16 | D157: K | E157: 998764202 | F157: Přesun hmot procentní pro konstrukce klempířské v objektech v do 12 m | G157: % | J157: =ROUND(I157*H157,2) -> 0 | K157: CS ÚRS 2020 01 | N157: základní | P157: =O157*H157 -> 0 | Q157: 0 | R157: =Q157*H157 -> 0 | S157: 0 | T157: =S157*H157 -> 0 | AR157: 16 | AT157: K | AU157: 2 | AY157: ROZPOCET | BE157: =IF(N157="základní",J157,0) -> 0 | BF157: =IF(N157="snížená",J157,0) -> 0 | BG157: =IF(N157="zákl. přenesená",J157,0) -> 0 | BH157: =IF(N157="sníž. přenesená",J157,0) -> 0 | BI157: =IF(N157="nulová",J157,0) -> 0 | BJ157: 1 | BK157: =ROUND(I157*H157,2) -> 0 | BL157: 16 | BM157: -40708931
D158: D | E158: 766 | F158: Konstrukce truhlářské | J158: =BK158 -> 0 | P158: =SUM(P159:P162) -> 0 | R158: =SUM(R159:R162) -> 0 | T158: =SUM(T159:T162) -> 0 | AR158: 2 | AT158: D | AU158: 1 | AY158: ROZPOCET | BK158: =SUM(BK159:BK162) -> 0
C159: 17 | D159: K | E159: 766-pc 1 | F159: D+m okno plast , z vnější strany hnědé,z vni bílá,stejné členění jako původní 125/225 cm-nutno změřit na stavbě | G159: kus | H159: 6 | J159: =ROUND(I159*H159,2) -> 0 | N159: základní | P159: =O159*H159 -> 0 | Q159: 0 | R159: =Q159*H159 -> 0 | S159: 0 | T159: =S159*H159 -> 0 | AR159: 16 | AT159: K | AU159: 2 | AY159: ROZPOCET | BE159: =IF(N159="základní",J159,0) -> 0 | BF159: =IF(N159="snížená",J159,0) -> 0 | BG159: =IF(N159="zákl. přenesená",J159,0) -> 0 | BH159: =IF(N159="sníž. přenesená",J159,0) -> 0 | BI159: =IF(N159="nulová",J159,0) -> 0 | BJ159: 1 | BK159: =ROUND(I159*H159,2) -> 0 | BL159: 16 | BM159: 1380913995
C160: 18 | D160: K | E160: 766-pc 2 | F160: D+m vnitřní parapet | G160: kus | H160: 6 | J160: =ROUND(I160*H160,2) -> 0 | N160: základní | P160: =O160*H160 -> 0 | Q160: 0 | R160: =Q160*H160 -> 0 | S160: 0 | T160: =S160*H160 -> 0 | AR160: 16 | AT160: K | AU160: 2 | AY160: ROZPOCET | BE160: =IF(N160="základní",J160,0) -> 0 | BF160: =IF(N160="snížená",J160,0) -> 0 | BG160: =IF(N160="zákl. přenesená",J160,0) -> 0 | BH160: =IF(N160="sníž. přenesená",J160,0) -> 0 | BI160: =IF(N160="nulová",J160,0) -> 0 | BJ160: 1 | BK160: =ROUND(I160*H160,2) -> 0 | BL160: 16 | BM160: -1780661931
C161: 19 | D161: K | E161: 766-pc 3 | F161: D+m horizontálních žaluzií na okna 125/225 cm | G161: kus | H161: 6 | J161: =ROUND(I161*H161,2) -> 0 | N161: základní | P161: =O161*H161 -> 0 | Q161: 0 | R161: =Q161*H161 -> 0 | S161: 0 | T161: =S161*H161 -> 0 | AR161: 16 | AT161: K | AU161: 2 | AY161: ROZPOCET | BE161: =IF(N161="základní",J161,0) -> 0 | BF161: =IF(N161="snížená",J161,0) -> 0 | BG161: =IF(N161="zákl. přenesená",J161,0) -> 0 | BH161: =IF(N161="sníž. přenesená",J161,0) -> 0 | BI161: =IF(N161="nulová",J161,0) -> 0 | BJ161: 1 | BK161: =ROUND(I161*H161,2) -> 0 | BL161: 16 | BM161: -1781420790
C162: 20 | D162: K | E162: 998766202 | F162: Přesun hmot procentní pro konstrukce truhlářské v objektech v do 12 m | G162: % | J162: =ROUND(I162*H162,2) -> 0 | K162: CS ÚRS 2020 01 | N162: základní | P162: =O162*H162 -> 0 | Q162: 0 | R162: =Q162*H162 -> 0 | S162: 0 | T162: =S162*H162 -> 0 | AR162: 16 | AT162: K | AU162: 2 | AY162: ROZPOCET | BE162: =IF(N162="základní",J162,0) -> 0 | BF162: =IF(N162="snížená",J162,0) -> 0 | BG162: =IF(N162="zákl. přenesená",J162,0) -> 0 | BH162: =IF(N162="sníž. přenesená",J162,0) -> 0 | BI162: =IF(N162="nulová",J162,0) -> 0 | BJ162: 1 | BK162: =ROUND(I162*H162,2) -> 0 | BL162: 16 | BM162: 772262647
D163: D | E163: 781 | F163: Dokončovací práce - obklady | J163: =BK163 -> 0 | P163: =SUM(P164:P178) -> 0 | R163: =SUM(R164:R178) -> 0.0280416 | T163: =SUM(T164:T178) -> 0.019584 | AR163: 2 | AT163: D | AU163: 1 | AY163: ROZPOCET | BK163: =SUM(BK164:BK178) -> 0
C164: 21 | D164: K | E164: 781121011 | F164: Nátěr penetrační na stěnu-sprcha | G164: m2 | H164: 1.32 | J164: =ROUND(I164*H164,2) -> 0 | K164: CS ÚRS 2020 01 | N164: základní | P164: =O164*H164 -> 0 | Q164: 0.0003 | R164: =Q164*H164 -> 0.000396 | S164: 0 | T164: =S164*H164 -> 0 | AR164: 16 | AT164: K | AU164: 2 | AY164: ROZPOCET | BE164: =IF(N164="základní",J164,0) -> 0 | BF164: =IF(N164="snížená",J164,0) -> 0 | BG164: =IF(N164="zákl. přenesená",J164,0) -> 0 | BH164: =IF(N164="sníž. přenesená",J164,0) -> 0 | BI164: =IF(N164="nulová",J164,0) -> 0 | BJ164: 1 | BK164: =ROUND(I164*H164,2) -> 0 | BL164: 16 | BM164: 852921587
D165: VV | F165: 1,2*0,55*2 | H165: 1.32 | AT165: VV | AU165: 2 | AV165: 2 | AW165: True | AX165: 1 | AY165: ROZPOCET
C166: 22 | D166: K | E166: 781161021 | F166: Montáž profilu ukončujícího rohového nebo vanového | G166: m | H166: 2.4 | J166: =ROUND(I166*H166,2) -> 0 | K166: CS ÚRS 2020 01 | N166: základní | P166: =O166*H166 -> 0 | Q166: 0.0002 | R166: =Q166*H166 -> 0.00048 | S166: 0 | T166: =S166*H166 -> 0 | AR166: 16 | AT166: K | AU166: 2 | AY166: ROZPOCET | BE166: =IF(N166="základní",J166,0) -> 0 | BF166: =IF(N166="snížená",J166,0) -> 0 | BG166: =IF(N166="zákl. přenesená",J166,0) -> 0 | BH166: =IF(N166="sníž. přenesená",J166,0) -> 0 | BI166: =IF(N166="nulová",J166,0) -> 0 | BJ166: 1 | BK166: =ROUND(I166*H166,2) -> 0 | BL166: 16 | BM166: -1647708474
D167: VV | F167: 1,2*2 | H167: 2.4 | AT167: VV | AU167: 2 | AV167: 2 | AW167: True | AX167: 1 | AY167: ROZPOCET
C168: 23 | D168: M | E168: 59054131 | F168: profil ukončovací pro vnější hrany obkladů | G168: m | H168: 2.64 | J168: =ROUND(I168*H168,2) -> 0 | K168: CS ÚRS 2020 01 | N168: základní | P168: =O168*H168 -> 0 | Q168: 8e-05 | R168: =Q168*H168 -> 0.0002112 | S168: 0 | T168: =S168*H168 -> 0 | AR168: 32 | AT168: M | AU168: 2 | AY168: ROZPOCET | BE168: =IF(N168="základní",J168,0) -> 0 | BF168: =IF(N168="snížená",J168,0) -> 0 | BG168: =IF(N168="zákl. přenesená",J168,0) -> 0 | BH168: =IF(N168="sníž. přenesená",J168,0) -> 0 | BI168: =IF(N168="nulová",J168,0) -> 0 | BJ168: 1 | BK168: =ROUND(I168*H168,2) -> 0 | BL168: 16 | BM168: -844686011
...
