Workbook

Sheet Černovice
E1: Příloha č. 2
A4: SOUPIS POZEMKŮ - k.ú. ČERNOVICE - REKAPITULACE CENY
A6: A.) 3 x pokos, odstranění náletových dřevin, sběr listí a suchých větví, prořez keřů, sběr odpadu, ekologická likvidace veškerého odpadu
A8: Katastr | B8: Pozemky p.č. | C8: Celková výměra pozemku | D8: Plocha pro úklid | E8: Poznámka
A9: ČERNOVICE | B9: 13/1 | C9: 398 | D9: 398 | E9: pokos, nálety
B10: 491/1 | C10: 3284 | D10: 800 | E10: pokos, nálety, prořez keřů, sběr listí a větví
B11: 1396/3 | C11: 317 | D11: 317 | E11: pokos, prořez keřů (zevnitř i vně zahrady)
B12: 2162/2 | C12: 72 | D12: 72 | E12: pokos, nálety, sběr odpadu
B13: 2163/4 | C13: 2186 | D13: 2186 | E13: pokos, nálety, sběr odpadu
B14: 2164 | C14: 9737 | D14: 9737 | E14: pokos, nálety, sběr odpadu
B15: 2159/4 | C15: 2835 | D15: 500 | E15: pokos, nálety, sběr odpadu
B16: 2503/3 | C16: 37659 | D16: 200 | E16: pokos, nálety
A17: CELKEM m2 PRO ÚKLID | D17: =SUM(D9:D16) -> 14210
A23: REKAPITULACE CENY
A25: DRUH PLNĚNÍ | B25: MJ/M2 | C25: CENA/MJ | D25: CENA CELKEM 1 PLNĚNÍ | E25: CENA CELKEM ZA CELÉ PLNĚNÍ
A26: A | B26: =D17 -> 14210 | D26: =B26*C26 -> 0 | E26: =D26*3 -> 0
A27: CENA CELKEM BEZ DPH | E27: =E26 -> 0
A28: DPH 21 % | E28: =E27/100*21 -> 0
A29: CENA CELKEM VČ. DPH | E29: =E27+E28 -> 0

Sheet Přízřenice
E1: Příloha č. 2
A3: SOUPIS POZEMKŮ - k.ú. PŘÍZŘENICE - REKAPITULACE CENY
A5: A.) 3 x pokos, sběr odpadu, ekologická likvidace veškerého odpadu
A7: Katastr | B7: Pozemky p.č. | C7: Celková výměra pozemku | D7: Plocha pro úklid | E7: Poznámka
A8: PŘÍZŘENICE | B8: 555 | C8: 3914 | D8: 3062 | E8: pokos, sběr odpadu
B9: 823/3 | C9: 7049 | D9: 7049 | E9: pokos, sběr odpadu
B10: 934 | C10: 1536 | D10: 1536 | E10: pokos, sběr odpadu
B11: 935 | C11: 818 | D11: 818 | E11: pokos, sběr odpadu
A12: CELKEM m2 PRO ÚKLID | D12: =SUM(D8:D11) -> 12465
A16: REKAPITULACE CENY
A18: DRUH PLNĚNÍ | B18: MJ/M2 | C18: CENA/MJ | D18: CENA CELKEM 1 PLNĚNÍ | E18: CENA CELKEM ZA CELÉ PLNĚNÍ
A19: A | B19: =D12 -> 12465 | D19: =B19*C19 -> 0 | E19: =D19*3 -> 0
A20: CENA CELKEM BEZ DPH | E20: =SUM(E19:E19) -> 0
A21: DPH 21 % | E21: =E20/100*21 -> 0
A22: CENA CELKEM VČ. DPH | E22: =E20+E21 -> 0

Sheet Brn.Ivanovice
E1: Příloha č. 2
A3: SOUPIS POZEMKŮ - k.ú. BRNĚNSKÉ IVANOVICE - REKAPITULACE CENY
A5: A.) 3 x pokos, odstranění náletových dřevin, ekologická likvidace veškerého odpadu
A7: Katastr | B7: Pozemky p.č. | C7: Celková výměra pozemku | D7: Plocha pro úklid | E7: Poznámka
A8: BR. IVANOVICE | B8: 1194/2 | C8: 1222 | D8: 1222 | E8: pokos, nálety
B9: 1364/4 | C9: 3252 | D9: 2750 | E9: pokos, nálety
A10: CELKEM m2 PRO ÚKLID | D10: =SUM(D8:D9) -> 3972
A14: REKAPITULACE CENY
A16: DRUH PLNĚNÍ | B16: MJ/M2 | C16: CENA/MJ | D16: CENA CELKEM 1 PLNĚNÍ | E16: CENA CELKEM ZA CELÉ PLNĚNÍ
A17: A | B17: =D10 -> 3972 | D17: =B17*C17 -> 0 | E17: =D17*3 -> 0
A18: CENA CELKEM BEZ DPH | E18: =SUM(E17:E17) -> 0
A19: DPH 21 % | E19: =E18/100*21 -> 0
A20: CENA CELKEM VČ. DPH | E20: =E18+E19 -> 0

Sheet Holásky,H.Heršpice
E1: Příloha č. 2
A3: SOUPIS POZEMKŮ - k.ú. HOLÁSKY, HORNÍ HERŠPICE - REKAPITULACE CENY
A5: A.) 3 x pokos, odstranění náletových dřevin, ekologická likvidace veškerého odpadu
A7: Katastr | B7: Pozemky p.č. | C7: Celková výměra pozemku | D7: Plocha pro úklid | E7: Poznámka
A8: HOLÁSKY, HOR.HERŠPICE | B8: 2337 (Holásky) | C8: 570 | D8: 570 | E8: pokos, nálety
B9: 1512/3 | C9: 4893 | D9: 1981 | E9: pokos, nálety
B10: 1512/27 | C10: 543 | D10: 543 | E10: pokos, nálety
B11: 1512/31 | C11: 3933 | D11: 2082 | E11: pokos, nálety
A12: CELKEM m2 PRO ÚKLID | D12: =SUM(D8:D11) -> 5176
A16: REKAPITULACE CENY
A18: DRUH PLNĚNÍ | B18: MJ/M2 | C18: CENA/MJ | D18: CENA CELKEM 1 PLNĚNÍ | E18: CENA CELKEM ZA CELÉ PLNĚNÍ
A19: A | B19: =D12 -> 5176 | D19: =B19*C19 -> 0 | E19: =D19*3 -> 0
A20: CENA CELKEM BEZ DPH | E20: =SUM(E19:E19) -> 0
A21: DPH 21 % | E21: =E20/100*21 -> 0
A22: CENA CELKEM VČ. DPH | E22: =E20+E21 -> 0

Sheet REKAPITULACE
A2: REKAPITULACE CELKOVÉ CENY ZAKÁZKY
A4: KATASTR | B4: CENA CELKEM BEZ DPH | C4: DPH 21% | D4: CENA CELKEM VČETNĚ DPH
A5: Černovice | B5: =Černovice!E27 -> 0 | C5: =Černovice!E28 -> 0 | D5: =Černovice!E29 -> 0
A6: Přízřenice | B6: =Přízřenice!E20 -> 0 | C6: =Přízřenice!E21 -> 0 | D6: =Přízřenice!E22 -> 0
A7: Brněnské Ivanovice | B7: =Brn.Ivanovice!E18 -> 0 | C7: =Brn.Ivanovice!E19 -> 0 | D7: =Brn.Ivanovice!E20 -> 0
A8: Holásky, Horní Heršpice | B8: ='Holásky,H.Heršpice'!E20 -> 0 | C8: ='Holásky,H.Heršpice'!E21 -> 0 | D8: ='Holásky,H.Heršpice'!E22 -> 0
A9: CENA CELKEM BEZ DPH | D9: =SUM(B5:B8) -> 0
A10: CELKEM DPH 21 % | D10: =SUM(C5:C8) -> 0
A11: CENA CELKEM VČ. DPH | D11: =SUM(D5:D8) -> 0
