Workbook

Sheet Staré Brno
E1: Příloha č. 2
A3: SOUPIS POZEMKŮ - k.ú. STARÉ BRNO - REKAPITULACE CENY
A5: A.) 4 x pokos, jednorázové odstranění náletových dřevin, sběr odpadu, ekologická likvidace veškerého odpadu
A7: Katastr | B7: Pozemky p.č. | C7: Celková výměra pozemku | D7: Plocha pro úklid | E7: Poznámka
A8: STARÉ BRNO | B8: 65/8 | C8: 208 | D8: 208 | E8: pokos
B9: 66/1 | C9: 182 | D9: 182 | E9: pokos
B10: 70/1 | C10: 775 | D10: 775 | E10: pokos
B11: 128 | C11: 325 | D11: 325 | E11: pokos
B12: 962/1 | C12: 75 | D12: 75 | E12: pokos
B13: 964 | C13: 143 | D13: 143 | E13: pokos, sběr odpadu
B14: 967 | C14: 178 | D14: 178 | E14: pokos, sběr odpadu
B15: 968 | C15: 141 | D15: 141 | E15: pokos, sběr odpadu
B16: 969 | C16: 84 | D16: 84 | E16: pokos, sběr odpadu
B17: 970 | C17: 115 | D17: 115 | E17: pokos, sběr odpadu
B18: 971 | C18: 622 | D18: 527 | E18: pokos, sběr odpadu
B19: 973 | C19: 420 | D19: 294 | E19: pokos, sběr odpadu
B20: 1143 | C20: 1003 | D20: 1003 | E20: pokos, sběr odpadu
B21: 1145/1 | C21: 129 | D21: 129 | E21: pokos, sběr odpadu
A22: CELKEM m2 PRO ÚKLID | D22: =SUM(D8:D21) -> 4179
A26: REKAPITULACE CENY
A28: DRUH PLNĚNÍ | B28: MJ/M2 | C28: CENA/MJ | D28: CENA CELKEM 1 PLNĚNÍ | E28: CENA CELKEM ZA CELÉ PLNĚNÍ
A29: A | B29: =D22 -> 4179 | D29: =B29*C29 -> 0 | E29: =D29*4 -> 0
A30: CENA CELKEM BEZ DPH | E30: =SUM(E29:E29) -> 0
A31: DPH 21 % | E31: =E30/100*21 -> 0
A32: CENA CELKEM VČ. DPH | E32: =E30+E31 -> 0

Sheet Štýřice
E1: Příloha č. 2
A3: SOUPIS POZEMKŮ - k.ú. ŠTÝŘICE - REKAPITULACE CENY
A5: A.) 4 x pokos, jednorázové odstranění náletových dřevin, sběr odpadu, ekologická likvidace veškerého odpadu
A7: Katastr | B7: Pozemky p.č. | C7: Celková výměra pozemku | D7: Plocha pro úklid | E7: Poznámka
A8: ŠTÝŘICE | B8: 60/2 | C8: 149 | D8: 149 | E8: pokos
B9: 60/9 | C9: 104 | D9: 104 | E9: pokos
B10: 60/18 | C10: 16 | D10: 16 | E10: pokos
B11: 207/23 | C11: 64 | D11: 64 | E11: pokos
B12: 207/48 | C12: 1114 | D12: 1114 | E12: pokos
B13: 222 | C13: 2321 | D13: 2321 | E13: pokos
B14: 1697/7 | C14: 3595 | D14: 1800 | E14: pokos, sběr odpadu
B15: 1697/16 | C15: 584 | D15: 584 | E15: pokos, sběr odpadu
B16: 1697/17 | C16: 60 | D16: 60 | E16: pokos, sběr odpadu
B17: 1697/60 | C17: 621 | D17: 621 | E17: pokos, sběr odpadu
B18: 1697/68 | C18: 1156 | D18: 1156 | E18: pokos, sběr odpadu
B19: 1849/14 | C19: 778 | D19: 778 | E19: pokos, nálety
A20: CELKEM m2 PRO ÚKLID | D20: =SUM(D8:D19) -> 8767
A24: REKAPITULACE CENY
A26: DRUH PLNĚNÍ | B26: MJ/M2 | C26: CENA/MJ | D26: CENA CELKEM 1 PLNĚNÍ | E26: CENA CELKEM ZA CELÉ PLNĚNÍ
A27: A | B27: =D20 -> 8767 | D27: =B27*C27 -> 0 | E27: =D27*4 -> 0
A28: CENA CELKEM BEZ DPH | E28: =SUM(E27:E27) -> 0
A29: DPH 21 % | E29: =E28/100*21 -> 0
A30: CENA CELKEM VČ. DPH | E30: =E28+E29 -> 0

Sheet Trnitá
E1: Příloha č. 2
A3: SOUPIS POZEMKŮ - k.ú. TRNITÁ - REKAPITULACE CENY
A6: A.) 4 x pokos, odstranění náletových dřevin, sběr odpadu, ekologická likvidace veškerého odpadu
A8: Katastr | B8: Pozemky p.č. | C8: Celková výměra pozemku | D8: Plocha pro úklid | E8: Poznámka
A9: TRNITÁ | B9: 231/4 | C9: 177 | D9: 177 | E9: pokos
B10: 799/6 | C10: 99 | D10: 99 | E10: pokos,nálety
B11: 883/1 | C11: 465 | D11: 465 | E11: pokos
B12: 883/3 | C12: 191 | D12: 191 | E12: pokos
B13: 883/4 | C13: 75 | D13: 75 | E13: pokos
B14: 1166/3 | C14: 200 | D14: 200 | E14: pokos
A15: CELKEM m2 PRO ÚKLID | D15: =SUM(D9:D14) -> 1207
A17: B.) 6x pokos, ekologická likvidace veškerého odpadu
A19: Katastr | B19: Pozemky p.č. | C19: Celková výměra pozemku | D19: Plocha pro úklid | E19: Poznámka
A20: TRNITÁ | B20: 96 | C20: 562 | D20: 40 | E20: pokos
A21: CELKEM m2 PRO ÚKLID | D21: =D20 -> 40
A23: C.) jarní a podzimní výhrab listí
A25: Katastr | B25: Pozemky p.č. | C25: Celková výměra pozemku | D25: Plocha pro úklid | E25: Poznámka
A26: TRNITÁ | B26: 227 | C26: 397 | D26: 397 | E26: výhrab listí
A27: CELKEM m2 PRO ÚKLID | D27: =SUM(D26:D26) -> 397
A31: REKAPITULACE CENY
A33: DRUH PLNĚNÍ | B33: MJ/M2 | C33: CENA/MJ | D33: CENA CELKEM 1 PLNĚNÍ | E33: CENA CELKEM ZA CELÉ PLNĚNÍ
A34: A | B34: =D15 -> 1207 | D34: =B34*C34 -> 0 | E34: =D34*4 -> 0
A35: B | B35: =D21 -> 40 | D35: =B35*C35 -> 0 | E35: =D35*6 -> 0
A36: C | B36: =D27 -> 397 | D36: =B36*C36 -> 0 | E36: =D36*2 -> 0
A37: CENA CELKEM BEZ DPH | E37: =SUM(E34:E36) -> 0
A38: DPH 21 % | E38: =E37/100*21 -> 0
A39: CENA CELKEM VČ. DPH | E39: =E37+E38 -> 0

Sheet Stránice
E1: Příloha č. 2
A3: SOUPIS POZEMKŮ - k.ú. STRÁNICE - REKAPITULACE CENY
A5: A.) 4 x pokos, jednorázové odstranění náletových dřevin, ekologická likvidace veškerého odpadu
A7: Katastr | B7: Pozemky p.č. | C7: Celková výměra pozemku | D7: Plocha pro úklid | E7: Poznámka
A8: STRÁNICE | B8: 513/2 | C8: 792 | D8: 792 | E8: pokos, nálety
B9: 1340/93 | C9: 414 | D9: 414 | E9: pokos, nálety
B10: 1355/2 | C10: 393 | D10: 393 | E10: pokos, nálety
B11: 1500/76 | C11: 963 | D11: 963 | E11: pokos, nálety
B12: 1500/77 | C12: 342 | D12: 342 | E12: pokos, nálety
A13: CELKEM m2 PRO ÚKLID | D13: =SUM(D8:D12) -> 2904
A17: REKAPITULACE CENY
A19: DRUH PLNĚNÍ | B19: MJ/M2 | C19: CENA/MJ | D19: CENA CELKEM 1 PLNĚNÍ | E19: CENA CELKEM ZA CELÉ PLNĚNÍ
A20: A | B20: =D13 -> 2904 | D20: =B20*C20 -> 0 | E20: =D20*4 -> 0
A21: CENA CELKEM BEZ DPH | E21: =SUM(E20:E20) -> 0
A22: DPH 21 % | E22: =E21/100*21 -> 0
A23: CENA CELKEM VČ. DPH | E23: =E21+E22 -> 0

Sheet Veveří
E1: Příloha č. 2
A3: SOUPIS POZEMKŮ - k.ú. VEVEŘÍ - REKAPITULACE CENY
A5: A.) 4 x pokos, odstranění náletových dřevin, sběr odpadu, jednorázový postřik, ekologická likvidace veškerého odpadu
A7: Katastr | B7: Pozemky p.č. | C7: Celková výměra pozemku | D7: Plocha pro úklid | E7: Poznámka
A8: VEVEŘÍ | B8: 196/2 | C8: 142 | D8: 142 | E8: pokos
B9: 345/8 | C9: 675 | D9: 675 | E9: pokos,nálety,odpad
B10: 447/1 | C10: 1652 | D10: 1652 | E10: pokos
B11: 724/7 | C11: 3520 | D11: 1659 | E11: pokos,nálety, odpad, postřik
B12: 739/1 | C12: 11332 | D12: 1286 | E12: pokos,nálety, odpad, postřik
B13: 740/1 | C13: 3575 | D13: 1372 | E13: pokos,nálety, odpad, postřik
B14: 741 | C14: 6146 | D14: 2460 | E14: pokos,nálety, odpad, postřik
B15: 825/2 | C15: 1209 | D15: 240 | E15: pokos
B16: 912 | C16: 332 | D16: 332 | E16: pokos
B17: 1266 | C17: 199 | D17: 199 | E17: pokos
B18: 1354/1 | C18: 478 | D18: 450 | E18: pokos
A19: CELKEM m2 PRO ÚKLID | D19: =SUM(D8:D18) -> 10467
A22: C.) jarní a podzimní výhrab listí
A24: Katastr | B24: Pozemky p.č. | C24: Celková výměra pozemku | D24: Plocha pro úklid | E24: Poznámka
A25: VEVEŘÍ | B25: 724/7 | C25: 3520 | D25: 1659 | E25: výhrab listí
B26: 739/1 | C26: 11332 | D26: 1286 | E26: výhrab listí
B27: 740/1 | C27: 3575 | D27: 1372 | E27: výhrab listí
B28: 741 | C28: 6146 | D28: 2460 | E28: výhrab listí
A29: CELKEM m2 PRO ÚKLID | D29: =SUM(D25:D28) -> 6777
A32: REKAPITULACE CENY
A34: DRUH PLNĚNÍ | B34: MJ/M2 | C34: CENA/MJ | D34: CENA CELKEM 1 PLNĚNÍ | E34: CENA CELKEM ZA CELÉ PLNĚNÍ
A35: A | B35: =D19 -> 10467 | D35: =B35*C35 -> 0 | E35: =D35*4 -> 0
A36: B | B36: =D29 -> 6777 | D36: =B36*C36 -> 0 | E36: =D36*2 -> 0
A37: CENA CELKEM BEZ DPH | E37: =SUM(E35:E36) -> 0
A38: DPH 21 % | E38: =E37/100*21 -> 0
A39: CENA CELKEM VČ. DPH | E39: =E37+E38 -> 0

Sheet REKAPITULACE
A2: REKAPITULACE CELKOVÉ CENY ZAKÁZKY
A4: Katastr | B4: CENA CELKEM BEZ DPH | C4: DPH 21% | D4: CENA CELKEM VČETNĚ DPH
A5: Staré Brno | B5: ='Staré Brno'!E30 -> 0 | C5: =B5/100*21 -> 0 | D5: =B5+C5 -> 0
A6: Štýřice | B6: =Štýřice!E28 -> 0 | C6: =B6/100*21 -> 0 | D6: =B6+C6 -> 0
A7: Trnitá | B7: =Trnitá!E37 -> 0 | C7: =B7/100*21 -> 0 | D7: =B7+C7 -> 0
A8: Stránice | B8: =Stránice!E21 -> 0 | C8: =B8/100*21 -> 0 | D8: =B8+C8 -> 0
A9: Veveří | B9: =Veveří!E37 -> 0 | C9: =B9/100*21 -> 0 | D9: =B9+C9 -> 0
A10: CENA CELKEM BEZ DPH | D10: =SUM(B5:B9) -> 0
A11: CELKEM DPH 21 % | D11: =SUM(C5:C9) -> 0
A12: CENA CELKEM VČ. DPH | D12: =SUM(D5:D9) -> 0
