Workbook

Sheet Řečkovice
E1: Příloha č. 2
A4: SOUPIS POZEMKŮ - k.ú. ŘEČKOVICE - REKAPITULACE CENY
A6: A.) 4 x pokos, jednorázové odstranění náletových dřevin, ekologická likvidace veškerého odpadu
A8: Katastr | B8: Pozemky p.č. | C8: Celková výměra pozemku | D8: Plocha pro úklid | E8: Poznámka
A9: ŘEČKOVICE | B9: 2615/1 | C9: 187 | D9: 187 | E9: pokos
B10: 2616 | C10: 52 | D10: 52 | E10: pokos
B11: 2618/2 | C11: 142 | D11: 142 | E11: pokos
B12: 2624/1 | C12: 71 | D12: 71 | E12: pokos
B13: 2626 | C13: 11 | D13: 11 | E13: pokos
B14: 2627 | C14: 236 | D14: 236 | E14: pokos
B15: 2631 | C15: 64 | D15: 64 | E15: pokos
B16: 2632 | C16: 1316 | D16: 1316 | E16: pokos,nálety
B17: 2633/1 | C17: 1153 | D17: 1153 | E17: pokos
B18: 2633/2 | C18: 2739 | D18: 2739 | E18: pokos
B19: 3429/2 | C19: 307 | D19: 307 | E19: pokos
B20: 3429/4 | C20: 401 | D20: 401 | E20: pokos
B21: 3431 | C21: 150 | D21: 150 | E21: pokos
B22: 3432/1 | C22: 236 | D22: 236 | E22: pokos
B23: 3432/2 | C23: 98 | D23: 98 | E23: pokos
B24: 3433/1 | C24: 625 | D24: 625 | E24: pokos
B25: 3594/1 | C25: 3563 | D25: 3563 | E25: pokos
B26: 3594/19 | C26: 5950 | D26: 5950 | E26: pokos
B27: 3597/11 | C27: 817 | D27: 817 | E27: pokos
B28: 3612/219 | C28: 716 | D28: 716 | E28: pokos
B29: 3945/5 | C29: 288 | D29: 288 | E29: pokos
B30: 5166/2 | C30: 340 | D30: 340 | E30: pokos
B31: 5184/48 | C31: 490 | D31: 490 | E31: pokos
A32: CELKEM m2 PRO ÚKLID | D32: =SUM(D9:D31) -> 19952
A35: B.) 2 x pokos, odstranění náletových dřevin, sběr odpadu, ekologická likvidace veškerého odpadu
A37: Katastr | B37: Pozemky p.č. | C37: Celková výměra pozemku | D37: Plocha pro úklid | E37: Poznámka
A38: ŘEČKOVICE | B38: 2825/2 | C38: 16 | D38: 16 | E38: pokos,nálety
B39: 2862/8 | C39: 50 | D39: 50 | E39: pokos,nálety
B40: 3447/1 | C40: 418 | D40: 418 | E40: pokos
B41: 3447/2 | C41: 259 | D41: 259 | E41: pokos
B42: 3447/3 | C42: 106 | D42: 106 | E42: pokos
B43: 3448 | C43: 2829 | D43: 2829 | E43: pokos
B44: 3451/1 | C44: 490 | D44: 490 | E44: pokos
B45: 3451/2 | C45: 566 | D45: 566 | E45: pokos
B46: 3456/2 | C46: 619 | D46: 619 | E46: pokos,sběr odpadu podchod
B47: 3467/7 | C47: 1652 | D47: 1652 | E47: pokos
B48: 3467/8 | C48: 4340 | D48: 4340 | E48: pokos
B49: 3470/2 | C49: 1886 | D49: 1886 | E49: pokos
B50: 3470/6 | C50: 2602 | D50: 2602 | E50: pokos
B51: 3470/9 | C51: 201 | D51: 201 | E51: pokos
B52: 3472/1 | C52: 5257 | D52: 5257 | E52: pokos
B53: 3472/2 | C53: 1092 | D53: 546 | E53: pokos,nálety
B54: 3472/3 | C54: 1901 | D54: 950 | E54: pokos,nálety
B55: 3472/37 | C55: 2312 | D55: 2312 | E55: pokos,nálety
B56: 3476/2 | C56: 1372 | D56: 1372 | E56: pokos,nálety
B57: 3494 | C57: 108 | D57: 108 | E57: pokos,nálety
B58: 3496/1 | C58: 354 | D58: 177 | E58: pokos,nálety
B59: 3498 | C59: 15 | D59: 15 | E59: pokos,nálety
A60: CELKEM m2 PRO ÚKLID | D60: =SUM(D38:D59) -> 26771
A63: C.) jarní a podzimní výhrab listí, ekologická likvidace veškerého odpadu
A65: Katastr | B65: Pozemky p.č. | C65: Celková výměra pozemku | D65: Plocha pro úklid | E65: Poznámka
A66: ŘEČKOVICE | B66: 2632 | C66: 1316 | D66: 1316 | E66: jarní a podzimní výhrab listí
A67: CELKEM m2 PRO ÚKLID | D67: =SUM(D66:D66) -> 1316
A71: REKAPITULACE CENY
A73: DRUH PLNĚNÍ | B73: MJ/M2 | C73: CENA/MJ | D73: CENA CELKEM 1 PLNĚNÍ | E73: CENA CELKEM ZA CELÉ PLNĚNÍ
A74: A | B74: =D32 -> 19952 | D74: =B74*C74 -> 0 | E74: =D74*4 -> 0
A75: B | B75: =D60 -> 26771 | D75: =B75*C75 -> 0 | E75: =D75*2 -> 0
A76: C | B76: =D67 -> 1316 | D76: =B76*C76 -> 0 | E76: =D76*2 -> 0
A77: CENA CELKEM BEZ DPH | E77: =SUM(E74:E76) -> 0
A78: DPH 21 % | E78: =E77/100*21 -> 0
A79: CENA CELKEM VČ. DPH | E79: =E77+E78 -> 0

Sheet Soběšice
E1: Příloha č. 2
A3: SOUPIS POZEMKŮ - k.ú. SOBĚŠICE - REKAPITULACE CENY
A5: A.) 4 x pokos, jednorázová probírka dřevin a odstranění náletových dřevin, jarní a podzimní výhrab listí, sběr odpadu, ekologická likvidace veškerého odpadu
A7: Katastr | B7: Pozemky p.č. | C7: Celková výměra pozemku | D7: Plocha pro úklid | E7: Poznámka
A8: SOBĚŠICE | B8: 935/1 | C8: 197 | D8: 197 | E8: pokos
B9: 937/1 | C9: 115 | D9: 115 | E9: pokos
A10: CELKEM m2 PRO ÚKLID | D10: =SUM(D8:D9) -> 312
A14: REKAPITULACE CENY
A16: DRUH PLNĚNÍ | B16: MJ/M2 | C16: CENA/MJ | D16: CENA CELKEM 1 PLNĚNÍ | E16: CENA CELKEM ZA CELÉ PLNĚNÍ
A17: A | B17: =D10 -> 312 | D17: =B17*C17 -> 0 | E17: =D17*4 -> 0
A18: CENA CELKEM BEZ DPH | E18: =SUM(E17:E17) -> 0
A19: DPH 21 % | E19: =E18/100*21 -> 0
A20: CENA CELKEM VČ. DPH | E20: =E18+E19 -> 0

Sheet Mokrá Hora
E1: Příloha č. 2
A3: SOUPIS POZEMKŮ - k.ú. MOKRÁ HORA - REKAPITULACE CENY
A5: A.) 4 x pokos, jednorázové odstranění náletových dřevin, ekologická likvidace veškerého odpadu
A7: Katastr | B7: Pozemky p.č. | C7: Celková výměra pozemku | D7: Plocha pro úklid | E7: Poznámka
A8: MOKRÁ HORA | B8: 258/2 | C8: 95 | D8: 95 | E8: pokos, nálety
B9: 532/1 | C9: 99 | D9: 99 | E9: pokos
B10: 532/2 | C10: 14 | D10: 14 | E10: pokos
B11: 579 | C11: 321 | D11: 321 | E11: pokos
B12: 599/16 | C12: 285 | D12: 285 | E12: pokos, nálety
A13: CELKEM m2 PRO ÚKLID | D13: =SUM(D8:D12) -> 814
A17: REKAPITULACE CENY
A19: DRUH PLNĚNÍ | B19: MJ/M2 | C19: CENA/MJ | D19: CENA CELKEM 1 PLNĚNÍ | E19: CENA CELKEM ZA CELÉ PLNĚNÍ
A20: A | B20: =D13 -> 814 | D20: =B20*C20 -> 0 | E20: =D20*4 -> 0
A21: CENA CELKEM BEZ DPH | E21: =SUM(E20:E20) -> 0
A22: DPH 21 % | E22: =E21/100*21 -> 0
A23: CENA CELKEM VČ. DPH | E23: =E21+E22 -> 0

Sheet REKAPITULACE
A2: REKAPITULACE CELKOVÉ CENY ZAKÁZKY
A4: Katastr | B4: CENA CELKEM BEZ DPH | C4: DPH 21% | D4: CENA CELKEM VČETNĚ DPH
A5: Řečkovice | B5: =Řečkovice!E77 -> 0 | C5: =Řečkovice!E78 -> 0 | D5: =Řečkovice!E79 -> 0
A6: Soběšice | B6: =Soběšice!E18 -> 0 | C6: =Soběšice!E19 -> 0 | D6: =Soběšice!E20 -> 0
A7: Mokrá Hora | B7: ='Mokrá Hora'!E21 -> 0 | C7: ='Mokrá Hora'!E22 -> 0 | D7: ='Mokrá Hora'!E23 -> 0
A8: CENA CELKEM BEZ DPH | D8: =SUM(B5:B7) -> 0
A9: CELKEM DPH 21 % | D9: =SUM(C5:C7) -> 0
A10: CENA CELKEM VČ. DPH | D10: =SUM(D5:D7) -> 0
