Workbook

Sheet Rekapitulace stavby
A1: Export Komplet | BA1: 2.0 | BT1: False | BU1: False | BV1: {a7e35198-0065-4271-a547-babd4c42ed08}
AR2: >> skryté sloupce << | BS2: 0,01 | BT2: 21
BS3: 0,01 | BT3: 15
D4: REKAPITULACE STAVBY | AS4: v --- níže se nacházejí doplnkové a pomocné údaje k sestavám --- v | BE4: Návod na vyplnění | BS4: 0,001
D5: Kód: | K5: Plynarenska8 | BE5: Měnit lze pouze buňky se žlutým podbarvením!_x000D_ _x000D_ 1) na prvním listu Rekapitulace stavby vyplňte v sestavě_x000D_ _x000D_ a) Souhrnný list_x000D_ - údaje o Uchazeči_x000D_ (přenesou se do ostatních sestav i v jiných listech)_x000D_ _x000D_ b) Rekapitulace objektů_x000D_ - potřebné Ostatní náklady_x000D_ _x000D_ 2) na vybraných listech vyplňte v sestavě_x000D_ _x000D_ a) Krycí list_x000D_ - údaje o Uchazeči, pokud se liší od údajů o Uchazeči na Souhrnném listu_x000D_ (údaje se přenesou do ostatních sestav v daném listu)_x000D_ _x000D_ b) Rekapitulace rozpočtu_x000D_ - potřebné Ostatní náklady_x000D_ _x000D_ c) Celkové náklady za stavbu_x000D_ - ceny u položek_x000D_ - množství, pokud má žluté podbarvení_x000D_ - a v případě potřeby poznámku (ta je ve skrytém sloupci) | BS5: 0,01
D6: Stavba: | K6: Výpočet ploch pro úklid společných prostor v domě | BS6: 0,01
D7: KSO: | AK7: CC-CZ: | BS7: 0,01
D8: Místo: | K8: Plynárenská 263/8,Brno | AK8: Datum: | AN8: 2. 11. 2021 | BS8: 0,01
BS9: 0,01
D10: Zadavatel: | AK10: IČ: | BS10: 0,01
E11: MmBrna,OSM,Husova 3,Brno | AK11: DIČ: | BS11: 0,01
BS12: 0,01
D13: Uchazeč: | AK13: IČ: | AN13: Vyplň údaj | BS13: 0,01
E14: Vyplň údaj | AK14: DIČ: | AN14: Vyplň údaj | BS14: 0,01
BS15: False
D16: Projektant: | AK16: IČ: | BS16: False
E17: R.Volková | AK17: DIČ: | BS17: True
BS18: 0,01
D19: Zpracovatel: | AK19: IČ: | BS19: 0,01
E20: Radka Volková | AK20: DIČ: | BS20: True
D22: Poznámka:
D26: Cena bez DPH | AK26: =ROUND(AG94,2) -> 0
L28: Sazba daně | W28: Základ daně | AK28: Výše daně
D29: DPH | F29: základní | L29: 0.21 | W29: =ROUND(AZ94, 2) -> 0 | AK29: =ROUND(AV94, 2) -> 0
F30: snížená | L30: 0.15 | W30: =ROUND(BA94, 2) -> 0 | AK30: =ROUND(AW94, 2) -> 0
F31: zákl. přenesená | L31: 0.21 | W31: =ROUND(BB94, 2) -> 0 | AK31: 0
F32: sníž. přenesená | L32: 0.15 | W32: =ROUND(BC94, 2) -> 0 | AK32: 0
F33: nulová | L33: 0 | W33: =ROUND(BD94, 2) -> 0 | AK33: 0
D35: Cena s DPH | T35: v | X35: CZK | AK35: =SUM(AK26:AK33) -> 0
D49: Projektant | AH49: Zpracovatel
D60: Datum a podpis: | V60: Razítko | AH60: Datum a podpis: | AM60: Razítko
D64: Objednavatel | AH64: Uchazeč
D75: Datum a podpis: | V75: Razítko | AH75: Datum a podpis: | AM75: Razítko
C82: REKAPITULACE OBJEKTŮ STAVBY A SOUPISŮ PRACÍ
C84: Kód: | L84: =K5 -> Plynarenska8
C85: Stavba: | L85: =K6 -> Výpočet ploch pro úklid společných prostor v domě
C87: Místo: | L87: =IF(K8="","",K8) -> Plynárenská 263/8,Brno | AI87: Datum: | AM87: =IF(AN8= "","",AN8) -> 2. 11. 2021
C89: Zadavatel: | L89: =IF(E11= "","",E11) -> MmBrna,OSM,Husova 3,Brno | AI89: Projektant: | AM89: =IF(E17="","",E17) -> R.Volková | AS89: Informatívní údaje z listů zakázek
C90: Uchazeč: | L90: =IF(E14= "Vyplň údaj","",E14) | AI90: Zpracovatel: | AM90: =IF(E20="","",E20) -> Radka Volková
C92: Kód | I92: Popis | AG92: Cena bez DPH [CZK] | AN92: Cena s DPH [CZK] | AQ92: Typ | AS92: z toho Ostat._x000D_ náklady [CZK] | AT92: DPH [CZK] | AU92: Normohodiny [h] | AV92: DPH základní [CZK] | AW92: DPH snížená [CZK] | AX92: DPH základní přenesená_x000D_ [CZK] | AY92: DPH snížená přenesená_x000D_ [CZK] | AZ92: Základna_x000D_ DPH základní | BA92: Základna_x000D_ DPH snížená | BB92: Základna_x000D_ DPH zákl. přenesená | BC92: Základna_x000D_ DPH sníž. přenesená | BD92: Základna_x000D_ DPH nulová
C94: Náklady z rozpočtů | AG94: =ROUND(AG95,2) -> 0 | AN94: =SUM(AG94,AT94) -> 0 | AS94: =ROUND(AS95,2) -> 0 | AT94: =ROUND(SUM(AV94:AW94),2) -> 0 | AU94: =ROUND(AU95,5) -> 0 | AV94: =ROUND(AZ94*L29,2) -> 0 | AW94: =ROUND(BA94*L30,2) -> 0 | AX94: =ROUND(BB94*L29,2) -> 0 | AY94: =ROUND(BC94*L30,2) -> 0 | AZ94: =ROUND(AZ95,2) -> 0 | BA94: =ROUND(BA95,2) -> 0 | BB94: =ROUND(BB95,2) -> 0 | BC94: =ROUND(BC95,2) -> 0 | BD94: =ROUND(BD95,2) -> 0 | BS94: D | BT94: 0 | BV94: IMPORT | BW94: {a7e35198-0065-4271-a547-babd4c42ed08} | BX94: {00000000-0000-0000-0000-000000000000}
A95: / | D95: Plynarenska8 | J95: Výpočet ploch pro úklid společných prostor v domě | AG95: ='Plynarenska8 - Výpočet pl...'!J28 -> 0 | AN95: =SUM(AG95,AT95) -> 0 | AQ95: STA | AS95: 0 | AT95: =ROUND(SUM(AV95:AW95),2) -> 0 | AU95: ='Plynarenska8 - Výpočet pl...'!P116 -> 0 | AV95: ='Plynarenska8 - Výpočet pl...'!J31 -> 0 | AW95: ='Plynarenska8 - Výpočet pl...'!J32 -> 0 | AX95: ='Plynarenska8 - Výpočet pl...'!J33 -> 0 | AY95: ='Plynarenska8 - Výpočet pl...'!J34 -> 0 | AZ95: ='Plynarenska8 - Výpočet pl...'!F31 -> 0 | BA95: ='Plynarenska8 - Výpočet pl...'!F32 -> 0 | BB95: ='Plynarenska8 - Výpočet pl...'!F33 -> 0 | BC95: ='Plynarenska8 - Výpočet pl...'!F34 -> 0 | BD95: ='Plynarenska8 - Výpočet pl...'!F35 -> 0 | BT95: 1 | BU95: ###NOINSERT### | BV95: IMPORT | BW95: {a7e35198-0065-4271-a547-babd4c42ed08} | BX95: {00000000-0000-0000-0000-000000000000}

Sheet Plynarenska8 - Výpočet pl...
L2: >> skryté sloupce << | AT2: {a7e35198-0065-4271-a547-babd4c42ed08}
AT3: 1
D4: KRYCÍ LIST SOUPISU PRACÍ | M4: v --- níže se nacházejí doplnkové a pomocné údaje k sestavám --- v | AT4: False
D6: Stavba:
E7: Výpočet ploch pro úklid společných prostor v domě
D9: KSO: | I9: CC-CZ:
D10: Místo: | F10: Plynárenská 263/8,Brno | I10: Datum: | J10: ='Rekapitulace stavby'!AN8 -> 2. 11. 2021
D12: Zadavatel: | I12: IČ:
E13: MmBrna,OSM,Husova 3,Brno | I13: DIČ:
D15: Uchazeč: | I15: IČ: | J15: ='Rekapitulace stavby'!AN13 -> Vyplň údaj
E16: ='Rekapitulace stavby'!E14 -> Vyplň údaj | I16: DIČ: | J16: ='Rekapitulace stavby'!AN14 -> Vyplň údaj
D18: Projektant: | I18: IČ:
E19: R.Volková | I19: DIČ:
D21: Zpracovatel: | I21: IČ:
E22: Radka Volková | I22: DIČ:
D24: Poznámka:
D28: Cena bez DPH | J28: =ROUND(J116, 2) -> 0
F30: Základ daně | I30: Sazba daně | J30: Výše daně
D31: DPH | E31: základní | F31: =ROUND((SUM(BE116:BE151)), 2) -> 0 | I31: 0.21 | J31: =ROUND(((SUM(BE116:BE151))*I31), 2) -> 0
E32: snížená | F32: =ROUND((SUM(BF116:BF151)), 2) -> 0 | I32: 0.15 | J32: =ROUND(((SUM(BF116:BF151))*I32), 2) -> 0
E33: zákl. přenesená | F33: =ROUND((SUM(BG116:BG151)), 2) -> 0 | I33: 0.21 | J33: =0 -> 0
E34: sníž. přenesená | F34: =ROUND((SUM(BH116:BH151)), 2) -> 0 | I34: 0.15 | J34: =0 -> 0
E35: nulová | F35: =ROUND((SUM(BI116:BI151)), 2) -> 0 | I35: 0 | J35: =0 -> 0
D37: Cena s DPH | G37: v | H37: CZK | J37: =SUM(J28:J35) -> 0
D50: Projektant | G50: Zpracovatel
D61: Datum a podpis: | F61: Razítko | G61: Datum a podpis: | J61: Razítko
D65: Objednavatel | G65: Uchazeč
D76: Datum a podpis: | F76: Razítko | G76: Datum a podpis: | J76: Razítko
C82: REKAPITULACE ČLENĚNÍ SOUPISU PRACÍ
C84: Stavba:
E85: =E7 -> Výpočet ploch pro úklid společných prostor v domě
C87: Místo: | F87: =F10 -> Plynárenská 263/8,Brno | I87: Datum: | J87: =IF(J10="","",J10) -> 2. 11. 2021
C89: Zadavatel: | F89: =E13 -> MmBrna,OSM,Husova 3,Brno | I89: Projektant: | J89: =E19 -> R.Volková
C90: Uchazeč: | F90: =IF(E16="","",E16) -> Vyplň údaj | I90: Zpracovatel: | J90: =E22 -> Radka Volková
C92: Kód dílu - Popis | J92: Cena celkem [CZK]
C94: Náklady ze soupisu prací | J94: =J116 -> 0 | AU94: -1
D95: HSV - Práce a dodávky HSV | J95: =J117 -> 0
D96: 1 - Zemní práce | J96: =J118 -> 0
D97: VRN - Vedlejší rozpočtové náklady | J97: =J149 -> 0
D98: VRN6 - Územní vlivy | J98: =J150 -> 0
C105: SOUPIS PRACÍ
C107: Stavba:
E108: =E7 -> Výpočet ploch pro úklid společných prostor v domě
C110: Místo: | F110: =F10 -> Plynárenská 263/8,Brno | I110: Datum: | J110: =IF(J10="","",J10) -> 2. 11. 2021
C112: Zadavatel: | F112: =E13 -> MmBrna,OSM,Husova 3,Brno | I112: Projektant: | J112: =E19 -> R.Volková
C113: Uchazeč: | F113: =IF(E16="","",E16) -> Vyplň údaj | I113: Zpracovatel: | J113: =E22 -> Radka Volková
C115: PČ | D115: Typ | E115: Kód | F115: Popis | G115: MJ | H115: Množství | I115: J.cena [CZK] | J115: Cena celkem [CZK] | K115: Cenová soustava | N115: DPH | O115: J. Nh [h] | P115: Nh celkem [h] | Q115: J. hmotnost [t] | R115: Hmotnost celkem [t] | S115: J. suť [t] | T115: Suť Celkem [t]
C116: Náklady soupisu celkem | J116: =BK116 -> 0 | P116: =P117+P149 -> 0 | R116: =R117+R149 -> 0 | T116: =T117+T149 -> 0 | AT116: D | AU116: -1 | BK116: =BK117+BK149 -> 0
D117: D | E117: HSV | F117: Práce a dodávky HSV | J117: =BK117 -> 0 | P117: =P118 -> 0 | R117: =R118 -> 0 | T117: =T118 -> 0 | AR117: 1 | AT117: D | AU117: 0 | AY117: ROZPOCET | BK117: =BK118 -> 0
D118: D | E118: 1 | F118: Zemní práce | J118: =BK118 -> 0 | P118: =SUM(P119:P148) -> 0 | R118: =SUM(R119:R148) -> 0 | T118: =SUM(T119:T148) -> 0 | AR118: 1 | AT118: D | AU118: 1 | AY118: ROZPOCET | BK118: =SUM(BK119:BK148) -> 0
C119: 1 | D119: K | E119: 1-pol. 1 | F119: Úklid podlahy na chodbě,na podestě,schodišti,mezipodestách, utření madla - 52x ročně | G119: m2 | H119: 118 | J119: =ROUND(I119*H119,2) -> 0 | N119: snížená | P119: =O119*H119 -> 0 | Q119: 0 | R119: =Q119*H119 -> 0 | S119: 0 | T119: =S119*H119 -> 0 | AR119: 4 | AT119: K | AU119: 2 | AY119: ROZPOCET | BE119: =IF(N119="základní",J119,0) -> 0 | BF119: =IF(N119="snížená",J119,0) -> 0 | BG119: =IF(N119="zákl. přenesená",J119,0) -> 0 | BH119: =IF(N119="sníž. přenesená",J119,0) -> 0 | BI119: =IF(N119="nulová",J119,0) -> 0 | BJ119: 2 | BK119: =ROUND(I119*H119,2) -> 0 | BL119: 4 | BM119: -1797938087
D120: VV | F120: "chodba 101"30,6 | H120: 30.6 | AT120: VV | AU120: 2 | AV120: 2 | AW120: True | AX120: 0 | AY120: ROZPOCET
D121: VV | F121: "schodištová chodba -102a,104a"13,7+2,5 | H121: 16.2 | AT121: VV | AU121: 2 | AV121: 2 | AW121: True | AX121: 0 | AY121: ROZPOCET
D122: VV | F122: "schodiště 1.np-5np"13,5+13,5+13,5+13,5+4,3*4 | H122: 71.2 | AT122: VV | AU122: 2 | AV122: 2 | AW122: True | AX122: 0 | AY122: ROZPOCET
D123: VV | F123: Součet | H123: 118 | AT123: VV | AU123: 2 | AV123: 4 | AW123: True | AX123: 1 | AY123: ROZPOCET
C124: 2 | D124: K | E124: 1-pol. 2 | F124: Umytí oken a vchodových dveří, rámů a parapetu,dveří včetně pomocného lešení-2x ročně | G124: m2 | H124: 60.78 | J124: =ROUND(I124*H124,2) -> 0 | N124: snížená | P124: =O124*H124 -> 0 | Q124: 0 | R124: =Q124*H124 -> 0 | S124: 0 | T124: =S124*H124 -> 0 | AR124: 4 | AT124: K | AU124: 2 | AY124: ROZPOCET | BE124: =IF(N124="základní",J124,0) -> 0 | BF124: =IF(N124="snížená",J124,0) -> 0 | BG124: =IF(N124="zákl. přenesená",J124,0) -> 0 | BH124: =IF(N124="sníž. přenesená",J124,0) -> 0 | BI124: =IF(N124="nulová",J124,0) -> 0 | BJ124: 2 | BK124: =ROUND(I124*H124,2) -> 0 | BL124: 4 | BM124: 1293286989
D125: VV | F125: "1 okna"(1,0*2,0+0,8*2,0+0,35*0,5*2)*2 | H125: 7.9 | AT125: VV | AU125: 2 | AV125: 2 | AW125: True | AX125: 0 | AY125: ROZPOCET
D126: VV | F126: "1np-dveře"(1,4*3,8+1,4*3,8)*2 | H126: 21.28 | AT126: VV | AU126: 2 | AV126: 2 | AW126: True | AX126: 0 | AY126: ROZPOCET
D127: VV | F127: Mezisoučet | H127: 29.18 | AT127: VV | AU127: 2 | AV127: 3 | AW127: True | AX127: 0 | AY127: ROZPOCET
D128: VV | F128: "2-okna"(1,0*2,0+0,8*2,0+0,35*0,5*2)*2 | H128: 7.9 | AT128: VV | AU128: 2 | AV128: 2 | AW128: True | AX128: 0 | AY128: ROZPOCET
D129: VV | F129: Mezisoučet | H129: 7.9 | AT129: VV | AU129: 2 | AV129: 3 | AW129: True | AX129: 0 | AY129: ROZPOCET
D130: VV | F130: "3"7,9 | H130: 7.9 | AT130: VV | AU130: 2 | AV130: 2 | AW130: True | AX130: 0 | AY130: ROZPOCET
D131: VV | F131: Mezisoučet | H131: 7.9 | AT131: VV | AU131: 2 | AV131: 3 | AW131: True | AX131: 0 | AY131: ROZPOCET
D132: VV | F132: "4"7,9 | H132: 7.9 | AT132: VV | AU132: 2 | AV132: 2 | AW132: True | AX132: 0 | AY132: ROZPOCET
D133: VV | F133: Mezisoučet | H133: 7.9 | AT133: VV | AU133: 2 | AV133: 3 | AW133: True | AX133: 0 | AY133: ROZPOCET
D134: VV | F134: "5"7,9 | H134: 7.9 | AT134: VV | AU134: 2 | AV134: 2 | AW134: True | AX134: 0 | AY134: ROZPOCET
D135: VV | F135: Součet | H135: 60.78 | AT135: VV | AU135: 2 | AV135: 4 | AW135: True | AX135: 1 | AY135: ROZPOCET
C136: 3 | D136: K | E136: 1-pol. 3 | F136: Umytí podlahy v úklidové místnosti+dveře-2x ročně | G136: m2 | H136: 2.2 | J136: =ROUND(I136*H136,2) -> 0 | N136: snížená | P136: =O136*H136 -> 0 | Q136: 0 | R136: =Q136*H136 -> 0 | S136: 0 | T136: =S136*H136 -> 0 | AR136: 4 | AT136: K | AU136: 2 | AY136: ROZPOCET | BE136: =IF(N136="základní",J136,0) -> 0 | BF136: =IF(N136="snížená",J136,0) -> 0 | BG136: =IF(N136="zákl. přenesená",J136,0) -> 0 | BH136: =IF(N136="sníž. přenesená",J136,0) -> 0 | BI136: =IF(N136="nulová",J136,0) -> 0 | BJ136: 2 | BK136: =ROUND(I136*H136,2) -> 0 | BL136: 4 | BM136: 123271729
D137: VV | F137: "1np"2,2 | H137: 2.2 | AT137: VV | AU137: 2 | AV137: 2 | AW137: True | AX137: 0 | AY137: ROZPOCET
D138: VV | F138: Součet | H138: 2.2 | AT138: VV | AU138: 2 | AV138: 4 | AW138: True | AX138: 1 | AY138: ROZPOCET
C139: 4 | D139: K | E139: 1-pol. 4 | F139: Umytí výtahu, 6 x dveří,zrcadla-52 x ročně | G139: sada | H139: 1 | J139: =ROUND(I139*H139,2) -> 0 | N139: snížená | P139: =O139*H139 -> 0 | Q139: 0 | R139: =Q139*H139 -> 0 | S139: 0 | T139: =S139*H139 -> 0 | AR139: 4 | AT139: K | AU139: 2 | AY139: ROZPOCET | BE139: =IF(N139="základní",J139,0) -> 0 | BF139: =IF(N139="snížená",J139,0) -> 0 | BG139: =IF(N139="zákl. přenesená",J139,0) -> 0 | BH139: =IF(N139="sníž. přenesená",J139,0) -> 0 | BI139: =IF(N139="nulová",J139,0) -> 0 | BJ139: 2 | BK139: =ROUND(I139*H139,2) -> 0 | BL139: 4 | BM139: 1718700215
D140: VV | F140: 1 | H140: 1 | AT140: VV | AU140: 2 | AV140: 2 | AW140: True | AX140: 1 | AY140: ROZPOCET
C141: 5 | D141: K | E141: 1-pol. 5 | F141: Zametení dvora -52x ročně | G141: m2 | H141: 12 | J141: =ROUND(I141*H141,2) -> 0 | N141: snížená | P141: =O141*H141 -> 0 | Q141: 0 | R141: =Q141*H141 -> 0 | S141: 0 | T141: =S141*H141 -> 0 | AR141: 4 | AT141: K | AU141: 2 | AY141: ROZPOCET | BE141: =IF(N141="základní",J141,0) -> 0 | BF141: =IF(N141="snížená",J141,0) -> 0 | BG141: =IF(N141="zákl. přenesená",J141,0) -> 0 | BH141: =IF(N141="sníž. přenesená",J141,0) -> 0 | BI141: =IF(N141="nulová",J141,0) -> 0 | BJ141: 2 | BK141: =ROUND(I141*H141,2) -> 0 | BL141: 4 | BM141: 1175346512
D142: VV | F142: 12 | H142: 12 | AT142: VV | AU142: 2 | AV142: 2 | AW142: True | AX142: 1 | AY142: ROZPOCET
C143: 6 | D143: K | E143: 1-pol. 6 | F143: Umytí světel,vypínačů,ometení pavučin+pom.lešení-2x ročně | G143: sada | H143: 1 | J143: =ROUND(I143*H143,2) -> 0 | N143: snížená | P143: =O143*H143 -> 0 | Q143: 0 | R143: =Q143*H143 -> 0 | S143: 0 | T143: =S143*H143 -> 0 | AR143: 4 | AT143: K | AU143: 2 | AY143: ROZPOCET | BE143: =IF(N143="základní",J143,0) -> 0 | BF143: =IF(N143="snížená",J143,0) -> 0 | BG143: =IF(N143="zákl. přenesená",J143,0) -> 0 | BH143: =IF(N143="sníž. přenesená",J143,0) -> 0 | BI143: =IF(N143="nulová",J143,0) -> 0 | BJ143: 2 | BK143: =ROUND(I143*H143,2) -> 0 | BL143: 4 | BM143: 1658541360
D144: VV | F144: 1 | H144: 1 | AT144: VV | AU144: 2 | AV144: 2 | AW144: True | AX144: 1 | AY144: ROZPOCET
C145: 7 | D145: K | E145: 1-pol. 7 | F145: Umytí zábradlí-6x ročně | G145: sada | H145: 1 | J145: =ROUND(I145*H145,2) -> 0 | N145: snížená | P145: =O145*H145 -> 0 | Q145: 0 | R145: =Q145*H145 -> 0 | S145: 0 | T145: =S145*H145 -> 0 | AR145: 4 | AT145: K | AU145: 2 | AY145: ROZPOCET | BE145: =IF(N145="základní",J145,0) -> 0 | BF145: =IF(N145="snížená",J145,0) -> 0 | BG145: =IF(N145="zákl. přenesená",J145,0) -> 0 | BH145: =IF(N145="sníž. přenesená",J145,0) -> 0 | BI145: =IF(N145="nulová",J145,0) -> 0 | BJ145: 2 | BK145: =ROUND(I145*H145,2) -> 0 | BL145: 4 | BM145: 678813546
D146: VV | F146: 1 | H146: 1 | AT146: VV | AU146: 2 | AV146: 2 | AW146: True | AX146: 1 | AY146: ROZPOCET
C147: 8 | D147: K | E147: 1-pol. 8 | F147: Umytí laviček-2x ročně | G147: kus | H147: 1 | J147: =ROUND(I147*H147,2) -> 0 | N147: snížená | P147: =O147*H147 -> 0 | Q147: 0 | R147: =Q147*H147 -> 0 | S147: 0 | T147: =S147*H147 -> 0 | AR147: 4 | AT147: K | AU147: 2 | AY147: ROZPOCET | BE147: =IF(N147="základní",J147,0) -> 0 | BF147: =IF(N147="snížená",J147,0) -> 0 | BG147: =IF(N147="zákl. přenesená",J147,0) -> 0 | BH147: =IF(N147="sníž. přenesená",J147,0) -> 0 | BI147: =IF(N147="nulová",J147,0) -> 0 | BJ147: 2 | BK147: =ROUND(I147*H147,2) -> 0 | BL147: 4 | BM147: 300642326
D148: VV | F148: 1 | H148: 1 | AT148: VV | AU148: 2 | AV148: 2 | AW148: True | AX148: 1 | AY148: ROZPOCET
D149: D | E149: VRN | F149: Vedlejší rozpočtové náklady | J149: =BK149 -> 0 | P149: =P150 -> 0 | R149: =R150 -> 0 | T149: =T150 -> 0 | AR149: 5 | AT149: D | AU149: 0 | AY149: ROZPOCET | BK149: =BK150 -> 0
D150: D | E150: VRN6 | F150: Územní vlivy | J150: =BK150 -> 0 | P150: =P151 -> 0 | R150: =R151 -> 0 | T150: =T151 -> 0 | AR150: 5 | AT150: D | AU150: 1 | AY150: ROZPOCET | BK150: =BK151 -> 0
C151: 9 | D151: K | E151: 062002000 | F151: Ztížené dopravní podmínky | G151: sada | H151: 1 | J151: =ROUND(I151*H151,2) -> 0 | N151: snížená | P151: =O151*H151 -> 0 | Q151: 0 | R151: =Q151*H151 -> 0 | S151: 0 | T151: =S151*H151 -> 0 | AR151: 1024 | AT151: K | AU151: 2 | AY151: ROZPOCET | BE151: =IF(N151="základní",J151,0) -> 0 | BF151: =IF(N151="snížená",J151,0) -> 0 | BG151: =IF(N151="zákl. přenesená",J151,0) -> 0 | BH151: =IF(N151="sníž. přenesená",J151,0) -> 0 | BI151: =IF(N151="nulová",J151,0) -> 0 | BJ151: 2 | BK151: =ROUND(I151*H151,2) -> 0 | BL151: 1024 | BM151: -1172446225
