Workbook

Sheet Staré Brno
D1: Příloha č. 2
A3: SOUPIS POZEMKŮ k.ú. Staré Brno
A5: Katastr | B5: Pozemky p.č. | C5: Celková výměra pozemku m2 | D5: Plocha pro úklid m2 | E5: Poznámka
A6: k.ú. Staré Brno - Pellicova 41, 43 | B6: 1010 (P41) | C6: 349 | D6: 103 | E6: přezahrádka
B7: 1011 (P41) | C7: 368 | D7: 368
B8: 1012 (P41) | C8: 1042 | D8: 1042
B9: 1009 (P43) | C9: 296 | D9: 125 | E9: přezahrádka
A10: CELKEM m2 PRO ÚKLID | D10: =SUM(D6:D9) -> 1638
A13: Vymezení plnění: | B13: Termíny v roce 2022 | D13: četnost
A14: pokos travnatého porostu | B14: duben - květen | D14: 4
B15: červen - červenec
B16: srpen
B17: říjen - listopad
A18: podzimní výhrab listí | B18: říjen - listopad (s pokosy) | D18: 1
A20: včetně ekologické likvidace veškerého odpadu a fotodokumentace
A22: REKAPITULACE CENY
A24: MJ/M2 | B24: CENA/MJ | C24: CENA CELKEM 1 PLNĚNÍ | D24: CENA CELKEM ZA CELÉ PLNĚNÍ
A25: =D10 -> 1638 | C25: =A25*B25 -> 0 | D25: =C25*4 -> 0
A26: CENA CELKEM BEZ DPH | D26: =D25 -> 0
A27: DPH 21 % | D27: =D26/100*21 -> 0
A28: CENA CELKEM VČ. DPH | D28: =D26+D27 -> 0

Sheet Ponava
D1: Příloha č. 2
A3: SOUPIS POZEMKŮ k.ú. Ponava
A5: Katastr | B5: Pozemky p.č. | C5: Celková výměra pozemku m2 | D5: Plocha pro úklid m2
A6: k.ú. Ponava - Rybníček 11 | B6: 600/1 | C6: 1927 | D6: 800
B7: 605/1 | C7: 734 | D7: 734
A8: CELKEM m2 PRO ÚKLID | D8: =SUM(D6:D7) -> 1534
A11: Vymezení plnění: | B11: Termíny v roce 2022 | D11: četnost
A12: pokos travnatého porostu, sběr odpadu | B12: duben - květen | D12: 4
B13: červen - červenec
B14: srpen
B15: říjen - listopad
A16: jednorázové odstranění náletových dřevin | B16: červen - červenec (s pokosy) | D16: 1
A17: údržba okrasného porostu | B17: červen - červenec (s pokosy) | D17: 1
A18: podzimní výhrab listí | B18: říjen - listopad (s pokosy) | D18: 1
A20: včetně ekologické likvidace veškerého odpadu a fotodokumentace
A22: REKAPITULACE CENY
A24: MJ/M2 | B24: CENA/MJ | C24: CENA CELKEM 1 PLNĚNÍ | D24: CENA CELKEM ZA CELÉ PLNĚNÍ
A25: =D8 -> 1534 | C25: =A25*B25 -> 0 | D25: =C25*4 -> 0
A26: CENA CELKEM BEZ DPH | D26: =D25 -> 0
A27: DPH 21 % | D27: =D26/100*21 -> 0
A28: CENA CELKEM VČ. DPH | D28: =D26+D27 -> 0

Sheet Komárov
D1: Příloha č. 2
A3: SOUPIS POZEMKŮ k.ú. Komárov
A5: Katastr | B5: Pozemky p.č. | C5: Celková výměra pozemku m2
A6: k.ú. Komárov - Lomená 48 | B6: 214/4 | C6: 616
B7: 214/10 | C7: 1157
B8: 214/11 | C8: 33
B9: 214/16 | C9: 80
A10: CELKEM m2 PRO ÚKLID | C10: =SUM(C6:C9) -> 1886
A12: Vymezení plnění: | B12: Termíny v roce 2022 | D12: četnost
A13: pokos travnatého porostu, sběr odpadu | B13: duben - květen | D13: 4
B14: červen - červenec
B15: srpen
B16: říjen - listopad
A17: jednorázové odstranění náletových dřevin | B17: červen - červenec (s pokosy) | D17: 1
A18: údržba okrasného porostu | B18: červen - červenec (s pokosy) | D18: 1
A19: podzimní výhrab listí | B19: říjen - listopad (s pokosy) | D19: 1
A21: včetně ekologické likvidace veškerého odpadu a fotodokumentace
A24: REKAPITULACE CENY
A26: MJ/M2 | B26: CENA/MJ | C26: CENA CELKEM 1 PLNĚNÍ | D26: CENA CELKEM ZA CELÉ PLNĚNÍ
A27: =C10 -> 1886 | C27: =A27*B27 -> 0 | D27: =C27*4 -> 0
A28: CENA CELKEM BEZ DPH | D28: =D27 -> 0
A29: DPH 21 % | D29: =D28/100*21 -> 0
A30: CENA CELKEM VČ. DPH | D30: =D28+D29 -> 0

Sheet Stránice
D1: Příloha č. 2
A3: SOUPIS POZEMKŮ k.ú. Stránice
A5: Katastr | B5: Pozemky p.č. | C5: Celková výměra pozemku m2
A6: k.ú. Stránice | B6: 425/1 | C6: 1832
B7: 426/2 | C7: 2121
A8: CELKEM m2 PRO ÚKLID | C8: =SUM(C6:C7) -> 3953
A11: Vymezení plnění: | B11: Termíny v roce 2022 | D11: četnost
A12: pokos travnatého porostu, sběr odpadu | B12: duben - květen | D12: 4
B13: červen - červenec
B14: srpen
B15: říjen - listopad
A16: jednorázové odstranění náletových dřevin | B16: červen - červenec (s pokosy) | D16: 1
A17: podzimní výhrab listí | B17: říjen - listopad (s pokosy) | D17: 1
A19: včetně ekologické likvidace veškerého odpadu a fotodokumentace
A23: REKAPITULACE CENY
A25: MJ/M2 | B25: CENA/MJ | C25: CENA CELKEM 1 PLNĚNÍ | D25: CENA CELKEM ZA CELÉ PLNĚNÍ
A26: =C8 -> 3953 | C26: =A26*B26 -> 0 | D26: =C26*4 -> 0
A27: CENA CELKEM BEZ DPH | D27: =D26 -> 0
A28: DPH 21 % | D28: =D27/100*21 -> 0
A29: CENA CELKEM VČ. DPH | D29: =D27+D28 -> 0

Sheet Bohunice
D1: Příloha č. 2
A3: SOUPIS POZEMKŮ k.ú. Bohunice
A5: Katastr | B5: Pozemky p.č. | C5: Celková výměra pozemku m2
A6: k.ú. Bohunice | B6: 890 | C6: 4593
B7: 891 | C7: 221
B8: 892 | C8: 137
B9: 893 | C9: 1460
A10: CELKEM m2 PRO ÚKLID | C10: =SUM(C6:C9) -> 6411
A13: Vymezení plnění: | B13: Termíny v roce 2022 | D13: četnost
A14: pokos travnatého porostu, sběr odpadu | B14: duben - květen | D14: 4
B15: červen - červenec
B16: srpen
B17: říjen - listopad
A18: jednorázové odstranění náletových dřevin | B18: červen - červenec (s pokosy) | D18: 1
A19: prořez okrasných dřevin, likvidace plevela na cestách | B19: červen - červenec (s pokosy) | D19: 1
A20: podzimní výhrab listí | B20: říjen - listopad (s pokosy) | D20: 1
A22: včetně ekologické likvidace veškerého odpadu a fotodokumentace
A25: REKAPITULACE CENY
A27: MJ/M2 | B27: CENA/MJ | C27: CENA CELKEM 1 PLNĚNÍ | D27: CENA CELKEM ZA CELÉ PLNĚNÍ
A28: =C10 -> 6411 | C28: =A28*B28 -> 0 | D28: =C28*4 -> 0
A29: CENA CELKEM BEZ DPH | D29: =D28 -> 0
A30: DPH 21 % | D30: =D29/100*21 -> 0
A31: CENA CELKEM VČ. DPH | D31: =D29+D30 -> 0

Sheet REKAPITULACE
A2: REKAPITULACE CELKOVÉ CENY ZAKÁZKY
A4: Katastr | B4: CENA CELKEM BEZ DPH | C4: DPH 21% | D4: CENA CELKEM VČETNĚ DPH
A5: Staré Brno | B5: ='Staré Brno'!D26 -> 0 | C5: =B5/100*21 -> 0 | D5: =B5+C5 -> 0
A6: Ponava | B6: =Ponava!D26 -> 0 | C6: =B6/100*21 -> 0 | D6: =B6+C6 -> 0
A7: Komárov | B7: =Komárov!D28 -> 0 | C7: =B7/100*21 -> 0 | D7: =B7+C7 -> 0
A8: Stránice | B8: =Stránice!D27 -> 0 | C8: =B8/100*21 -> 0 | D8: =B8+C8 -> 0
A9: Bohunice | B9: =Bohunice!D29 -> 0 | C9: =B9/100*21 -> 0 | D9: =B9+C9 -> 0
A10: CENA CELKEM BEZ DPH | D10: =SUM(B5:B9) -> 0
A11: CELKEM DPH 21 % | D11: =SUM(C5:C9) -> 0
A12: CENA CELKEM VČ. DPH | D12: =SUM(D5:D9) -> 0
