Workbook

Sheet Rekapitulace stavby
A1: Export Komplet | BA1: 2.0 | BT1: False | BU1: False | BV1: {63b1dab5-4a4b-476e-b978-110065384ddb}
AR2: >> skryté sloupce << | BS2: 0,01 | BT2: 21
BS3: 0,01 | BT3: 15
D4: REKAPITULACE STAVBY | AS4: v --- níže se nacházejí doplnkové a pomocné údaje k sestavám --- v | BE4: Návod na vyplnění | BS4: 0,001
D5: Kód: | K5: Rumiste-plotZ | BE5: Měnit lze pouze buňky se žlutým podbarvením!_x005F_x000d_ _x005F_x000d_ 1) na prvním listu Rekapitulace stavby vyplňte v sestavě_x005F_x000d_ _x005F_x000d_ a) Souhrnný list_x005F_x000d_ - údaje o Uchazeči_x005F_x000d_ (přenesou se do ostatních sestav i v jiných listech)_x005F_x000d_ _x005F_x000d_ b) Rekapitulace objektů_x005F_x000d_ - potřebné Ostatní náklady_x005F_x000d_ _x005F_x000d_ 2) na vybraných listech vyplňte v sestavě_x005F_x000d_ _x005F_x000d_ a) Krycí list_x005F_x000d_ - údaje o Uchazeči, pokud se liší od údajů o Uchazeči na Souhrnném listu_x005F_x000d_ (údaje se přenesou do ostatních sestav v daném listu)_x005F_x000d_ _x005F_x000d_ b) Rekapitulace rozpočtu_x005F_x000d_ - potřebné Ostatní náklady_x005F_x000d_ _x005F_x000d_ c) Celkové náklady za stavbu_x005F_x000d_ - ceny u položek_x005F_x000d_ - množství, pokud má žluté podbarvení_x005F_x000d_ - a v případě potřeby poznámku (ta je ve skrytém sloupci) | BS5: 0,01
D6: Stavba: | K6: Návrh řešení neprůhledného oplocení | BS6: 0,01
D7: KSO: | AK7: CC-CZ: | BS7: 0,01
D8: Místo: | K8: Rumiště 3,5,9 , Brno | AK8: Datum: | AN8: 25. 1. 2022 | BS8: 0,01
BS9: 0,01
D10: Zadavatel: | AK10: IČ: | BS10: 0,01
E11: MmBrna,OSM ,Husova 3,brno | AK11: DIČ: | BS11: 0,01
BS12: 0,01
D13: Uchazeč: | AK13: IČ: | AN13: Vyplň údaj | BS13: 0,01
E14: Vyplň údaj | AK14: DIČ: | AN14: Vyplň údaj | BS14: 0,01
BS15: False
D16: Projektant: | AK16: IČ: | BS16: False
E17: Ing.Ševelová Eva | AK17: DIČ: | BS17: True
BS18: 0,01
D19: Zpracovatel: | AK19: IČ: | BS19: 0,01
E20: Ševelová Eva ing. | AK20: DIČ: | BS20: True
D22: Poznámka:
D26: Cena bez DPH | AK26: =ROUND(AG94,2) -> 0
L28: Sazba daně | W28: Základ daně | AK28: Výše daně
D29: DPH | F29: základní | L29: 0.21 | W29: =ROUND(AZ94, 2) -> 0 | AK29: =ROUND(AV94, 2) -> 0
F30: snížená | L30: 0.15 | W30: =ROUND(BA94, 2) -> 0 | AK30: =ROUND(AW94, 2) -> 0
F31: zákl. přenesená | L31: 0.21 | W31: =ROUND(BB94, 2) -> 0 | AK31: 0
F32: sníž. přenesená | L32: 0.15 | W32: =ROUND(BC94, 2) -> 0 | AK32: 0
F33: nulová | L33: 0 | W33: =ROUND(BD94, 2) -> 0 | AK33: 0
D35: Cena s DPH | T35: v | X35: CZK | AK35: =SUM(AK26:AK33) -> 0
D49: Projektant | AH49: Zpracovatel
D60: Datum a podpis: | V60: Razítko | AH60: Datum a podpis: | AM60: Razítko
D64: Objednavatel | AH64: Uchazeč
D75: Datum a podpis: | V75: Razítko | AH75: Datum a podpis: | AM75: Razítko
C82: REKAPITULACE OBJEKTŮ STAVBY A SOUPISŮ PRACÍ
C84: Kód: | L84: =K5 -> Rumiste-plotZ
C85: Stavba: | L85: =K6 -> Návrh řešení neprůhledného oplocení
C87: Místo: | L87: =IF(K8="","",K8) -> Rumiště 3,5,9 , Brno | AI87: Datum: | AM87: =IF(AN8= "","",AN8) -> 25. 1. 2022
C89: Zadavatel: | L89: =IF(E11= "","",E11) -> MmBrna,OSM ,Husova 3,brno | AI89: Projektant: | AM89: =IF(E17="","",E17) -> Ing.Ševelová Eva | AS89: Informatívní údaje z listů zakázek
C90: Uchazeč: | L90: =IF(E14= "Vyplň údaj","",E14) | AI90: Zpracovatel: | AM90: =IF(E20="","",E20) -> Ševelová Eva ing.
C92: Kód | I92: Popis | AG92: Cena bez DPH [CZK] | AN92: Cena s DPH [CZK] | AQ92: Typ | AS92: z toho Ostat._x005F_x000d_ náklady [CZK] | AT92: DPH [CZK] | AU92: Normohodiny [h] | AV92: DPH základní [CZK] | AW92: DPH snížená [CZK] | AX92: DPH základní přenesená_x005F_x000d_ [CZK] | AY92: DPH snížená přenesená_x005F_x000d_ [CZK] | AZ92: Základna_x005F_x000d_ DPH základní | BA92: Základna_x005F_x000d_ DPH snížená | BB92: Základna_x005F_x000d_ DPH zákl. přenesená | BC92: Základna_x005F_x000d_ DPH sníž. přenesená | BD92: Základna_x005F_x000d_ DPH nulová
C94: Náklady z rozpočtů | AG94: =ROUND(AG95,2) -> 0 | AN94: =SUM(AG94,AT94) -> 0 | AS94: =ROUND(AS95,2) -> 0 | AT94: =ROUND(SUM(AV94:AW94),2) -> 0 | AU94: =ROUND(AU95,5) -> 0 | AV94: =ROUND(AZ94*L29,2) -> 0 | AW94: =ROUND(BA94*L30,2) -> 0 | AX94: =ROUND(BB94*L29,2) -> 0 | AY94: =ROUND(BC94*L30,2) -> 0 | AZ94: =ROUND(AZ95,2) -> 0 | BA94: =ROUND(BA95,2) -> 0 | BB94: =ROUND(BB95,2) -> 0 | BC94: =ROUND(BC95,2) -> 0 | BD94: =ROUND(BD95,2) -> 0 | BS94: D | BT94: 0 | BV94: IMPORT | BW94: {63b1dab5-4a4b-476e-b978-110065384ddb} | BX94: {00000000-0000-0000-0000-000000000000}
A95: / | D95: Rumiste-plotZ | J95: Návrh řešení neprůhledného oplocení | AG95: ='Rumiste-plotZ - Návrh řeš...'!J28 -> 0 | AN95: =SUM(AG95,AT95) -> 0 | AQ95: STA | AS95: 0 | AT95: =ROUND(SUM(AV95:AW95),2) -> 0 | AU95: ='Rumiste-plotZ - Návrh řeš...'!P122 -> 0 | AV95: ='Rumiste-plotZ - Návrh řeš...'!J31 -> 0 | AW95: ='Rumiste-plotZ - Návrh řeš...'!J32 -> 0 | AX95: ='Rumiste-plotZ - Návrh řeš...'!J33 -> 0 | AY95: ='Rumiste-plotZ - Návrh řeš...'!J34 -> 0 | AZ95: ='Rumiste-plotZ - Návrh řeš...'!F31 -> 0 | BA95: ='Rumiste-plotZ - Návrh řeš...'!F32 -> 0 | BB95: ='Rumiste-plotZ - Návrh řeš...'!F33 -> 0 | BC95: ='Rumiste-plotZ - Návrh řeš...'!F34 -> 0 | BD95: ='Rumiste-plotZ - Návrh řeš...'!F35 -> 0 | BT95: 1 | BU95: ###NOINSERT### | BV95: IMPORT | BW95: {63b1dab5-4a4b-476e-b978-110065384ddb} | BX95: {00000000-0000-0000-0000-000000000000}

Sheet Rumiste-plotZ - Návrh řeš...
L2: >> skryté sloupce << | AT2: {63b1dab5-4a4b-476e-b978-110065384ddb}
AT3: 2
D4: KRYCÍ LIST SOUPISU PRACÍ | M4: v --- níže se nacházejí doplnkové a pomocné údaje k sestavám --- v | AT4: False
D6: Stavba:
E7: Návrh řešení neprůhledného oplocení
D9: KSO: | I9: CC-CZ:
D10: Místo: | F10: Rumiště 3,5,9 , Brno | I10: Datum: | J10: ='Rekapitulace stavby'!AN8 -> 25. 1. 2022
D12: Zadavatel: | I12: IČ:
E13: MmBrna,OSM ,Husova 3,brno | I13: DIČ:
D15: Uchazeč: | I15: IČ: | J15: ='Rekapitulace stavby'!AN13 -> Vyplň údaj
E16: ='Rekapitulace stavby'!E14 -> Vyplň údaj | I16: DIČ: | J16: ='Rekapitulace stavby'!AN14 -> Vyplň údaj
D18: Projektant: | I18: IČ:
E19: Ing.Ševelová Eva | I19: DIČ:
D21: Zpracovatel: | I21: IČ:
E22: Ševelová Eva ing. | I22: DIČ:
D24: Poznámka:
D28: Cena bez DPH | J28: =ROUND(J122, 2) -> 0
F30: Základ daně | I30: Sazba daně | J30: Výše daně
D31: DPH | E31: základní | F31: =ROUND((SUM(BE122:BE170)), 2) -> 0 | I31: 0.21 | J31: =ROUND(((SUM(BE122:BE170))*I31), 2) -> 0
E32: snížená | F32: =ROUND((SUM(BF122:BF170)), 2) -> 0 | I32: 0.15 | J32: =ROUND(((SUM(BF122:BF170))*I32), 2) -> 0
E33: zákl. přenesená | F33: =ROUND((SUM(BG122:BG170)), 2) -> 0 | I33: 0.21 | J33: =0 -> 0
E34: sníž. přenesená | F34: =ROUND((SUM(BH122:BH170)), 2) -> 0 | I34: 0.15 | J34: =0 -> 0
E35: nulová | F35: =ROUND((SUM(BI122:BI170)), 2) -> 0 | I35: 0 | J35: =0 -> 0
D37: Cena s DPH | G37: v | H37: CZK | J37: =SUM(J28:J35) -> 0
D50: Projektant | G50: Zpracovatel
D61: Datum a podpis: | F61: Razítko | G61: Datum a podpis: | J61: Razítko
D65: Objednavatel | G65: Uchazeč
D76: Datum a podpis: | F76: Razítko | G76: Datum a podpis: | J76: Razítko
C82: REKAPITULACE ČLENĚNÍ SOUPISU PRACÍ
C84: Stavba:
E85: =E7 -> Návrh řešení neprůhledného oplocení
C87: Místo: | F87: =F10 -> Rumiště 3,5,9 , Brno | I87: Datum: | J87: =IF(J10="","",J10) -> 25. 1. 2022
C89: Zadavatel: | F89: =E13 -> MmBrna,OSM ,Husova 3,brno | I89: Projektant: | J89: =E19 -> Ing.Ševelová Eva
C90: Uchazeč: | F90: =IF(E16="","",E16) -> Vyplň údaj | I90: Zpracovatel: | J90: =E22 -> Ševelová Eva ing.
C92: Kód dílu - Popis | J92: Cena celkem [CZK]
C94: Náklady ze soupisu prací | J94: =J122 -> 0 | AU94: -1
D95: HSV - Práce a dodávky HSV | J95: =J123 -> 0
D96: 1 - Zemní práce | J96: =J124 -> 0
D97: 2 - Zakládání | J97: =J136 -> 0
D98: 3 - Svislé a kompletní konstrukce | J98: =J141 -> 0
D99: 9 - Ostatní konstrukce a práce, bourání | J99: =J152 -> 0
D100: 997 - Přesun sutě | J100: =J158 -> 0
D101: 998 - Přesun hmot | J101: =J164 -> 0
D102: VRN - Vedlejší rozpočtové náklady | J102: =J166 -> 0
D103: VRN3 - Zařízení staveniště | J103: =J167 -> 0
D104: VRN6 - Územní vlivy | J104: =J169 -> 0
C111: SOUPIS PRACÍ
C113: Stavba:
E114: =E7 -> Návrh řešení neprůhledného oplocení
C116: Místo: | F116: =F10 -> Rumiště 3,5,9 , Brno | I116: Datum: | J116: =IF(J10="","",J10) -> 25. 1. 2022
C118: Zadavatel: | F118: =E13 -> MmBrna,OSM ,Husova 3,brno | I118: Projektant: | J118: =E19 -> Ing.Ševelová Eva
C119: Uchazeč: | F119: =IF(E16="","",E16) -> Vyplň údaj | I119: Zpracovatel: | J119: =E22 -> Ševelová Eva ing.
C121: PČ | D121: Typ | E121: Kód | F121: Popis | G121: MJ | H121: Množství | I121: J.cena [CZK] | J121: Cena celkem [CZK] | K121: Cenová soustava | N121: DPH | O121: J. Nh [h] | P121: Nh celkem [h] | Q121: J. hmotnost [t] | R121: Hmotnost celkem [t] | S121: J. suť [t] | T121: Suť Celkem [t]
C122: Náklady soupisu celkem | J122: =BK122 -> 0 | P122: =P123+P166 -> 0 | R122: =R123+R166 -> 8.0630432 | T122: =T123+T166 -> 1.8448 | AT122: D | AU122: -1 | BK122: =BK123+BK166 -> 0
D123: D | E123: HSV | F123: Práce a dodávky HSV | J123: =BK123 -> 0 | P123: =P124+P136+P141+P152+P158+P164 -> 0 | R123: =R124+R136+R141+R152+R158+R164 -> 8.0630432 | T123: =T124+T136+T141+T152+T158+T164 -> 1.8448 | AR123: 1 | AT123: D | AU123: 0 | AY123: ROZPOCET | BK123: =BK124+BK136+BK141+BK152+BK158+BK164 -> 0
D124: D | E124: 1 | F124: Zemní práce | J124: =BK124 -> 0 | P124: =SUM(P125:P135) -> 0 | R124: =SUM(R125:R135) -> 0 | T124: =SUM(T125:T135) -> 1 | AR124: 1 | AT124: D | AU124: 1 | AY124: ROZPOCET | BK124: =SUM(BK125:BK135) -> 0
C125: 1 | D125: K | E125: 111201121 | F125: Odstranění křovin a vyklizení pozemku | G125: sada | H125: 1 | J125: =ROUND(I125*H125,2) -> 0 | K125: CS ÚRS 2022 01 | N125: základní | P125: =O125*H125 -> 0 | Q125: 0 | R125: =Q125*H125 -> 0 | S125: 1 | T125: =S125*H125 -> 1 | AR125: 4 | AT125: K | AU125: 2 | AY125: ROZPOCET | BE125: =IF(N125="základní",J125,0) -> 0 | BF125: =IF(N125="snížená",J125,0) -> 0 | BG125: =IF(N125="zákl. přenesená",J125,0) -> 0 | BH125: =IF(N125="sníž. přenesená",J125,0) -> 0 | BI125: =IF(N125="nulová",J125,0) -> 0 | BJ125: 1 | BK125: =ROUND(I125*H125,2) -> 0 | BL125: 4 | BM125: 449627370
C126: 2 | D126: K | E126: 133211011 | F126: Hloubení šachet v soudržných horninách třídy těžitelnosti I skupiny 3 při překopech inženýrských sítí objemu do 10 m3 ručně | G126: m3 | H126: 2.88 | J126: =ROUND(I126*H126,2) -> 0 | K126: CS ÚRS 2022 01 | N126: základní | P126: =O126*H126 -> 0 | Q126: 0 | R126: =Q126*H126 -> 0 | S126: 0 | T126: =S126*H126 -> 0 | AR126: 4 | AT126: K | AU126: 2 | AY126: ROZPOCET | BE126: =IF(N126="základní",J126,0) -> 0 | BF126: =IF(N126="snížená",J126,0) -> 0 | BG126: =IF(N126="zákl. přenesená",J126,0) -> 0 | BH126: =IF(N126="sníž. přenesená",J126,0) -> 0 | BI126: =IF(N126="nulová",J126,0) -> 0 | BJ126: 1 | BK126: =ROUND(I126*H126,2) -> 0 | BL126: 4 | BM126: 2003499216
D127: VV | F127: 20*0,4*0,4*0,9 | H127: 2.88 | AT127: VV | AU127: 2 | AV127: 2 | AW127: True | AX127: 0 | AY127: ROZPOCET
D128: VV | F128: Součet | H128: 2.88 | AT128: VV | AU128: 2 | AV128: 4 | AW128: True | AX128: 1 | AY128: ROZPOCET
C129: 3 | D129: K | E129: 162751117 | F129: Vodorovné přemístění přes 9 000 do 10000 m výkopku/sypaniny z horniny třídy těžitelnosti I skupiny 1 až 3 | G129: m3 | H129: 2.88 | J129: =ROUND(I129*H129,2) -> 0 | K129: CS ÚRS 2022 01 | N129: základní | P129: =O129*H129 -> 0 | Q129: 0 | R129: =Q129*H129 -> 0 | S129: 0 | T129: =S129*H129 -> 0 | AR129: 4 | AT129: K | AU129: 2 | AY129: ROZPOCET | BE129: =IF(N129="základní",J129,0) -> 0 | BF129: =IF(N129="snížená",J129,0) -> 0 | BG129: =IF(N129="zákl. přenesená",J129,0) -> 0 | BH129: =IF(N129="sníž. přenesená",J129,0) -> 0 | BI129: =IF(N129="nulová",J129,0) -> 0 | BJ129: 1 | BK129: =ROUND(I129*H129,2) -> 0 | BL129: 4 | BM129: -2101737828
C130: 4 | D130: K | E130: 162751119 | F130: Příplatek k vodorovnému přemístění výkopku/sypaniny z horniny třídy těžitelnosti I skupiny 1 až 3 ZKD 1000 m přes 10000 m | G130: m3 | H130: 28.8 | J130: =ROUND(I130*H130,2) -> 0 | K130: CS ÚRS 2022 01 | N130: základní | P130: =O130*H130 -> 0 | Q130: 0 | R130: =Q130*H130 -> 0 | S130: 0 | T130: =S130*H130 -> 0 | AR130: 4 | AT130: K | AU130: 2 | AY130: ROZPOCET | BE130: =IF(N130="základní",J130,0) -> 0 | BF130: =IF(N130="snížená",J130,0) -> 0 | BG130: =IF(N130="zákl. přenesená",J130,0) -> 0 | BH130: =IF(N130="sníž. přenesená",J130,0) -> 0 | BI130: =IF(N130="nulová",J130,0) -> 0 | BJ130: 1 | BK130: =ROUND(I130*H130,2) -> 0 | BL130: 4 | BM130: -780389393
D131: VV | F131: 2,88 | H131: 2.88 | AT131: VV | AU131: 2 | AV131: 2 | AW131: True | AX131: 1 | AY131: ROZPOCET
D132: VV | F132: 2,88*10 'Přepočtené koeficientem množství | H132: 28.8 | AT132: VV | AU132: 2 | AV132: 2 | AW132: False | AX132: 1 | AY132: ROZPOCET
C133: 5 | D133: K | E133: 171201231 | F133: Poplatek za uložení zeminy a kamení na recyklační skládce (skládkovné) kód odpadu 17 05 04 | G133: t | H133: 5.184 | J133: =ROUND(I133*H133,2) -> 0 | K133: CS ÚRS 2022 01 | N133: základní | P133: =O133*H133 -> 0 | Q133: 0 | R133: =Q133*H133 -> 0 | S133: 0 | T133: =S133*H133 -> 0 | AR133: 4 | AT133: K | AU133: 2 | AY133: ROZPOCET | BE133: =IF(N133="základní",J133,0) -> 0 | BF133: =IF(N133="snížená",J133,0) -> 0 | BG133: =IF(N133="zákl. přenesená",J133,0) -> 0 | BH133: =IF(N133="sníž. přenesená",J133,0) -> 0 | BI133: =IF(N133="nulová",J133,0) -> 0 | BJ133: 1 | BK133: =ROUND(I133*H133,2) -> 0 | BL133: 4 | BM133: 549869360
D134: VV | F134: 2,88*1,8 | H134: 5.184 | AT134: VV | AU134: 2 | AV134: 2 | AW134: True | AX134: 1 | AY134: ROZPOCET
C135: 6 | D135: K | E135: 171251201 | F135: Uložení sypaniny na skládky nebo meziskládky | G135: m3 | H135: 2.88 | J135: =ROUND(I135*H135,2) -> 0 | K135: CS ÚRS 2022 01 | N135: základní | P135: =O135*H135 -> 0 | Q135: 0 | R135: =Q135*H135 -> 0 | S135: 0 | T135: =S135*H135 -> 0 | AR135: 4 | AT135: K | AU135: 2 | AY135: ROZPOCET | BE135: =IF(N135="základní",J135,0) -> 0 | BF135: =IF(N135="snížená",J135,0) -> 0 | BG135: =IF(N135="zákl. přenesená",J135,0) -> 0 | BH135: =IF(N135="sníž. přenesená",J135,0) -> 0 | BI135: =IF(N135="nulová",J135,0) -> 0 | BJ135: 1 | BK135: =ROUND(I135*H135,2) -> 0 | BL135: 4 | BM135: -1227888738
D136: D | E136: 2 | F136: Zakládání | J136: =BK136 -> 0 | P136: =SUM(P137:P140) -> 0 | R136: =SUM(R137:R140) -> 6.4674304 | T136: =SUM(T137:T140) -> 0 | AR136: 1 | AT136: D | AU136: 1 | AY136: ROZPOCET | BK136: =SUM(BK137:BK140) -> 0
C137: 7 | D137: K | E137: 271542211 | F137: Podsyp pod základové konstrukce se zhutněním z netříděné štěrkodrtě | G137: m3 | H137: 0.32 | J137: =ROUND(I137*H137,2) -> 0 | K137: CS ÚRS 2022 01 | N137: základní | P137: =O137*H137 -> 0 | Q137: 2.16 | R137: =Q137*H137 -> 0.6912 | S137: 0 | T137: =S137*H137 -> 0 | AR137: 4 | AT137: K | AU137: 2 | AY137: ROZPOCET | BE137: =IF(N137="základní",J137,0) -> 0 | BF137: =IF(N137="snížená",J137,0) -> 0 | BG137: =IF(N137="zákl. přenesená",J137,0) -> 0 | BH137: =IF(N137="sníž. přenesená",J137,0) -> 0 | BI137: =IF(N137="nulová",J137,0) -> 0 | BJ137: 1 | BK137: =ROUND(I137*H137,2) -> 0 | BL137: 4 | BM137: 1475955557
D138: VV | F138: 0,4*0,4*20*0,1 | H138: 0.32 | AT138: VV | AU138: 2 | AV138: 2 | AW138: True | AX138: 1 | AY138: ROZPOCET
C139: 8 | D139: K | E139: 275313611 | F139: Základové patky z betonu tř. C 16/20 | G139: m3 | H139: 2.56 | J139: =ROUND(I139*H139,2) -> 0 | K139: CS ÚRS 2022 01 | N139: základní | P139: =O139*H139 -> 0 | Q139: 2.25634 | R139: =Q139*H139 -> 5.7762304 | S139: 0 | T139: =S139*H139 -> 0 | AR139: 4 | AT139: K | AU139: 2 | AY139: ROZPOCET | BE139: =IF(N139="základní",J139,0) -> 0 | BF139: =IF(N139="snížená",J139,0) -> 0 | BG139: =IF(N139="zákl. přenesená",J139,0) -> 0 | BH139: =IF(N139="sníž. přenesená",J139,0) -> 0 | BI139: =IF(N139="nulová",J139,0) -> 0 | BJ139: 1 | BK139: =ROUND(I139*H139,2) -> 0 | BL139: 4 | BM139: 1904415040
D140: VV | F140: 0,4*0,4*0,8*20 | H140: 2.56 | AT140: VV | AU140: 2 | AV140: 2 | AW140: True | AX140: 1 | AY140: ROZPOCET
D141: D | E141: 3 | F141: Svislé a kompletní konstrukce | J141: =BK141 -> 0 | P141: =SUM(P142:P151) -> 0 | R141: =SUM(R142:R151) -> 1.5955728 | T141: =SUM(T142:T151) -> 0 | AR141: 1 | AT141: D | AU141: 1 | AY141: ROZPOCET | BK141: =SUM(BK142:BK151) -> 0
C142: 9 | D142: K | E142: 338171121 | F142: Osazování sloupků a vzpěr ocelových v do 2,60 m se zalitím MC | G142: kus | H142: 20 | J142: =ROUND(I142*H142,2) -> 0 | K142: CS ÚRS 2022 01 | N142: základní | P142: =O142*H142 -> 0 | Q142: 0.00702 | R142: =Q142*H142 -> 0.1404 | S142: 0 | T142: =S142*H142 -> 0 | AR142: 4 | AT142: K | AU142: 2 | AY142: ROZPOCET | BE142: =IF(N142="základní",J142,0) -> 0 | BF142: =IF(N142="snížená",J142,0) -> 0 | BG142: =IF(N142="zákl. přenesená",J142,0) -> 0 | BH142: =IF(N142="sníž. přenesená",J142,0) -> 0 | BI142: =IF(N142="nulová",J142,0) -> 0 | BJ142: 1 | BK142: =ROUND(I142*H142,2) -> 0 | BL142: 4 | BM142: 1835576802
D143: VV | F143: 20 | H143: 20 | AT143: VV | AU143: 2 | AV143: 2 | AW143: True | AX143: 1 | AY143: ROZPOCET
C144: 10 | D144: M | E144: 14550258 | F144: profil ocelový čtvercový svařovaný 60x60x5mm dl.2,6m | G144: kus | H144: 20 | J144: =ROUND(I144*H144,2) -> 0 | K144: CS ÚRS 2022 01 | N144: základní | P144: =O144*H144 -> 0 | Q144: 0.0156 | R144: =Q144*H144 -> 0.312 | S144: 0 | T144: =S144*H144 -> 0 | AR144: 8 | AT144: M | AU144: 2 | AY144: ROZPOCET | BE144: =IF(N144="základní",J144,0) -> 0 | BF144: =IF(N144="snížená",J144,0) -> 0 | BG144: =IF(N144="zákl. přenesená",J144,0) -> 0 | BH144: =IF(N144="sníž. přenesená",J144,0) -> 0 | BI144: =IF(N144="nulová",J144,0) -> 0 | BJ144: 1 | BK144: =ROUND(I144*H144,2) -> 0 | BL144: 4 | BM144: 1971176550
C145: 11 | D145: K | E145: 348171520 | F145: Montáž oplocení z plechu vlnitého přes 30 do 50 kg na 1 m oplocení | G145: m | H145: 46.2 | J145: =ROUND(I145*H145,2) -> 0 | K145: CS ÚRS 2022 01 | N145: základní | P145: =O145*H145 -> 0 | Q145: 0.0002 | R145: =Q145*H145 -> 0.00924 | S145: 0 | T145: =S145*H145 -> 0 | AR145: 4 | AT145: K | AU145: 2 | AY145: ROZPOCET | BE145: =IF(N145="základní",J145,0) -> 0 | BF145: =IF(N145="snížená",J145,0) -> 0 | BG145: =IF(N145="zákl. přenesená",J145,0) -> 0 | BH145: =IF(N145="sníž. přenesená",J145,0) -> 0 | BI145: =IF(N145="nulová",J145,0) -> 0 | BJ145: 1 | BK145: =ROUND(I145*H145,2) -> 0 | BL145: 4 | BM145: -1981520143
D146: VV | F146: 18,5+27,7 | H146: 46.2 | AT146: VV | AU146: 2 | AV146: 2 | AW146: True | AX146: 1 | AY146: ROZPOCET
C147: 12 | D147: M | E147: 13835000 | F147: plech vlnitý z lakovaného AlZn tl 0,75mm | G147: m2 | H147: 93.324 | J147: =ROUND(I147*H147,2) -> 0 | K147: CS ÚRS 2022 01 | N147: základní | P147: =O147*H147 -> 0 | Q147: 0.0121 | R147: =Q147*H147 -> 1.1292204 | S147: 0 | T147: =S147*H147 -> 0 | AR147: 8 | AT147: M | AU147: 2 | AY147: ROZPOCET | BE147: =IF(N147="základní",J147,0) -> 0 | BF147: =IF(N147="snížená",J147,0) -> 0 | BG147: =IF(N147="zákl. přenesená",J147,0) -> 0 | BH147: =IF(N147="sníž. přenesená",J147,0) -> 0 | BI147: =IF(N147="nulová",J147,0) -> 0 | BJ147: 1 | BK147: =ROUND(I147*H147,2) -> 0 | BL147: 4 | BM147: -1480792289
C148: 13 | D148: K | E148: 348401320 | F148: Rozvinutí, montáž a napnutí ostnatého drátu | G148: m | H148: 46.2 | J148: =ROUND(I148*H148,2) -> 0 | K148: CS ÚRS 2022 01 | N148: základní | P148: =O148*H148 -> 0 | Q148: 0 | R148: =Q148*H148 -> 0 | S148: 0 | T148: =S148*H148 -> 0 | AR148: 4 | AT148: K | AU148: 2 | AY148: ROZPOCET | BE148: =IF(N148="základní",J148,0) -> 0 | BF148: =IF(N148="snížená",J148,0) -> 0 | BG148: =IF(N148="zákl. přenesená",J148,0) -> 0 | BH148: =IF(N148="sníž. přenesená",J148,0) -> 0 | BI148: =IF(N148="nulová",J148,0) -> 0 | BJ148: 1 | BK148: =ROUND(I148*H148,2) -> 0 | BL148: 4 | BM148: 955824652
D149: VV | F149: 18,5+27,7 | H149: 46.2 | AT149: VV | AU149: 2 | AV149: 2 | AW149: True | AX149: 1 | AY149: ROZPOCET
C150: 14 | D150: M | E150: 31478001 | F150: drát ostnatý D 2mm | G150: m | H150: 47.124 | J150: =ROUND(I150*H150,2) -> 0 | K150: CS ÚRS 2022 01 | N150: základní | P150: =O150*H150 -> 0 | Q150: 0.0001 | R150: =Q150*H150 -> 0.0047124 | S150: 0 | T150: =S150*H150 -> 0 | AR150: 8 | AT150: M | AU150: 2 | AY150: ROZPOCET | BE150: =IF(N150="základní",J150,0) -> 0 | BF150: =IF(N150="snížená",J150,0) -> 0 | BG150: =IF(N150="zákl. přenesená",J150,0) -> 0 | BH150: =IF(N150="sníž. přenesená",J150,0) -> 0 | BI150: =IF(N150="nulová",J150,0) -> 0 | BJ150: 1 | BK150: =ROUND(I150*H150,2) -> 0 | BL150: 4 | BM150: -1054072757
D151: VV | F151: 46,2*1,02 'Přepočtené koeficientem množství | H151: 47.124 | AT151: VV | AU151: 2 | AV151: 2 | AW151: False | AX151: 1 | AY151: ROZPOCET
D152: D | E152: 9 | F152: Ostatní konstrukce a práce, bourání | J152: =BK152 -> 0 | P152: =SUM(P153:P157) -> 0 | R152: =SUM(R153:R157) -> 4e-05 | T152: =SUM(T153:T157) -> 0.8448 | AR152: 1 | AT152: D | AU152: 1 | AY152: ROZPOCET | BK152: =SUM(BK153:BK157) -> 0
C153: 15 | D153: K | E153: 952901111 | F153: Uklid po dokončení | G153: sada | H153: 1 | J153: =ROUND(I153*H153,2) -> 0 | K153: CS ÚRS 2022 01 | N153: základní | P153: =O153*H153 -> 0 | Q153: 4e-05 | R153: =Q153*H153 -> 4e-05 | S153: 0 | T153: =S153*H153 -> 0 | AR153: 4 | AT153: K | AU153: 2 | AY153: ROZPOCET | BE153: =IF(N153="základní",J153,0) -> 0 | BF153: =IF(N153="snížená",J153,0) -> 0 | BG153: =IF(N153="zákl. přenesená",J153,0) -> 0 | BH153: =IF(N153="sníž. přenesená",J153,0) -> 0 | BI153: =IF(N153="nulová",J153,0) -> 0 | BJ153: 1 | BK153: =ROUND(I153*H153,2) -> 0 | BL153: 4 | BM153: 130313174
C154: 16 | D154: K | E154: 974042567 | F154: Vysekání rýh v betonové mazaniné hl do 150 mm š do 300 mm | G154: m | H154: 6.4 | J154: =ROUND(I154*H154,2) -> 0 | K154: CS ÚRS 2022 01 | N154: základní | P154: =O154*H154 -> 0 | Q154: 0 | R154: =Q154*H154 -> 0 | S154: 0.099 | T154: =S154*H154 -> 0.6336 | AR154: 4 | AT154: K | AU154: 2 | AY154: ROZPOCET | BE154: =IF(N154="základní",J154,0) -> 0 | BF154: =IF(N154="snížená",J154,0) -> 0 | BG154: =IF(N154="zákl. přenesená",J154,0) -> 0 | BH154: =IF(N154="sníž. přenesená",J154,0) -> 0 | BI154: =IF(N154="nulová",J154,0) -> 0 | BJ154: 1 | BK154: =ROUND(I154*H154,2) -> 0 | BL154: 4 | BM154: 234191715
D155: VV | F155: 0,4*16 | H155: 6.4 | AT155: VV | AU155: 2 | AV155: 2 | AW155: True | AX155: 1 | AY155: ROZPOCET
C156: 17 | D156: K | E156: 974042569 | F156: Příplatek k vysekání rýh v betonové mazanině hl do 150 mm ZKD 100 mm š rýhy | G156: m | H156: 6.4 | J156: =ROUND(I156*H156,2) -> 0 | K156: CS ÚRS 2022 01 | N156: základní | P156: =O156*H156 -> 0 | Q156: 0 | R156: =Q156*H156 -> 0 | S156: 0.033 | T156: =S156*H156 -> 0.2112 | AR156: 4 | AT156: K | AU156: 2 | AY156: ROZPOCET | BE156: =IF(N156="základní",J156,0) -> 0 | BF156: =IF(N156="snížená",J156,0) -> 0 | BG156: =IF(N156="zákl. přenesená",J156,0) -> 0 | BH156: =IF(N156="sníž. přenesená",J156,0) -> 0 | BI156: =IF(N156="nulová",J156,0) -> 0 | BJ156: 1 | BK156: =ROUND(I156*H156,2) -> 0 | BL156: 4 | BM156: 1334041101
C157: 18 | D157: K | E157: 977311112 | F157: Řezání stávajících betonových mazanin nevyztužených hl do 100 mm | G157: m | H157: 6.4 | J157: =ROUND(I157*H157,2) -> 0 | K157: CS ÚRS 2022 01 | N157: základní | P157: =O157*H157 -> 0 | Q157: 0 | R157: =Q157*H157 -> 0 | S157: 0 | T157: =S157*H157 -> 0 | AR157: 4 | AT157: K | AU157: 2 | AY157: ROZPOCET | BE157: =IF(N157="základní",J157,0) -> 0 | BF157: =IF(N157="snížená",J157,0) -> 0 | BG157: =IF(N157="zákl. přenesená",J157,0) -> 0 | BH157: =IF(N157="sníž. přenesená",J157,0) -> 0 | BI157: =IF(N157="nulová",J157,0) -> 0 | BJ157: 1 | BK157: =ROUND(I157*H157,2) -> 0 | BL157: 4 | BM157: 1414173563
D158: D | E158: 997 | F158: Přesun sutě | J158: =BK158 -> 0 | P158: =SUM(P159:P163) -> 0 | R158: =SUM(R159:R163) -> 0 | T158: =SUM(T159:T163) -> 0 | AR158: 1 | AT158: D | AU158: 1 | AY158: ROZPOCET | BK158: =SUM(BK159:BK163) -> 0
C159: 19 | D159: K | E159: 997221551 | F159: Vodorovná doprava suti ze sypkých materiálů do 1 km | G159: t | H159: 1.845 | J159: =ROUND(I159*H159,2) -> 0 | K159: CS ÚRS 2022 01 | N159: základní | P159: =O159*H159 -> 0 | Q159: 0 | R159: =Q159*H159 -> 0 | S159: 0 | T159: =S159*H159 -> 0 | AR159: 4 | AT159: K | AU159: 2 | AY159: ROZPOCET | BE159: =IF(N159="základní",J159,0) -> 0 | BF159: =IF(N159="snížená",J159,0) -> 0 | BG159: =IF(N159="zákl. přenesená",J159,0) -> 0 | BH159: =IF(N159="sníž. přenesená",J159,0) -> 0 | BI159: =IF(N159="nulová",J159,0) -> 0 | BJ159: 1 | BK159: =ROUND(I159*H159,2) -> 0 | BL159: 4 | BM159: -1941794424
C160: 20 | D160: K | E160: 997221559 | F160: Příplatek ZKD 1 km u vodorovné dopravy suti ze sypkých materiálů | G160: t | H160: 35.055 | J160: =ROUND(I160*H160,2) -> 0 | K160: CS ÚRS 2022 01 | N160: základní | P160: =O160*H160 -> 0 | Q160: 0 | R160: =Q160*H160 -> 0 | S160: 0 | T160: =S160*H160 -> 0 | AR160: 4 | AT160: K | AU160: 2 | AY160: ROZPOCET | BE160: =IF(N160="základní",J160,0) -> 0 | BF160: =IF(N160="snížená",J160,0) -> 0 | BG160: =IF(N160="zákl. přenesená",J160,0) -> 0 | BH160: =IF(N160="sníž. přenesená",J160,0) -> 0 | BI160: =IF(N160="nulová",J160,0) -> 0 | BJ160: 1 | BK160: =ROUND(I160*H160,2) -> 0 | BL160: 4 | BM160: -426716481
D161: VV | F161: 1,845*19 'Přepočtené koeficientem množství | H161: 35.055 | AT161: VV | AU161: 2 | AV161: 2 | AW161: False | AX161: 1 | AY161: ROZPOCET
C162: 21 | D162: K | E162: 997221611 | F162: Nakládání suti na dopravní prostředky pro vodorovnou dopravu | G162: t | H162: 1.845 | J162: =ROUND(I162*H162,2) -> 0 | K162: CS ÚRS 2022 01 | N162: základní | P162: =O162*H162 -> 0 | Q162: 0 | R162: =Q162*H162 -> 0 | S162: 0 | T162: =S162*H162 -> 0 | AR162: 4 | AT162: K | AU162: 2 | AY162: ROZPOCET | BE162: =IF(N162="základní",J162,0) -> 0 | BF162: =IF(N162="snížená",J162,0) -> 0 | BG162: =IF(N162="zákl. přenesená",J162,0) -> 0 | BH162: =IF(N162="sníž. přenesená",J162,0) -> 0 | BI162: =IF(N162="nulová",J162,0) -> 0 | BJ162: 1 | BK162: =ROUND(I162*H162,2) -> 0 | BL162: 4 | BM162: 1193272779
C163: 22 | D163: K | E163: 997221615 | F163: Poplatek za uložení na skládce (skládkovné) stavebního odpadu | G163: t | H163: 1.845 | J163: =ROUND(I163*H163,2) -> 0 | K163: CS ÚRS 2022 01 | N163: základní | P163: =O163*H163 -> 0 | Q163: 0 | R163: =Q163*H163 -> 0 | S163: 0 | T163: =S163*H163 -> 0 | AR163: 4 | AT163: K | AU163: 2 | AY163: ROZPOCET | BE163: =IF(N163="základní",J163,0) -> 0 | BF163: =IF(N163="snížená",J163,0) -> 0 | BG163: =IF(N163="zákl. přenesená",J163,0) -> 0 | BH163: =IF(N163="sníž. přenesená",J163,0) -> 0 | BI163: =IF(N163="nulová",J163,0) -> 0 | BJ163: 1 | BK163: =ROUND(I163*H163,2) -> 0 | BL163: 4 | BM163: 395849216
D164: D | E164: 998 | F164: Přesun hmot | J164: =BK164 -> 0 | P164: =P165 -> 0 | R164: =R165 -> 0 | T164: =T165 -> 0 | AR164: 1 | AT164: D | AU164: 1 | AY164: ROZPOCET | BK164: =BK165 -> 0
C165: 23 | D165: K | E165: 998011001 | F165: Přesun hmot v do 6 m | G165: t | H165: 8.063 | J165: =ROUND(I165*H165,2) -> 0 | K165: CS ÚRS 2022 01 | N165: základní | P165: =O165*H165 -> 0 | Q165: 0 | R165: =Q165*H165 -> 0 | S165: 0 | T165: =S165*H165 -> 0 | AR165: 4 | AT165: K | AU165: 2 | AY165: ROZPOCET | BE165: =IF(N165="základní",J165,0) -> 0 | BF165: =IF(N165="snížená",J165,0) -> 0 | BG165: =IF(N165="zákl. přenesená",J165,0) -> 0 | BH165: =IF(N165="sníž. přenesená",J165,0) -> 0 | BI165: =IF(N165="nulová",J165,0) -> 0 | BJ165: 1 | BK165: =ROUND(I165*H165,2) -> 0 | BL165: 4 | BM165: 168217622
D166: D | E166: VRN | F166: Vedlejší rozpočtové náklady | J166: =BK166 -> 0 | P166: =P167+P169 -> 0 | R166: =R167+R169 -> 0 | T166: =T167+T169 -> 0 | AR166: 5 | AT166: D | AU166: 0 | AY166: ROZPOCET | BK166: =BK167+BK169 -> 0
D167: D | E167: VRN3 | F167: Zařízení staveniště | J167: =BK167 -> 0 | P167: =P168 -> 0 | R167: =R168 -> 0 | T167: =T168 -> 0 | AR167: 5 | AT167: D | AU167: 1 | AY167: ROZPOCET | BK167: =BK168 -> 0
C168: 24 | D168: K | E168: 030001000 | F168: Zařízení staveniště-3% | G168: sada | H168: 1 | J168: =ROUND(I168*H168,2) -> 0 | K168: CS ÚRS 2022 01 | N168: základní | P168: =O168*H168 -> 0 | Q168: 0 | R168: =Q168*H168 -> 0 | S168: 0 | T168: =S168*H168 -> 0 | AR168: 1024 | AT168: K | AU168: 2 | AY168: ROZPOCET | BE168: =IF(N168="základní",J168,0) -> 0 | BF168: =IF(N168="snížená",J168,0) -> 0 | BG168: =IF(N168="zákl. přenesená",J168,0) -> 0 | BH168: =IF(N168="sníž. přenesená",J168,0) -> 0 | BI168: =IF(N168="nulová",J168,0) -> 0 | BJ168: 1 | BK168: =ROUND(I168*H168,2) -> 0 | BL168: 1024 | BM168: -1913275137
...
