Workbook

Sheet Rekapitulace stavby
A1: Export Komplet | BA1: 2.0 | BB1: ZAMOK | BT1: False | BU1: False | BV1: {e8b61c47-a0a8-4db2-b1e9-1f9d85a6b4e5}
BS2: 0,01 | BT2: 21
BS3: 0,01 | BT3: 15
D4: REKAPITULACE STAVBY | AS4: v --- níže se nacházejí doplnkové a pomocné údaje k sestavám --- v | BE4: Návod na vyplnění | BS4: 0,001
D5: Kód: | K5: Zamenicka2 | BE5: Měnit lze pouze buňky se žlutým podbarvením!_x000D_ _x000D_ 1) na prvním listu Rekapitulace stavby vyplňte v sestavě_x000D_ _x000D_ a) Souhrnný list_x000D_ - údaje o Uchazeči_x000D_ (přenesou se do ostatních sestav i v jiných listech)_x000D_ _x000D_ b) Rekapitulace objektů_x000D_ - potřebné Ostatní náklady_x000D_ _x000D_ 2) na vybraných listech vyplňte v sestavě_x000D_ _x000D_ a) Krycí list_x000D_ - údaje o Uchazeči, pokud se liší od údajů o Uchazeči na Souhrnném listu_x000D_ (údaje se přenesou do ostatních sestav v daném listu)_x000D_ _x000D_ b) Rekapitulace rozpočtu_x000D_ - potřebné Ostatní náklady_x000D_ _x000D_ c) Celkové náklady za stavbu_x000D_ - ceny u položek_x000D_ - množství, pokud má žluté podbarvení_x000D_ - a v případě potřeby poznámku (ta je ve skrytém sloupci) | BS5: 0,01
D6: Stavba: | K6: Oprava ve schodišti 1 a společných prostor v přízemí | BS6: 0,01
D7: KSO: | AK7: CC-CZ: | BS7: 0,01
D8: Místo: | K8: Zámečnická 2,Brno | AK8: Datum: | AN8: 11. 7. 2019 | BS8: 0,01
BS9: 0,01
D10: Zadavatel: | AK10: IČ: | BS10: 0,01
E11: MmBrna,OSM,Husova 3,Brno | AK11: DIČ: | BS11: 0,01
BS12: 0,01
D13: Uchazeč: | AK13: IČ: | AN13: Vyplň údaj | BS13: 0,01
E14: Vyplň údaj | AK14: DIČ: | AN14: Vyplň údaj | BS14: 0,01
BS15: False
D16: Projektant: | AK16: IČ: | BS16: False
E17: R.Volková | AK17: DIČ: | BS17: True
BS18: 0,01
D19: Zpracovatel: | AK19: IČ: | BS19: 0,01
E20: Radka Volková | AK20: DIČ: | BS20: True
D22: Poznámka:
D26: Cena bez DPH | AK26: =ROUND(AG94,2) -> 0
L28: Sazba daně | W28: Základ daně | AK28: Výše daně
D29: DPH | F29: základní | L29: 0.21 | W29: =ROUND(AZ94, 2) -> 0 | AK29: =ROUND(AV94, 2) -> 0
F30: snížená | L30: 0.15 | W30: =ROUND(BA94, 2) -> 0 | AK30: =ROUND(AW94, 2) -> 0
F31: zákl. přenesená | L31: 0.21 | W31: =ROUND(BB94, 2) -> 0 | AK31: 0
F32: sníž. přenesená | L32: 0.15 | W32: =ROUND(BC94, 2) -> 0 | AK32: 0
F33: nulová | L33: 0 | W33: =ROUND(BD94, 2) -> 0 | AK33: 0
D35: Cena s DPH | T35: v | X35: CZK | AK35: =SUM(AK26:AK33) -> 0
D49: Projektant | AH49: Zpracovatel
D60: Datum a podpis: | V60: Razítko | AH60: Datum a podpis: | AM60: Razítko
D64: Objednavatel | AH64: Uchazeč
D75: Datum a podpis: | V75: Razítko | AH75: Datum a podpis: | AM75: Razítko
C82: REKAPITULACE OBJEKTŮ STAVBY A SOUPISŮ PRACÍ
C84: Kód: | L84: =K5 -> Zamenicka2
C85: Stavba: | L85: =K6 -> Oprava ve schodišti 1 a společných prostor v přízemí
C87: Místo: | L87: =IF(K8="","",K8) -> Zámečnická 2,Brno | AI87: Datum: | AM87: =IF(AN8= "","",AN8) -> 11. 7. 2019
C89: Zadavatel: | L89: =IF(E11= "","",E11) -> MmBrna,OSM,Husova 3,Brno | AI89: Projektant: | AM89: =IF(E17="","",E17) -> R.Volková | AS89: Informatívní údaje z listů zakázek
C90: Uchazeč: | L90: =IF(E14= "Vyplň údaj","",E14) | AI90: Zpracovatel: | AM90: =IF(E20="","",E20) -> Radka Volková
C92: Kód | I92: Popis | AG92: Cena bez DPH [CZK] | AN92: Cena s DPH [CZK] | AQ92: Typ | AS92: z toho Ostat._x000D_ náklady [CZK] | AT92: DPH [CZK] | AU92: Normohodiny [h] | AV92: DPH základní [CZK] | AW92: DPH snížená [CZK] | AX92: DPH základní přenesená_x000D_ [CZK] | AY92: DPH snížená přenesená_x000D_ [CZK] | AZ92: Základna_x000D_ DPH základní | BA92: Základna_x000D_ DPH snížená | BB92: Základna_x000D_ DPH zákl. přenesená | BC92: Základna_x000D_ DPH sníž. přenesená | BD92: Základna_x000D_ DPH nulová
C94: Náklady z rozpočtů | AG94: =ROUND(AG95,2) -> 0 | AN94: =SUM(AG94,AT94) -> 0 | AS94: =ROUND(AS95,2) -> 0 | AT94: =ROUND(SUM(AV94:AW94),2) -> 0 | AU94: =ROUND(AU95,5) -> 0 | AV94: =ROUND(AZ94*L29,2) -> 0 | AW94: =ROUND(BA94*L30,2) -> 0 | AX94: =ROUND(BB94*L29,2) -> 0 | AY94: =ROUND(BC94*L30,2) -> 0 | AZ94: =ROUND(AZ95,2) -> 0 | BA94: =ROUND(BA95,2) -> 0 | BB94: =ROUND(BB95,2) -> 0 | BC94: =ROUND(BC95,2) -> 0 | BD94: =ROUND(BD95,2) -> 0 | BS94: D | BT94: 0 | BV94: IMPORT | BW94: {e8b61c47-a0a8-4db2-b1e9-1f9d85a6b4e5} | BX94: {00000000-0000-0000-0000-000000000000}
A95: / | D95: Zamenicka2 | J95: Oprava ve schodišti 1 a společných prostor v přízemí | AG95: ='Zamenicka2 - Oprava ve sc...'!J28 -> 0 | AN95: =SUM(AG95,AT95) -> 0 | AQ95: STA | AS95: 0 | AT95: =ROUND(SUM(AV95:AW95),2) -> 0 | AU95: ='Zamenicka2 - Oprava ve sc...'!P128 -> 0 | AV95: ='Zamenicka2 - Oprava ve sc...'!J31 -> 0 | AW95: ='Zamenicka2 - Oprava ve sc...'!J32 -> 0 | AX95: ='Zamenicka2 - Oprava ve sc...'!J33 -> 0 | AY95: ='Zamenicka2 - Oprava ve sc...'!J34 -> 0 | AZ95: ='Zamenicka2 - Oprava ve sc...'!F31 -> 0 | BA95: ='Zamenicka2 - Oprava ve sc...'!F32 -> 0 | BB95: ='Zamenicka2 - Oprava ve sc...'!F33 -> 0 | BC95: ='Zamenicka2 - Oprava ve sc...'!F34 -> 0 | BD95: ='Zamenicka2 - Oprava ve sc...'!F35 -> 0 | BT95: 1 | BU95: ###NOINSERT### | BV95: IMPORT | BW95: {e8b61c47-a0a8-4db2-b1e9-1f9d85a6b4e5} | BX95: {00000000-0000-0000-0000-000000000000}

Sheet Zamenicka2 - Oprava ve sc...
AT2: {e8b61c47-a0a8-4db2-b1e9-1f9d85a6b4e5}
AT3: 1
D4: KRYCÍ LIST SOUPISU PRACÍ | M4: v --- níže se nacházejí doplnkové a pomocné údaje k sestavám --- v | AT4: False
D6: Stavba:
E7: Oprava ve schodišti 1 a společných prostor v přízemí
D9: KSO: | I9: CC-CZ:
D10: Místo: | F10: Zámečnická 2,Brno | I10: Datum: | J10: ='Rekapitulace stavby'!AN8 -> 11. 7. 2019
D12: Zadavatel: | I12: IČ:
E13: MmBrna,OSM,Husova 3,Brno | I13: DIČ:
D15: Uchazeč: | I15: IČ: | J15: ='Rekapitulace stavby'!AN13 -> Vyplň údaj
E16: ='Rekapitulace stavby'!E14 -> Vyplň údaj | I16: DIČ: | J16: ='Rekapitulace stavby'!AN14 -> Vyplň údaj
D18: Projektant: | I18: IČ:
E19: R.Volková | I19: DIČ:
D21: Zpracovatel: | I21: IČ:
E22: Radka Volková | I22: DIČ:
D24: Poznámka:
D28: Cena bez DPH | J28: =ROUND(J128, 2) -> 0
F30: Základ daně | I30: Sazba daně | J30: Výše daně
D31: DPH | E31: základní | F31: =ROUND((SUM(BE128:BE193)), 2) -> 0 | I31: 0.21 | J31: =ROUND(((SUM(BE128:BE193))*I31), 2) -> 0
E32: snížená | F32: =ROUND((SUM(BF128:BF193)), 2) -> 0 | I32: 0.15 | J32: =ROUND(((SUM(BF128:BF193))*I32), 2) -> 0
E33: zákl. přenesená | F33: =ROUND((SUM(BG128:BG193)), 2) -> 0 | I33: 0.21 | J33: =0 -> 0
E34: sníž. přenesená | F34: =ROUND((SUM(BH128:BH193)), 2) -> 0 | I34: 0.15 | J34: =0 -> 0
E35: nulová | F35: =ROUND((SUM(BI128:BI193)), 2) -> 0 | I35: 0 | J35: =0 -> 0
D37: Cena s DPH | G37: v | H37: CZK | J37: =SUM(J28:J35) -> 0
D50: Projektant | G50: Zpracovatel
D61: Datum a podpis: | F61: Razítko | G61: Datum a podpis: | J61: Razítko
D65: Objednavatel | G65: Uchazeč
D76: Datum a podpis: | F76: Razítko | G76: Datum a podpis: | J76: Razítko
C82: REKAPITULACE ČLENĚNÍ SOUPISU PRACÍ
C84: Stavba:
E85: =E7 -> Oprava ve schodišti 1 a společných prostor v přízemí
C87: Místo: | F87: =F10 -> Zámečnická 2,Brno | I87: Datum: | J87: =IF(J10="","",J10) -> 11. 7. 2019
C89: Zadavatel: | F89: =E13 -> MmBrna,OSM,Husova 3,Brno | I89: Projektant: | J89: =E19 -> R.Volková
C90: Uchazeč: | F90: =IF(E16="","",E16) -> Vyplň údaj | I90: Zpracovatel: | J90: =E22 -> Radka Volková
C92: Kód dílu - Popis | J92: Cena celkem [CZK]
C94: Náklady ze soupisu prací | J94: =J128 -> 0 | AU94: -1
D95: HSV - Práce a dodávky HSV | J95: =J129 -> 0
D96: 1 - Ostatní | J96: =J130 -> 0
D97: 6 - Úpravy povrchů, podlahy a osazování výplní | J97: =J132 -> 0
D98: 9 - Ostatní konstrukce a práce, bourání | J98: =J140 -> 0
D99: 997 - Přesun sutě | J99: =J146 -> 0
D100: 998 - Přesun hmot | J100: =J151 -> 0
D101: PSV - Práce a dodávky PSV | J101: =J153 -> 0
D102: 741 - Elektroinstalace - silnoproud | J102: =J154 -> 0
D103: 766 - Konstrukce truhlářské | J103: =J158 -> 0
D104: 767 - Konstrukce zámečnické | J104: =J163 -> 0
D105: 783 - Dokončovací práce - nátěry | J105: =J167 -> 0
D106: 784 - Dokončovací práce - malby a tapety | J106: =J182 -> 0
D107: VRN - Vedlejší rozpočtové náklady | J107: =J187 -> 0
D108: VRN3 - Zařízení staveniště | J108: =J188 -> 0
D109: VRN6 - Územní vlivy | J109: =J190 -> 0
D110: VRN7 - Provozní vlivy | J110: =J192 -> 0
C117: SOUPIS PRACÍ
C119: Stavba:
E120: =E7 -> Oprava ve schodišti 1 a společných prostor v přízemí
C122: Místo: | F122: =F10 -> Zámečnická 2,Brno | I122: Datum: | J122: =IF(J10="","",J10) -> 11. 7. 2019
C124: Zadavatel: | F124: =E13 -> MmBrna,OSM,Husova 3,Brno | I124: Projektant: | J124: =E19 -> R.Volková
C125: Uchazeč: | F125: =IF(E16="","",E16) -> Vyplň údaj | I125: Zpracovatel: | J125: =E22 -> Radka Volková
C127: PČ | D127: Typ | E127: Kód | F127: Popis | G127: MJ | H127: Množství | I127: J.cena [CZK] | J127: Cena celkem [CZK] | K127: Cenová soustava | N127: DPH | O127: J. Nh [h] | P127: Nh celkem [h] | Q127: J. hmotnost [t] | R127: Hmotnost celkem [t] | S127: J. suť [t] | T127: Suť Celkem [t]
C128: Náklady soupisu celkem | J128: =BK128 -> 0 | P128: =P129+P153+P187 -> 0 | R128: =R129+R153+R187 -> 5.5949462 | T128: =T129+T153+T187 -> 4.63164 | AT128: D | AU128: -1 | BK128: =BK129+BK153+BK187 -> 0
D129: D | E129: HSV | F129: Práce a dodávky HSV | J129: =BK129 -> 0 | P129: =P130+P132+P140+P146+P151 -> 0 | R129: =R130+R132+R140+R146+R151 -> 4.1750156 | T129: =T130+T132+T140+T146+T151 -> 4.35985 | AR129: 1 | AT129: D | AU129: 0 | AY129: ROZPOCET | BK129: =BK130+BK132+BK140+BK146+BK151 -> 0
D130: D | E130: 1 | F130: Ostatní | J130: =BK130 -> 0 | P130: =P131 -> 0 | R130: =R131 -> 0 | T130: =T131 -> 0 | AR130: 1 | AT130: D | AU130: 1 | AY130: ROZPOCET | BK130: =BK131 -> 0
C131: 1 | D131: K | E131: 1-pol.2 | F131: Zapravení drážek | G131: sada | H131: 1 | J131: =ROUND(I131*H131,2) -> 0 | N131: snížená | P131: =O131*H131 -> 0 | Q131: 0 | R131: =Q131*H131 -> 0 | S131: 0 | T131: =S131*H131 -> 0 | AR131: 4 | AT131: K | AU131: 2 | AY131: ROZPOCET | BE131: =IF(N131="základní",J131,0) -> 0 | BF131: =IF(N131="snížená",J131,0) -> 0 | BG131: =IF(N131="zákl. přenesená",J131,0) -> 0 | BH131: =IF(N131="sníž. přenesená",J131,0) -> 0 | BI131: =IF(N131="nulová",J131,0) -> 0 | BJ131: 2 | BK131: =ROUND(I131*H131,2) -> 0 | BL131: 4 | BM131: -1337842408
D132: D | E132: 6 | F132: Úpravy povrchů, podlahy a osazování výplní | J132: =BK132 -> 0 | P132: =SUM(P133:P139) -> 0 | R132: =SUM(R133:R139) -> 4.168094 | T132: =SUM(T133:T139) -> 0 | AR132: 1 | AT132: D | AU132: 1 | AY132: ROZPOCET | BK132: =SUM(BK133:BK139) -> 0
C133: 2 | D133: K | E133: 612315211 | F133: Vápenná hladká omítka malých ploch do 0,09 m2 na stěnách | G133: kus | H133: 5 | J133: =ROUND(I133*H133,2) -> 0 | K133: CS ÚRS 2019 01 | N133: snížená | P133: =O133*H133 -> 0 | Q133: 0.0034 | R133: =Q133*H133 -> 0.017 | S133: 0 | T133: =S133*H133 -> 0 | AR133: 4 | AT133: K | AU133: 2 | AY133: ROZPOCET | BE133: =IF(N133="základní",J133,0) -> 0 | BF133: =IF(N133="snížená",J133,0) -> 0 | BG133: =IF(N133="zákl. přenesená",J133,0) -> 0 | BH133: =IF(N133="sníž. přenesená",J133,0) -> 0 | BI133: =IF(N133="nulová",J133,0) -> 0 | BJ133: 2 | BK133: =ROUND(I133*H133,2) -> 0 | BL133: 4 | BM133: 761418916
C134: 3 | D134: K | E134: 612325421R | F134: Oprava vnitřní vápenocementové štukové omítky stěn v rozsahu plochy do 15% | G134: m2 | H134: 269.92 | J134: =ROUND(I134*H134,2) -> 0 | N134: snížená | P134: =O134*H134 -> 0 | Q134: 0.0057 | R134: =Q134*H134 -> 1.538544 | S134: 0 | T134: =S134*H134 -> 0 | AR134: 4 | AT134: K | AU134: 2 | AY134: ROZPOCET | BE134: =IF(N134="základní",J134,0) -> 0 | BF134: =IF(N134="snížená",J134,0) -> 0 | BG134: =IF(N134="zákl. přenesená",J134,0) -> 0 | BH134: =IF(N134="sníž. přenesená",J134,0) -> 0 | BI134: =IF(N134="nulová",J134,0) -> 0 | BJ134: 2 | BK134: =ROUND(I134*H134,2) -> 0 | BL134: 4 | BM134: -288740320
C135: 4 | D135: K | E135: 612325422 | F135: Oprava vnitřní vápenocementové štukové omítky stěn v rozsahu plochy do 30% | G135: m2 | H135: 103.85 | J135: =ROUND(I135*H135,2) -> 0 | K135: CS ÚRS 2019 01 | N135: snížená | P135: =O135*H135 -> 0 | Q135: 0.017 | R135: =Q135*H135 -> 1.76545 | S135: 0 | T135: =S135*H135 -> 0 | AR135: 4 | AT135: K | AU135: 2 | AY135: ROZPOCET | BE135: =IF(N135="základní",J135,0) -> 0 | BF135: =IF(N135="snížená",J135,0) -> 0 | BG135: =IF(N135="zákl. přenesená",J135,0) -> 0 | BH135: =IF(N135="sníž. přenesená",J135,0) -> 0 | BI135: =IF(N135="nulová",J135,0) -> 0 | BJ135: 2 | BK135: =ROUND(I135*H135,2) -> 0 | BL135: 4 | BM135: 1321182983
C136: 5 | D136: K | E136: 612821012 | F136: Vnitřní sanační štuková omítka pro vlhké a zasolené zdivo prováděná ručně | G136: m2 | H136: 7.8 | J136: =ROUND(I136*H136,2) -> 0 | K136: CS ÚRS 2019 01 | N136: snížená | P136: =O136*H136 -> 0 | Q136: 0.0345 | R136: =Q136*H136 -> 0.2691 | S136: 0 | T136: =S136*H136 -> 0 | AR136: 4 | AT136: K | AU136: 2 | AY136: ROZPOCET | BE136: =IF(N136="základní",J136,0) -> 0 | BF136: =IF(N136="snížená",J136,0) -> 0 | BG136: =IF(N136="zákl. přenesená",J136,0) -> 0 | BH136: =IF(N136="sníž. přenesená",J136,0) -> 0 | BI136: =IF(N136="nulová",J136,0) -> 0 | BJ136: 2 | BK136: =ROUND(I136*H136,2) -> 0 | BL136: 4 | BM136: -983463740
C137: 6 | D137: K | E137: 612821061 | F137: Příplatek k sanační omítce pro vlhké zasolené zdivo ZKD 10 mm prováděné ručně ve více vrstvách | G137: m2 | H137: 7.8 | J137: =ROUND(I137*H137,2) -> 0 | K137: CS ÚRS 2019 01 | N137: snížená | P137: =O137*H137 -> 0 | Q137: 0.01 | R137: =Q137*H137 -> 0.078 | S137: 0 | T137: =S137*H137 -> 0 | AR137: 4 | AT137: K | AU137: 2 | AY137: ROZPOCET | BE137: =IF(N137="základní",J137,0) -> 0 | BF137: =IF(N137="snížená",J137,0) -> 0 | BG137: =IF(N137="zákl. přenesená",J137,0) -> 0 | BH137: =IF(N137="sníž. přenesená",J137,0) -> 0 | BI137: =IF(N137="nulová",J137,0) -> 0 | BJ137: 2 | BK137: =ROUND(I137*H137,2) -> 0 | BL137: 4 | BM137: -412467037
C138: 7 | D138: K | E138: 612-pc 1 | F138: Výměna kapotáže kabelů | G138: m | H138: 20 | J138: =ROUND(I138*H138,2) -> 0 | N138: snížená | P138: =O138*H138 -> 0 | Q138: 0.01 | R138: =Q138*H138 -> 0.2 | S138: 0 | T138: =S138*H138 -> 0 | AR138: 4 | AT138: K | AU138: 2 | AY138: ROZPOCET | BE138: =IF(N138="základní",J138,0) -> 0 | BF138: =IF(N138="snížená",J138,0) -> 0 | BG138: =IF(N138="zákl. přenesená",J138,0) -> 0 | BH138: =IF(N138="sníž. přenesená",J138,0) -> 0 | BI138: =IF(N138="nulová",J138,0) -> 0 | BJ138: 2 | BK138: =ROUND(I138*H138,2) -> 0 | BL138: 4 | BM138: 2099431181
C139: 8 | D139: K | E139: 612-pc 2 | F139: Kontrola funkčnosti drátů, využívané zadlabat | G139: m | H139: 30 | J139: =ROUND(I139*H139,2) -> 0 | N139: snížená | P139: =O139*H139 -> 0 | Q139: 0.01 | R139: =Q139*H139 -> 0.3 | S139: 0 | T139: =S139*H139 -> 0 | AR139: 4 | AT139: K | AU139: 2 | AY139: ROZPOCET | BE139: =IF(N139="základní",J139,0) -> 0 | BF139: =IF(N139="snížená",J139,0) -> 0 | BG139: =IF(N139="zákl. přenesená",J139,0) -> 0 | BH139: =IF(N139="sníž. přenesená",J139,0) -> 0 | BI139: =IF(N139="nulová",J139,0) -> 0 | BJ139: 2 | BK139: =ROUND(I139*H139,2) -> 0 | BL139: 4 | BM139: 1061475969
D140: D | E140: 9 | F140: Ostatní konstrukce a práce, bourání | J140: =BK140 -> 0 | P140: =SUM(P141:P145) -> 0 | R140: =SUM(R141:R145) -> 0.0069216 | T140: =SUM(T141:T145) -> 4.35985 | AR140: 1 | AT140: D | AU140: 1 | AY140: ROZPOCET | BK140: =SUM(BK141:BK145) -> 0
C141: 9 | D141: K | E141: 952901111 | F141: Vyčištění budov bytové a občanské výstavby při výšce podlaží do 4 m | G141: m2 | H141: 173.04 | J141: =ROUND(I141*H141,2) -> 0 | K141: CS ÚRS 2019 01 | N141: snížená | P141: =O141*H141 -> 0 | Q141: 4e-05 | R141: =Q141*H141 -> 0.0069216 | S141: 0 | T141: =S141*H141 -> 0 | AR141: 4 | AT141: K | AU141: 2 | AY141: ROZPOCET | BE141: =IF(N141="základní",J141,0) -> 0 | BF141: =IF(N141="snížená",J141,0) -> 0 | BG141: =IF(N141="zákl. přenesená",J141,0) -> 0 | BH141: =IF(N141="sníž. přenesená",J141,0) -> 0 | BI141: =IF(N141="nulová",J141,0) -> 0 | BJ141: 2 | BK141: =ROUND(I141*H141,2) -> 0 | BL141: 4 | BM141: -63275202
C142: 10 | D142: K | E142: 974031142 | F142: Vysekání rýh ve zdivu cihelném hl do 70 mm š do 70 mm | G142: m | H142: 30 | J142: =ROUND(I142*H142,2) -> 0 | K142: CS ÚRS 2018 01 | N142: snížená | P142: =O142*H142 -> 0 | Q142: 0 | R142: =Q142*H142 -> 0 | S142: 0.009 | T142: =S142*H142 -> 0.27 | AR142: 4 | AT142: K | AU142: 2 | AY142: ROZPOCET | BE142: =IF(N142="základní",J142,0) -> 0 | BF142: =IF(N142="snížená",J142,0) -> 0 | BG142: =IF(N142="zákl. přenesená",J142,0) -> 0 | BH142: =IF(N142="sníž. přenesená",J142,0) -> 0 | BI142: =IF(N142="nulová",J142,0) -> 0 | BJ142: 2 | BK142: =ROUND(I142*H142,2) -> 0 | BL142: 4 | BM142: 19077600
C143: 11 | D143: K | E143: 978013141 | F143: Otlučení (osekání) vnitřní vápenné nebo vápenocementové omítky stěn v rozsahu do 15 % | G143: m2 | H143: 269.92 | J143: =ROUND(I143*H143,2) -> 0 | K143: CS ÚRS 2019 01 | N143: snížená | P143: =O143*H143 -> 0 | Q143: 0 | R143: =Q143*H143 -> 0 | S143: 0.01 | T143: =S143*H143 -> 2.6992 | AR143: 4 | AT143: K | AU143: 2 | AY143: ROZPOCET | BE143: =IF(N143="základní",J143,0) -> 0 | BF143: =IF(N143="snížená",J143,0) -> 0 | BG143: =IF(N143="zákl. přenesená",J143,0) -> 0 | BH143: =IF(N143="sníž. přenesená",J143,0) -> 0 | BI143: =IF(N143="nulová",J143,0) -> 0 | BJ143: 2 | BK143: =ROUND(I143*H143,2) -> 0 | BL143: 4 | BM143: 2124130537
C144: 12 | D144: K | E144: 9780131411 | F144: Otlučení (osekání) vnitřní vápenné nebo vápenocementové omítky stěn v rozsahu do 30 % | G144: m2 | H144: 103.185 | J144: =ROUND(I144*H144,2) -> 0 | N144: snížená | P144: =O144*H144 -> 0 | Q144: 0 | R144: =Q144*H144 -> 0 | S144: 0.01 | T144: =S144*H144 -> 1.03185 | AR144: 4 | AT144: K | AU144: 2 | AY144: ROZPOCET | BE144: =IF(N144="základní",J144,0) -> 0 | BF144: =IF(N144="snížená",J144,0) -> 0 | BG144: =IF(N144="zákl. přenesená",J144,0) -> 0 | BH144: =IF(N144="sníž. přenesená",J144,0) -> 0 | BI144: =IF(N144="nulová",J144,0) -> 0 | BJ144: 2 | BK144: =ROUND(I144*H144,2) -> 0 | BL144: 4 | BM144: 816713779
C145: 13 | D145: K | E145: 978013191 | F145: Otlučení (osekání) vnitřní vápenné nebo vápenocementové omítky stěn v rozsahu do 100 % | G145: m2 | H145: 7.8 | J145: =ROUND(I145*H145,2) -> 0 | K145: CS ÚRS 2019 01 | N145: snížená | P145: =O145*H145 -> 0 | Q145: 0 | R145: =Q145*H145 -> 0 | S145: 0.046 | T145: =S145*H145 -> 0.3588 | AR145: 4 | AT145: K | AU145: 2 | AY145: ROZPOCET | BE145: =IF(N145="základní",J145,0) -> 0 | BF145: =IF(N145="snížená",J145,0) -> 0 | BG145: =IF(N145="zákl. přenesená",J145,0) -> 0 | BH145: =IF(N145="sníž. přenesená",J145,0) -> 0 | BI145: =IF(N145="nulová",J145,0) -> 0 | BJ145: 2 | BK145: =ROUND(I145*H145,2) -> 0 | BL145: 4 | BM145: 1791162443
D146: D | E146: 997 | F146: Přesun sutě | J146: =BK146 -> 0 | P146: =SUM(P147:P150) -> 0 | R146: =SUM(R147:R150) -> 0 | T146: =SUM(T147:T150) -> 0 | AR146: 1 | AT146: D | AU146: 1 | AY146: ROZPOCET | BK146: =SUM(BK147:BK150) -> 0
C147: 14 | D147: K | E147: 997013217 | F147: Vnitrostaveništní doprava suti a vybouraných hmot pro budovy v do 24 m ručně | G147: t | H147: 4.632 | J147: =ROUND(I147*H147,2) -> 0 | K147: CS ÚRS 2019 01 | N147: snížená | P147: =O147*H147 -> 0 | Q147: 0 | R147: =Q147*H147 -> 0 | S147: 0 | T147: =S147*H147 -> 0 | AR147: 4 | AT147: K | AU147: 2 | AY147: ROZPOCET | BE147: =IF(N147="základní",J147,0) -> 0 | BF147: =IF(N147="snížená",J147,0) -> 0 | BG147: =IF(N147="zákl. přenesená",J147,0) -> 0 | BH147: =IF(N147="sníž. přenesená",J147,0) -> 0 | BI147: =IF(N147="nulová",J147,0) -> 0 | BJ147: 2 | BK147: =ROUND(I147*H147,2) -> 0 | BL147: 4 | BM147: -1954080943
C148: 15 | D148: K | E148: 997013501 | F148: Odvoz suti a vybouraných hmot na skládku nebo meziskládku do 1 km se složením | G148: t | H148: 4.632 | J148: =ROUND(I148*H148,2) -> 0 | K148: CS ÚRS 2019 01 | N148: snížená | P148: =O148*H148 -> 0 | Q148: 0 | R148: =Q148*H148 -> 0 | S148: 0 | T148: =S148*H148 -> 0 | AR148: 4 | AT148: K | AU148: 2 | AY148: ROZPOCET | BE148: =IF(N148="základní",J148,0) -> 0 | BF148: =IF(N148="snížená",J148,0) -> 0 | BG148: =IF(N148="zákl. přenesená",J148,0) -> 0 | BH148: =IF(N148="sníž. přenesená",J148,0) -> 0 | BI148: =IF(N148="nulová",J148,0) -> 0 | BJ148: 2 | BK148: =ROUND(I148*H148,2) -> 0 | BL148: 4 | BM148: 2045110442
C149: 16 | D149: K | E149: 997013511 | F149: Odvoz suti a vybouraných hmot z meziskládky na skládku do 1 km s naložením a se složením | G149: t | H149: 111.168 | J149: =ROUND(I149*H149,2) -> 0 | K149: CS ÚRS 2019 01 | N149: snížená | P149: =O149*H149 -> 0 | Q149: 0 | R149: =Q149*H149 -> 0 | S149: 0 | T149: =S149*H149 -> 0 | AR149: 4 | AT149: K | AU149: 2 | AY149: ROZPOCET | BE149: =IF(N149="základní",J149,0) -> 0 | BF149: =IF(N149="snížená",J149,0) -> 0 | BG149: =IF(N149="zákl. přenesená",J149,0) -> 0 | BH149: =IF(N149="sníž. přenesená",J149,0) -> 0 | BI149: =IF(N149="nulová",J149,0) -> 0 | BJ149: 2 | BK149: =ROUND(I149*H149,2) -> 0 | BL149: 4 | BM149: -1762166342
C150: 17 | D150: K | E150: 997013801 | F150: Poplatek za uložení na skládce (skládkovné) stavebního odpadu | G150: t | H150: 4.36 | J150: =ROUND(I150*H150,2) -> 0 | K150: CS ÚRS 2019 01 | N150: snížená | P150: =O150*H150 -> 0 | Q150: 0 | R150: =Q150*H150 -> 0 | S150: 0 | T150: =S150*H150 -> 0 | AR150: 4 | AT150: K | AU150: 2 | AY150: ROZPOCET | BE150: =IF(N150="základní",J150,0) -> 0 | BF150: =IF(N150="snížená",J150,0) -> 0 | BG150: =IF(N150="zákl. přenesená",J150,0) -> 0 | BH150: =IF(N150="sníž. přenesená",J150,0) -> 0 | BI150: =IF(N150="nulová",J150,0) -> 0 | BJ150: 2 | BK150: =ROUND(I150*H150,2) -> 0 | BL150: 4 | BM150: -160532092
D151: D | E151: 998 | F151: Přesun hmot | J151: =BK151 -> 0 | P151: =P152 -> 0 | R151: =R152 -> 0 | T151: =T152 -> 0 | AR151: 1 | AT151: D | AU151: 1 | AY151: ROZPOCET | BK151: =BK152 -> 0
C152: 18 | D152: K | E152: 998018003 | F152: Přesun hmot ruční pro budovy v do 24 m | G152: t | H152: 4.175 | J152: =ROUND(I152*H152,2) -> 0 | K152: CS ÚRS 2019 01 | N152: snížená | P152: =O152*H152 -> 0 | Q152: 0 | R152: =Q152*H152 -> 0 | S152: 0 | T152: =S152*H152 -> 0 | AR152: 4 | AT152: K | AU152: 2 | AY152: ROZPOCET | BE152: =IF(N152="základní",J152,0) -> 0 | BF152: =IF(N152="snížená",J152,0) -> 0 | BG152: =IF(N152="zákl. přenesená",J152,0) -> 0 | BH152: =IF(N152="sníž. přenesená",J152,0) -> 0 | BI152: =IF(N152="nulová",J152,0) -> 0 | BJ152: 2 | BK152: =ROUND(I152*H152,2) -> 0 | BL152: 4 | BM152: 562005245
D153: D | E153: PSV | F153: Práce a dodávky PSV | J153: =BK153 -> 0 | P153: =P154+P158+P163+P167+P182 -> 0 | R153: =R154+R158+R163+R167+R182 -> 1.4199306 | T153: =T154+T158+T163+T167+T182 -> 0.27179002 | AR153: 2 | AT153: D | AU153: 0 | AY153: ROZPOCET | BK153: =BK154+BK158+BK163+BK167+BK182 -> 0
D154: D | E154: 741 | F154: Elektroinstalace - silnoproud | J154: =BK154 -> 0 | P154: =SUM(P155:P157) -> 0 | R154: =SUM(R155:R157) -> 0 | T154: =SUM(T155:T157) -> 0 | AR154: 2 | AT154: D | AU154: 1 | AY154: ROZPOCET | BK154: =SUM(BK155:BK157) -> 0
C155: 19 | D155: K | E155: 741-pc 1 | F155: Výměna světla nad výtahem | G155: kus | H155: 1 | J155: =ROUND(I155*H155,2) -> 0 | N155: snížená | P155: =O155*H155 -> 0 | Q155: 0 | R155: =Q155*H155 -> 0 | S155: 0 | T155: =S155*H155 -> 0 | AR155: 16 | AT155: K | AU155: 2 | AY155: ROZPOCET | BE155: =IF(N155="základní",J155,0) -> 0 | BF155: =IF(N155="snížená",J155,0) -> 0 | BG155: =IF(N155="zákl. přenesená",J155,0) -> 0 | BH155: =IF(N155="sníž. přenesená",J155,0) -> 0 | BI155: =IF(N155="nulová",J155,0) -> 0 | BJ155: 2 | BK155: =ROUND(I155*H155,2) -> 0 | BL155: 16 | BM155: -133704348
C156: 20 | D156: K | E156: 741-pc 2 | F156: Výměna schodištového tlačítka u výtahu | G156: kus | H156: 1 | J156: =ROUND(I156*H156,2) -> 0 | N156: snížená | P156: =O156*H156 -> 0 | Q156: 0 | R156: =Q156*H156 -> 0 | S156: 0 | T156: =S156*H156 -> 0 | AR156: 16 | AT156: K | AU156: 2 | AY156: ROZPOCET | BE156: =IF(N156="základní",J156,0) -> 0 | BF156: =IF(N156="snížená",J156,0) -> 0 | BG156: =IF(N156="zákl. přenesená",J156,0) -> 0 | BH156: =IF(N156="sníž. přenesená",J156,0) -> 0 | BI156: =IF(N156="nulová",J156,0) -> 0 | BJ156: 2 | BK156: =ROUND(I156*H156,2) -> 0 | BL156: 16 | BM156: -940451891
C157: 21 | D157: K | E157: 998741202 | F157: Přesun hmot procentní pro silnoproud v objektech v do 12 m | G157: % | J157: =ROUND(I157*H157,2) -> 0 | K157: CS ÚRS 2018 01 | N157: snížená | P157: =O157*H157 -> 0 | Q157: 0 | R157: =Q157*H157 -> 0 | S157: 0 | T157: =S157*H157 -> 0 | AR157: 16 | AT157: K | AU157: 2 | AY157: ROZPOCET | BE157: =IF(N157="základní",J157,0) -> 0 | BF157: =IF(N157="snížená",J157,0) -> 0 | BG157: =IF(N157="zákl. přenesená",J157,0) -> 0 | BH157: =IF(N157="sníž. přenesená",J157,0) -> 0 | BI157: =IF(N157="nulová",J157,0) -> 0 | BJ157: 2 | BK157: =ROUND(I157*H157,2) -> 0 | BL157: 16 | BM157: -482010704
D158: D | E158: 766 | F158: Konstrukce truhlářské | J158: =BK158 -> 0 | P158: =SUM(P159:P162) -> 0 | R158: =SUM(R159:R162) -> 0 | T158: =SUM(T159:T162) -> 0 | AR158: 2 | AT158: D | AU158: 1 | AY158: ROZPOCET | BK158: =SUM(BK159:BK162) -> 0
C159: 22 | D159: K | E159: 766-pc 1 | F159: Oprava oken kastlových dvoukřídlové s nadsvětlíkem otevíravé, včetně výměny spodního kování,klik | G159: kus | H159: 18 | J159: =ROUND(I159*H159,2) -> 0 | N159: snížená | P159: =O159*H159 -> 0 | Q159: 0 | R159: =Q159*H159 -> 0 | S159: 0 | T159: =S159*H159 -> 0 | AR159: 16 | AT159: K | AU159: 2 | AY159: ROZPOCET | BE159: =IF(N159="základní",J159,0) -> 0 | BF159: =IF(N159="snížená",J159,0) -> 0 | BG159: =IF(N159="zákl. přenesená",J159,0) -> 0 | BH159: =IF(N159="sníž. přenesená",J159,0) -> 0 | BI159: =IF(N159="nulová",J159,0) -> 0 | BJ159: 2 | BK159: =ROUND(I159*H159,2) -> 0 | BL159: 16 | BM159: -1550638142
C160: 23 | D160: K | E160: 766-pc 1a | F160: Oprava oken kastlových tříkřídlové s nadsvětlíkem otevíravé, včetně výměny spodního kování,klik | G160: kus | H160: 1 | J160: =ROUND(I160*H160,2) -> 0 | N160: snížená | P160: =O160*H160 -> 0 | Q160: 0 | R160: =Q160*H160 -> 0 | S160: 0 | T160: =S160*H160 -> 0 | AR160: 16 | AT160: K | AU160: 2 | AY160: ROZPOCET | BE160: =IF(N160="základní",J160,0) -> 0 | BF160: =IF(N160="snížená",J160,0) -> 0 | BG160: =IF(N160="zákl. přenesená",J160,0) -> 0 | BH160: =IF(N160="sníž. přenesená",J160,0) -> 0 | BI160: =IF(N160="nulová",J160,0) -> 0 | BJ160: 2 | BK160: =ROUND(I160*H160,2) -> 0 | BL160: 16 | BM160: 1402028006
C161: 24 | D161: K | E161: 766-pc 2 | F161: Oprava dvoukřídlových dveří otevíravé, včetně výměny kování,klika-koule, záměk bezpečnostní | G161: kus | H161: 5 | J161: =ROUND(I161*H161,2) -> 0 | N161: snížená | P161: =O161*H161 -> 0 | Q161: 0 | R161: =Q161*H161 -> 0 | S161: 0 | T161: =S161*H161 -> 0 | AR161: 16 | AT161: K | AU161: 2 | AY161: ROZPOCET | BE161: =IF(N161="základní",J161,0) -> 0 | BF161: =IF(N161="snížená",J161,0) -> 0 | BG161: =IF(N161="zákl. přenesená",J161,0) -> 0 | BH161: =IF(N161="sníž. přenesená",J161,0) -> 0 | BI161: =IF(N161="nulová",J161,0) -> 0 | BJ161: 2 | BK161: =ROUND(I161*H161,2) -> 0 | BL161: 16 | BM161: 1220047496
C162: 25 | D162: K | E162: 998766203 | F162: Přesun hmot procentní pro konstrukce truhlářské v objektech v do 24 m | G162: % | J162: =ROUND(I162*H162,2) -> 0 | K162: CS ÚRS 2019 01 | N162: snížená | P162: =O162*H162 -> 0 | Q162: 0 | R162: =Q162*H162 -> 0 | S162: 0 | T162: =S162*H162 -> 0 | AR162: 16 | AT162: K | AU162: 2 | AY162: ROZPOCET | BE162: =IF(N162="základní",J162,0) -> 0 | BF162: =IF(N162="snížená",J162,0) -> 0 | BG162: =IF(N162="zákl. přenesená",J162,0) -> 0 | BH162: =IF(N162="sníž. přenesená",J162,0) -> 0 | BI162: =IF(N162="nulová",J162,0) -> 0 | BJ162: 2 | BK162: =ROUND(I162*H162,2) -> 0 | BL162: 16 | BM162: 335325089
D163: D | E163: 767 | F163: Konstrukce zámečnické | J163: =BK163 -> 0 | P163: =SUM(P164:P166) -> 0 | R163: =SUM(R164:R166) -> 0.0003 | T163: =SUM(T164:T166) -> 0 | AR163: 2 | AT163: D | AU163: 1 | AY163: ROZPOCET | BK163: =SUM(BK164:BK166) -> 0
C164: 26 | D164: K | E164: 767-pc 1 | F164: D+m nové mříže před oknem ve schodišti | G164: kus | H164: 1 | J164: =ROUND(I164*H164,2) -> 0 | N164: snížená | P164: =O164*H164 -> 0 | Q164: 0.00015 | R164: =Q164*H164 -> 0.00015 | S164: 0 | T164: =S164*H164 -> 0 | AR164: 16 | AT164: K | AU164: 2 | AY164: ROZPOCET | BE164: =IF(N164="základní",J164,0) -> 0 | BF164: =IF(N164="snížená",J164,0) -> 0 | BG164: =IF(N164="zákl. přenesená",J164,0) -> 0 | BH164: =IF(N164="sníž. přenesená",J164,0) -> 0 | BI164: =IF(N164="nulová",J164,0) -> 0 | BJ164: 2 | BK164: =ROUND(I164*H164,2) -> 0 | BL164: 16 | BM164: 492914957
C165: 27 | D165: K | E165: 767-pc 2 | F165: Oprava zábradlí v 1patře-uchycení | G165: sada | H165: 1 | J165: =ROUND(I165*H165,2) -> 0 | N165: snížená | P165: =O165*H165 -> 0 | Q165: 0.00015 | R165: =Q165*H165 -> 0.00015 | S165: 0 | T165: =S165*H165 -> 0 | AR165: 16 | AT165: K | AU165: 2 | AY165: ROZPOCET | BE165: =IF(N165="základní",J165,0) -> 0 | BF165: =IF(N165="snížená",J165,0) -> 0 | BG165: =IF(N165="zákl. přenesená",J165,0) -> 0 | BH165: =IF(N165="sníž. přenesená",J165,0) -> 0 | BI165: =IF(N165="nulová",J165,0) -> 0 | BJ165: 2 | BK165: =ROUND(I165*H165,2) -> 0 | BL165: 16 | BM165: -562187495
C166: 28 | D166: K | E166: 998767203 | F166: Přesun hmot procentní pro zámečnické konstrukce v objektech v do 24 m | G166: % | J166: =ROUND(I166*H166,2) -> 0 | K166: CS ÚRS 2019 01 | N166: snížená | P166: =O166*H166 -> 0 | Q166: 0 | R166: =Q166*H166 -> 0 | S166: 0 | T166: =S166*H166 -> 0 | AR166: 16 | AT166: K | AU166: 2 | AY166: ROZPOCET | BE166: =IF(N166="základní",J166,0) -> 0 | BF166: =IF(N166="snížená",J166,0) -> 0 | BG166: =IF(N166="zákl. přenesená",J166,0) -> 0 | BH166: =IF(N166="sníž. přenesená",J166,0) -> 0 | BI166: =IF(N166="nulová",J166,0) -> 0 | BJ166: 2 | BK166: =ROUND(I166*H166,2) -> 0 | BL166: 16 | BM166: 1301839161
D167: D | E167: 783 | F167: Dokončovací práce - nátěry | J167: =BK167 -> 0 | P167: =SUM(P168:P181) -> 0 | R167: =SUM(R168:R181) -> 0.28776346 | T167: =SUM(T168:T181) -> 0 | AR167: 2 | AT167: D | AU167: 1 | AY167: ROZPOCET | BK167: =SUM(BK168:BK181) -> 0
C168: 29 | D168: K | E168: 783106805 | F168: Odstranění nátěrů z truhlářských konstrukcí opálením | G168: m2 | H168: 313.836 | J168: =ROUND(I168*H168,2) -> 0 | K168: CS ÚRS 2019 01 | N168: snížená | P168: =O168*H168 -> 0 | Q168: 2e-05 | R168: =Q168*H168 -> 0.00627672 | S168: 0 | T168: =S168*H168 -> 0 | AR168: 16 | AT168: K | AU168: 2 | AY168: ROZPOCET | BE168: =IF(N168="základní",J168,0) -> 0 | BF168: =IF(N168="snížená",J168,0) -> 0 | BG168: =IF(N168="zákl. přenesená",J168,0) -> 0 | BH168: =IF(N168="sníž. přenesená",J168,0) -> 0 | BI168: =IF(N168="nulová",J168,0) -> 0 | BJ168: 2 | BK168: =ROUND(I168*H168,2) -> 0 | BL168: 16 | BM168: -1079334087
...
