Workbook

Sheet St.Lískovec
E1: Příloha č. 2
A3: SOUPIS POZEMKŮ - k.ú. STARÝ LÍSKOVEC - REKAPITULACE CENY
A5: A.) 4 x pokos, jednorázová probírka dřevin a odstranění náletových dřevin, sběr odpadu, odvoz a ekologická likvidace veškerého odpadu
A7: Katastr | B7: Pozemky p.č. | C7: Celková výměra pozemku | D7: Plocha pro úklid | E7: Poznámka
A8: STARÝ LÍSKOVEC | B8: 1664/62 | C8: 1164 | D8: 1164 | E8: pokos,probírka, sběr odpadu
B9: 1671/14 | C9: 90 | D9: 90 | E9: pokos
B10: 1671/18 | C10: 871 | D10: 871 | E10: pokos
B11: 1671/20 | C11: 71 | D11: 71 | E11: pokos
B12: 1684/118 | C12: 1171 | D12: 1171 | E12: pokos,probírka, sběr odpadu
B13: 1684/190 | C13: 625 | D13: 625 | E13: pokos,probírka, sběr odpadu
B14: 1745/8 | C14: 380 | D14: 380 | E14: pokos,nálety
A15: CELKEM m2 PRO ÚKLID | D15: =SUM(D8:D14) -> 4372
A22: REKAPITULACE CENY
A24: DRUH PLNĚNÍ | B24: MJ/M2 | C24: CENA/MJ | D24: CENA CELKEM 1 PLNĚNÍ | E24: CENA CELKEM ZA CELÉ PLNĚNÍ
A25: A | B25: =D15 -> 4372 | D25: =B25*C25 -> 0 | E25: =D25*4 -> 0
A26: CENA CELKEM BEZ DPH | E26: =SUM(E25:E25) -> 0
A27: DPH 21 % | E27: =E26/100*21 -> 0
A28: CENA CELKEM VČ. DPH | E28: =E26+E27 -> 0

Sheet Bohunice
E1: Příloha č. 2
A3: SOUPIS POZEMKŮ - k.ú. BOHUNICE - REKAPITULACE CENY
A5: A.) 4 x pokos, jednorázová probírka dřevin a odstranění náletových dřevin, sběr odpadu, odvoz a ekologická likvidace veškerého odpadu
A7: Katastr | B7: Pozemky p.č. | C7: Celková výměra pozemku | D7: Plocha pro úklid | E7: Poznámka
A8: BOHUNICE | B8: 1260/12 | C8: 682 | D8: 682 | E8: pokos,nálety,sběr odpadu
A9: CELKEM m2 PRO ÚKLID | D9: =SUM(D8:D8) -> 682
A14: B.) 2 x pokos, probírka dřevin, ekologická likvidace veškerého odpadu
A16: Katastr | B16: Pozemky p.č. | C16: Celková výměra pozemku | D16: Plocha pro úklid | E16: Poznámka
A17: BOHUNICE | B17: 1192/1 | C17: 1021 | D17: 1021 | E17: pokos,probírka
A18: CELKEM m2 PRO ÚKLID | D18: =SUM(D17:D17) -> 1021
A22: REKAPITULACE CENY
A24: DRUH PLNĚNÍ | B24: MJ/M2 | C24: CENA/MJ | D24: CENA CELKEM 1 PLNĚNÍ | E24: CENA CELKEM ZA CELÉ PLNĚNÍ
A25: A | B25: =D9 -> 682 | D25: =B25*C25 -> 0 | E25: =D25*4 -> 0
A26: B | B26: =D18 -> 1021 | D26: =B26*C26 -> 0 | E26: =D26*2 -> 0
A27: CENA CELKEM BEZ DPH | E27: =SUM(E25:E26) -> 0
A28: DPH 21 % | E28: =E27/100*21 -> 0
A29: CENA CELKEM VČ. DPH | E29: =E27+E28 -> 0

Sheet Pisárky
E1: Příloha č. 2
A3: SOUPIS POZEMKŮ - k.ú. PISÁRKY - REKAPITULACE CENY
A5: A.) 4 x pokos, probírka dřevin, odstranění náletových dřevin, sběr odpadu, odvoz a ekologická likvidace veškerého odpadu
A7: Katastr | B7: Pozemky p.č. | C7: Celková výměra pozemku | D7: Plocha pro úklid | E7: Poznámka
A8: PISÁRKY | B8: 213 | C8: 113 | D8: 113 | E8: pokos,nálety
B9: 216 | C9: 208 | D9: 208 | E9: pokos,nálety
B10: 1418/1 | C10: 1203 | D10: 766 | E10: probírka, sběr odpadu
A11: CELKEM m2 PRO ÚKLID | D11: =SUM(D8:D10) -> 1087
A16: REKAPITULACE CENY
A18: DRUH PLNĚNÍ | B18: MJ/M2 | C18: CENA/MJ | D18: CENA CELKEM 1 PLNĚNÍ | E18: CENA CELKEM ZA CELÉ PLNĚNÍ
A19: A | B19: =D11 -> 1087 | D19: =B19*C19 -> 0 | E19: =D19*4 -> 0
A20: CENA CELKEM BEZ DPH | E20: =SUM(E19:E19) -> 0
A21: DPH 21 % | E21: =E20/100*21 -> 0
A22: CENA CELKEM VČ. DPH | E22: =E20+E21 -> 0

Sheet Kohoutovice
E1: Příloha č. 2
A3: SOUPIS POZEMKŮ - k.ú. KOHOUTOVICE - REKAPITULACE CENY
A5: A.) 4 x pokos, jednorázová probírka dřevin, sběr odpadu, odvoz a ekologická likvidace odpadu
A7: Katastr | B7: Pozemky p.č. | C7: Celková výměra pozemku | D7: Plocha pro úklid | E7: Poznámka
A8: KOHOUTOVICE | B8: 855/20 | C8: 164 | D8: 66 | E8: pokos, probírka dřevin
B9: 855/21 | C9: 428 | D9: 46 | E9: pokos, probírka dřevin
B10: 883/1 | C10: 988 | D10: 47 | E10: pokos, probírka,sběr odpadu
B11: 884/1 | C11: 978 | D11: 47 | E11: pokos, probírka,sběr odpadu
A12: CELKEM m2 PRO ÚKLID | D12: =SUM(D8:D11) -> 206
A16: REKAPITULACE CENY
A18: DRUH PLNĚNÍ | B18: MJ/M2 | C18: CENA/MJ | D18: CENA CELKEM 1 PLNĚNÍ | E18: CENA CELKEM ZA CELÉ PLNĚNÍ
A19: A | B19: =D12 -> 206 | D19: =B19*C19 -> 0 | E19: =D19*4 -> 0
A20: CENA CELKEM BEZ DPH | E20: =SUM(E19:E19) -> 0
A21: DPH 21 % | E21: =E20/100*21 -> 0
A22: CENA CELKEM VČ. DPH | E22: =E20+E21 -> 0

Sheet Přízřenice
E1: Příloha č. 2
A3: SOUPIS POZEMKŮ - k.ú. PŘÍZŘENICE - REKAPITULACE CENY
A5: A.) 4 x pokos, sběr odpadu, ekologická likvidace veškerého odpadu
A7: Katastr | B7: Pozemky p.č. | C7: Celková výměra pozemku | D7: Plocha pro úklid | E7: Poznámka
A8: PŘÍZŘENICE | B8: 555 | C8: 3914 | D8: 3062 | E8: pokos, sběr odpadu
B9: 934 | C9: 1536 | D9: 1536 | E9: pokos, sběr odpadu
B10: 935 | C10: 818 | D10: 818 | E10: pokos, sběr odpadu
A11: CELKEM m2 PRO ÚKLID | D11: =SUM(D8:D10) -> 5416
A15: REKAPITULACE CENY
A17: DRUH PLNĚNÍ | B17: MJ/M2 | C17: CENA/MJ | D17: CENA CELKEM 1 PLNĚNÍ | E17: CENA CELKEM ZA CELÉ PLNĚNÍ
A18: A | B18: =D11 -> 5416 | D18: =B18*C18 -> 0 | E18: =D18*4 -> 0
A19: CENA CELKEM BEZ DPH | E19: =SUM(E18:E18) -> 0
A20: DPH 21 % | E20: =E19/100*21 -> 0
A21: CENA CELKEM VČ. DPH | E21: =E19+E20 -> 0

Sheet Bosonohy
E1: Příloha č. 2
A3: SOUPIS POZEMKŮ - k.ú. BOSONOHY - REKAPITULACE CENY
A5: A.) 4 x pokos, jednorázová probírka dřevin a odstranění náletových dřevin, sběr odpadu, odvoz a ekologická likvidace veškerého odpadu
A7: Katastr | B7: Pozemky p.č. | C7: Celková výměra pozemku | D7: Plocha pro úklid | E7: Poznámka
A8: BOSONOHY | B8: 532 | C8: 264 | D8: 264 | E8: pokos
B9: 1745/23 | C9: 1488 | D9: 992 | E9: pokos
A10: CELKEM m2 PRO ÚKLID | D10: =SUM(D8:D9) -> 1256
A15: REKAPITULACE CENY
A17: DRUH PLNĚNÍ | B17: MJ/M2 | C17: CENA/MJ | D17: CENA CELKEM 1 PLNĚNÍ | E17: CENA CELKEM ZA CELÉ PLNĚNÍ
A18: A | B18: =D10 -> 1256 | D18: =B18*C18 -> 0 | E18: =D18*4 -> 0
A19: CENA CELKEM BEZ DPH | E19: =E18 -> 0
A20: DPH 21 % | E20: =E19/100*21 -> 0
A21: CENA CELKEM VČ. DPH | E21: =E19+E20 -> 0

Sheet REKAPITULACE
A2: REKAPITULACE CELKOVÉ CENY ZAKÁZKY
A4: Katastr | B4: CENA CELKEM BEZ DPH | C4: DPH 21% | D4: CENA CELKEM VČETNĚ DPH
A5: Starý Lískovec | B5: =St.Lískovec!E26 -> 0 | C5: =B5/100*21 -> 0 | D5: =B5+C5 -> 0
A6: Bohunice | B6: =Bohunice!E27 -> 0 | C6: =B6/100*21 -> 0 | D6: =B6+C6 -> 0
A7: Pisárky | B7: =Pisárky!E20 -> 0 | C7: =B7/100*21 -> 0 | D7: =B7+C7 -> 0
A8: Kohoutovice | B8: =Kohoutovice!E20 -> 0 | C8: =B8/100*21 -> 0 | D8: =B8+C8 -> 0
A9: Přízřenice | B9: =Přízřenice!E19 -> 0 | C9: =B9/100*21 -> 0 | D9: =B9+C9 -> 0
A10: Bosonohy | B10: =Bosonohy!E19 -> 0 | C10: =B10/100*21 -> 0 | D10: =B10+C10 -> 0
A11: CENA CELKEM BEZ DPH | D11: =SUM(B5:B10) -> 0
A12: CELKEM DPH 21 % | D12: =SUM(C5:C10) -> 0
A13: CENA CELKEM VČ. DPH | D13: =D11+D12 -> 0
