Workbook

Sheet Rekapitulace stavby
A1: Export Komplet | BA1: 2.0 | BT1: False | BU1: False | BV1: {707bb9e6-c2c3-4abd-977b-2b1f5f79e0f5}
AR2: >> skryté sloupce << | BS2: 0,01 | BT2: 21
BS3: 0,01 | BT3: 15
D4: REKAPITULACE STAVBY | AS4: v --- níže se nacházejí doplnkové a pomocné údaje k sestavám --- v | BE4: Návod na vyplnění | BS4: 0,001
D5: Kód: | K5: Studanka1 | BE5: Měnit lze pouze buňky se žlutým podbarvením! 1) na prvním listu Rekapitulace stavby vyplňte v sestavě a) Souhrnný list - údaje o Uchazeči (přenesou se do ostatních sestav i v jiných listech) b) Rekapitulace objektů - potřebné Ostatní náklady 2) na vybraných listech vyplňte v sestavě a) Krycí list - údaje o Uchazeči, pokud se liší od údajů o Uchazeči na Souhrnném listu (údaje se přenesou do ostatních sestav v daném listu) b) Rekapitulace rozpočtu - potřebné Ostatní náklady c) Celkové náklady za stavbu - ceny u položek - množství, pokud má žluté podbarvení - a v případě potřeby poznámku (ta je ve skrytém sloupci) | BS5: 0,01
D6: Stavba: | K6: Oprava a zateplení stropu | BS6: 0,01
D7: KSO: | AK7: CC-CZ: | BS7: 0,01
D8: Místo: | K8: Studánka 1,Brno | AK8: Datum: | AN8: 31. 10. 2022 | BS8: 0,01
BS9: 0,01
D10: Zadavatel: | AK10: IČ: | BS10: 0,01
E11: MmBrna,OSM,Husova 3,Brno | AK11: DIČ: | BS11: 0,01
BS12: 0,01
D13: Uchazeč: | AK13: IČ: | AN13: Vyplň údaj | BS13: 0,01
E14: Vyplň údaj | AK14: DIČ: | AN14: Vyplň údaj | BS14: 0,01
BS15: False
D16: Projektant: | AK16: IČ: | BS16: False
E17: R.Volková | AK17: DIČ: | BS17: True
BS18: 0,01
D19: Zpracovatel: | AK19: IČ: | BS19: 0,01
E20: R.Volková | AK20: DIČ: | BS20: True
D22: Poznámka:
D26: Cena bez DPH | AK26: =ROUND(AG94,2) -> 0
L28: Sazba daně | W28: Základ daně | AK28: Výše daně
D29: DPH | F29: základní | L29: 0.21 | W29: =ROUND(AZ94, 2) -> 0 | AK29: =ROUND(AV94, 2) -> 0
F30: snížená | L30: 0.15 | W30: =ROUND(BA94, 2) -> 0 | AK30: =ROUND(AW94, 2) -> 0
F31: zákl. přenesená | L31: 0.21 | W31: =ROUND(BB94, 2) -> 0 | AK31: 0
F32: sníž. přenesená | L32: 0.15 | W32: =ROUND(BC94, 2) -> 0 | AK32: 0
F33: nulová | L33: 0 | W33: =ROUND(BD94, 2) -> 0 | AK33: 0
D35: Cena s DPH | T35: v | X35: CZK | AK35: =SUM(AK26:AK33) -> 0
D49: Projektant | AH49: Zpracovatel
D60: Datum a podpis: | V60: Razítko | AH60: Datum a podpis: | AM60: Razítko
D64: Objednavatel | AH64: Uchazeč
D75: Datum a podpis: | V75: Razítko | AH75: Datum a podpis: | AM75: Razítko
C82: REKAPITULACE OBJEKTŮ STAVBY A SOUPISŮ PRACÍ
C84: Kód: | L84: =K5 -> Studanka1
C85: Stavba: | L85: =K6 -> Oprava a zateplení stropu
C87: Místo: | L87: =IF(K8="","",K8) -> Studánka 1,Brno | AI87: Datum: | AM87: =IF(AN8= "","",AN8) -> 31. 10. 2022
C89: Zadavatel: | L89: =IF(E11= "","",E11) -> MmBrna,OSM,Husova 3,Brno | AI89: Projektant: | AM89: =IF(E17="","",E17) -> R.Volková | AS89: Informatívní údaje z listů zakázek
C90: Uchazeč: | L90: =IF(E14= "Vyplň údaj","",E14) | AI90: Zpracovatel: | AM90: =IF(E20="","",E20) -> R.Volková
C92: Kód | I92: Popis | AG92: Cena bez DPH [CZK] | AN92: Cena s DPH [CZK] | AQ92: Typ | AS92: z toho Ostat. náklady [CZK] | AT92: DPH [CZK] | AU92: Normohodiny [h] | AV92: DPH základní [CZK] | AW92: DPH snížená [CZK] | AX92: DPH základní přenesená [CZK] | AY92: DPH snížená přenesená [CZK] | AZ92: Základna DPH základní | BA92: Základna DPH snížená | BB92: Základna DPH zákl. přenesená | BC92: Základna DPH sníž. přenesená | BD92: Základna DPH nulová
C94: Náklady z rozpočtů | AG94: =ROUND(AG95,2) -> 0 | AN94: =SUM(AG94,AT94) -> 0 | AS94: =ROUND(AS95,2) -> 0 | AT94: =ROUND(SUM(AV94:AW94),2) -> 0 | AU94: =ROUND(AU95,5) -> 0 | AV94: =ROUND(AZ94*L29,2) -> 0 | AW94: =ROUND(BA94*L30,2) -> 0 | AX94: =ROUND(BB94*L29,2) -> 0 | AY94: =ROUND(BC94*L30,2) -> 0 | AZ94: =ROUND(AZ95,2) -> 0 | BA94: =ROUND(BA95,2) -> 0 | BB94: =ROUND(BB95,2) -> 0 | BC94: =ROUND(BC95,2) -> 0 | BD94: =ROUND(BD95,2) -> 0 | BS94: D | BT94: 0 | BV94: IMPORT | BW94: {707bb9e6-c2c3-4abd-977b-2b1f5f79e0f5} | BX94: {00000000-0000-0000-0000-000000000000}
A95: / | D95: Studanka1 | J95: Oprava a zateplení stropu | AG95: ='Studanka1 - Oprava a zate...'!J28 -> 0 | AN95: =SUM(AG95,AT95) -> 0 | AQ95: STA | AS95: 0 | AT95: =ROUND(SUM(AV95:AW95),2) -> 0 | AU95: ='Studanka1 - Oprava a zate...'!P124 -> 0 | AV95: ='Studanka1 - Oprava a zate...'!J31 -> 0 | AW95: ='Studanka1 - Oprava a zate...'!J32 -> 0 | AX95: ='Studanka1 - Oprava a zate...'!J33 -> 0 | AY95: ='Studanka1 - Oprava a zate...'!J34 -> 0 | AZ95: ='Studanka1 - Oprava a zate...'!F31 -> 0 | BA95: ='Studanka1 - Oprava a zate...'!F32 -> 0 | BB95: ='Studanka1 - Oprava a zate...'!F33 -> 0 | BC95: ='Studanka1 - Oprava a zate...'!F34 -> 0 | BD95: ='Studanka1 - Oprava a zate...'!F35 -> 0 | BT95: 1 | BU95: ###NOINSERT### | BV95: IMPORT | BW95: {707bb9e6-c2c3-4abd-977b-2b1f5f79e0f5} | BX95: {00000000-0000-0000-0000-000000000000}

Sheet Studanka1 - Oprava a zate...
L2: >> skryté sloupce << | AT2: {707bb9e6-c2c3-4abd-977b-2b1f5f79e0f5}
AT3: 2
D4: KRYCÍ LIST SOUPISU PRACÍ | M4: v --- níže se nacházejí doplnkové a pomocné údaje k sestavám --- v | AT4: False
D6: Stavba:
E7: Oprava a zateplení stropu
D9: KSO: | I9: CC-CZ:
D10: Místo: | F10: Studánka 1,Brno | I10: Datum: | J10: ='Rekapitulace stavby'!AN8 -> 31. 10. 2022
D12: Zadavatel: | I12: IČ:
E13: MmBrna,OSM,Husova 3,Brno | I13: DIČ:
D15: Uchazeč: | I15: IČ: | J15: ='Rekapitulace stavby'!AN13 -> Vyplň údaj
E16: ='Rekapitulace stavby'!E14 -> Vyplň údaj | I16: DIČ: | J16: ='Rekapitulace stavby'!AN14 -> Vyplň údaj
D18: Projektant: | I18: IČ:
E19: R.Volková | I19: DIČ:
D21: Zpracovatel: | I21: IČ:
E22: R.Volková | I22: DIČ:
D24: Poznámka:
D28: Cena bez DPH | J28: =ROUND(J124, 2) -> 0
F30: Základ daně | I30: Sazba daně | J30: Výše daně
D31: DPH | E31: základní | F31: =ROUND((SUM(BE124:BE197)), 2) -> 0 | I31: 0.21 | J31: =ROUND(((SUM(BE124:BE197))*I31), 2) -> 0
E32: snížená | F32: =ROUND((SUM(BF124:BF197)), 2) -> 0 | I32: 0.15 | J32: =ROUND(((SUM(BF124:BF197))*I32), 2) -> 0
E33: zákl. přenesená | F33: =ROUND((SUM(BG124:BG197)), 2) -> 0 | I33: 0.21 | J33: =0 -> 0
E34: sníž. přenesená | F34: =ROUND((SUM(BH124:BH197)), 2) -> 0 | I34: 0.15 | J34: =0 -> 0
E35: nulová | F35: =ROUND((SUM(BI124:BI197)), 2) -> 0 | I35: 0 | J35: =0 -> 0
D37: Cena s DPH | G37: v | H37: CZK | J37: =SUM(J28:J35) -> 0
D50: Projektant | G50: Zpracovatel
D61: Datum a podpis: | F61: Razítko | G61: Datum a podpis: | J61: Razítko
D65: Objednavatel | G65: Uchazeč
D76: Datum a podpis: | F76: Razítko | G76: Datum a podpis: | J76: Razítko
C82: REKAPITULACE ČLENĚNÍ SOUPISU PRACÍ
C84: Stavba:
E85: =E7 -> Oprava a zateplení stropu
C87: Místo: | F87: =F10 -> Studánka 1,Brno | I87: Datum: | J87: =IF(J10="","",J10) -> 31. 10. 2022
C89: Zadavatel: | F89: =E13 -> MmBrna,OSM,Husova 3,Brno | I89: Projektant: | J89: =E19 -> R.Volková
C90: Uchazeč: | F90: =IF(E16="","",E16) -> Vyplň údaj | I90: Zpracovatel: | J90: =E22 -> R.Volková
C92: Kód dílu - Popis | J92: Cena celkem [CZK]
C94: Náklady ze soupisu prací | J94: =J124 -> 0 | AU94: -1
D95: HSV - Práce a dodávky HSV | J95: =J125 -> 0
D96: 9 - Ostatní konstrukce a práce, bourání | J96: =J126 -> 0
D97: 997 - Přesun sutě | J97: =J130 -> 0
D98: 998 - Přesun hmot | J98: =J136 -> 0
D99: PSV - Práce a dodávky PSV | J99: =J139 -> 0
D100: 741 - Elektroinstalace - silnoproud | J100: =J140 -> 0
D101: 763 - Konstrukce suché výstavby | J101: =J143 -> 0
D102: 784 - Dokončovací práce - malby a tapety | J102: =J154 -> 0
D103: HZS - Hodinové zúčtovací sazby | J103: =J191 -> 0
D104: VRN - Vedlejší rozpočtové náklady | J104: =J193 -> 0
D105: VRN3 - Zařízení staveniště | J105: =J194 -> 0
D106: VRN7 - Provozní vlivy | J106: =J196 -> 0
C113: SOUPIS PRACÍ
C115: Stavba:
E116: =E7 -> Oprava a zateplení stropu
C118: Místo: | F118: =F10 -> Studánka 1,Brno | I118: Datum: | J118: =IF(J10="","",J10) -> 31. 10. 2022
C120: Zadavatel: | F120: =E13 -> MmBrna,OSM,Husova 3,Brno | I120: Projektant: | J120: =E19 -> R.Volková
C121: Uchazeč: | F121: =IF(E16="","",E16) -> Vyplň údaj | I121: Zpracovatel: | J121: =E22 -> R.Volková
C123: PČ | D123: Typ | E123: Kód | F123: Popis | G123: MJ | H123: Množství | I123: J.cena [CZK] | J123: Cena celkem [CZK] | K123: Cenová soustava | N123: DPH | O123: J. Nh [h] | P123: Nh celkem [h] | Q123: J. hmotnost [t] | R123: Hmotnost celkem [t] | S123: J. suť [t] | T123: Suť Celkem [t]
C124: Náklady soupisu celkem | J124: =BK124 -> 0 | P124: =P125+P139+P191+P193 -> 0 | R124: =R125+R139+R191+R193 -> 1.4028298 | T124: =T125+T139+T191+T193 -> 0.1269997 | AT124: D | AU124: -1 | BK124: =BK125+BK139+BK191+BK193 -> 0
D125: D | E125: HSV | F125: Práce a dodávky HSV | J125: =BK125 -> 0 | P125: =P126+P130+P136 -> 0 | R125: =R126+R130+R136 -> 0.17176 | T125: =T126+T130+T136 -> 0 | AR125: 1 | AT125: D | AU125: 0 | AY125: ROZPOCET | BK125: =BK126+BK130+BK136 -> 0
D126: D | E126: 9 | F126: Ostatní konstrukce a práce, bourání | J126: =BK126 -> 0 | P126: =SUM(P127:P129) -> 0 | R126: =SUM(R127:R129) -> 0.17176 | T126: =SUM(T127:T129) -> 0 | AR126: 1 | AT126: D | AU126: 1 | AY126: ROZPOCET | BK126: =SUM(BK127:BK129) -> 0
C127: 1 | D127: K | E127: 949101111 | F127: Lešení pomocné pro objekty pozemních staveb s lešeňovou podlahou v do 1,9 m zatížení do 150 kg/m2 | G127: m2 | H127: 56.5 | J127: =ROUND(I127*H127,2) -> 0 | K127: CS ÚRS 2022 02 | N127: základní | P127: =O127*H127 -> 0 | Q127: 0.003 | R127: =Q127*H127 -> 0.1695 | S127: 0 | T127: =S127*H127 -> 0 | AR127: 4 | AT127: K | AU127: 2 | AY127: ROZPOCET | BE127: =IF(N127="základní",J127,0) -> 0 | BF127: =IF(N127="snížená",J127,0) -> 0 | BG127: =IF(N127="zákl. přenesená",J127,0) -> 0 | BH127: =IF(N127="sníž. přenesená",J127,0) -> 0 | BI127: =IF(N127="nulová",J127,0) -> 0 | BJ127: 1 | BK127: =ROUND(I127*H127,2) -> 0 | BL127: 4 | BM127: 1872761341
C128: 2 | D128: K | E128: 949-poznámka | F128: Vyklizení si zajistí uživatel bytu | G128: sada | H128: 0 | J128: =ROUND(I128*H128,2) -> 0 | N128: základní | P128: =O128*H128 -> 0 | Q128: 0.003 | R128: =Q128*H128 -> 0 | S128: 0 | T128: =S128*H128 -> 0 | AR128: 4 | AT128: K | AU128: 2 | AY128: ROZPOCET | BE128: =IF(N128="základní",J128,0) -> 0 | BF128: =IF(N128="snížená",J128,0) -> 0 | BG128: =IF(N128="zákl. přenesená",J128,0) -> 0 | BH128: =IF(N128="sníž. přenesená",J128,0) -> 0 | BI128: =IF(N128="nulová",J128,0) -> 0 | BJ128: 1 | BK128: =ROUND(I128*H128,2) -> 0 | BL128: 4 | BM128: 1066812015
C129: 3 | D129: K | E129: 952901111 | F129: Vyčištění budov bytové a občanské výstavby při výšce podlaží do 4 m | G129: m2 | H129: 56.5 | J129: =ROUND(I129*H129,2) -> 0 | K129: CS ÚRS 2022 02 | N129: základní | P129: =O129*H129 -> 0 | Q129: 4e-05 | R129: =Q129*H129 -> 0.00226 | S129: 0 | T129: =S129*H129 -> 0 | AR129: 4 | AT129: K | AU129: 2 | AY129: ROZPOCET | BE129: =IF(N129="základní",J129,0) -> 0 | BF129: =IF(N129="snížená",J129,0) -> 0 | BG129: =IF(N129="zákl. přenesená",J129,0) -> 0 | BH129: =IF(N129="sníž. přenesená",J129,0) -> 0 | BI129: =IF(N129="nulová",J129,0) -> 0 | BJ129: 1 | BK129: =ROUND(I129*H129,2) -> 0 | BL129: 4 | BM129: -889704956
D130: D | E130: 997 | F130: Přesun sutě | J130: =BK130 -> 0 | P130: =SUM(P131:P135) -> 0 | R130: =SUM(R131:R135) -> 0 | T130: =SUM(T131:T135) -> 0 | AR130: 1 | AT130: D | AU130: 1 | AY130: ROZPOCET | BK130: =SUM(BK131:BK135) -> 0
C131: 4 | D131: K | E131: 997013213 | F131: Vnitrostaveništní doprava suti a vybouraných hmot pro budovy v přes 9 do 12 m ručně | G131: t | H131: 0.127 | J131: =ROUND(I131*H131,2) -> 0 | K131: CS ÚRS 2022 02 | N131: základní | P131: =O131*H131 -> 0 | Q131: 0 | R131: =Q131*H131 -> 0 | S131: 0 | T131: =S131*H131 -> 0 | AR131: 4 | AT131: K | AU131: 2 | AY131: ROZPOCET | BE131: =IF(N131="základní",J131,0) -> 0 | BF131: =IF(N131="snížená",J131,0) -> 0 | BG131: =IF(N131="zákl. přenesená",J131,0) -> 0 | BH131: =IF(N131="sníž. přenesená",J131,0) -> 0 | BI131: =IF(N131="nulová",J131,0) -> 0 | BJ131: 1 | BK131: =ROUND(I131*H131,2) -> 0 | BL131: 4 | BM131: 1567970108
C132: 5 | D132: K | E132: 997013501 | F132: Odvoz suti a vybouraných hmot na skládku nebo meziskládku do 1 km se složením | G132: t | H132: 0.127 | J132: =ROUND(I132*H132,2) -> 0 | K132: CS ÚRS 2022 02 | N132: základní | P132: =O132*H132 -> 0 | Q132: 0 | R132: =Q132*H132 -> 0 | S132: 0 | T132: =S132*H132 -> 0 | AR132: 4 | AT132: K | AU132: 2 | AY132: ROZPOCET | BE132: =IF(N132="základní",J132,0) -> 0 | BF132: =IF(N132="snížená",J132,0) -> 0 | BG132: =IF(N132="zákl. přenesená",J132,0) -> 0 | BH132: =IF(N132="sníž. přenesená",J132,0) -> 0 | BI132: =IF(N132="nulová",J132,0) -> 0 | BJ132: 1 | BK132: =ROUND(I132*H132,2) -> 0 | BL132: 4 | BM132: -1527394281
C133: 6 | D133: K | E133: 997013509 | F133: Příplatek k odvozu suti a vybouraných hmot na skládku ZKD 1 km přes 1 km | G133: t | H133: 1.778 | J133: =ROUND(I133*H133,2) -> 0 | K133: CS ÚRS 2022 02 | N133: základní | P133: =O133*H133 -> 0 | Q133: 0 | R133: =Q133*H133 -> 0 | S133: 0 | T133: =S133*H133 -> 0 | AR133: 4 | AT133: K | AU133: 2 | AY133: ROZPOCET | BE133: =IF(N133="základní",J133,0) -> 0 | BF133: =IF(N133="snížená",J133,0) -> 0 | BG133: =IF(N133="zákl. přenesená",J133,0) -> 0 | BH133: =IF(N133="sníž. přenesená",J133,0) -> 0 | BI133: =IF(N133="nulová",J133,0) -> 0 | BJ133: 1 | BK133: =ROUND(I133*H133,2) -> 0 | BL133: 4 | BM133: 1177515841
D134: VV | F134: 0,127*14 'Přepočtené koeficientem množství | H134: 1.778 | AT134: VV | AU134: 2 | AV134: 2 | AW134: False | AX134: 1 | AY134: ROZPOCET
C135: 7 | D135: K | E135: 997013871 | F135: Poplatek za uložení stavebního odpadu na recyklační skládce (skládkovné) směsného stavebního a demoličního kód odpadu 17 09 04 | G135: t | H135: 0.127 | J135: =ROUND(I135*H135,2) -> 0 | K135: CS ÚRS 2022 02 | N135: základní | P135: =O135*H135 -> 0 | Q135: 0 | R135: =Q135*H135 -> 0 | S135: 0 | T135: =S135*H135 -> 0 | AR135: 4 | AT135: K | AU135: 2 | AY135: ROZPOCET | BE135: =IF(N135="základní",J135,0) -> 0 | BF135: =IF(N135="snížená",J135,0) -> 0 | BG135: =IF(N135="zákl. přenesená",J135,0) -> 0 | BH135: =IF(N135="sníž. přenesená",J135,0) -> 0 | BI135: =IF(N135="nulová",J135,0) -> 0 | BJ135: 1 | BK135: =ROUND(I135*H135,2) -> 0 | BL135: 4 | BM135: -1173521833
D136: D | E136: 998 | F136: Přesun hmot | J136: =BK136 -> 0 | P136: =SUM(P137:P138) -> 0 | R136: =SUM(R137:R138) -> 0 | T136: =SUM(T137:T138) -> 0 | AR136: 1 | AT136: D | AU136: 1 | AY136: ROZPOCET | BK136: =SUM(BK137:BK138) -> 0
C137: 8 | D137: K | E137: 998011002 | F137: Přesun hmot pro budovy zděné v přes 6 do 12 m | G137: t | H137: 0.172 | J137: =ROUND(I137*H137,2) -> 0 | K137: CS ÚRS 2022 02 | N137: základní | P137: =O137*H137 -> 0 | Q137: 0 | R137: =Q137*H137 -> 0 | S137: 0 | T137: =S137*H137 -> 0 | AR137: 4 | AT137: K | AU137: 2 | AY137: ROZPOCET | BE137: =IF(N137="základní",J137,0) -> 0 | BF137: =IF(N137="snížená",J137,0) -> 0 | BG137: =IF(N137="zákl. přenesená",J137,0) -> 0 | BH137: =IF(N137="sníž. přenesená",J137,0) -> 0 | BI137: =IF(N137="nulová",J137,0) -> 0 | BJ137: 1 | BK137: =ROUND(I137*H137,2) -> 0 | BL137: 4 | BM137: -1735799845
C138: 9 | D138: K | E138: 998011014 | F138: Příplatek k přesunu hmot pro budovy zděné za zvětšený přesun do 500 m | G138: t | H138: 0.172 | J138: =ROUND(I138*H138,2) -> 0 | K138: CS ÚRS 2022 02 | N138: základní | P138: =O138*H138 -> 0 | Q138: 0 | R138: =Q138*H138 -> 0 | S138: 0 | T138: =S138*H138 -> 0 | AR138: 4 | AT138: K | AU138: 2 | AY138: ROZPOCET | BE138: =IF(N138="základní",J138,0) -> 0 | BF138: =IF(N138="snížená",J138,0) -> 0 | BG138: =IF(N138="zákl. přenesená",J138,0) -> 0 | BH138: =IF(N138="sníž. přenesená",J138,0) -> 0 | BI138: =IF(N138="nulová",J138,0) -> 0 | BJ138: 1 | BK138: =ROUND(I138*H138,2) -> 0 | BL138: 4 | BM138: -755035669
D139: D | E139: PSV | F139: Práce a dodávky PSV | J139: =BK139 -> 0 | P139: =P140+P143+P154 -> 0 | R139: =R140+R143+R154 -> 1.2310698 | T139: =T140+T143+T154 -> 0.1269997 | AR139: 2 | AT139: D | AU139: 0 | AY139: ROZPOCET | BK139: =BK140+BK143+BK154 -> 0
D140: D | E140: 741 | F140: Elektroinstalace - silnoproud | J140: =BK140 -> 0 | P140: =SUM(P141:P142) -> 0 | R140: =SUM(R141:R142) -> 0.07 | T140: =SUM(T141:T142) -> 0.07 | AR140: 2 | AT140: D | AU140: 1 | AY140: ROZPOCET | BK140: =SUM(BK141:BK142) -> 0
C141: 10 | D141: K | E141: 741370003 | F141: Demontáž stávajících stropních světel a opětovná montáž po provedení SDK podhledu | G141: kus | H141: 7 | J141: =ROUND(I141*H141,2) -> 0 | K141: CS ÚRS 2022 02 | N141: základní | P141: =O141*H141 -> 0 | Q141: 0.01 | R141: =Q141*H141 -> 0.07 | S141: 0.01 | T141: =S141*H141 -> 0.07 | AR141: 16 | AT141: K | AU141: 2 | AY141: ROZPOCET | BE141: =IF(N141="základní",J141,0) -> 0 | BF141: =IF(N141="snížená",J141,0) -> 0 | BG141: =IF(N141="zákl. přenesená",J141,0) -> 0 | BH141: =IF(N141="sníž. přenesená",J141,0) -> 0 | BI141: =IF(N141="nulová",J141,0) -> 0 | BJ141: 1 | BK141: =ROUND(I141*H141,2) -> 0 | BL141: 16 | BM141: -491485707
C142: 11 | D142: K | E142: 998741202 | F142: Přesun hmot procentní pro silnoproud v objektech v přes 6 do 12 m | G142: % | J142: =ROUND(I142*H142,2) -> 0 | K142: CS ÚRS 2022 02 | N142: základní | P142: =O142*H142 -> 0 | Q142: 0 | R142: =Q142*H142 -> 0 | S142: 0 | T142: =S142*H142 -> 0 | AR142: 16 | AT142: K | AU142: 2 | AY142: ROZPOCET | BE142: =IF(N142="základní",J142,0) -> 0 | BF142: =IF(N142="snížená",J142,0) -> 0 | BG142: =IF(N142="zákl. přenesená",J142,0) -> 0 | BH142: =IF(N142="sníž. přenesená",J142,0) -> 0 | BI142: =IF(N142="nulová",J142,0) -> 0 | BJ142: 1 | BK142: =ROUND(I142*H142,2) -> 0 | BL142: 16 | BM142: -492786391
D143: D | E143: 763 | F143: Konstrukce suché výstavby | J143: =BK143 -> 0 | P143: =SUM(P144:P153) -> 0 | R143: =SUM(R144:R153) -> 0.90681148 | T143: =SUM(T144:T153) -> 0 | AR143: 2 | AT143: D | AU143: 1 | AY143: ROZPOCET | BK143: =SUM(BK144:BK153) -> 0
C144: 12 | D144: K | E144: 763131412 | F144: SDK podhled desky 1xA 12,5 s izolací miner.desek tl.100mm dvouvrstvá spodní kce profil CD+UD | G144: m2 | H144: 56.5 | J144: =ROUND(I144*H144,2) -> 0 | K144: CS ÚRS 2022 02 | N144: základní | P144: =O144*H144 -> 0 | Q144: 0.01577 | R144: =Q144*H144 -> 0.891005 | S144: 0 | T144: =S144*H144 -> 0 | AR144: 16 | AT144: K | AU144: 2 | AY144: ROZPOCET | BE144: =IF(N144="základní",J144,0) -> 0 | BF144: =IF(N144="snížená",J144,0) -> 0 | BG144: =IF(N144="zákl. přenesená",J144,0) -> 0 | BH144: =IF(N144="sníž. přenesená",J144,0) -> 0 | BI144: =IF(N144="nulová",J144,0) -> 0 | BJ144: 1 | BK144: =ROUND(I144*H144,2) -> 0 | BL144: 16 | BM144: 1764119144
D145: VV | F145: "3-5,8,9"22,8+4,1+6,0+7,3+16,3 | H145: 56.5 | AT145: VV | AU145: 2 | AV145: 2 | AW145: True | AX145: 1 | AY145: ROZPOCET
C146: 13 | D146: K | E146: 763131714 | F146: SDK podhled základní penetrační nátěr | G146: m2 | H146: 56.5 | J146: =ROUND(I146*H146,2) -> 0 | K146: CS ÚRS 2022 02 | N146: základní | P146: =O146*H146 -> 0 | Q146: 0.0001 | R146: =Q146*H146 -> 0.00565 | S146: 0 | T146: =S146*H146 -> 0 | AR146: 16 | AT146: K | AU146: 2 | AY146: ROZPOCET | BE146: =IF(N146="základní",J146,0) -> 0 | BF146: =IF(N146="snížená",J146,0) -> 0 | BG146: =IF(N146="zákl. přenesená",J146,0) -> 0 | BH146: =IF(N146="sníž. přenesená",J146,0) -> 0 | BI146: =IF(N146="nulová",J146,0) -> 0 | BJ146: 1 | BK146: =ROUND(I146*H146,2) -> 0 | BL146: 16 | BM146: 775725215
C147: 14 | D147: K | E147: 763131751 | F147: Montáž parotěsné zábrany do SDK podhledu | G147: m2 | H147: 56.5 | J147: =ROUND(I147*H147,2) -> 0 | K147: CS ÚRS 2022 02 | N147: základní | P147: =O147*H147 -> 0 | Q147: 0 | R147: =Q147*H147 -> 0 | S147: 0 | T147: =S147*H147 -> 0 | AR147: 16 | AT147: K | AU147: 2 | AY147: ROZPOCET | BE147: =IF(N147="základní",J147,0) -> 0 | BF147: =IF(N147="snížená",J147,0) -> 0 | BG147: =IF(N147="zákl. přenesená",J147,0) -> 0 | BH147: =IF(N147="sníž. přenesená",J147,0) -> 0 | BI147: =IF(N147="nulová",J147,0) -> 0 | BJ147: 1 | BK147: =ROUND(I147*H147,2) -> 0 | BL147: 16 | BM147: 52211516
C148: 15 | D148: M | E148: 28329027 | F148: fólie PE vyztužená Al vrstvou pro parotěsnou vrstvu 150g/m2 | G148: m2 | H148: 63.478 | J148: =ROUND(I148*H148,2) -> 0 | K148: CS ÚRS 2022 02 | N148: základní | P148: =O148*H148 -> 0 | Q148: 0.00016 | R148: =Q148*H148 -> 0.01015648 | S148: 0 | T148: =S148*H148 -> 0 | AR148: 32 | AT148: M | AU148: 2 | AY148: ROZPOCET | BE148: =IF(N148="základní",J148,0) -> 0 | BF148: =IF(N148="snížená",J148,0) -> 0 | BG148: =IF(N148="zákl. přenesená",J148,0) -> 0 | BH148: =IF(N148="sníž. přenesená",J148,0) -> 0 | BI148: =IF(N148="nulová",J148,0) -> 0 | BJ148: 1 | BK148: =ROUND(I148*H148,2) -> 0 | BL148: 16 | BM148: -2096710510
D149: VV | F149: 56,5*1,1235 'Přepočtené koeficientem množství | H149: 63.478 | AT149: VV | AU149: 2 | AV149: 2 | AW149: False | AX149: 1 | AY149: ROZPOCET
C150: 16 | D150: K | E150: 763131761 | F150: Příplatek k SDK podhledu za plochu do 10 m2 jednotlivě | G150: m2 | H150: 17.4 | J150: =ROUND(I150*H150,2) -> 0 | K150: CS ÚRS 2022 02 | N150: základní | P150: =O150*H150 -> 0 | Q150: 0 | R150: =Q150*H150 -> 0 | S150: 0 | T150: =S150*H150 -> 0 | AR150: 16 | AT150: K | AU150: 2 | AY150: ROZPOCET | BE150: =IF(N150="základní",J150,0) -> 0 | BF150: =IF(N150="snížená",J150,0) -> 0 | BG150: =IF(N150="zákl. přenesená",J150,0) -> 0 | BH150: =IF(N150="sníž. přenesená",J150,0) -> 0 | BI150: =IF(N150="nulová",J150,0) -> 0 | BJ150: 1 | BK150: =ROUND(I150*H150,2) -> 0 | BL150: 16 | BM150: 1713562791
D151: VV | F151: 4,1+6,0+7,3 | H151: 17.4 | AT151: VV | AU151: 2 | AV151: 2 | AW151: True | AX151: 1 | AY151: ROZPOCET
C152: 17 | D152: K | E152: 998763201 | F152: Přesun hmot procentní pro dřevostavby v objektech v přes 6 do 12 m | G152: % | J152: =ROUND(I152*H152,2) -> 0 | K152: CS ÚRS 2022 02 | N152: základní | P152: =O152*H152 -> 0 | Q152: 0 | R152: =Q152*H152 -> 0 | S152: 0 | T152: =S152*H152 -> 0 | AR152: 16 | AT152: K | AU152: 2 | AY152: ROZPOCET | BE152: =IF(N152="základní",J152,0) -> 0 | BF152: =IF(N152="snížená",J152,0) -> 0 | BG152: =IF(N152="zákl. přenesená",J152,0) -> 0 | BH152: =IF(N152="sníž. přenesená",J152,0) -> 0 | BI152: =IF(N152="nulová",J152,0) -> 0 | BJ152: 1 | BK152: =ROUND(I152*H152,2) -> 0 | BL152: 16 | BM152: 248400567
C153: 18 | D153: K | E153: 998763294 | F153: Příplatek k přesunu hmot procentní 763 za zvětšený přesun do 1000 m | G153: % | J153: =ROUND(I153*H153,2) -> 0 | K153: CS ÚRS 2022 02 | N153: základní | P153: =O153*H153 -> 0 | Q153: 0 | R153: =Q153*H153 -> 0 | S153: 0 | T153: =S153*H153 -> 0 | AR153: 16 | AT153: K | AU153: 2 | AY153: ROZPOCET | BE153: =IF(N153="základní",J153,0) -> 0 | BF153: =IF(N153="snížená",J153,0) -> 0 | BG153: =IF(N153="zákl. přenesená",J153,0) -> 0 | BH153: =IF(N153="sníž. přenesená",J153,0) -> 0 | BI153: =IF(N153="nulová",J153,0) -> 0 | BJ153: 1 | BK153: =ROUND(I153*H153,2) -> 0 | BL153: 16 | BM153: -778705905
D154: D | E154: 784 | F154: Dokončovací práce - malby a tapety | J154: =BK154 -> 0 | P154: =SUM(P155:P190) -> 0 | R154: =SUM(R155:R190) -> 0.2542583 | T154: =SUM(T155:T190) -> 0.0569997 | AR154: 2 | AT154: D | AU154: 1 | AY154: ROZPOCET | BK154: =SUM(BK155:BK190) -> 0
C155: 19 | D155: K | E155: 784121001 | F155: Oškrabání malby v mísnostech v do 3,80 m | G155: m2 | H155: 183.87 | J155: =ROUND(I155*H155,2) -> 0 | K155: CS ÚRS 2022 02 | N155: základní | P155: =O155*H155 -> 0 | Q155: 0.001 | R155: =Q155*H155 -> 0.18387 | S155: 0.00031 | T155: =S155*H155 -> 0.0569997 | AR155: 16 | AT155: K | AU155: 2 | AY155: ROZPOCET | BE155: =IF(N155="základní",J155,0) -> 0 | BF155: =IF(N155="snížená",J155,0) -> 0 | BG155: =IF(N155="zákl. přenesená",J155,0) -> 0 | BH155: =IF(N155="sníž. přenesená",J155,0) -> 0 | BI155: =IF(N155="nulová",J155,0) -> 0 | BJ155: 1 | BK155: =ROUND(I155*H155,2) -> 0 | BL155: 16 | BM155: 947748781
D156: VV | F156: "3"(5,5+4,25)*2*2,7 | H156: 52.65 | AT156: VV | AU156: 2 | AV156: 2 | AW156: True | AX156: 0 | AY156: ROZPOCET
D157: VV | F157: "4"(4,25+1,0)*2*2,7 | H157: 28.35 | AT157: VV | AU157: 2 | AV157: 2 | AW157: True | AX157: 0 | AY157: ROZPOCET
D158: VV | F158: "5"(2,4+2,5)*2*2,7 | H158: 26.46 | AT158: VV | AU158: 2 | AV158: 2 | AW158: True | AX158: 0 | AY158: ROZPOCET
D159: VV | F159: "8"(2,4+3,1)*2*2,7 | H159: 29.7 | AT159: VV | AU159: 2 | AV159: 2 | AW159: True | AX159: 0 | AY159: ROZPOCET
D160: VV | F160: "9"(5,55+3,1)*2*2,7 | H160: 46.71 | AT160: VV | AU160: 2 | AV160: 2 | AW160: True | AX160: 0 | AY160: ROZPOCET
D161: VV | F161: Součet | H161: 183.87 | AT161: VV | AU161: 2 | AV161: 4 | AW161: True | AX161: 1 | AY161: ROZPOCET
C162: 20 | D162: K | E162: 784121011 | F162: Rozmývání podkladu po oškrabání malby v místnostech v do 3,80 m | G162: m2 | H162: 183.87 | J162: =ROUND(I162*H162,2) -> 0 | K162: CS ÚRS 2022 02 | N162: základní | P162: =O162*H162 -> 0 | Q162: 0 | R162: =Q162*H162 -> 0 | S162: 0 | T162: =S162*H162 -> 0 | AR162: 16 | AT162: K | AU162: 2 | AY162: ROZPOCET | BE162: =IF(N162="základní",J162,0) -> 0 | BF162: =IF(N162="snížená",J162,0) -> 0 | BG162: =IF(N162="zákl. přenesená",J162,0) -> 0 | BH162: =IF(N162="sníž. přenesená",J162,0) -> 0 | BI162: =IF(N162="nulová",J162,0) -> 0 | BJ162: 1 | BK162: =ROUND(I162*H162,2) -> 0 | BL162: 16 | BM162: -321948643
D163: VV | F163: "3"(5,5+4,25)*2*2,7 | H163: 52.65 | AT163: VV | AU163: 2 | AV163: 2 | AW163: True | AX163: 0 | AY163: ROZPOCET
D164: VV | F164: "4"(4,25+1,0)*2*2,7 | H164: 28.35 | AT164: VV | AU164: 2 | AV164: 2 | AW164: True | AX164: 0 | AY164: ROZPOCET
D165: VV | F165: "5"(2,4+2,5)*2*2,7 | H165: 26.46 | AT165: VV | AU165: 2 | AV165: 2 | AW165: True | AX165: 0 | AY165: ROZPOCET
D166: VV | F166: "8"(2,4+3,1)*2*2,7 | H166: 29.7 | AT166: VV | AU166: 2 | AV166: 2 | AW166: True | AX166: 0 | AY166: ROZPOCET
D167: VV | F167: "9"(5,55+3,1)*2*2,7 | H167: 46.71 | AT167: VV | AU167: 2 | AV167: 2 | AW167: True | AX167: 0 | AY167: ROZPOCET
D168: VV | F168: Součet | H168: 183.87 | AT168: VV | AU168: 2 | AV168: 4 | AW168: True | AX168: 1 | AY168: ROZPOCET
...
