Workbook
Name CelkemDPHVypocet: Stavba!$H$50
Name CenaCelkem: Stavba!$G$29
Name CenaCelkemBezDPH: Stavba!$G$28
Name CenaCelkemVypocet: Stavba!$I$50
Name cisloobjektu: Stavba!$D$3
Name CisloRozpoctu: '[1]Krycí list'!$C$2
Name CisloStavby: Stavba!$D$2
Name cislostavby: '[1]Krycí list'!$A$7
Name CisloStavebnihoRozpoctu: Stavba!$D$4
Name dadresa: Stavba!$D$12:$G$12
Name DIČ: Stavba!$I$12
Name dmisto: Stavba!$E$13:$G$13
Name DPHSni: Stavba!$G$24
Name DPHZakl: Stavba!$G$26
Name dpsc: Stavba!$D$13
Name IČO: Stavba!$I$11
Name Mena: Stavba!$J$29
Name MistoStavby: Stavba!$D$4
Name nazevobjektu: Stavba!$E$3
Name NazevRozpoctu: '[1]Krycí list'!$D$2
Name NazevStavby: Stavba!$E$2
Name nazevstavby: '[1]Krycí list'!$C$7
Name NazevStavebnihoRozpoctu: Stavba!$E$4
Name oadresa: Stavba!$D$6
Name Objednatel: Stavba!$D$5
Name Objekt: Stavba!$B$38
Name odic: Stavba!$I$6
Name oico: Stavba!$I$5
Name omisto: Stavba!$E$7
Name onazev: Stavba!$D$6
Name opsc: Stavba!$D$7
Name padresa: Stavba!$D$9
Name pdic: Stavba!$I$9
Name pico: Stavba!$I$8
Name pmisto: Stavba!$E$10
Name PocetMJ: #REF!
Name PoptavkaID: Stavba!$A$1
Name pPSC: Stavba!$D$10
Name Projektant: Stavba!$D$8
Name SazbaDPH1: Stavba!$E$23
Name SazbaDPH1: '[1]Krycí list'!$C$30
Name SazbaDPH2: Stavba!$E$25
Name SazbaDPH2: '[1]Krycí list'!$C$32
Name SloupecCC: #REF!
Name SloupecCisloPol: #REF!
Name SloupecJC: #REF!
Name SloupecMJ: #REF!
Name SloupecMnozstvi: #REF!
Name SloupecNazPol: #REF!
Name SloupecPC: #REF!
Name Vypracoval: Stavba!$D$14
Name ZakladDPHSni: Stavba!$G$23
Name ZakladDPHSniVypocet: Stavba!$F$50
Name ZakladDPHZakl: Stavba!$G$25
Name ZakladDPHZaklVypocet: Stavba!$G$50
Name ZaObjednatele: Stavba!$G$34
Name Zaokrouhleni: Stavba!$G$27
Name ZaZhotovitele: Stavba!$D$34
Name Zhotovitel: Stavba!$D$11:$G$11

Sheet Stavba
A1: #RTSROZP# | B1: Výkaz výměr
B2: Stavba: | D2: 220109 | E2: Malinovského nám
B5: Objednatel: | H5: IČO:
H6: DIČ:
B8: Projektant: | H8: IČO:
H9: DIČ:
B11: Zhotovitel: | H11: IČO:
H12: DIČ:
B14: Vypracoval:
B15: Rozpis ceny | I15: Celkem
A16: HSV | B16: HSV | I16: =SUMIF(F68:F74,A16,I68:I74)+SUMIF(F68:F74,"PSU",I68:I74) -> #REF!
A17: PSV | B17: PSV | I17: =SUMIF(F68:F74,A17,I68:I74) -> #REF!
A18: MON | B18: MON | I18: =SUMIF(F68:F74,A18,I68:I74) -> #REF!
A19: VN | B19: Vedlejší náklady | I19: =SUMIF(F68:F74,A19,I68:I74) -> #REF!
A20: ON | B20: Ostatní náklady | I20: =SUMIF(F68:F74,A20,I68:I74) -> 0
B21: Celkem | I21: =SUM(I16:J20) -> #REF!
B22: Rekapitulace daní
A23: =ZakladDPHSni*SazbaDPH1/100 -> #REF! | B23: Základ pro sníženou DPH | E23: 15 | F23: % | G23: =ZakladDPHSniVypocet -> #REF! | J23: =Mena -> CZK
A24: =(A23-INT(A23))*100 -> #REF! | B24: Snížená DPH | E24: =SazbaDPH1 -> 15 | F24: % | G24: =A23 -> #REF! | J24: =Mena -> CZK
A25: =ZakladDPHZakl*SazbaDPH2/100 -> #REF! | B25: Základ pro základní DPH | E25: 21 | F25: % | G25: =ZakladDPHZaklVypocet -> #REF! | J25: =Mena -> CZK
A26: =(A25-INT(A25))*100 -> #REF! | B26: Základní DPH | E26: =SazbaDPH2 -> 21 | F26: % | G26: =A25 -> #REF! | J26: =Mena -> CZK
A27: =ZakladDPHSni+DPHSni+ZakladDPHZakl+DPHZakl -> #REF! | B27: Zaokrouhlení | G27: =CenaCelkem-(ZakladDPHSni+DPHSni+ZakladDPHZakl+DPHZakl) -> #REF! | J27: =Mena -> CZK
B28: Cena celkem bez DPH | G28: =ZakladDPHSniVypocet+ZakladDPHZaklVypocet -> #REF! | J28: =Mena -> CZK
A29: =(A27-INT(A27))*100 -> #REF! | B29: Cena celkem s DPH | G29: =A27 -> #REF! | J29: CZK
C32: v | F32: dne
D35: Za zhotovitele | H35: Za objednatele
B37: Rekapitulace dílčích částí
A38: #CASTI>> | B38: Číslo | C38: Název | F38: =B23 -> Základ pro sníženou DPH | G38: =B25 -> Základ pro základní DPH | H38: DPH celkem | I38: Cena celkem | J38: %
A39: 1 | B39: Stavba | F39: =#REF!+#REF!+#REF!+'01 04 Pol'!AE105+#REF!+#REF!+#REF!+#REF!+#REF! -> #REF! | G39: =#REF!+#REF!+#REF!+'01 04 Pol'!AF105+#REF!+#REF!+#REF!+#REF!+#REF! -> #REF! | H39: =(F39*SazbaDPH1/100)+(G39*SazbaDPH2/100) -> #REF! | I39: =F39+G39+H39 -> #REF! | J39: =IF(CenaCelkemVypocet=0,"",I39/CenaCelkemVypocet*100) -> #REF!
A40: 2 | B40: 01 | C40: Oprava páteřních rozvodů vody | F40: =#REF!+#REF!+#REF!+'01 04 Pol'!AE105+#REF!+#REF!+#REF!+#REF!+#REF! -> #REF! | G40: =#REF!+#REF!+#REF!+'01 04 Pol'!AF105+#REF!+#REF!+#REF!+#REF!+#REF! -> #REF! | H40: =(F40*SazbaDPH1/100)+(G40*SazbaDPH2/100) -> #REF! | I40: =F40+G40+H40 -> #REF! | J40: =IF(CenaCelkemVypocet=0,"",I40/CenaCelkemVypocet*100) -> #REF!
A41: 3 | B41: 01 | C41: Etapa I. (S1 dl.16m) | F41: =#REF! -> #REF! | G41: =#REF! -> #REF! | H41: =(F41*SazbaDPH1/100)+(G41*SazbaDPH2/100) -> #REF! | I41: =F41+G41+H41 -> #REF! | J41: =IF(CenaCelkemVypocet=0,"",I41/CenaCelkemVypocet*100) -> #REF!
A42: 3 | B42: 02 | C42: Etapa II. (S2;S3 dl.18,5m) | F42: =#REF! -> #REF! | G42: =#REF! -> #REF! | H42: =(F42*SazbaDPH1/100)+(G42*SazbaDPH2/100) -> #REF! | I42: =F42+G42+H42 -> #REF! | J42: =IF(CenaCelkemVypocet=0,"",I42/CenaCelkemVypocet*100) -> #REF!
A43: 3 | B43: 03 | C43: Etapa III. (S4;S5 dl.17,5m) | F43: =#REF! -> #REF! | G43: =#REF! -> #REF! | H43: =(F43*SazbaDPH1/100)+(G43*SazbaDPH2/100) -> #REF! | I43: =F43+G43+H43 -> #REF! | J43: =IF(CenaCelkemVypocet=0,"",I43/CenaCelkemVypocet*100) -> #REF!
A44: 3 | B44: 04 | C44: Etapa IV. (S6;S7 dl.24m) | F44: ='01 04 Pol'!AE105 -> 0 | G44: ='01 04 Pol'!AF105 -> 0 | H44: =(F44*SazbaDPH1/100)+(G44*SazbaDPH2/100) -> 0 | I44: =F44+G44+H44 -> 0 | J44: =IF(CenaCelkemVypocet=0,"",I44/CenaCelkemVypocet*100) -> #REF!
A45: 3 | B45: 05 | C45: Etapa V. (S8;S9 16,5m) | F45: =#REF! -> #REF! | G45: =#REF! -> #REF! | H45: =(F45*SazbaDPH1/100)+(G45*SazbaDPH2/100) -> #REF! | I45: =F45+G45+H45 -> #REF! | J45: =IF(CenaCelkemVypocet=0,"",I45/CenaCelkemVypocet*100) -> #REF!
A46: 3 | B46: 06 | C46: Etapa VI. (S10 dl.23,5m) | F46: =#REF! -> #REF! | G46: =#REF! -> #REF! | H46: =(F46*SazbaDPH1/100)+(G46*SazbaDPH2/100) -> #REF! | I46: =F46+G46+H46 -> #REF! | J46: =IF(CenaCelkemVypocet=0,"",I46/CenaCelkemVypocet*100) -> #REF!
A47: 3 | B47: 07 | C47: Etapa VII. (S11;S12;S13 dl. 18,5m) | F47: =#REF! -> #REF! | G47: =#REF! -> #REF! | H47: =(F47*SazbaDPH1/100)+(G47*SazbaDPH2/100) -> #REF! | I47: =F47+G47+H47 -> #REF! | J47: =IF(CenaCelkemVypocet=0,"",I47/CenaCelkemVypocet*100) -> #REF!
A48: 3 | B48: 08 | C48: Etapa VIII. (S14;S15;S16;S17 dl. 21m) | F48: =#REF! -> #REF! | G48: =#REF! -> #REF! | H48: =(F48*SazbaDPH1/100)+(G48*SazbaDPH2/100) -> #REF! | I48: =F48+G48+H48 -> #REF! | J48: =IF(CenaCelkemVypocet=0,"",I48/CenaCelkemVypocet*100) -> #REF!
A49: 3 | B49: 09 | C49: Etapa IX. (S18;19;20;21 dl.18,5m) | F49: =#REF! -> #REF! | G49: =#REF! -> #REF! | H49: =(F49*SazbaDPH1/100)+(G49*SazbaDPH2/100) -> #REF! | I49: =F49+G49+H49 -> #REF! | J49: =IF(CenaCelkemVypocet=0,"",I49/CenaCelkemVypocet*100) -> #REF!
B50: Celkem za stavbu | F50: =SUMIF(A39:A49,"=1",F39:F49) -> #REF! | G50: =SUMIF(A39:A49,"=1",G39:G49) -> #REF! | H50: =SUMIF(A39:A49,"=1",H39:H49) -> #REF! | I50: =SUMIF(A39:A49,"=1",I39:I49) -> #REF! | J50: =SUMIF(A39:A49,"=1",J39:J49) -> #REF!
...

Sheet VzorPolozky
A1: Položkový rozpočet
A2: S:
A3: O:
A4: R:

Sheet 01 04 Pol
A1: Výkaz výměr | AG1: #TypZaznamu#
A2: S: | B2: 220109 | C2: Malinovského nám | AG2: STA
A3: O: | B3: 01 | C3: Oprava páteřních rozvodů vody | AC3: STA | AG3: OBJ
A4: R: | B4: 04 | C4: Etapa IV. (S6;S7 dl.24m) | AG4: ROZ
A6: P.č. | B6: Číslo položky | C6: Název položky | D6: MJ | E6: Množství | F6: Cena / MJ | G6: Celkem | H6: Dodávka | I6: Dodávka celk. | J6: Montáž | K6: Montáž celk. | L6: DPH | M6: Cena s DPH | N6: Hmotnost / MJ | O6: Hmotnost celk.(t) | P6: Dem. hmotnost / MJ | Q6: Dem. hmotnost celk.(t) | R6: Ceník | S6: Cen. soustava / platnost | T6: Cenová úroveň | U6: Nhod / MJ | V6: Nhod celk. | W6: Dodavatel | X6: Typ položky
A8: Díl: | B8: 95 | C8: Dokončovací konstrukce na pozemních stavbách | G8: =SUMIF(AG9:AG10,"<>NOR",G9:G10) -> 0 | I8: =SUM(I9:I10) -> 110.88 | K8: =SUM(K9:K10) -> 8781.12 | M8: =SUM(M9:M10) -> 0 | O8: =SUM(O9:O10) -> 0 | Q8: =SUM(Q9:Q10) -> 0 | V8: =SUM(V9:V10) -> 22.18 | AG8: DIL
A9: 1 | B9: 952901111R00 | C9: Vyčištění budov o výšce podlaží do 4 m | D9: m2 | E9: 72 | G9: =ROUND(E9*F9,2) -> 0 | H9: 1.54 | I9: =ROUND(E9*H9,2) -> 110.88 | J9: 121.96 | K9: =ROUND(E9*J9,2) -> 8781.12 | L9: 21 | M9: =G9*(1+L9/100) -> 0 | N9: 4e-05 | O9: =ROUND(E9*N9,2) -> 0 | P9: 0 | Q9: =ROUND(E9*P9,2) -> 0 | S9: RTS 22/ I | T9: RTS 21/ II | U9: 0.308 | V9: =ROUND(E9*U9,2) -> 22.18 | X9: Práce | AG9: POL1_1
C10: 3*(16+8) | E10: 72 | AG10: VV | AH10: 0
A11: Díl: | B11: 722 | C11: Vnitřní vodovod | G11: =SUMIF(AG12:AG72,"<>NOR",G12:G72) -> 0 | I11: =SUM(I12:I72) -> 56533.26 | K11: =SUM(K12:K72) -> 57494.99 | M11: =SUM(M12:M72) -> 0 | O11: =SUM(O12:O72) -> 0.5 | Q11: =SUM(Q12:Q72) -> 0.12 | V11: =SUM(V12:V72) -> 114.89 | AG11: DIL
A12: 2 | B12: 722170801R00 | C12: Demontáž rozvodů vody z plastů do D 32 | D12: m | E12: 36 | G12: =ROUND(E12*F12,2) -> 0 | H12: 0 | I12: =ROUND(E12*H12,2) -> 0 | J12: 20.6 | K12: =ROUND(E12*J12,2) -> 741.6 | L12: 21 | M12: =G12*(1+L12/100) -> 0 | N12: 0 | O12: =ROUND(E12*N12,2) -> 0 | P12: 0.00028 | Q12: =ROUND(E12*P12,2) -> 0.01 | S12: RTS 22/ I | T12: RTS 21/ II | U12: 0.052 | V12: =ROUND(E12*U12,2) -> 1.87 | X12: Práce | AG12: POL1_
C13: cirkul rozvod 32 : 8+16 | E13: 24 | AG13: VV | AH13: 0
C14: přípojka studená 32 : 6 | E14: 6 | AG14: VV | AH14: 0
C15: přípojka teplá 32 : 3 | E15: 3 | AG15: VV | AH15: 0
C16: přípojka cirkul 32 : 3 | E16: 3 | AG16: VV | AH16: 0
A17: 3 | B17: 722170804R00 | C17: Demontáž rozvodů vody z plastů do D 63 | D17: m | E17: 48 | G17: =ROUND(E17*F17,2) -> 0 | H17: 0 | I17: =ROUND(E17*H17,2) -> 0 | J17: 32.9 | K17: =ROUND(E17*J17,2) -> 1579.2 | L17: 21 | M17: =G17*(1+L17/100) -> 0 | N17: 0 | O17: =ROUND(E17*N17,2) -> 0 | P17: 0.00029 | Q17: =ROUND(E17*P17,2) -> 0.01 | S17: RTS 22/ I | T17: RTS 21/ II | U17: 0.083 | V17: =ROUND(E17*U17,2) -> 3.98 | X17: Práce | AG17: POL1_
C18: teplá rozvod 40 : 16+8 | E18: 24 | AG18: VV | AH18: 0
C19: studená rozvod 63 : 16+8 | E19: 24 | AG19: VV | AH19: 0
A20: 4 | B20: 722170923R00 | C20: Oprava potrubí z PE, spojka přímá,vně.závit 32x3/4 | D20: kus | E20: 6 | G20: =ROUND(E20*F20,2) -> 0 | H20: 259.82 | I20: =ROUND(E20*H20,2) -> 1558.92 | J20: 144.18 | K20: =ROUND(E20*J20,2) -> 865.08 | L20: 21 | M20: =G20*(1+L20/100) -> 0 | N20: 0.00025 | O20: =ROUND(E20*N20,2) -> 0 | P20: 0 | Q20: =ROUND(E20*P20,2) -> 0 | S20: RTS 22/ I | T20: RTS 21/ II | U20: 0.286 | V20: =ROUND(E20*U20,2) -> 1.72 | X20: Práce | AG20: POL1_
A21: 5 | B21: 722170926R00 | C21: Oprava potrubí z PE, spojka přímá,vně.závit 40x5/4 | D21: kus | E21: 2 | G21: =ROUND(E21*F21,2) -> 0 | H21: 383.77 | I21: =ROUND(E21*H21,2) -> 767.54 | J21: 212.23 | K21: =ROUND(E21*J21,2) -> 424.46 | L21: 21 | M21: =G21*(1+L21/100) -> 0 | N21: 0.00047 | O21: =ROUND(E21*N21,2) -> 0 | P21: 0 | Q21: =ROUND(E21*P21,2) -> 0 | S21: RTS 22/ I | T21: RTS 21/ II | U21: 0.421 | V21: =ROUND(E21*U21,2) -> 0.84 | X21: Práce | AG21: POL1_
A22: 6 | B22: 722170928R00 | C22: Oprava potrubí z PE, spojka přímá,vně.závit 63x2 | D22: kus | E22: 2 | G22: =ROUND(E22*F22,2) -> 0 | H22: 971.65 | I22: =ROUND(E22*H22,2) -> 1943.3 | J22: 288.35 | K22: =ROUND(E22*J22,2) -> 576.7 | L22: 21 | M22: =G22*(1+L22/100) -> 0 | N22: 0.0013 | O22: =ROUND(E22*N22,2) -> 0 | P22: 0 | Q22: =ROUND(E22*P22,2) -> 0 | S22: RTS 22/ I | T22: RTS 21/ II | U22: 0.572 | V22: =ROUND(E22*U22,2) -> 1.14 | X22: Práce | AG22: POL1_
A23: 7 | B23: 722172313R00 | C23: Potrubí z PPR, D 32x4,4 mm, PN 16 | D23: m | E23: 6 | G23: =ROUND(E23*F23,2) -> 0 | H23: 168.92 | I23: =ROUND(E23*H23,2) -> 1013.52 | J23: 327.58 | K23: =ROUND(E23*J23,2) -> 1965.48 | L23: 21 | M23: =G23*(1+L23/100) -> 0 | N23: 0.00535 | O23: =ROUND(E23*N23,2) -> 0.03 | P23: 0 | Q23: =ROUND(E23*P23,2) -> 0 | S23: RTS 22/ I | T23: RTS 21/ II | U23: 0.6828 | V23: =ROUND(E23*U23,2) -> 4.1 | X23: Práce | AG23: POL1_
C24: 3*2 | E24: 6 | AG24: VV | AH24: 0
A25: 8 | B25: 722172333R00 | C25: Potrubí z PPR, D 32x5,4 mm, PN 20 | D25: m | E25: 30 | G25: =ROUND(E25*F25,2) -> 0 | H25: 182.42 | I25: =ROUND(E25*H25,2) -> 5472.6 | J25: 327.58 | K25: =ROUND(E25*J25,2) -> 9827.4 | L25: 21 | M25: =G25*(1+L25/100) -> 0 | N25: 0.00541 | O25: =ROUND(E25*N25,2) -> 0.16 | P25: 0 | Q25: =ROUND(E25*P25,2) -> 0 | S25: RTS 22/ I | T25: RTS 21/ II | U25: 0.6828 | V25: =ROUND(E25*U25,2) -> 20.48 | X25: Práce | AG25: POL1_
C26: 16+8 | E26: 24 | AG26: VV | AH26: 0
C27: 2*3 | E27: 6 | AG27: VV | AH27: 0
A28: 9 | B28: 722172334R00 | C28: Potrubí z PPR, D 40x6,7 mm, PN 20 | D28: m | E28: 24 | G28: =ROUND(E28*F28,2) -> 0 | H28: 338.03 | I28: =ROUND(E28*H28,2) -> 8112.72 | J28: 367.97 | K28: =ROUND(E28*J28,2) -> 8831.28 | L28: 21 | M28: =G28*(1+L28/100) -> 0 | N28: 0.00573 | O28: =ROUND(E28*N28,2) -> 0.14 | P28: 0 | Q28: =ROUND(E28*P28,2) -> 0 | S28: RTS 22/ I | T28: RTS 21/ II | U28: 0.7547 | V28: =ROUND(E28*U28,2) -> 18.11 | X28: Práce | AG28: POL1_
C29: 16+8 | E29: 24 | AG29: VV | AH29: 0
A30: 10 | B30: 722172336R00 | C30: Potrubí z PPR, D 63x10,5 mm, PN 20 | D30: m | E30: 24 | G30: =ROUND(E30*F30,2) -> 0 | H30: 604.98 | I30: =ROUND(E30*H30,2) -> 14519.52 | J30: 494.02 | K30: =ROUND(E30*J30,2) -> 11856.48 | L30: 21 | M30: =G30*(1+L30/100) -> 0 | N30: 0.0068 | O30: =ROUND(E30*N30,2) -> 0.16 | P30: 0 | Q30: =ROUND(E30*P30,2) -> 0 | S30: RTS 22/ I | T30: RTS 21/ II | U30: 1.0048 | V30: =ROUND(E30*U30,2) -> 24.12 | X30: Práce | AG30: POL1_
C31: 16+8 | E31: 24 | AG31: VV | AH31: 0
A32: 11 | B32: 722181214RU1 | C32: Izolace návleková MIRELON PRO tl. stěny 20 mm vnitřní průměr 32 mm | D32: m | E32: 6 | G32: =ROUND(E32*F32,2) -> 0 | H32: 56.24 | I32: =ROUND(E32*H32,2) -> 337.44 | J32: 65.26 | K32: =ROUND(E32*J32,2) -> 391.56 | L32: 21 | M32: =G32*(1+L32/100) -> 0 | N32: 7e-05 | O32: =ROUND(E32*N32,2) -> 0 | P32: 0 | Q32: =ROUND(E32*P32,2) -> 0 | S32: RTS 22/ I | T32: RTS 21/ II | U32: 0.142 | V32: =ROUND(E32*U32,2) -> 0.85 | X32: Práce | AG32: POL1_
C33: Odkaz na mn. položky pořadí 7 : 6,00000 | E33: 6 | AG33: VV | AH33: 5
A34: 12 | B34: 722181214RY3 | C34: Izolace návleková MIRELON PRO tl. stěny 20 mm vnitřní průměr 63 mm | D34: m | E34: 24 | G34: =ROUND(E34*F34,2) -> 0 | H34: 84.58 | I34: =ROUND(E34*H34,2) -> 2029.92 | J34: 91.92 | K34: =ROUND(E34*J34,2) -> 2206.08 | L34: 21 | M34: =G34*(1+L34/100) -> 0 | N34: 0.00021 | O34: =ROUND(E34*N34,2) -> 0.01 | P34: 0 | Q34: =ROUND(E34*P34,2) -> 0 | S34: RTS 22/ I | T34: RTS 21/ II | U34: 0.2 | V34: =ROUND(E34*U34,2) -> 4.8 | X34: Práce | AG34: POL1_
C35: Odkaz na mn. položky pořadí 10 : 24,00000 | E35: 24 | AG35: VV | AH35: 5
A36: 13 | B36: 722181215RU1 | C36: Izolace návleková MIRELON PRO tl. stěny 25 mm vnitřní průměr 32 mm | D36: m | E36: 30 | G36: =ROUND(E36*F36,2) -> 0 | H36: 81.24 | I36: =ROUND(E36*H36,2) -> 2437.2 | J36: 65.26 | K36: =ROUND(E36*J36,2) -> 1957.8 | L36: 21 | M36: =G36*(1+L36/100) -> 0 | N36: 8e-05 | O36: =ROUND(E36*N36,2) -> 0 | P36: 0 | Q36: =ROUND(E36*P36,2) -> 0 | S36: RTS 22/ I | T36: RTS 21/ II | U36: 0.142 | V36: =ROUND(E36*U36,2) -> 4.26 | X36: Práce | AG36: POL1_
C37: Odkaz na mn. položky pořadí 8 : 30,00000 | E37: 30 | AG37: VV | AH37: 5
A38: 14 | B38: 722181215RW2 | C38: Izolace návleková MIRELON PRO tl. stěny 25 mm vnitřní průměr 45 mm | D38: m | E38: 24 | G38: =ROUND(E38*F38,2) -> 0 | H38: 93.36 | I38: =ROUND(E38*H38,2) -> 2240.64 | J38: 78.14 | K38: =ROUND(E38*J38,2) -> 1875.36 | L38: 21 | M38: =G38*(1+L38/100) -> 0 | N38: 0.00015 | O38: =ROUND(E38*N38,2) -> 0 | P38: 0 | Q38: =ROUND(E38*P38,2) -> 0 | S38: RTS 22/ I | T38: RTS 21/ II | U38: 0.17 | V38: =ROUND(E38*U38,2) -> 4.08 | X38: Práce | AG38: POL1_
C39: Odkaz na mn. položky pořadí 9 : 24,00000 | E39: 24 | AG39: VV | AH39: 5
A40: 15 | B40: 722181812R00 | C40: Demontáž plstěných pásů z trub D 50 | D40: m | E40: 60 | G40: =ROUND(E40*F40,2) -> 0 | H40: 0 | I40: =ROUND(E40*H40,2) -> 0 | J40: 28.5 | K40: =ROUND(E40*J40,2) -> 1710 | L40: 21 | M40: =G40*(1+L40/100) -> 0 | N40: 0 | O40: =ROUND(E40*N40,2) -> 0 | P40: 0.00023 | Q40: =ROUND(E40*P40,2) -> 0.01 | S40: RTS 22/ I | T40: RTS 21/ II | U40: 0.072 | V40: =ROUND(E40*U40,2) -> 4.32 | X40: Práce | AG40: POL1_
C41: Odkaz na mn. položky pořadí 11 : 6,00000 | E41: 6 | AG41: VV | AH41: 5
C42: Odkaz na mn. položky pořadí 13 : 30,00000 | E42: 30 | AG42: VV | AH42: 5
...
