Workbook
Name CelkemDPHVypocet: Stavba!$H$50
Name CenaCelkem: Stavba!$G$29
Name CenaCelkemBezDPH: Stavba!$G$28
Name CenaCelkemVypocet: Stavba!$I$50
Name cisloobjektu: Stavba!$D$3
Name CisloRozpoctu: '[1]Krycí list'!$C$2
Name CisloStavby: Stavba!$D$2
Name cislostavby: '[1]Krycí list'!$A$7
Name CisloStavebnihoRozpoctu: Stavba!$D$4
Name dadresa: Stavba!$D$12:$G$12
Name DIČ: Stavba!$I$12
Name dmisto: Stavba!$E$13:$G$13
Name DPHSni: Stavba!$G$24
Name DPHZakl: Stavba!$G$26
Name dpsc: Stavba!$D$13
Name IČO: Stavba!$I$11
Name Mena: Stavba!$J$29
Name MistoStavby: Stavba!$D$4
Name nazevobjektu: Stavba!$E$3
Name NazevRozpoctu: '[1]Krycí list'!$D$2
Name NazevStavby: Stavba!$E$2
Name nazevstavby: '[1]Krycí list'!$C$7
Name NazevStavebnihoRozpoctu: Stavba!$E$4
Name oadresa: Stavba!$D$6
Name Objednatel: Stavba!$D$5
Name Objekt: Stavba!$B$38
Name odic: Stavba!$I$6
Name oico: Stavba!$I$5
Name omisto: Stavba!$E$7
Name onazev: Stavba!$D$6
Name opsc: Stavba!$D$7
Name padresa: Stavba!$D$9
Name pdic: Stavba!$I$9
Name pico: Stavba!$I$8
Name pmisto: Stavba!$E$10
Name PocetMJ: #REF!
Name PoptavkaID: Stavba!$A$1
Name pPSC: Stavba!$D$10
Name Projektant: Stavba!$D$8
Name SazbaDPH1: Stavba!$E$23
Name SazbaDPH1: '[1]Krycí list'!$C$30
Name SazbaDPH2: Stavba!$E$25
Name SazbaDPH2: '[1]Krycí list'!$C$32
Name SloupecCC: #REF!
Name SloupecCisloPol: #REF!
Name SloupecJC: #REF!
Name SloupecMJ: #REF!
Name SloupecMnozstvi: #REF!
Name SloupecNazPol: #REF!
Name SloupecPC: #REF!
Name Vypracoval: Stavba!$D$14
Name ZakladDPHSni: Stavba!$G$23
Name ZakladDPHSniVypocet: Stavba!$F$50
Name ZakladDPHZakl: Stavba!$G$25
Name ZakladDPHZaklVypocet: Stavba!$G$50
Name ZaObjednatele: Stavba!$G$34
Name Zaokrouhleni: Stavba!$G$27
Name ZaZhotovitele: Stavba!$D$34
Name Zhotovitel: Stavba!$D$11:$G$11

Sheet Stavba
A1: #RTSROZP# | B1: Výkaz výměr
B2: Stavba: | D2: 220109 | E2: Malinovského nám
B5: Objednatel: | H5: IČO:
H6: DIČ:
B8: Projektant: | H8: IČO:
H9: DIČ:
B11: Zhotovitel: | H11: IČO:
H12: DIČ:
B14: Vypracoval:
B15: Rozpis ceny | I15: Celkem
A16: HSV | B16: HSV | I16: =SUMIF(F68:F74,A16,I68:I74)+SUMIF(F68:F74,"PSU",I68:I74) -> #REF!
A17: PSV | B17: PSV | I17: =SUMIF(F68:F74,A17,I68:I74) -> #REF!
A18: MON | B18: MON | I18: =SUMIF(F68:F74,A18,I68:I74) -> #REF!
A19: VN | B19: Vedlejší náklady | I19: =SUMIF(F68:F74,A19,I68:I74) -> #REF!
A20: ON | B20: Ostatní náklady | I20: =SUMIF(F68:F74,A20,I68:I74) -> 0
B21: Celkem | I21: =SUM(I16:J20) -> #REF!
B22: Rekapitulace daní
A23: =ZakladDPHSni*SazbaDPH1/100 -> #REF! | B23: Základ pro sníženou DPH | E23: 15 | F23: % | G23: =ZakladDPHSniVypocet -> #REF! | J23: =Mena -> CZK
A24: =(A23-INT(A23))*100 -> #REF! | B24: Snížená DPH | E24: =SazbaDPH1 -> 15 | F24: % | G24: =A23 -> #REF! | J24: =Mena -> CZK
A25: =ZakladDPHZakl*SazbaDPH2/100 -> #REF! | B25: Základ pro základní DPH | E25: 21 | F25: % | G25: =ZakladDPHZaklVypocet -> #REF! | J25: =Mena -> CZK
A26: =(A25-INT(A25))*100 -> #REF! | B26: Základní DPH | E26: =SazbaDPH2 -> 21 | F26: % | G26: =A25 -> #REF! | J26: =Mena -> CZK
A27: =ZakladDPHSni+DPHSni+ZakladDPHZakl+DPHZakl -> #REF! | B27: Zaokrouhlení | G27: =CenaCelkem-(ZakladDPHSni+DPHSni+ZakladDPHZakl+DPHZakl) -> #REF! | J27: =Mena -> CZK
B28: Cena celkem bez DPH | G28: =ZakladDPHSniVypocet+ZakladDPHZaklVypocet -> #REF! | J28: =Mena -> CZK
A29: =(A27-INT(A27))*100 -> #REF! | B29: Cena celkem s DPH | G29: =A27 -> #REF! | J29: CZK
C32: v | F32: dne
D35: Za zhotovitele | H35: Za objednatele
B37: Rekapitulace dílčích částí
A38: #CASTI>> | B38: Číslo | C38: Název | F38: =B23 -> Základ pro sníženou DPH | G38: =B25 -> Základ pro základní DPH | H38: DPH celkem | I38: Cena celkem | J38: %
A39: 1 | B39: Stavba | F39: =#REF!+#REF!+#REF!+'01 04 Pol'!AE105+#REF!+#REF!+#REF!+#REF!+#REF! -> #REF! | G39: =#REF!+#REF!+#REF!+'01 04 Pol'!AF105+#REF!+#REF!+#REF!+#REF!+#REF! -> #REF! | H39: =(F39*SazbaDPH1/100)+(G39*SazbaDPH2/100) -> #REF! | I39: =F39+G39+H39 -> #REF! | J39: =IF(CenaCelkemVypocet=0,"",I39/CenaCelkemVypocet*100) -> #REF!
A40: 2 | B40: 01 | C40: Oprava páteřních rozvodů vody | F40: =#REF!+#REF!+#REF!+'01 04 Pol'!AE105+#REF!+#REF!+#REF!+#REF!+#REF! -> #REF! | G40: =#REF!+#REF!+#REF!+'01 04 Pol'!AF105+#REF!+#REF!+#REF!+#REF!+#REF! -> #REF! | H40: =(F40*SazbaDPH1/100)+(G40*SazbaDPH2/100) -> #REF! | I40: =F40+G40+H40 -> #REF! | J40: =IF(CenaCelkemVypocet=0,"",I40/CenaCelkemVypocet*100) -> #REF!
A41: 3 | B41: 01 | C41: Etapa I. (S1 dl.16m) | F41: =#REF! -> #REF! | G41: =#REF! -> #REF! | H41: =(F41*SazbaDPH1/100)+(G41*SazbaDPH2/100) -> #REF! | I41: =F41+G41+H41 -> #REF! | J41: =IF(CenaCelkemVypocet=0,"",I41/CenaCelkemVypocet*100) -> #REF!
A42: 3 | B42: 02 | C42: Etapa II. (S2;S3 dl.18,5m) | F42: =#REF! -> #REF! | G42: =#REF! -> #REF! | H42: =(F42*SazbaDPH1/100)+(G42*SazbaDPH2/100) -> #REF! | I42: =F42+G42+H42 -> #REF! | J42: =IF(CenaCelkemVypocet=0,"",I42/CenaCelkemVypocet*100) -> #REF!
A43: 3 | B43: 03 | C43: Etapa III. (S4;S5 dl.17,5m) | F43: =#REF! -> #REF! | G43: =#REF! -> #REF! | H43: =(F43*SazbaDPH1/100)+(G43*SazbaDPH2/100) -> #REF! | I43: =F43+G43+H43 -> #REF! | J43: =IF(CenaCelkemVypocet=0,"",I43/CenaCelkemVypocet*100) -> #REF!
A44: 3 | B44: 04 | C44: Etapa IV. (S6;S7 dl.24m) | F44: ='01 04 Pol'!AE105 -> 0 | G44: ='01 04 Pol'!AF105 -> 0 | H44: =(F44*SazbaDPH1/100)+(G44*SazbaDPH2/100) -> 0 | I44: =F44+G44+H44 -> 0 | J44: =IF(CenaCelkemVypocet=0,"",I44/CenaCelkemVypocet*100) -> #REF!
A45: 3 | B45: 05 | C45: Etapa V. (S8;S9 16,5m) | F45: =#REF! -> #REF! | G45: =#REF! -> #REF! | H45: =(F45*SazbaDPH1/100)+(G45*SazbaDPH2/100) -> #REF! | I45: =F45+G45+H45 -> #REF! | J45: =IF(CenaCelkemVypocet=0,"",I45/CenaCelkemVypocet*100) -> #REF!
A46: 3 | B46: 06 | C46: Etapa VI. (S10 dl.23,5m) | F46: =#REF! -> #REF! | G46: =#REF! -> #REF! | H46: =(F46*SazbaDPH1/100)+(G46*SazbaDPH2/100) -> #REF! | I46: =F46+G46+H46 -> #REF! | J46: =IF(CenaCelkemVypocet=0,"",I46/CenaCelkemVypocet*100) -> #REF!
A47: 3 | B47: 07 | C47: Etapa VII. (S11;S12;S13 dl. 18,5m) | F47: =#REF! -> #REF! | G47: =#REF! -> #REF! | H47: =(F47*SazbaDPH1/100)+(G47*SazbaDPH2/100) -> #REF! | I47: =F47+G47+H47 -> #REF! | J47: =IF(CenaCelkemVypocet=0,"",I47/CenaCelkemVypocet*100) -> #REF!
A48: 3 | B48: 08 | C48: Etapa VIII. (S14;S15;S16;S17 dl. 21m) | F48: =#REF! -> #REF! | G48: =#REF! -> #REF! | H48: =(F48*SazbaDPH1/100)+(G48*SazbaDPH2/100) -> #REF! | I48: =F48+G48+H48 -> #REF! | J48: =IF(CenaCelkemVypocet=0,"",I48/CenaCelkemVypocet*100) -> #REF!
A49: 3 | B49: 09 | C49: Etapa IX. (S18;19;20;21 dl.18,5m) | F49: =#REF! -> #REF! | G49: =#REF! -> #REF! | H49: =(F49*SazbaDPH1/100)+(G49*SazbaDPH2/100) -> #REF! | I49: =F49+G49+H49 -> #REF! | J49: =IF(CenaCelkemVypocet=0,"",I49/CenaCelkemVypocet*100) -> #REF!
B50: Celkem za stavbu | F50: =SUMIF(A39:A49,"=1",F39:F49) -> #REF! | G50: =SUMIF(A39:A49,"=1",G39:G49) -> #REF! | H50: =SUMIF(A39:A49,"=1",H39:H49) -> #REF! | I50: =SUMIF(A39:A49,"=1",I39:I49) -> #REF! | J50: =SUMIF(A39:A49,"=1",J39:J49) -> #REF!
A52: #POPS | B52: Popis stavby: 220109 - Malinovského nám
A53: #POPO | B53: Popis objektu: 01 - Oprava páteřních rozvodů vody
A54: #POPR | B54: Popis rozpočtu: 01 - Etapa I. (S1 dl.16m)
A55: #POPR | B55: Popis rozpočtu: 02 - Etapa II. (S2;S3 dl.18,5m)
A56: #POPR | B56: Popis rozpočtu: 03 - Etapa III. (S4;S5 dl.17,5m)
A57: #POPR | B57: Popis rozpočtu: 04 - Etapa IV. (S6;S7 dl.24m)
A58: #POPR | B58: Popis rozpočtu: 05 - Etapa V. (S8;S9 16,5m)
A59: #POPR | B59: Popis rozpočtu: 06 - Etapa VI. (S10 dl.23,5m)
A60: #POPR | B60: Popis rozpočtu: 07 - Etapa VII. (S11;S12;S13 dl. 18,5m)
A61: #POPR | B61: Popis rozpočtu: 08 - Etapa VIII. (S14;S15;S16;S17 dl. 21m)
A62: #POPR | B62: Popis rozpočtu: 09 - Etapa IX. (S18;19;20;21 dl.18,5m)
B65: Rekapitulace dílů
B67: Číslo | C67: Název | F67: Typ dílu | I67: Celkem | J67: %
B68: 94 | C68: Lešení a stavební výtahy | F68: HSV | I68: =#REF!+#REF!+#REF! -> #REF! | J68: =IF(I75=0,"",I68/I75*100) -> #REF!
B69: 95 | C69: Dokončovací konstrukce na pozemních stavbách | F69: HSV | I69: =#REF!+#REF!+#REF!+'01 04 Pol'!G8+#REF!+#REF!+#REF!+#REF!+#REF! -> #REF! | J69: =IF(I75=0,"",I69/I75*100) -> #REF!
B70: 722 | C70: Vnitřní vodovod | F70: PSV | I70: =#REF!+#REF!+#REF!+'01 04 Pol'!G11+#REF!+#REF!+#REF!+#REF!+#REF! -> #REF! | J70: =IF(I75=0,"",I70/I75*100) -> #REF!
B71: 767 | C71: Konstrukce zámečnické | F71: PSV | I71: =#REF!+#REF!+#REF!+'01 04 Pol'!G73+#REF!+#REF!+#REF!+#REF!+#REF! -> #REF! | J71: =IF(I75=0,"",I71/I75*100) -> #REF!
B72: M22 | C72: Montáž sdělovací a zabezp. techniky | F72: MON | I72: =#REF!+#REF!+#REF!+'01 04 Pol'!G84+#REF!+#REF!+#REF! -> #REF! | J72: =IF(I75=0,"",I72/I75*100) -> #REF!
B73: D96 | C73: Přesuny suti a vybouraných hmot | F73: PSU | I73: =#REF!+#REF!+#REF!+'01 04 Pol'!G90+#REF!+#REF!+#REF!+#REF!+#REF! -> #REF! | J73: =IF(I75=0,"",I73/I75*100) -> #REF!
B74: VN | C74: Vedlejší náklady | F74: VN | I74: =#REF!+#REF!+#REF!+'01 04 Pol'!G98+#REF!+#REF!+#REF!+#REF!+#REF! -> #REF! | J74: =IF(I75=0,"",I74/I75*100) -> #REF!
B75: Cena celkem | I75: =SUM(I68:I74) -> #REF! | J75: =SUM(J68:J74) -> #REF!

Sheet VzorPolozky
A1: Položkový rozpočet
A2: S:
A3: O:
A4: R:

Sheet 01 04 Pol
A1: Výkaz výměr | AG1: #TypZaznamu#
A2: S: | B2: 220109 | C2: Malinovského nám | AG2: STA
A3: O: | B3: 01 | C3: Oprava páteřních rozvodů vody | AC3: STA | AG3: OBJ
A4: R: | B4: 04 | C4: Etapa IV. (S6;S7 dl.24m) | AG4: ROZ
A6: P.č. | B6: Číslo položky | C6: Název položky | D6: MJ | E6: Množství | F6: Cena / MJ | G6: Celkem | H6: Dodávka | I6: Dodávka celk. | J6: Montáž | K6: Montáž celk. | L6: DPH | M6: Cena s DPH | N6: Hmotnost / MJ | O6: Hmotnost celk.(t) | P6: Dem. hmotnost / MJ | Q6: Dem. hmotnost celk.(t) | R6: Ceník | S6: Cen. soustava / platnost | T6: Cenová úroveň | U6: Nhod / MJ | V6: Nhod celk. | W6: Dodavatel | X6: Typ položky
A8: Díl: | B8: 95 | C8: Dokončovací konstrukce na pozemních stavbách | G8: =SUMIF(AG9:AG10,"<>NOR",G9:G10) -> 0 | I8: =SUM(I9:I10) -> 110.88 | K8: =SUM(K9:K10) -> 8781.12 | M8: =SUM(M9:M10) -> 0 | O8: =SUM(O9:O10) -> 0 | Q8: =SUM(Q9:Q10) -> 0 | V8: =SUM(V9:V10) -> 22.18 | AG8: DIL
A9: 1 | B9: 952901111R00 | C9: Vyčištění budov o výšce podlaží do 4 m | D9: m2 | E9: 72 | G9: =ROUND(E9*F9,2) -> 0 | H9: 1.54 | I9: =ROUND(E9*H9,2) -> 110.88 | J9: 121.96 | K9: =ROUND(E9*J9,2) -> 8781.12 | L9: 21 | M9: =G9*(1+L9/100) -> 0 | N9: 4e-05 | O9: =ROUND(E9*N9,2) -> 0 | P9: 0 | Q9: =ROUND(E9*P9,2) -> 0 | S9: RTS 22/ I | T9: RTS 21/ II | U9: 0.308 | V9: =ROUND(E9*U9,2) -> 22.18 | X9: Práce | AG9: POL1_1
C10: 3*(16+8) | E10: 72 | AG10: VV | AH10: 0
A11: Díl: | B11: 722 | C11: Vnitřní vodovod | G11: =SUMIF(AG12:AG72,"<>NOR",G12:G72) -> 0 | I11: =SUM(I12:I72) -> 56533.26 | K11: =SUM(K12:K72) -> 57494.99 | M11: =SUM(M12:M72) -> 0 | O11: =SUM(O12:O72) -> 0.5 | Q11: =SUM(Q12:Q72) -> 0.12 | V11: =SUM(V12:V72) -> 114.89 | AG11: DIL
A12: 2 | B12: 722170801R00 | C12: Demontáž rozvodů vody z plastů do D 32 | D12: m | E12: 36 | G12: =ROUND(E12*F12,2) -> 0 | H12: 0 | I12: =ROUND(E12*H12,2) -> 0 | J12: 20.6 | K12: =ROUND(E12*J12,2) -> 741.6 | L12: 21 | M12: =G12*(1+L12/100) -> 0 | N12: 0 | O12: =ROUND(E12*N12,2) -> 0 | P12: 0.00028 | Q12: =ROUND(E12*P12,2) -> 0.01 | S12: RTS 22/ I | T12: RTS 21/ II | U12: 0.052 | V12: =ROUND(E12*U12,2) -> 1.87 | X12: Práce | AG12: POL1_
C13: cirkul rozvod 32 : 8+16 | E13: 24 | AG13: VV | AH13: 0
C14: přípojka studená 32 : 6 | E14: 6 | AG14: VV | AH14: 0
C15: přípojka teplá 32 : 3 | E15: 3 | AG15: VV | AH15: 0
C16: přípojka cirkul 32 : 3 | E16: 3 | AG16: VV | AH16: 0
A17: 3 | B17: 722170804R00 | C17: Demontáž rozvodů vody z plastů do D 63 | D17: m | E17: 48 | G17: =ROUND(E17*F17,2) -> 0 | H17: 0 | I17: =ROUND(E17*H17,2) -> 0 | J17: 32.9 | K17: =ROUND(E17*J17,2) -> 1579.2 | L17: 21 | M17: =G17*(1+L17/100) -> 0 | N17: 0 | O17: =ROUND(E17*N17,2) -> 0 | P17: 0.00029 | Q17: =ROUND(E17*P17,2) -> 0.01 | S17: RTS 22/ I | T17: RTS 21/ II | U17: 0.083 | V17: =ROUND(E17*U17,2) -> 3.98 | X17: Práce | AG17: POL1_
C18: teplá rozvod 40 : 16+8 | E18: 24 | AG18: VV | AH18: 0
C19: studená rozvod 63 : 16+8 | E19: 24 | AG19: VV | AH19: 0
A20: 4 | B20: 722170923R00 | C20: Oprava potrubí z PE, spojka přímá,vně.závit 32x3/4 | D20: kus | E20: 6 | G20: =ROUND(E20*F20,2) -> 0 | H20: 259.82 | I20: =ROUND(E20*H20,2) -> 1558.92 | J20: 144.18 | K20: =ROUND(E20*J20,2) -> 865.08 | L20: 21 | M20: =G20*(1+L20/100) -> 0 | N20: 0.00025 | O20: =ROUND(E20*N20,2) -> 0 | P20: 0 | Q20: =ROUND(E20*P20,2) -> 0 | S20: RTS 22/ I | T20: RTS 21/ II | U20: 0.286 | V20: =ROUND(E20*U20,2) -> 1.72 | X20: Práce | AG20: POL1_
A21: 5 | B21: 722170926R00 | C21: Oprava potrubí z PE, spojka přímá,vně.závit 40x5/4 | D21: kus | E21: 2 | G21: =ROUND(E21*F21,2) -> 0 | H21: 383.77 | I21: =ROUND(E21*H21,2) -> 767.54 | J21: 212.23 | K21: =ROUND(E21*J21,2) -> 424.46 | L21: 21 | M21: =G21*(1+L21/100) -> 0 | N21: 0.00047 | O21: =ROUND(E21*N21,2) -> 0 | P21: 0 | Q21: =ROUND(E21*P21,2) -> 0 | S21: RTS 22/ I | T21: RTS 21/ II | U21: 0.421 | V21: =ROUND(E21*U21,2) -> 0.84 | X21: Práce | AG21: POL1_
A22: 6 | B22: 722170928R00 | C22: Oprava potrubí z PE, spojka přímá,vně.závit 63x2 | D22: kus | E22: 2 | G22: =ROUND(E22*F22,2) -> 0 | H22: 971.65 | I22: =ROUND(E22*H22,2) -> 1943.3 | J22: 288.35 | K22: =ROUND(E22*J22,2) -> 576.7 | L22: 21 | M22: =G22*(1+L22/100) -> 0 | N22: 0.0013 | O22: =ROUND(E22*N22,2) -> 0 | P22: 0 | Q22: =ROUND(E22*P22,2) -> 0 | S22: RTS 22/ I | T22: RTS 21/ II | U22: 0.572 | V22: =ROUND(E22*U22,2) -> 1.14 | X22: Práce | AG22: POL1_
A23: 7 | B23: 722172313R00 | C23: Potrubí z PPR, D 32x4,4 mm, PN 16 | D23: m | E23: 6 | G23: =ROUND(E23*F23,2) -> 0 | H23: 168.92 | I23: =ROUND(E23*H23,2) -> 1013.52 | J23: 327.58 | K23: =ROUND(E23*J23,2) -> 1965.48 | L23: 21 | M23: =G23*(1+L23/100) -> 0 | N23: 0.00535 | O23: =ROUND(E23*N23,2) -> 0.03 | P23: 0 | Q23: =ROUND(E23*P23,2) -> 0 | S23: RTS 22/ I | T23: RTS 21/ II | U23: 0.6828 | V23: =ROUND(E23*U23,2) -> 4.1 | X23: Práce | AG23: POL1_
C24: 3*2 | E24: 6 | AG24: VV | AH24: 0
A25: 8 | B25: 722172333R00 | C25: Potrubí z PPR, D 32x5,4 mm, PN 20 | D25: m | E25: 30 | G25: =ROUND(E25*F25,2) -> 0 | H25: 182.42 | I25: =ROUND(E25*H25,2) -> 5472.6 | J25: 327.58 | K25: =ROUND(E25*J25,2) -> 9827.4 | L25: 21 | M25: =G25*(1+L25/100) -> 0 | N25: 0.00541 | O25: =ROUND(E25*N25,2) -> 0.16 | P25: 0 | Q25: =ROUND(E25*P25,2) -> 0 | S25: RTS 22/ I | T25: RTS 21/ II | U25: 0.6828 | V25: =ROUND(E25*U25,2) -> 20.48 | X25: Práce | AG25: POL1_
C26: 16+8 | E26: 24 | AG26: VV | AH26: 0
C27: 2*3 | E27: 6 | AG27: VV | AH27: 0
A28: 9 | B28: 722172334R00 | C28: Potrubí z PPR, D 40x6,7 mm, PN 20 | D28: m | E28: 24 | G28: =ROUND(E28*F28,2) -> 0 | H28: 338.03 | I28: =ROUND(E28*H28,2) -> 8112.72 | J28: 367.97 | K28: =ROUND(E28*J28,2) -> 8831.28 | L28: 21 | M28: =G28*(1+L28/100) -> 0 | N28: 0.00573 | O28: =ROUND(E28*N28,2) -> 0.14 | P28: 0 | Q28: =ROUND(E28*P28,2) -> 0 | S28: RTS 22/ I | T28: RTS 21/ II | U28: 0.7547 | V28: =ROUND(E28*U28,2) -> 18.11 | X28: Práce | AG28: POL1_
C29: 16+8 | E29: 24 | AG29: VV | AH29: 0
A30: 10 | B30: 722172336R00 | C30: Potrubí z PPR, D 63x10,5 mm, PN 20 | D30: m | E30: 24 | G30: =ROUND(E30*F30,2) -> 0 | H30: 604.98 | I30: =ROUND(E30*H30,2) -> 14519.52 | J30: 494.02 | K30: =ROUND(E30*J30,2) -> 11856.48 | L30: 21 | M30: =G30*(1+L30/100) -> 0 | N30: 0.0068 | O30: =ROUND(E30*N30,2) -> 0.16 | P30: 0 | Q30: =ROUND(E30*P30,2) -> 0 | S30: RTS 22/ I | T30: RTS 21/ II | U30: 1.0048 | V30: =ROUND(E30*U30,2) -> 24.12 | X30: Práce | AG30: POL1_
C31: 16+8 | E31: 24 | AG31: VV | AH31: 0
A32: 11 | B32: 722181214RU1 | C32: Izolace návleková MIRELON PRO tl. stěny 20 mm vnitřní průměr 32 mm | D32: m | E32: 6 | G32: =ROUND(E32*F32,2) -> 0 | H32: 56.24 | I32: =ROUND(E32*H32,2) -> 337.44 | J32: 65.26 | K32: =ROUND(E32*J32,2) -> 391.56 | L32: 21 | M32: =G32*(1+L32/100) -> 0 | N32: 7e-05 | O32: =ROUND(E32*N32,2) -> 0 | P32: 0 | Q32: =ROUND(E32*P32,2) -> 0 | S32: RTS 22/ I | T32: RTS 21/ II | U32: 0.142 | V32: =ROUND(E32*U32,2) -> 0.85 | X32: Práce | AG32: POL1_
C33: Odkaz na mn. položky pořadí 7 : 6,00000 | E33: 6 | AG33: VV | AH33: 5
A34: 12 | B34: 722181214RY3 | C34: Izolace návleková MIRELON PRO tl. stěny 20 mm vnitřní průměr 63 mm | D34: m | E34: 24 | G34: =ROUND(E34*F34,2) -> 0 | H34: 84.58 | I34: =ROUND(E34*H34,2) -> 2029.92 | J34: 91.92 | K34: =ROUND(E34*J34,2) -> 2206.08 | L34: 21 | M34: =G34*(1+L34/100) -> 0 | N34: 0.00021 | O34: =ROUND(E34*N34,2) -> 0.01 | P34: 0 | Q34: =ROUND(E34*P34,2) -> 0 | S34: RTS 22/ I | T34: RTS 21/ II | U34: 0.2 | V34: =ROUND(E34*U34,2) -> 4.8 | X34: Práce | AG34: POL1_
C35: Odkaz na mn. položky pořadí 10 : 24,00000 | E35: 24 | AG35: VV | AH35: 5
A36: 13 | B36: 722181215RU1 | C36: Izolace návleková MIRELON PRO tl. stěny 25 mm vnitřní průměr 32 mm | D36: m | E36: 30 | G36: =ROUND(E36*F36,2) -> 0 | H36: 81.24 | I36: =ROUND(E36*H36,2) -> 2437.2 | J36: 65.26 | K36: =ROUND(E36*J36,2) -> 1957.8 | L36: 21 | M36: =G36*(1+L36/100) -> 0 | N36: 8e-05 | O36: =ROUND(E36*N36,2) -> 0 | P36: 0 | Q36: =ROUND(E36*P36,2) -> 0 | S36: RTS 22/ I | T36: RTS 21/ II | U36: 0.142 | V36: =ROUND(E36*U36,2) -> 4.26 | X36: Práce | AG36: POL1_
C37: Odkaz na mn. položky pořadí 8 : 30,00000 | E37: 30 | AG37: VV | AH37: 5
A38: 14 | B38: 722181215RW2 | C38: Izolace návleková MIRELON PRO tl. stěny 25 mm vnitřní průměr 45 mm | D38: m | E38: 24 | G38: =ROUND(E38*F38,2) -> 0 | H38: 93.36 | I38: =ROUND(E38*H38,2) -> 2240.64 | J38: 78.14 | K38: =ROUND(E38*J38,2) -> 1875.36 | L38: 21 | M38: =G38*(1+L38/100) -> 0 | N38: 0.00015 | O38: =ROUND(E38*N38,2) -> 0 | P38: 0 | Q38: =ROUND(E38*P38,2) -> 0 | S38: RTS 22/ I | T38: RTS 21/ II | U38: 0.17 | V38: =ROUND(E38*U38,2) -> 4.08 | X38: Práce | AG38: POL1_
C39: Odkaz na mn. položky pořadí 9 : 24,00000 | E39: 24 | AG39: VV | AH39: 5
A40: 15 | B40: 722181812R00 | C40: Demontáž plstěných pásů z trub D 50 | D40: m | E40: 60 | G40: =ROUND(E40*F40,2) -> 0 | H40: 0 | I40: =ROUND(E40*H40,2) -> 0 | J40: 28.5 | K40: =ROUND(E40*J40,2) -> 1710 | L40: 21 | M40: =G40*(1+L40/100) -> 0 | N40: 0 | O40: =ROUND(E40*N40,2) -> 0 | P40: 0.00023 | Q40: =ROUND(E40*P40,2) -> 0.01 | S40: RTS 22/ I | T40: RTS 21/ II | U40: 0.072 | V40: =ROUND(E40*U40,2) -> 4.32 | X40: Práce | AG40: POL1_
C41: Odkaz na mn. položky pořadí 11 : 6,00000 | E41: 6 | AG41: VV | AH41: 5
C42: Odkaz na mn. položky pořadí 13 : 30,00000 | E42: 30 | AG42: VV | AH42: 5
C43: Odkaz na mn. položky pořadí 14 : 24,00000 | E43: 24 | AG43: VV | AH43: 5
A44: 16 | B44: 722181817R00 | C44: Demontáž plstěných pásů z trub D 150 | D44: m | E44: 24 | G44: =ROUND(E44*F44,2) -> 0 | H44: 0 | I44: =ROUND(E44*H44,2) -> 0 | J44: 86 | K44: =ROUND(E44*J44,2) -> 2064 | L44: 21 | M44: =G44*(1+L44/100) -> 0 | N44: 0 | O44: =ROUND(E44*N44,2) -> 0 | P44: 0.0006 | Q44: =ROUND(E44*P44,2) -> 0.01 | S44: RTS 22/ I | T44: RTS 21/ II | U44: 0.217 | V44: =ROUND(E44*U44,2) -> 5.21 | X44: Práce | AG44: POL1_
C45: Odkaz na mn. položky pořadí 12 : 24,00000 | E45: 24 | AG45: VV | AH45: 5
A46: 17 | B46: 722202512R00 | C46: Ventil přímý PP-R INSTAPLAST D 20x1/2" | D46: kus | E46: 1 | G46: =ROUND(E46*F46,2) -> 0 | H46: 265.11 | I46: =ROUND(E46*H46,2) -> 265.11 | J46: 101.39 | K46: =ROUND(E46*J46,2) -> 101.39 | L46: 21 | M46: =G46*(1+L46/100) -> 0 | N46: 0.00013 | O46: =ROUND(E46*N46,2) -> 0 | P46: 0 | Q46: =ROUND(E46*P46,2) -> 0 | S46: RTS 22/ I | T46: RTS 21/ II | U46: 0.18555 | V46: =ROUND(E46*U46,2) -> 0.19 | X46: Práce | AG46: POL1_
A47: 18 | B47: 722202513R00 | C47: Ventil přímý PP-R INSTAPLAST D 25x3/4" | D47: kus | E47: 1 | G47: =ROUND(E47*F47,2) -> 0 | H47: 372.25 | I47: =ROUND(E47*H47,2) -> 372.25 | J47: 110.75 | K47: =ROUND(E47*J47,2) -> 110.75 | L47: 21 | M47: =G47*(1+L47/100) -> 0 | N47: 0.00024 | O47: =ROUND(E47*N47,2) -> 0 | P47: 0 | Q47: =ROUND(E47*P47,2) -> 0 | S47: RTS 22/ I | T47: RTS 21/ II | U47: 0.20269 | V47: =ROUND(E47*U47,2) -> 0.2 | X47: Práce | AG47: POL1_
A48: 19 | B48: 722202514R00 | C48: Ventil přímý PP-R INSTAPLAST D 32x1" | D48: kus | E48: 4 | G48: =ROUND(E48*F48,2) -> 0 | H48: 559.26 | I48: =ROUND(E48*H48,2) -> 2237.04 | J48: 131.74 | K48: =ROUND(E48*J48,2) -> 526.96 | L48: 21 | M48: =G48*(1+L48/100) -> 0 | N48: 0.00037 | O48: =ROUND(E48*N48,2) -> 0 | P48: 0 | Q48: =ROUND(E48*P48,2) -> 0 | S48: RTS 22/ I | T48: RTS 21/ II | U48: 0.24107 | V48: =ROUND(E48*U48,2) -> 0.96 | X48: Práce | AG48: POL1_
A49: 20 | B49: 722202516R00 | C49: Ventil přímý PP-R INSTAPLAST D 50x6/4" | D49: kus | E49: 3 | G49: =ROUND(E49*F49,2) -> 0 | H49: 1113.68 | I49: =ROUND(E49*H49,2) -> 3341.04 | J49: 193.32 | K49: =ROUND(E49*J49,2) -> 579.96 | L49: 21 | M49: =G49*(1+L49/100) -> 0 | N49: 0.00064 | O49: =ROUND(E49*N49,2) -> 0 | P49: 0 | Q49: =ROUND(E49*P49,2) -> 0 | S49: RTS 22/ I | T49: RTS 21/ II | U49: 0.35375 | V49: =ROUND(E49*U49,2) -> 1.06 | X49: Práce | AG49: POL1_
A50: 21 | B50: 722202517R00 | C50: Ventil přímý PP-R INSTAPLAST D 63x2" | D50: kus | E50: 3 | G50: =ROUND(E50*F50,2) -> 0 | H50: 1697.44 | I50: =ROUND(E50*H50,2) -> 5092.32 | J50: 228.56 | K50: =ROUND(E50*J50,2) -> 685.68 | L50: 21 | M50: =G50*(1+L50/100) -> 0 | N50: 0.00112 | O50: =ROUND(E50*N50,2) -> 0 | P50: 0 | Q50: =ROUND(E50*P50,2) -> 0 | S50: RTS 22/ I | T50: RTS 21/ II | U50: 0.41825 | V50: =ROUND(E50*U50,2) -> 1.25 | X50: Práce | AG50: POL1_
A51: 22 | B51: 722220874R00 | C51: Demontáž armatur se závitem a šroubením G 5/4 | D51: kus | E51: 6 | G51: =ROUND(E51*F51,2) -> 0 | H51: 0 | I51: =ROUND(E51*H51,2) -> 0 | J51: 49.1 | K51: =ROUND(E51*J51,2) -> 294.6 | L51: 21 | M51: =G51*(1+L51/100) -> 0 | N51: 0 | O51: =ROUND(E51*N51,2) -> 0 | P51: 0.00612 | Q51: =ROUND(E51*P51,2) -> 0.04 | S51: RTS 22/ I | T51: RTS 21/ II | U51: 0.124 | V51: =ROUND(E51*U51,2) -> 0.74 | X51: Práce | AG51: POL1_
C52: Odkaz na mn. položky pořadí 17 : 1,00000 | E52: 1 | AG52: VV | AH52: 5
C53: Odkaz na mn. položky pořadí 18 : 1,00000 | E53: 1 | AG53: VV | AH53: 5
C54: Odkaz na mn. položky pořadí 19 : 4,00000 | E54: 4 | AG54: VV | AH54: 5
A55: 23 | B55: 722220875R00 | C55: Demontáž armatur se závitem a šroubením G 2 | D55: kus | E55: 6 | G55: =ROUND(E55*F55,2) -> 0 | H55: 0 | I55: =ROUND(E55*H55,2) -> 0 | J55: 53.1 | K55: =ROUND(E55*J55,2) -> 318.6 | L55: 21 | M55: =G55*(1+L55/100) -> 0 | N55: 0 | O55: =ROUND(E55*N55,2) -> 0 | P55: 0.00679 | Q55: =ROUND(E55*P55,2) -> 0.04 | S55: RTS 22/ I | T55: RTS 21/ II | U55: 0.134 | V55: =ROUND(E55*U55,2) -> 0.8 | X55: Práce | AG55: POL1_
C56: Odkaz na mn. položky pořadí 20 : 3,00000 | E56: 3 | AG56: VV | AH56: 5
C57: Odkaz na mn. položky pořadí 21 : 3,00000 | E57: 3 | AG57: VV | AH57: 5
A58: 24 | B58: 722235863R00 | C58: Kompenzátor vod.pryžový, IVAR.BRA.T8.500 DN 32 | D58: kus | E58: 1 | G58: =ROUND(E58*F58,2) -> 0 | H58: 1046.4 | I58: =ROUND(E58*H58,2) -> 1046.4 | J58: 135.6 | K58: =ROUND(E58*J58,2) -> 135.6 | L58: 21 | M58: =G58*(1+L58/100) -> 0 | N58: 0.00125 | O58: =ROUND(E58*N58,2) -> 0 | P58: 0 | Q58: =ROUND(E58*P58,2) -> 0 | S58: RTS 22/ I | T58: RTS 21/ II | U58: 0.269 | V58: =ROUND(E58*U58,2) -> 0.27 | X58: Práce | AG58: POL1_
A59: 25 | B59: 722235864R00 | C59: Kompenzátor vod.pryžový, IVAR.BRA.T8.500 DN 40 | D59: kus | E59: 1 | G59: =ROUND(E59*F59,2) -> 0 | H59: 1199.06 | I59: =ROUND(E59*H59,2) -> 1199.06 | J59: 176.94 | K59: =ROUND(E59*J59,2) -> 176.94 | L59: 21 | M59: =G59*(1+L59/100) -> 0 | N59: 0.00172 | O59: =ROUND(E59*N59,2) -> 0 | P59: 0 | Q59: =ROUND(E59*P59,2) -> 0 | S59: RTS 22/ I | T59: RTS 21/ II | U59: 0.351 | V59: =ROUND(E59*U59,2) -> 0.35 | X59: Práce | AG59: POL1_
A60: 26 | B60: 722235866R00 | C60: Kompenzátor vod.pryžový, IVAR.BRA.T8.500 DN 65 | D60: kus | E60: 1 | G60: =ROUND(E60*F60,2) -> 0 | H60: 2373.8 | I60: =ROUND(E60*H60,2) -> 2373.8 | J60: 271.2 | K60: =ROUND(E60*J60,2) -> 271.2 | L60: 21 | M60: =G60*(1+L60/100) -> 0 | N60: 0.0036 | O60: =ROUND(E60*N60,2) -> 0 | P60: 0 | Q60: =ROUND(E60*P60,2) -> 0 | S60: RTS 22/ I | T60: RTS 21/ II | U60: 0.538 | V60: =ROUND(E60*U60,2) -> 0.54 | X60: Práce | AG60: POL1_
A61: 27 | B61: 722280106R00 | C61: Tlaková zkouška vodovodního potrubí DN 32 | D61: m | E61: 36 | G61: =ROUND(E61*F61,2) -> 0 | H61: 0.21 | I61: =ROUND(E61*H61,2) -> 7.56 | J61: 14.59 | K61: =ROUND(E61*J61,2) -> 525.24 | L61: 21 | M61: =G61*(1+L61/100) -> 0 | N61: 0 | O61: =ROUND(E61*N61,2) -> 0 | P61: 0 | Q61: =ROUND(E61*P61,2) -> 0 | S61: RTS 22/ I | T61: RTS 21/ II | U61: 0.029 | V61: =ROUND(E61*U61,2) -> 1.04 | X61: Práce | AG61: POL1_7
C62: Odkaz na mn. položky pořadí 7 : 6,00000 | E62: 6 | AG62: VV | AH62: 5
C63: Odkaz na mn. položky pořadí 8 : 30,00000 | E63: 30 | AG63: VV | AH63: 5
A64: 28 | B64: 722280109R00 | C64: Tlaková zkouška vodovodního potrubí DN 65 | D64: m | E64: 48 | G64: =ROUND(E64*F64,2) -> 0 | H64: 0.47 | I64: =ROUND(E64*H64,2) -> 22.56 | J64: 27.33 | K64: =ROUND(E64*J64,2) -> 1311.84 | L64: 21 | M64: =G64*(1+L64/100) -> 0 | N64: 0 | O64: =ROUND(E64*N64,2) -> 0 | P64: 0 | Q64: =ROUND(E64*P64,2) -> 0 | S64: RTS 22/ I | T64: RTS 21/ II | U64: 0.05 | V64: =ROUND(E64*U64,2) -> 2.4 | X64: Práce | AG64: POL1_
C65: Odkaz na mn. položky pořadí 9 : 24,00000 | E65: 24 | AG65: VV | AH65: 5
C66: Odkaz na mn. položky pořadí 10 : 24,00000 | E66: 24 | AG66: VV | AH66: 5
A67: 29 | B67: 722290234R00 | C67: Proplach a dezinfekce vodovod.potrubí DN 80 | D67: m | E67: 84 | G67: =ROUND(E67*F67,2) -> 0 | H67: 1.7 | I67: =ROUND(E67*H67,2) -> 142.8 | J67: 31.3 | K67: =ROUND(E67*J67,2) -> 2629.2 | L67: 21 | M67: =G67*(1+L67/100) -> 0 | N67: 1e-05 | O67: =ROUND(E67*N67,2) -> 0 | P67: 0 | Q67: =ROUND(E67*P67,2) -> 0 | S67: RTS 22/ I | T67: RTS 21/ II | U67: 0.062 | V67: =ROUND(E67*U67,2) -> 5.21 | X67: Práce | AG67: POL1_7
C68: Odkaz na mn. položky pořadí 27 : 36,00000 | E68: 36 | AG68: VV | AH68: 5
C69: Odkaz na mn. položky pořadí 28 : 48,00000 | E69: 48 | AG69: VV | AH69: 5
A70: 30 | B70: 998722202R00 | C70: Přesun hmot pro vnitřní vodovod, výšky do 12 m | D70: % | E70: 1110.737 | G70: =ROUND(E70*F70,2) -> 0 | H70: 0 | I70: =ROUND(E70*H70,2) -> 0 | J70: 1.25 | K70: =ROUND(E70*J70,2) -> 1388.42 | L70: 21 | M70: =G70*(1+L70/100) -> 0 | N70: 0 | O70: =ROUND(E70*N70,2) -> 0 | P70: 0 | Q70: =ROUND(E70*P70,2) -> 0 | S70: RTS 22/ I | T70: RTS 21/ II | U70: 0 | V70: =ROUND(E70*U70,2) -> 0 | X70: Přesun hmot | AG70: POL7_
A71: 31 | B71: 998722294R00 | C71: Příplatek zvětš. přesun, vnitřní vodovod do 1 km | D71: % | E71: 1110.737 | G71: =ROUND(E71*F71,2) -> 0 | H71: 0 | I71: =ROUND(E71*H71,2) -> 0 | J71: 1.35 | K71: =ROUND(E71*J71,2) -> 1499.49 | L71: 21 | M71: =G71*(1+L71/100) -> 0 | N71: 0 | O71: =ROUND(E71*N71,2) -> 0 | P71: 0 | Q71: =ROUND(E71*P71,2) -> 0 | S71: RTS 22/ I | T71: RTS 21/ II | U71: 0 | V71: =ROUND(E71*U71,2) -> 0 | X71: Přesun hmot | AG71: POL7_
A72: 32 | B72: 998722299R00 | C72: Příplatek zvětš. přesun, vnitřní vodovod další 1km | D72: % | E72: 1110.737 | G72: =ROUND(E72*F72,2) -> 0 | H72: 0 | I72: =ROUND(E72*H72,2) -> 0 | J72: 0.06 | K72: =ROUND(E72*J72,2) -> 66.64 | L72: 21 | M72: =G72*(1+L72/100) -> 0 | N72: 0 | O72: =ROUND(E72*N72,2) -> 0 | P72: 0 | Q72: =ROUND(E72*P72,2) -> 0 | S72: RTS 22/ I | T72: RTS 21/ II | U72: 0 | V72: =ROUND(E72*U72,2) -> 0 | X72: Přesun hmot | AG72: POL7_
A73: Díl: | B73: 767 | C73: Konstrukce zámečnické | G73: =SUMIF(AG74:AG83,"<>NOR",G74:G83) -> 0 | I73: =SUM(I74:I83) -> 9782.62 | K73: =SUM(K74:K83) -> 37484.18 | M73: =SUM(M74:M83) -> 0 | O73: =SUM(O74:O83) -> 0.09 | Q73: =SUM(Q74:Q83) -> 1.77 | V73: =SUM(V74:V83) -> 89.25 | AG73: DIL
A74: 33 | B74: 767885003R00 | C74: Žlab podpůrný pro potrubí D 32 | D74: m | E74: 24 | G74: =ROUND(E74*F74,2) -> 0 | H74: 30.91 | I74: =ROUND(E74*H74,2) -> 741.84 | J74: 6.29 | K74: =ROUND(E74*J74,2) -> 150.96 | L74: 21 | M74: =G74*(1+L74/100) -> 0 | N74: 0 | O74: =ROUND(E74*N74,2) -> 0 | P74: 0 | Q74: =ROUND(E74*P74,2) -> 0 | S74: RTS 22/ I | T74: RTS 21/ II | U74: 0.0115 | V74: =ROUND(E74*U74,2) -> 0.28 | X74: Práce | AG74: POL1_
C75: Odkaz na mn. položky pořadí 34 : 24,00000 | E75: 24 | AG75: VV | AH75: 5
A76: 34 | B76: 767885004R00 | C76: Žlab podpůrný pro potrubí D 40 | D76: m | E76: 24 | G76: =ROUND(E76*F76,2) -> 0 | H76: 34.39 | I76: =ROUND(E76*H76,2) -> 825.36 | J76: 6.61 | K76: =ROUND(E76*J76,2) -> 158.64 | L76: 21 | M76: =G76*(1+L76/100) -> 0 | N76: 0 | O76: =ROUND(E76*N76,2) -> 0 | P76: 0 | Q76: =ROUND(E76*P76,2) -> 0 | S76: RTS 22/ I | T76: RTS 21/ II | U76: 0.0121 | V76: =ROUND(E76*U76,2) -> 0.29 | X76: Práce | AG76: POL1_
C77: Odkaz na mn. položky pořadí 9 : 24,00000 | E77: 24 | AG77: VV | AH77: 5
A78: 35 | B78: 767885006R00 | C78: Žlab podpůrný pro potrubí D 63 | D78: m | E78: 24 | G78: =ROUND(E78*F78,2) -> 0 | H78: 43.29 | I78: =ROUND(E78*H78,2) -> 1038.96 | J78: 6.71 | K78: =ROUND(E78*J78,2) -> 161.04 | L78: 21 | M78: =G78*(1+L78/100) -> 0 | N78: 0 | O78: =ROUND(E78*N78,2) -> 0 | P78: 0 | Q78: =ROUND(E78*P78,2) -> 0 | S78: RTS 22/ I | T78: RTS 21/ II | U78: 0.0123 | V78: =ROUND(E78*U78,2) -> 0.3 | X78: Práce | AG78: POL1_
C79: Odkaz na mn. položky pořadí 10 : 24,00000 | E79: 24 | AG79: VV | AH79: 5
A80: 36 | B80: 767996802R00 | C80: Demontáž a zpětná montáž atypických ocelových konstr. do100 kg | D80: kg | E80: 1767.6 | G80: =ROUND(E80*F80,2) -> 0 | H80: 4.06 | I80: =ROUND(E80*H80,2) -> 7176.46 | J80: 20.94 | K80: =ROUND(E80*J80,2) -> 37013.54 | L80: 21 | M80: =G80*(1+L80/100) -> 0 | N80: 5e-05 | O80: =ROUND(E80*N80,2) -> 0.09 | P80: 0.001 | Q80: =ROUND(E80*P80,2) -> 1.77 | S80: RTS 22/ I | T80: Indiv | U80: 0.05 | V80: =ROUND(E80*U80,2) -> 88.38 | X80: Práce | AG80: POL1_
C81: Plech lístkový válcovaný za tepla, EN 10363 tl 6mm : | AG81: VV | AH81: 0
C82: 49,1 kg/m2 : | AG82: VV | AH82: 0
C83: Odkaz na mn. položky pořadí 1 : 72,00000*24,55 | E83: 1767.6 | AG83: VV | AH83: 5
A84: Díl: | B84: M22 | C84: Montáž sdělovací a zabezp. techniky | G84: =SUMIF(AG85:AG89,"<>NOR",G85:G89) -> 0 | I84: =SUM(I85:I89) -> 3726.24 | K84: =SUM(K85:K89) -> 9369.76 | M84: =SUM(M85:M89) -> 0 | O84: =SUM(O85:O89) -> 0 | Q84: =SUM(Q85:Q89) -> 0 | V84: =SUM(V85:V89) -> 19.86 | AG84: DIL
A85: 37 | B85: 220261146R00 | C85: Příchytka kabelová PSH 30 SP kabelová | D85: kus | E85: 72 | G85: =ROUND(E85*F85,2) -> 0 | H85: 50.29 | I85: =ROUND(E85*H85,2) -> 3620.88 | J85: 58.21 | K85: =ROUND(E85*J85,2) -> 4191.12 | L85: 21 | M85: =G85*(1+L85/100) -> 0 | N85: 0 | O85: =ROUND(E85*N85,2) -> 0 | P85: 0 | Q85: =ROUND(E85*P85,2) -> 0 | S85: RTS 22/ I | T85: RTS 21/ II | U85: 0.118 | V85: =ROUND(E85*U85,2) -> 8.5 | X85: Práce | AG85: POL1_
C86: Odkaz na mn. položky pořadí 38 : 24,00000*3 | E86: 72 | AG86: VV | AH86: 5
A87: 38 | B87: 220280631R00 | C87: Vyvázání kabelu na příchytky | D87: m | E87: 24 | G87: =ROUND(E87*F87,2) -> 0 | H87: 4.39 | I87: =ROUND(E87*H87,2) -> 105.36 | J87: 69.11 | K87: =ROUND(E87*J87,2) -> 1658.64 | L87: 21 | M87: =G87*(1+L87/100) -> 0 | N87: 0 | O87: =ROUND(E87*N87,2) -> 0 | P87: 0 | Q87: =ROUND(E87*P87,2) -> 0 | S87: RTS 22/ I | T87: RTS 21/ II | U87: 0.14 | V87: =ROUND(E87*U87,2) -> 3.36 | X87: Práce | AG87: POL1_
C88: 16+8 | E88: 24 | AG88: VV | AH88: 0
A89: 39 | B89: 909 R00 | C89: Zabezpečení kontaktu s elektro kabely vč materiálu | D89: h | E89: 8 | G89: =ROUND(E89*F89,2) -> 0 | H89: 0 | I89: =ROUND(E89*H89,2) -> 0 | J89: 440 | K89: =ROUND(E89*J89,2) -> 3520 | L89: 21 | M89: =G89*(1+L89/100) -> 0 | N89: 0 | O89: =ROUND(E89*N89,2) -> 0 | P89: 0 | Q89: =ROUND(E89*P89,2) -> 0 | R89: Prav.M | S89: RTS 22/ I | T89: RTS 21/ II | U89: 1 | V89: =ROUND(E89*U89,2) -> 8 | X89: HZS | AG89: POL10_
A90: Díl: | B90: D96 | C90: Přesuny suti a vybouraných hmot | G90: =SUMIF(AG91:AG97,"<>NOR",G91:G97) -> 0 | I90: =SUM(I91:I97) -> 0 | K90: =SUM(K91:K97) -> 7091.2 | M90: =SUM(M91:M97) -> 0 | O90: =SUM(O91:O97) -> 0 | Q90: =SUM(Q91:Q97) -> 0 | V90: =SUM(V91:V97) -> 8.54 | AG90: DIL
A91: 40 | B91: 979990163R00 | C91: Poplatek za uložení suti - plast + sklo, skupina odpadu 170904 | D91: t | E91: 1.89726 | G91: =ROUND(E91*F91,2) -> 0 | H91: 0 | I91: =ROUND(E91*H91,2) -> 0 | J91: 1612 | K91: =ROUND(E91*J91,2) -> 3058.38 | L91: 21 | M91: =G91*(1+L91/100) -> 0 | N91: 0 | O91: =ROUND(E91*N91,2) -> 0 | P91: 0 | Q91: =ROUND(E91*P91,2) -> 0 | S91: RTS 22/ I | T91: RTS 21/ II | U91: 0 | V91: =ROUND(E91*U91,2) -> 0 | X91: Přesun suti | AG91: POL8_
A92: 41 | B92: 979011211R00 | C92: Svislá doprava suti a vybour. hmot za 2.NP nošením | D92: t | E92: 1.89726 | G92: =ROUND(E92*F92,2) -> 0 | H92: 0 | I92: =ROUND(E92*H92,2) -> 0 | J92: 706 | K92: =ROUND(E92*J92,2) -> 1339.47 | L92: 21 | M92: =G92*(1+L92/100) -> 0 | N92: 0 | O92: =ROUND(E92*N92,2) -> 0 | P92: 0 | Q92: =ROUND(E92*P92,2) -> 0 | S92: RTS 22/ I | T92: RTS 21/ II | U92: 2.009 | V92: =ROUND(E92*U92,2) -> 3.81 | X92: Přesun suti | AG92: POL8_0
A93: 42 | B93: 979081111R00 | C93: Odvoz suti a vybour. hmot na skládku do 1 km | D93: t | E93: 1.89726 | G93: =ROUND(E93*F93,2) -> 0 | H93: 0 | I93: =ROUND(E93*H93,2) -> 0 | J93: 234.5 | K93: =ROUND(E93*J93,2) -> 444.91 | L93: 21 | M93: =G93*(1+L93/100) -> 0 | N93: 0 | O93: =ROUND(E93*N93,2) -> 0 | P93: 0 | Q93: =ROUND(E93*P93,2) -> 0 | S93: RTS 22/ I | T93: RTS 21/ II | U93: 0.49 | V93: =ROUND(E93*U93,2) -> 0.93 | X93: Přesun suti | AG93: POL8_0
A94: 43 | B94: 979081121R00 | C94: Příplatek k odvozu za každý další 1 km | D94: t | E94: 24.66438 | G94: =ROUND(E94*F94,2) -> 0 | H94: 0 | I94: =ROUND(E94*H94,2) -> 0 | J94: 16 | K94: =ROUND(E94*J94,2) -> 394.63 | L94: 21 | M94: =G94*(1+L94/100) -> 0 | N94: 0 | O94: =ROUND(E94*N94,2) -> 0 | P94: 0 | Q94: =ROUND(E94*P94,2) -> 0 | S94: RTS 22/ I | T94: RTS 21/ II | U94: 0 | V94: =ROUND(E94*U94,2) -> 0 | X94: Přesun suti | AG94: POL8_0
A95: 44 | B95: 979082111R00 | C95: Vnitrostaveništní doprava suti do 10 m | D95: t | E95: 1.89726 | G95: =ROUND(E95*F95,2) -> 0 | H95: 0 | I95: =ROUND(E95*H95,2) -> 0 | J95: 331 | K95: =ROUND(E95*J95,2) -> 627.99 | L95: 21 | M95: =G95*(1+L95/100) -> 0 | N95: 0 | O95: =ROUND(E95*N95,2) -> 0 | P95: 0 | Q95: =ROUND(E95*P95,2) -> 0 | S95: RTS 22/ I | T95: RTS 21/ II | U95: 0.942 | V95: =ROUND(E95*U95,2) -> 1.79 | X95: Přesun suti | AG95: POL8_0
A96: 45 | B96: 979082121R00 | C96: Příplatek k vnitrost. dopravě suti za dalších 5 m | D96: t | E96: 7.58904 | G96: =ROUND(E96*F96,2) -> 0 | H96: 0 | I96: =ROUND(E96*H96,2) -> 0 | J96: 36.9 | K96: =ROUND(E96*J96,2) -> 280.04 | L96: 21 | M96: =G96*(1+L96/100) -> 0 | N96: 0 | O96: =ROUND(E96*N96,2) -> 0 | P96: 0 | Q96: =ROUND(E96*P96,2) -> 0 | S96: RTS 22/ I | T96: RTS 21/ II | U96: 0.105 | V96: =ROUND(E96*U96,2) -> 0.8 | X96: Přesun suti | AG96: POL8_0
A97: 46 | B97: 979087113R00 | C97: Nakládání vybouraných hmot na dopravní prostředky | D97: t | E97: 1.89726 | G97: =ROUND(E97*F97,2) -> 0 | H97: 0 | I97: =ROUND(E97*H97,2) -> 0 | J97: 498.5 | K97: =ROUND(E97*J97,2) -> 945.78 | L97: 21 | M97: =G97*(1+L97/100) -> 0 | N97: 0 | O97: =ROUND(E97*N97,2) -> 0 | P97: 0 | Q97: =ROUND(E97*P97,2) -> 0 | S97: RTS 22/ I | T97: RTS 21/ II | U97: 0.638 | V97: =ROUND(E97*U97,2) -> 1.21 | X97: Přesun suti | AG97: POL8_0
A98: Díl: | B98: VN | C98: Vedlejší náklady | G98: =SUMIF(AG99:AG103,"<>NOR",G99:G103) -> 0 | I98: =SUM(I99:I103) -> 0 | K98: =SUM(K99:K103) -> 9000 | M98: =SUM(M99:M103) -> 0 | O98: =SUM(O99:O103) -> 0 | Q98: =SUM(Q99:Q103) -> 0 | V98: =SUM(V99:V103) -> 0 | AG98: DIL
A99: 47 | B99: VRN0 | C99: Ztížené výrobní podmínky | D99: Soubor | E99: 1 | G99: =ROUND(E99*F99,2) -> 0 | H99: 0 | I99: =ROUND(E99*H99,2) -> 0 | J99: 3000 | K99: =ROUND(E99*J99,2) -> 3000 | L99: 21 | M99: =G99*(1+L99/100) -> 0 | N99: 0 | O99: =ROUND(E99*N99,2) -> 0 | P99: 0 | Q99: =ROUND(E99*P99,2) -> 0 | S99: Vlastní | T99: Indiv | U99: 0 | V99: =ROUND(E99*U99,2) -> 0 | X99: VRN | AG99: POL99_8
A100: 48 | B100: VRN1 | C100: Oborová přirážka | D100: Soubor | E100: 1 | G100: =ROUND(E100*F100,2) -> 0 | H100: 0 | I100: =ROUND(E100*H100,2) -> 0 | J100: 1000 | K100: =ROUND(E100*J100,2) -> 1000 | L100: 21 | M100: =G100*(1+L100/100) -> 0 | N100: 0 | O100: =ROUND(E100*N100,2) -> 0 | P100: 0 | Q100: =ROUND(E100*P100,2) -> 0 | S100: Vlastní | T100: Indiv | U100: 0 | V100: =ROUND(E100*U100,2) -> 0 | X100: VRN | AG100: POL99_8
A101: 49 | B101: VRN3 | C101: Mimostaveništní doprava | D101: Soubor | E101: 1 | G101: =ROUND(E101*F101,2) -> 0 | H101: 0 | I101: =ROUND(E101*H101,2) -> 0 | J101: 2000 | K101: =ROUND(E101*J101,2) -> 2000 | L101: 21 | M101: =G101*(1+L101/100) -> 0 | N101: 0 | O101: =ROUND(E101*N101,2) -> 0 | P101: 0 | Q101: =ROUND(E101*P101,2) -> 0 | S101: Vlastní | T101: Indiv | U101: 0 | V101: =ROUND(E101*U101,2) -> 0 | X101: VRN | AG101: POL99_8
A102: 50 | B102: VRN5 | C102: Provoz investora | D102: Soubor | E102: 1 | G102: =ROUND(E102*F102,2) -> 0 | H102: 0 | I102: =ROUND(E102*H102,2) -> 0 | J102: 2000 | K102: =ROUND(E102*J102,2) -> 2000 | L102: 21 | M102: =G102*(1+L102/100) -> 0 | N102: 0 | O102: =ROUND(E102*N102,2) -> 0 | P102: 0 | Q102: =ROUND(E102*P102,2) -> 0 | S102: Vlastní | T102: Indiv | U102: 0 | V102: =ROUND(E102*U102,2) -> 0 | X102: VRN | AG102: POL99_8
...
