Workbook

Sheet Rekapitulace stavby
A1: Export Komplet | BA1: 2.0 | BT1: False | BU1: False | BV1: {f8a2d003-5c45-4216-b681-3d039ef25820}
BS2: 0,01 | BT2: 21
BS3: 0,01 | BT3: 15
D4: REKAPITULACE STAVBY | BS4: 0,001
D5: Kód: | BS5: 0,01
D6: Stavba: | K6: Oprava dešťové kanalizace v prostoru světlíku nad 2NP | BS6: 0,01
D7: KSO: | AK7: CC-CZ: | BS7: 0,01
D8: Místo: | K8: Orlí 480/7, Brno - město | AK8: Datum: | AN8: 45016 | BS8: 0,01
BS9: 0,01
D10: Zadavatel: | K10: Magistrát města Brna , odbor správy majetku , Husova 3 , Brno | AK10: IČ: | AN10: 44992758 | BS10: 0,01
AK11: DIČ: | AN11: CZ44992758 | BS11: 0,01
BS12: 0,01
D13: Uchazeč: | AK13: IČ: | BS13: 0,01
AK14: DIČ: | BS14: 0,01
BS15: False
D16: Projektant: | K16: SD Ateliér s.r.o., Ing. Miroslav Poláček, Orlí 7, 602 00 Brno | AK16: IČ: | AN16: 27714870 | BS16: False
AK17: DIČ: | AN17: CZ27714870 | BS17: True
BS18: 1
D19: Zpracovatel: | K19: ïng.Blanka Studničková , Chotěnovská 1154, 190 16, Praha 9 | AK19: IČ: | AN19: 65446364 | BS19: 1
K20: Markéta Podroužková, nám.T.G.Masaryka 89, 251 67, Pyšely | AK20: DIČ: | AN20: 6797512 | BS20: True
D22: Poznámka:
D26: Cena bez DPH | AK26: =AN88 -> 0
L28: Sazba daně | W28: Základ daně | AK28: Výše daně
D29: DPH | F29: základní | L29: 0.21 | W29: =AK26 -> 0 | AK29: =W29/100*21 -> 0
F30: snížená | L30: 0.15 | W30: 0 | AK30: 0
F31: zákl. přenesená | L31: 0.21 | W31: =ROUND(BB79,0) -> 0 | AK31: 0
F32: sníž. přenesená | L32: 0.15 | W32: =ROUND(BC79,0) -> 0 | AK32: 0
F33: nulová | L33: 0 | W33: =ROUND(BD79,0) -> 0 | AK33: 0
D35: Cena s DPH | T35: v | X35: CZK | AK35: =SUM(AK26:AK33) -> 0
D44: Projektant | AH44: Zpracovatel
D51: Datum a podpis: | S51: Razítko | AF51: Datum a podpis: | AM51: Razítko
D55: Objednavatel | AH55: Uchazeč
D62: Datum a podpis: | V62: Razítko | AF62: Datum a podpis: | AM62: Razítko
C67: REKAPITULACE OBJEKTŮ STAVBY A SOUPISŮ PRACÍ
C69: Kód:
C70: Stavba: | L70: =K6 -> Oprava dešťové kanalizace v prostoru světlíku nad 2NP
C72: Místo: | L72: =IF(K8="","",K8) -> Orlí 480/7, Brno - město | AI72: Datum: | AM72: =IF(AN8= "","",AN8) -> 45016
C74: Zadavatel: | L74: =K10 -> Magistrát města Brna , odbor správy majetku , Husova 3 , Brno | AI74: Projektant: | AM74: =K16 -> SD Ateliér s.r.o., Ing. Miroslav Poláček, Orlí 7, 602 00 Brno
C75: Uchazeč: | AI75: Zpracovatel: | AM75: =IF(E20="","",E20)
C77: Kód | I77: Popis | AG77: Cena bez DPH [CZK] | AN77: Cena s DPH [CZK]
D81: 01 | J81: ZTI | AI81: =SUM(AI82:AI86) -> 0 | AL81: =AI81*1.21 -> 0
J82: =SVOD!F126 -> Trubní vedení | AI82: =SVOD!K126 -> 0
J83: Ostatní práce a konstrukce | AI83: =SVOD!K140 -> 0
J84: =SVOD!F147 -> Sádrokartonové konstrukce | AI84: =SVOD!K147 -> 0
J85: =SVOD!F150 -> Dokončovací práce - malby a tapety | AI85: =SVOD!K150 -> 0
J86: =SVOD!F153 -> Vedlejší rozpočtové náklady | AI86: =SVOD!K153 -> 0
J88: CELKOVÁ CENA (bez DPH) | AN88: =AI81 -> 0

Sheet SVOD
M2: >> skryté sloupce << | AT2: {83685958-8a88-45db-8114-51b049b675b9}
AT3: 1
D4: KRYCÍ LIST SOUPISU PRACÍ | N4: v --- níže se nacházejí doplnkové a pomocné údaje k sestavám --- v | AT4: False
D6: Stavba:
E7: Bášť parc. č. 389/9
D8: Objekt:
E9: 02 - ZTI
D11: KSO: | I11: CC-CZ:
D12: Místo: | I12: Datum: | J12: 4. 1. 2023
D14: Zadavatel: | I14: IČ:
I15: DIČ:
D17: Zhotovitel: | I17: IČ:
I18: DIČ:
D20: Projektant: | I20: IČ:
I21: DIČ:
D23: Zpracovatel: | I23: IČ:
I24: DIČ:
D26: Poznámka:
E30: Materiál | K30: =I96 -> #REF!
E31: Montáž | K31: =J96 -> #REF!
D32: Cena bez DPH | K32: =ROUND(K124, 2) -> 0
F34: Základ daně | I34: Sazba daně | K34: Výše daně
D35: DPH | E35: základní | F35: =ROUND((SUM(BE124:BE155)), 2) -> 0 | I35: 0.21 | K35: =ROUND(((SUM(BE124:BE155))*I35), 2) -> 0
E36: snížená | F36: =ROUND((SUM(BF124:BF155)), 2) -> 0 | I36: 0.15 | K36: =ROUND(((SUM(BF124:BF155))*I36), 2) -> 0
E37: zákl. přenesená | F37: =ROUND((SUM(BG124:BG155)), 2) -> 0 | I37: 0.21 | K37: =0 -> 0
E38: sníž. přenesená | F38: =ROUND((SUM(BH124:BH155)), 2) -> 0 | I38: 0.15 | K38: =0 -> 0
E39: nulová | F39: =ROUND((SUM(BI124:BI155)), 2) -> 0 | I39: 0 | K39: =0 -> 0
D41: Cena s DPH | G41: v | H41: CZK | K41: =SUM(K32:K39) -> 0
D50: Projektant | G50: Zpracovatel
D61: Datum a podpis: | F61: Razítko | G61: Datum a podpis: | J61: Razítko
D65: Objednavatel | G65: Zhotovitel
D76: Datum a podpis: | F76: Razítko | G76: Datum a podpis: | J76: Razítko
C82: REKAPITULACE ČLENĚNÍ SOUPISU PRACÍ
C84: Stavba:
E85: =E7 -> Bášť parc. č. 389/9
C86: Objekt:
E87: =E9 -> 02 - ZTI
C89: Místo: | F89: =F12 | I89: Datum: | J89: =IF(J12="","",J12) -> 4. 1. 2023
C91: Zadavatel: | F91: =E15 | I91: Projektant: | J91: =E21
C92: Zhotovitel: | F92: =IF(E18="","",E18) | I92: Zpracovatel: | J92: =E24
C94: Kód dílu - Popis | I94: Materiál [CZK] | J94: Montáž [CZK] | K94: Cena celkem [CZK]
C96: Náklady ze soupisu prací | I96: =Q124 -> #REF! | J96: =R124 -> #REF! | K96: =K124 -> 0 | AU96: -1
D97: HSV - Práce a dodávky HSV | I97: =#REF! -> #REF! | J97: =#REF! -> #REF! | K97: =#REF! -> #REF!
D98: 3 - Svislé a kompletní konstrukce | I98: =#REF! -> #REF! | J98: =#REF! -> #REF! | K98: =#REF! -> #REF!
D99: 8 - Trubní vedení | I99: =#REF! -> #REF! | J99: =#REF! -> #REF! | K99: =#REF! -> #REF!
D100: 998 - Přesun hmot | I100: =#REF! -> #REF! | J100: =#REF! -> #REF! | K100: =#REF! -> #REF!
D101: PSV - Práce a dodávky PSV | I101: =#REF! -> #REF! | J101: =#REF! -> #REF! | K101: =#REF! -> #REF!
D102: 721 - Zdravotechnika - vnitřní kanalizace | I102: =Q147 -> 0 | J102: =R147 -> 0 | K102: =K147 -> 0
D103: 722 - Zdravotechnika - vnitřní vodovod | I103: =#REF! -> #REF! | J103: =#REF! -> #REF! | K103: =#REF! -> #REF!
D104: 725 - Zdravotechnika - zařizovací předměty | I104: =#REF! -> #REF! | J104: =#REF! -> #REF! | K104: =#REF! -> #REF!
C111: SOUPIS PRACÍ
C113: Stavba: | F113: Oprava dešťové kanalizace v prostoru světlíku nad 2NP
C115: Objekt:
C118: Místo: | F118: Orlí 480/7, Brno - město | I118: Datum: | J118: 45016
C120: Zadavatel: | F120: =E15 | I120: Projektant: | J120: =E21
C121: Zhotovitel: | F121: =IF(E18="","",E18) | I121: Zpracovatel: | J121: =E24
C123: PČ | D123: Typ | E123: Kód | F123: Popis | G123: MJ | H123: Množství | I123: J. materiál [CZK] | J123: J. montáž [CZK] | K123: Cena celkem [CZK] | L123: Cenová soustava | P123: J.cena [CZK] | Q123: Materiál celkem [CZK] | R123: Montáž celkem [CZK] | S123: J. Nh [h] | T123: Nh celkem [h] | U123: J. hmotnost [t] | V123: Hmotnost celkem [t] | W123: J. suť [t] | X123: Suť Celkem [t]
C124: Náklady soupisu celkem | K124: =K146+K125+K153 -> 0 | Q124: =#REF!+#REF! -> #REF! | R124: =#REF!+#REF! -> #REF! | T124: =#REF!+#REF! -> #REF! | V124: =#REF!+#REF! -> #REF! | X124: =#REF!+#REF! -> #REF! | AT124: D | AU124: -1 | BK124: =#REF!+#REF! -> #REF!
D125: D | E125: HSV | F125: Práce a dodávky HSV | K125: =SUM(K126+K140) -> 0 | Q125: =#REF!+Q126+#REF! -> #REF! | R125: =#REF!+R126+#REF! -> #REF! | T125: =#REF!+T126+#REF! -> #REF! | V125: =#REF!+V126+#REF! -> #REF! | X125: =#REF!+X126+#REF! -> #REF! | AR125: 1 | AT125: D | AU125: 0 | AY125: ROZPOCET | BK125: =#REF!+BK126+#REF! -> #REF!
D126: D | E126: 8 | F126: Trubní vedení | K126: =SUM(K127:L139) -> 0 | Q126: =SUM(Q127:Q138) -> 0 | R126: =SUM(R127:R138) -> 0 | T126: =SUM(T127:T138) -> 1.881 | V126: =SUM(V127:V138) -> 0.00111 | X126: =SUM(X127:X138) -> 0 | AR126: 1 | AT126: D | AU126: 1 | AY126: ROZPOCET | BK126: =SUM(BK127:BK138) -> 0
C127: 1 | D127: K | E127: 721174005.1 | F127: Potrubí kanalizační svodné HT-Systém DN 110 - montáž systému | G127: m | H127: 11 | K127: =ROUND(P127*H127,2) -> 0 | P127: =I127+J127 -> 0 | Q127: =ROUND(I127*H127,2) -> 0 | R127: =ROUND(J127*H127,2) -> 0 | S127: 0.171 | T127: =S127*H127 -> 1.881 | U127: 0 | V127: =U127*H127 -> 0 | W127: 0 | X127: =W127*H127 -> 0 | AR127: 4 | AT127: K | AU127: 2 | AY127: ROZPOCET | BE127: =IF(O127="základní",K127,0) -> 0 | BF127: =IF(O127="snížená",K127,0) -> 0 | BG127: =IF(O127="zákl. přenesená",K127,0) -> 0 | BH127: =IF(O127="sníž. přenesená",K127,0) -> 0 | BI127: =IF(O127="nulová",K127,0) -> 0 | BJ127: 2 | BK127: =ROUND(P127*H127,2) -> 0 | BL127: 4 | BM127: 1017289642
C128: 2 | D128: M | E128: OSM.115120 | F128: Tvarovky kanalizační plastové HTB koleno 110/45° | G128: kus | H128: 2 | K128: =ROUND(P128*H128,2) -> 0 | P128: =I128+J128 -> 0 | Q128: =ROUND(I128*H128,2) -> 0 | R128: =ROUND(J128*H128,2) -> 0 | S128: 0 | T128: =S128*H128 -> 0 | U128: 0.00027 | V128: =U128*H128 -> 0.00054 | W128: 0 | X128: =W128*H128 -> 0 | AR128: 8 | AT128: M | AU128: 2 | AY128: ROZPOCET | BE128: =IF(O128="základní",K128,0) -> 0 | BF128: =IF(O128="snížená",K128,0) -> 0 | BG128: =IF(O128="zákl. přenesená",K128,0) -> 0 | BH128: =IF(O128="sníž. přenesená",K128,0) -> 0 | BI128: =IF(O128="nulová",K128,0) -> 0 | BJ128: 2 | BK128: =ROUND(P128*H128,2) -> 0 | BL128: 4 | BM128: 1947327254
C129: 3 | D129: M | E129: OSM.115140 | F129: Tvarovky kanalizační plastové HTB koleno 110/87° | G129: kus | H129: 1 | K129: =ROUND(P129*H129,2) -> 0 | P129: =I129+J129 -> 0 | Q129: =ROUND(I129*H129,2) -> 0 | R129: =ROUND(J129*H129,2) -> 0 | S129: 0 | T129: =S129*H129 -> 0 | U129: 0.00027 | V129: =U129*H129 -> 0.00027 | W129: 0 | X129: =W129*H129 -> 0 | AR129: 8 | AT129: M | AU129: 2 | AY129: ROZPOCET | BE129: =IF(O129="základní",K129,0) -> 0 | BF129: =IF(O129="snížená",K129,0) -> 0 | BG129: =IF(O129="zákl. přenesená",K129,0) -> 0 | BH129: =IF(O129="sníž. přenesená",K129,0) -> 0 | BI129: =IF(O129="nulová",K129,0) -> 0 | BJ129: 2 | BK129: =ROUND(P129*H129,2) -> 0 | BL129: 4 | BM129: 1261969241
C130: 4 | D130: M | E130: OSM.115040 | F130: Trubka kanalizační HTEM s hrdlem DN 110/1000mm | G130: m | H130: 11 | K130: =ROUND(P130*H130,2) -> 0 | P130: =I130+J130 -> 0
C131: 5 | D131: M | E131: 8-R1 | F131: Objímka BIFIX 5000 G2 pro HT DN 110 | G131: kus | H131: 11 | K131: =ROUND(P131*H131,2) -> 0 | P131: =I131+J131 -> 0
C132: 6 | D132: M | E132: PPL.HTRE110 | F132: Tvarovka PIPELIFE HT PP kus čisticí 110 pro vnitřní běžné odpadní systém | G132: kus | H132: 1 | K132: =ROUND(P132*H132,2) -> 0 | P132: =I132+J132 -> 0 | Q132: =ROUND(I132*H132,2) -> 0 | R132: =ROUND(J132*H132,2) -> 0 | S132: 0 | T132: =S132*H132 -> 0 | U132: 0.0003 | V132: =U132*H132 -> 0.0003 | W132: 0 | X132: =W132*H132 -> 0 | AR132: 8 | AT132: M | AU132: 2 | AY132: ROZPOCET | BE132: =IF(O132="základní",K132,0) -> 0 | BF132: =IF(O132="snížená",K132,0) -> 0 | BG132: =IF(O132="zákl. přenesená",K132,0) -> 0 | BH132: =IF(O132="sníž. přenesená",K132,0) -> 0 | BI132: =IF(O132="nulová",K132,0) -> 0 | BJ132: 2 | BK132: =ROUND(P132*H132,2) -> 0 | BL132: 4 | BM132: 630104970
C133: 7 | D133: K | E133: 8 - R2 | F133: Montáž střešního vtoku vč. Topného kabelu vč. Začištění | G133: kpl | H133: 1 | K133: =ROUND(P133*H133,2) -> 0 | P133: =I133+J133 -> 0
C134: 8 | D134: M | E134: 8 - R3 | F134: Střešní vtok zateplený jednodílný LORO-X 16390.100-X | G134: kpl | H134: 1 | K134: =ROUND(P134*H134,2) -> 0 | P134: =I134+J134 -> 0
C135: 9 | D135: M | E135: 8 - R4 | F135: Samoregulační topný kabel pro Vpusť 19853.000X | G135: kpl | H135: 1 | K135: =ROUND(P135*H135,2) -> 0 | P135: =I135+J135 -> 0
C136: 10 | D136: K | E136: 8 -R5 | F136: Napojení stávajícího svodu nad střechou do střešního vtoku odskočeným svodným potrubím Pz | G136: kpl | H136: 1 | K136: =ROUND(P136*H136,2) -> 0 | P136: =I136+J136 -> 0
C137: 11 | D137: K | E137: 763172322 | F137: Montáž dvířek revizních jednoplášťových 150/300mm vč. Dodávky | G137: ks | H137: 1 | K137: =ROUND(P137*H137,2) -> 0 | P137: =I137+J137 -> 0
C138: 12 | D138: K | E138: 763172322.1 | F138: Montáž revizních dvířek kovových 300/300mm vč. Dodávky | G138: ks | H138: 1 | K138: =ROUND(P138*H138,2) -> 0 | P138: =I138+J138 -> 0
C139: 13 | D139: K | E139: 8-R6 | F139: Napojení svodného potrubí v 1NP do stávající kanalizační stoky | G139: kpl | H139: 1 | K139: =ROUND(P139*H139,2) -> 0 | P139: =I139+J139 -> 0
D140: D | E140: 9 | F140: Ostatní práce a konstrukce | K140: =SUM(K141:K145) -> 0 | P140: =I140+J140 -> 0
C141: 14 | D141: K | E141: 977151124 | F141: Jádrové vrtání diamantovými korunkami do stavebních materiálů prům. přes 150 do 180mm - strop mezi 1 a 2NP | G141: m | H141: 0.32 | K141: =ROUND(P141*H141,2) -> 0 | P141: =I141+J141 -> 0
C142: 15 | D142: K | E142: 977151122 | F142: Jádrové vrtání diamantovými korunkami do stavebních materiálů prům. přes 120 do 130mm - konstrukce střechy | G142: m | H142: 0.38 | K142: =ROUND(P142*H142,2) -> 0 | P142: =I142+J142 -> 0
C143: 16 | D143: K | E143: 977151122 | F143: Jádrové vrtání diamantovými korunkami do stavebních materiálů prům. přes 120 do 130mm - příčka 2NP | G143: m | H143: 0.15 | K143: =ROUND(P143*H143,2) -> 0 | P143: =I143+J143 -> 0
C144: 17 | D144: K | E144: 346971152.1 | F144: Izolace svislá minerální tl.30mm - utěsnění průchodu stropem mezi Trubním vedením a stropní konstrukcí | G144: kpl | H144: 1 | K144: =ROUND(P144*H144,2) -> 0 | P144: =I144+J144 -> 0
C145: 18 | D145: K | E145: 8 - R7 | F145: Lešení pomocné | G145: kpl | H145: 1 | K145: =ROUND(P145*H145,2) -> 0 | P145: =I145+J145 -> 0
D146: D | E146: PSV | F146: Práce a dodávky PSV | K146: =K147+K150 -> 0 | V146: =V147+V157+V274 -> 0.01177906 | X146: =X147+X157+X274 -> 0 | AR146: 2 | AT146: D | AU146: 0 | AY146: ROZPOCET | BK146: =BK147+BK157+BK274 -> 0
D147: D | E147: 763 | F147: Sádrokartonové konstrukce | K147: =SUM(K148:K149) -> 0 | V147: =SUM(V148:V153) -> 0.01177906 | X147: =SUM(X148:X153) -> 0 | AR147: 2 | AT147: D | AU147: 1 | AY147: ROZPOCET | BK147: =SUM(BK148:BK153) -> 0
C148: 19 | D148: K | E148: 763131411 | F148: Opláštění svodu v podhledu z desek sádrokartonových na ocelovém rastru , jednoduše opláštěný deskou standartní A tl. 12,5mm bez Ti - 2NP | G148: m2 | H148: 3.086 | K148: =ROUND(P148*H148,2) -> 0 | P148: =I148+J148 -> 0 | Q148: =ROUND(I148*H148,2) -> 0 | R148: =ROUND(J148*H148,2) -> 0 | S148: 0.769 | T148: =S148*H148 -> 2.373134 | U148: 0.00206 | V148: =U148*H148 -> 0.00635716 | W148: 0 | X148: =W148*H148 -> 0 | AR148: 16 | AT148: K | AU148: 2 | AY148: ROZPOCET | BE148: =IF(O148="základní",K148,0) -> 0 | BF148: =IF(O148="snížená",K148,0) -> 0 | BG148: =IF(O148="zákl. přenesená",K148,0) -> 0 | BH148: =IF(O148="sníž. přenesená",K148,0) -> 0 | BI148: =IF(O148="nulová",K148,0) -> 0 | BJ148: 2 | BK148: =ROUND(P148*H148,2) -> 0 | BL148: 16 | BM148: -207785339
C149: 20 | D149: K | E149: 763131411.1 | F149: Opláštění svodu v svisle z desek sádrokartonových na ocelovém rastru , jednoduše opláštěný deskou standartní A tl. 12,5mm bez Ti - 1 a 2NP | G149: m2 | H149: 3.498 | K149: =ROUND(P149*H149,2) -> 0 | P149: =I149+J149 -> 0 | Q149: =ROUND(I149*H149,2) -> 0 | R149: =ROUND(J149*H149,2) -> 0 | S149: 0.821 | T149: =S149*H149 -> 2.871858 | U149: 0.00155 | V149: =U149*H149 -> 0.0054219 | W149: 0 | X149: =W149*H149 -> 0 | AR149: 16 | AT149: K | AU149: 2 | AY149: ROZPOCET | BE149: =IF(O149="základní",K149,0) -> 0 | BF149: =IF(O149="snížená",K149,0) -> 0 | BG149: =IF(O149="zákl. přenesená",K149,0) -> 0 | BH149: =IF(O149="sníž. přenesená",K149,0) -> 0 | BI149: =IF(O149="nulová",K149,0) -> 0 | BJ149: 2 | BK149: =ROUND(P149*H149,2) -> 0 | BL149: 16 | BM149: -1697731078
D150: D | E150: 784 | F150: Dokončovací práce - malby a tapety | K150: =SUM(K151:K152) -> 0
C151: 21 | D151: K | E151: 784181101 | F151: Základní akrylátová jednonásobná bezbarvá penetrace podkladu v místnostech v do 3,80 m | G151: m2 | H151: 6.584 | K151: =ROUND(P151*H151,2) -> 0 | P151: =I151+J151 -> 0
C152: 22 | D152: K | E152: 784221101 | F152: Dvojnásobné bílé malby ze směsí za sucha dobře otěruvzdorných v místnostech do 3,80 m | G152: m2 | H152: 6.584 | K152: =ROUND(P152*H152,2) -> 0 | P152: =I152+J152 -> 0
D153: D | E153: VRN | F153: Vedlejší rozpočtové náklady | K153: =SUM(K155) -> 0
C155: 23 | D155: K | F155: Přesun hmot | G155: kpl | H155: 1 | K155: =ROUND(P155*H155,2) -> 0 | P155: =I155+J155 -> 0 | Q155: =ROUND(I155*H155,2) -> 0 | R155: =ROUND(J155*H155,2) -> 0 | S155: 1.573 | T155: =S155*H155 -> 1.573 | U155: 0 | V155: =U155*H155 -> 0 | W155: 0 | X155: =W155*H155 -> 0 | AR155: 16 | AT155: K | AU155: 2 | AY155: ROZPOCET | BE155: =IF(O155="základní",K155,0) -> 0 | BF155: =IF(O155="snížená",K155,0) -> 0 | BG155: =IF(O155="zákl. přenesená",K155,0) -> 0 | BH155: =IF(O155="sníž. přenesená",K155,0) -> 0 | BI155: =IF(O155="nulová",K155,0) -> 0 | BJ155: 2 | BK155: =ROUND(P155*H155,2) -> 0 | BL155: 16 | BM155: -317520008
