Workbook

Sheet Rekapitulace stavby
A1: Export Komplet | BA1: 2.0 | BT1: False | BU1: False | BV1: {f8a2d003-5c45-4216-b681-3d039ef25820}
BS2: 0,01 | BT2: 21
BS3: 0,01 | BT3: 15
D4: REKAPITULACE STAVBY | BS4: 0,001
D5: Kód: | BS5: 0,01
D6: Stavba: | K6: Oprava dešťové kanalizace v prostoru světlíku nad 2NP | BS6: 0,01
D7: KSO: | AK7: CC-CZ: | BS7: 0,01
D8: Místo: | K8: Orlí 480/7, Brno - město | AK8: Datum: | AN8: 45016 | BS8: 0,01
BS9: 0,01
D10: Zadavatel: | K10: Magistrát města Brna , odbor správy majetku , Husova 3 , Brno | AK10: IČ: | AN10: 44992758 | BS10: 0,01
AK11: DIČ: | AN11: CZ44992758 | BS11: 0,01
BS12: 0,01
D13: Uchazeč: | AK13: IČ: | BS13: 0,01
AK14: DIČ: | BS14: 0,01
BS15: False
D16: Projektant: | K16: SD Ateliér s.r.o., Ing. Miroslav Poláček, Orlí 7, 602 00 Brno | AK16: IČ: | AN16: 27714870 | BS16: False
AK17: DIČ: | AN17: CZ27714870 | BS17: True
BS18: 1
D19: Zpracovatel: | K19: ïng.Blanka Studničková , Chotěnovská 1154, 190 16, Praha 9 | AK19: IČ: | AN19: 65446364 | BS19: 1
K20: Markéta Podroužková, nám.T.G.Masaryka 89, 251 67, Pyšely | AK20: DIČ: | AN20: 6797512 | BS20: True
D22: Poznámka:
D26: Cena bez DPH | AK26: =AN88 -> 0
L28: Sazba daně | W28: Základ daně | AK28: Výše daně
D29: DPH | F29: základní | L29: 0.21 | W29: =AK26 -> 0 | AK29: =W29/100*21 -> 0
F30: snížená | L30: 0.15 | W30: 0 | AK30: 0
F31: zákl. přenesená | L31: 0.21 | W31: =ROUND(BB79,0) -> 0 | AK31: 0
F32: sníž. přenesená | L32: 0.15 | W32: =ROUND(BC79,0) -> 0 | AK32: 0
F33: nulová | L33: 0 | W33: =ROUND(BD79,0) -> 0 | AK33: 0
D35: Cena s DPH | T35: v | X35: CZK | AK35: =SUM(AK26:AK33) -> 0
D44: Projektant | AH44: Zpracovatel
D51: Datum a podpis: | S51: Razítko | AF51: Datum a podpis: | AM51: Razítko
D55: Objednavatel | AH55: Uchazeč
D62: Datum a podpis: | V62: Razítko | AF62: Datum a podpis: | AM62: Razítko
C67: REKAPITULACE OBJEKTŮ STAVBY A SOUPISŮ PRACÍ
C69: Kód:
C70: Stavba: | L70: =K6 -> Oprava dešťové kanalizace v prostoru světlíku nad 2NP
C72: Místo: | L72: =IF(K8="","",K8) -> Orlí 480/7, Brno - město | AI72: Datum: | AM72: =IF(AN8= "","",AN8) -> 45016
C74: Zadavatel: | L74: =K10 -> Magistrát města Brna , odbor správy majetku , Husova 3 , Brno | AI74: Projektant: | AM74: =K16 -> SD Ateliér s.r.o., Ing. Miroslav Poláček, Orlí 7, 602 00 Brno
C75: Uchazeč: | AI75: Zpracovatel: | AM75: =IF(E20="","",E20)
C77: Kód | I77: Popis | AG77: Cena bez DPH [CZK] | AN77: Cena s DPH [CZK]
...

Sheet SVOD
M2: >> skryté sloupce << | AT2: {83685958-8a88-45db-8114-51b049b675b9}
AT3: 1
D4: KRYCÍ LIST SOUPISU PRACÍ | N4: v --- níže se nacházejí doplnkové a pomocné údaje k sestavám --- v | AT4: False
D6: Stavba:
E7: Bášť parc. č. 389/9
D8: Objekt:
E9: 02 - ZTI
D11: KSO: | I11: CC-CZ:
D12: Místo: | I12: Datum: | J12: 4. 1. 2023
D14: Zadavatel: | I14: IČ:
I15: DIČ:
D17: Zhotovitel: | I17: IČ:
I18: DIČ:
D20: Projektant: | I20: IČ:
I21: DIČ:
D23: Zpracovatel: | I23: IČ:
I24: DIČ:
D26: Poznámka:
E30: Materiál | K30: =I96 -> #REF!
E31: Montáž | K31: =J96 -> #REF!
D32: Cena bez DPH | K32: =ROUND(K124, 2) -> 0
F34: Základ daně | I34: Sazba daně | K34: Výše daně
D35: DPH | E35: základní | F35: =ROUND((SUM(BE124:BE155)), 2) -> 0 | I35: 0.21 | K35: =ROUND(((SUM(BE124:BE155))*I35), 2) -> 0
E36: snížená | F36: =ROUND((SUM(BF124:BF155)), 2) -> 0 | I36: 0.15 | K36: =ROUND(((SUM(BF124:BF155))*I36), 2) -> 0
E37: zákl. přenesená | F37: =ROUND((SUM(BG124:BG155)), 2) -> 0 | I37: 0.21 | K37: =0 -> 0
E38: sníž. přenesená | F38: =ROUND((SUM(BH124:BH155)), 2) -> 0 | I38: 0.15 | K38: =0 -> 0
E39: nulová | F39: =ROUND((SUM(BI124:BI155)), 2) -> 0 | I39: 0 | K39: =0 -> 0
D41: Cena s DPH | G41: v | H41: CZK | K41: =SUM(K32:K39) -> 0
D50: Projektant | G50: Zpracovatel
D61: Datum a podpis: | F61: Razítko | G61: Datum a podpis: | J61: Razítko
D65: Objednavatel | G65: Zhotovitel
D76: Datum a podpis: | F76: Razítko | G76: Datum a podpis: | J76: Razítko
C82: REKAPITULACE ČLENĚNÍ SOUPISU PRACÍ
C84: Stavba:
E85: =E7 -> Bášť parc. č. 389/9
C86: Objekt:
E87: =E9 -> 02 - ZTI
C89: Místo: | F89: =F12 | I89: Datum: | J89: =IF(J12="","",J12) -> 4. 1. 2023
C91: Zadavatel: | F91: =E15 | I91: Projektant: | J91: =E21
C92: Zhotovitel: | F92: =IF(E18="","",E18) | I92: Zpracovatel: | J92: =E24
...
