Workbook

Sheet Rekapitulace stavby
A1: Export Komplet | BA1: 2.0 | BT1: False | BU1: False | BV1: {4d259b77-cd33-400b-814d-ae7b688c63fd}
AR2: >> skryté sloupce << | BS2: 0,01 | BT2: 21
BS3: 0,01 | BT3: 15
D4: REKAPITULACE STAVBY | AS4: v --- níže se nacházejí doplnkové a pomocné údaje k sestavám --- v | BE4: Návod na vyplnění | BS4: 0,001
D5: Kód: | K5: Janska18,2oprava | BE5: Měnit lze pouze buňky se žlutým podbarvením! 1) na prvním listu Rekapitulace stavby vyplňte v sestavě a) Souhrnný list - údaje o Uchazeči (přenesou se do ostatních sestav i v jiných listech) b) Rekapitulace objektů - potřebné Ostatní náklady 2) na vybraných listech vyplňte v sestavě a) Krycí list - údaje o Uchazeči, pokud se liší od údajů o Uchazeči na Souhrnném listu (údaje se přenesou do ostatních sestav v daném listu) b) Rekapitulace rozpočtu - potřebné Ostatní náklady c) Celkové náklady za stavbu - ceny u položek - množství, pokud má žluté podbarvení - a v případě potřeby poznámku (ta je ve skrytém sloupci) | BS5: 0,01
D6: Stavba: | K6: Oprava bytu na Jánské 18, byt č.2 | BS6: 0,01
D7: KSO: | AK7: CC-CZ: | BS7: 0,01
D8: Místo: | K8: Jánská 18,Brno | AK8: Datum: | AN8: 5. 8. 2023 | BS8: 0,01
BS9: 0,01
D10: Zadavatel: | AK10: IČ: | BS10: 0,01
E11: MmBrna,OSM,Husova 3 | AK11: DIČ: | BS11: 0,01
BS12: 0,01
D13: Uchazeč: | AK13: IČ: | AN13: Vyplň údaj | BS13: 0,01
E14: Vyplň údaj | AK14: DIČ: | AN14: Vyplň údaj | BS14: 0,01
BS15: False
D16: Projektant: | AK16: IČ: | BS16: False
E17: Radka Volková | AK17: DIČ: | BS17: True
BS18: 0,01
D19: Zpracovatel: | AK19: IČ: | BS19: 0,01
E20: Radka Volková | AK20: DIČ: | BS20: True
D22: Poznámka:
D26: Cena bez DPH | AK26: =ROUND(AG94,2) -> 0
L28: Sazba daně | W28: Základ daně | AK28: Výše daně
D29: DPH | F29: základní | L29: 0.21 | W29: =ROUND(AZ94, 2) -> 0 | AK29: =ROUND(AV94, 2) -> 0
F30: snížená | L30: 0.15 | W30: =ROUND(BA94, 2) -> 0 | AK30: =ROUND(AW94, 2) -> 0
F31: zákl. přenesená | L31: 0.21 | W31: =ROUND(BB94, 2) -> 0 | AK31: 0
F32: sníž. přenesená | L32: 0.15 | W32: =ROUND(BC94, 2) -> 0 | AK32: 0
F33: nulová | L33: 0 | W33: =ROUND(BD94, 2) -> 0 | AK33: 0
D35: Cena s DPH | T35: v | X35: CZK | AK35: =SUM(AK26:AK33) -> 0
D49: Projektant | AH49: Zpracovatel
D60: Datum a podpis: | V60: Razítko | AH60: Datum a podpis: | AM60: Razítko
D64: Objednavatel | AH64: Uchazeč
D75: Datum a podpis: | V75: Razítko | AH75: Datum a podpis: | AM75: Razítko
C82: REKAPITULACE OBJEKTŮ STAVBY A SOUPISŮ PRACÍ
C84: Kód: | L84: =K5 -> Janska18,2oprava
C85: Stavba: | L85: =K6 -> Oprava bytu na Jánské 18, byt č.2
C87: Místo: | L87: =IF(K8="","",K8) -> Jánská 18,Brno | AI87: Datum: | AM87: =IF(AN8= "","",AN8) -> 5. 8. 2023
C89: Zadavatel: | L89: =IF(E11= "","",E11) -> MmBrna,OSM,Husova 3 | AI89: Projektant: | AM89: =IF(E17="","",E17) -> Radka Volková | AS89: Informatívní údaje z listů zakázek
C90: Uchazeč: | L90: =IF(E14= "Vyplň údaj","",E14) | AI90: Zpracovatel: | AM90: =IF(E20="","",E20) -> Radka Volková
C92: Kód | I92: Popis | AG92: Cena bez DPH [CZK] | AN92: Cena s DPH [CZK] | AQ92: Typ | AS92: z toho Ostat. náklady [CZK] | AT92: DPH [CZK] | AU92: Normohodiny [h] | AV92: DPH základní [CZK] | AW92: DPH snížená [CZK] | AX92: DPH základní přenesená [CZK] | AY92: DPH snížená přenesená [CZK] | AZ92: Základna DPH základní | BA92: Základna DPH snížená | BB92: Základna DPH zákl. přenesená | BC92: Základna DPH sníž. přenesená | BD92: Základna DPH nulová
C94: Náklady z rozpočtů | AG94: =ROUND(AG95,2) -> 0 | AN94: =SUM(AG94,AT94) -> 0 | AS94: =ROUND(AS95,2) -> 0 | AT94: =ROUND(SUM(AV94:AW94),2) -> 0 | AU94: =ROUND(AU95,5) -> 0 | AV94: =ROUND(AZ94*L29,2) -> 0 | AW94: =ROUND(BA94*L30,2) -> 0 | AX94: =ROUND(BB94*L29,2) -> 0 | AY94: =ROUND(BC94*L30,2) -> 0 | AZ94: =ROUND(AZ95,2) -> 0 | BA94: =ROUND(BA95,2) -> 0 | BB94: =ROUND(BB95,2) -> 0 | BC94: =ROUND(BC95,2) -> 0 | BD94: =ROUND(BD95,2) -> 0 | BS94: D | BT94: 0 | BV94: IMPORT | BW94: {4d259b77-cd33-400b-814d-ae7b688c63fd} | BX94: {00000000-0000-0000-0000-000000000000}
A95: / | D95: Janska18,2oprava | J95: Oprava bytu na Jánské 18, byt č.2 | AG95: ='Janska18,2oprava - Oprava...'!J28 -> 0 | AN95: =SUM(AG95,AT95) -> 0 | AQ95: STA | AS95: 0 | AT95: =ROUND(SUM(AV95:AW95),2) -> 0 | AU95: ='Janska18,2oprava - Oprava...'!P124 -> 0 | AV95: ='Janska18,2oprava - Oprava...'!J31 -> 0 | AW95: ='Janska18,2oprava - Oprava...'!J32 -> 0 | AX95: ='Janska18,2oprava - Oprava...'!J33 -> 0 | AY95: ='Janska18,2oprava - Oprava...'!J34 -> 0 | AZ95: ='Janska18,2oprava - Oprava...'!F31 -> 0 | BA95: ='Janska18,2oprava - Oprava...'!F32 -> 0 | BB95: ='Janska18,2oprava - Oprava...'!F33 -> 0 | BC95: ='Janska18,2oprava - Oprava...'!F34 -> 0 | BD95: ='Janska18,2oprava - Oprava...'!F35 -> 0 | BT95: 1 | BU95: ###NOINSERT### | BV95: IMPORT | BW95: {4d259b77-cd33-400b-814d-ae7b688c63fd} | BX95: {00000000-0000-0000-0000-000000000000}

Sheet Janska18,2oprava - Oprava...
L2: >> skryté sloupce << | AT2: {4d259b77-cd33-400b-814d-ae7b688c63fd}
AT3: 1
D4: KRYCÍ LIST SOUPISU PRACÍ | M4: v --- níže se nacházejí doplnkové a pomocné údaje k sestavám --- v | AT4: False
D6: Stavba:
E7: Oprava bytu na Jánské 18, byt č.2
D9: KSO: | I9: CC-CZ:
D10: Místo: | F10: Jánská 18,Brno | I10: Datum: | J10: ='Rekapitulace stavby'!AN8 -> 5. 8. 2023
D12: Zadavatel: | I12: IČ:
E13: MmBrna,OSM,Husova 3 | I13: DIČ:
D15: Uchazeč: | I15: IČ: | J15: ='Rekapitulace stavby'!AN13 -> Vyplň údaj
E16: ='Rekapitulace stavby'!E14 -> Vyplň údaj | I16: DIČ: | J16: ='Rekapitulace stavby'!AN14 -> Vyplň údaj
D18: Projektant: | I18: IČ:
E19: Radka Volková | I19: DIČ:
D21: Zpracovatel: | I21: IČ:
E22: Radka Volková | I22: DIČ:
D24: Poznámka:
D28: Cena bez DPH | J28: =ROUND(J124, 2) -> 0
F30: Základ daně | I30: Sazba daně | J30: Výše daně
D31: DPH | E31: základní | F31: =ROUND((SUM(BE124:BE200)), 2) -> 0 | I31: 0.21 | J31: =ROUND(((SUM(BE124:BE200))*I31), 2) -> 0
E32: snížená | F32: =ROUND((SUM(BF124:BF200)), 2) -> 0 | I32: 0.15 | J32: =ROUND(((SUM(BF124:BF200))*I32), 2) -> 0
E33: zákl. přenesená | F33: =ROUND((SUM(BG124:BG200)), 2) -> 0 | I33: 0.21 | J33: =0 -> 0
E34: sníž. přenesená | F34: =ROUND((SUM(BH124:BH200)), 2) -> 0 | I34: 0.15 | J34: =0 -> 0
E35: nulová | F35: =ROUND((SUM(BI124:BI200)), 2) -> 0 | I35: 0 | J35: =0 -> 0
D37: Cena s DPH | G37: v | H37: CZK | J37: =SUM(J28:J35) -> 0
D50: Projektant | G50: Zpracovatel
D61: Datum a podpis: | F61: Razítko | G61: Datum a podpis: | J61: Razítko
D65: Objednavatel | G65: Uchazeč
D76: Datum a podpis: | F76: Razítko | G76: Datum a podpis: | J76: Razítko
C82: REKAPITULACE ČLENĚNÍ SOUPISU PRACÍ
C84: Stavba:
E85: =E7 -> Oprava bytu na Jánské 18, byt č.2
C87: Místo: | F87: =F10 -> Jánská 18,Brno | I87: Datum: | J87: =IF(J10="","",J10) -> 5. 8. 2023
C89: Zadavatel: | F89: =E13 -> MmBrna,OSM,Husova 3 | I89: Projektant: | J89: =E19 -> Radka Volková
C90: Uchazeč: | F90: =IF(E16="","",E16) -> Vyplň údaj | I90: Zpracovatel: | J90: =E22 -> Radka Volková
C92: Kód dílu - Popis | J92: Cena celkem [CZK]
C94: Náklady ze soupisu prací | J94: =J124 -> 0 | AU94: -1
D95: HSV - Práce a dodávky HSV | J95: =J125 -> 0
D96: 6 - Úpravy povrchů, podlahy a osazování výplní | J96: =J126 -> 0
D97: 9 - Ostatní konstrukce a práce, bourání | J97: =J134 -> 0
D98: 997 - Přesun sutě | J98: =J142 -> 0
D99: 998 - Přesun hmot | J99: =J148 -> 0
D100: PSV - Práce a dodávky PSV | J100: =J150 -> 0
D101: 766 - Konstrukce truhlářské | J101: =J151 -> 0
D102: 776 - Podlahy povlakové | J102: =J155 -> 0
D103: 784 - Dokončovací práce - malby a tapety | J103: =J180 -> 0
D104: VRN - Vedlejší rozpočtové náklady | J104: =J196 -> 0
D105: VRN3 - Zařízení staveniště | J105: =J197 -> 0
D106: VRN6 - Územní vlivy | J106: =J199 -> 0
C113: SOUPIS PRACÍ
C115: Stavba:
E116: =E7 -> Oprava bytu na Jánské 18, byt č.2
C118: Místo: | F118: =F10 -> Jánská 18,Brno | I118: Datum: | J118: =IF(J10="","",J10) -> 5. 8. 2023
C120: Zadavatel: | F120: =E13 -> MmBrna,OSM,Husova 3 | I120: Projektant: | J120: =E19 -> Radka Volková
C121: Uchazeč: | F121: =IF(E16="","",E16) -> Vyplň údaj | I121: Zpracovatel: | J121: =E22 -> Radka Volková
C123: PČ | D123: Typ | E123: Kód | F123: Popis | G123: MJ | H123: Množství | I123: J.cena [CZK] | J123: Cena celkem [CZK] | K123: Cenová soustava | N123: DPH | O123: J. Nh [h] | P123: Nh celkem [h] | Q123: J. hmotnost [t] | R123: Hmotnost celkem [t] | S123: J. suť [t] | T123: Suť Celkem [t]
C124: Náklady soupisu celkem | J124: =BK124 -> 0 | P124: =P125+P150+P196 -> 0 | R124: =R125+R150+R196 -> 1.175785 | T124: =T125+T150+T196 -> 0.37571513 | AT124: D | AU124: -1 | BK124: =BK125+BK150+BK196 -> 0
D125: D | E125: HSV | F125: Práce a dodávky HSV | J125: =BK125 -> 0 | P125: =P126+P134+P142+P148 -> 0 | R125: =R126+R134+R142+R148 -> 0.3289485 | T125: =T126+T134+T142+T148 -> 0.198085 | AR125: 1 | AT125: D | AU125: 0 | AY125: ROZPOCET | BK125: =BK126+BK134+BK142+BK148 -> 0
D126: D | E126: 6 | F126: Úpravy povrchů, podlahy a osazování výplní | J126: =BK126 -> 0 | P126: =SUM(P127:P133) -> 0 | R126: =SUM(R127:R133) -> 0.3245685 | T126: =SUM(T127:T133) -> 0 | AR126: 1 | AT126: D | AU126: 1 | AY126: ROZPOCET | BK126: =SUM(BK127:BK133) -> 0
C127: 1 | D127: K | E127: 612135101 | F127: Hrubá výplň rýh ve stěnách maltou jakékoli šířky rýhy | G127: m2 | H127: 1.95 | J127: =ROUND(I127*H127,2) -> 0 | K127: CS ÚRS 2023 01 | N127: snížená | P127: =O127*H127 -> 0 | Q127: 0.04 | R127: =Q127*H127 -> 0.078 | S127: 0 | T127: =S127*H127 -> 0 | AR127: 4 | AT127: K | AU127: 2 | AY127: ROZPOCET | BE127: =IF(N127="základní",J127,0) -> 0 | BF127: =IF(N127="snížená",J127,0) -> 0 | BG127: =IF(N127="zákl. přenesená",J127,0) -> 0 | BH127: =IF(N127="sníž. přenesená",J127,0) -> 0 | BI127: =IF(N127="nulová",J127,0) -> 0 | BJ127: 2 | BK127: =ROUND(I127*H127,2) -> 0 | BL127: 4 | BM127: -764883055
D128: VV | F128: (2,1+2,2*2)*0,3 | H128: 1.95 | AT128: VV | AU128: 2 | AV128: 2 | AW128: True | AX128: 1 | AY128: ROZPOCET
C129: 2 | D129: K | E129: 612315122 | F129: Vápenná štuková omítka rýh ve stěnách š přes 150 do 300 mm | G129: m2 | H129: 1.95 | J129: =ROUND(I129*H129,2) -> 0 | K129: CS ÚRS 2023 01 | N129: snížená | P129: =O129*H129 -> 0 | Q129: 0.04063 | R129: =Q129*H129 -> 0.0792285 | S129: 0 | T129: =S129*H129 -> 0 | AR129: 4 | AT129: K | AU129: 2 | AY129: ROZPOCET | BE129: =IF(N129="základní",J129,0) -> 0 | BF129: =IF(N129="snížená",J129,0) -> 0 | BG129: =IF(N129="zákl. přenesená",J129,0) -> 0 | BH129: =IF(N129="sníž. přenesená",J129,0) -> 0 | BI129: =IF(N129="nulová",J129,0) -> 0 | BJ129: 2 | BK129: =ROUND(I129*H129,2) -> 0 | BL129: 4 | BM129: -367108383
C130: 3 | D130: K | E130: 619995001 | F130: Začištění omítek kolem oken, dveří, podlah nebo obkladů | G130: m | H130: 13 | J130: =ROUND(I130*H130,2) -> 0 | K130: CS ÚRS 2023 01 | N130: snížená | P130: =O130*H130 -> 0 | Q130: 0.0015 | R130: =Q130*H130 -> 0.0195 | S130: 0 | T130: =S130*H130 -> 0 | AR130: 4 | AT130: K | AU130: 2 | AY130: ROZPOCET | BE130: =IF(N130="základní",J130,0) -> 0 | BF130: =IF(N130="snížená",J130,0) -> 0 | BG130: =IF(N130="zákl. přenesená",J130,0) -> 0 | BH130: =IF(N130="sníž. přenesená",J130,0) -> 0 | BI130: =IF(N130="nulová",J130,0) -> 0 | BJ130: 2 | BK130: =ROUND(I130*H130,2) -> 0 | BL130: 4 | BM130: -830641241
D131: VV | F131: (2,1+2,2*2)*2 | H131: 13 | AT131: VV | AU131: 2 | AV131: 2 | AW131: True | AX131: 1 | AY131: ROZPOCET
C132: 4 | D132: K | E132: 632450131R | F132: Doplnění podlahy v předsíni | G132: m2 | H132: 3.52 | J132: =ROUND(I132*H132,2) -> 0 | N132: snížená | P132: =O132*H132 -> 0 | Q132: 0.042 | R132: =Q132*H132 -> 0.14784 | S132: 0 | T132: =S132*H132 -> 0 | AR132: 4 | AT132: K | AU132: 2 | AY132: ROZPOCET | BE132: =IF(N132="základní",J132,0) -> 0 | BF132: =IF(N132="snížená",J132,0) -> 0 | BG132: =IF(N132="zákl. přenesená",J132,0) -> 0 | BH132: =IF(N132="sníž. přenesená",J132,0) -> 0 | BI132: =IF(N132="nulová",J132,0) -> 0 | BJ132: 2 | BK132: =ROUND(I132*H132,2) -> 0 | BL132: 4 | BM132: 1801999901
D133: VV | F133: 2,2*1,6 | H133: 3.52 | AT133: VV | AU133: 2 | AV133: 2 | AW133: True | AX133: 1 | AY133: ROZPOCET
D134: D | E134: 9 | F134: Ostatní konstrukce a práce, bourání | J134: =BK134 -> 0 | P134: =SUM(P135:P141) -> 0 | R134: =SUM(R135:R141) -> 0.00438 | T134: =SUM(T135:T141) -> 0.198085 | AR134: 1 | AT134: D | AU134: 1 | AY134: ROZPOCET | BK134: =SUM(BK135:BK141) -> 0
C135: 5 | D135: K | E135: 952901111 | F135: Vyčištění budov bytové a občanské výstavby při výšce podlaží do 4 m po vymalování | G135: m2 | H135: 109.5 | J135: =ROUND(I135*H135,2) -> 0 | K135: CS ÚRS 2023 01 | N135: snížená | P135: =O135*H135 -> 0 | Q135: 4e-05 | R135: =Q135*H135 -> 0.00438 | S135: 0 | T135: =S135*H135 -> 0 | AR135: 4 | AT135: K | AU135: 2 | AY135: ROZPOCET | BE135: =IF(N135="základní",J135,0) -> 0 | BF135: =IF(N135="snížená",J135,0) -> 0 | BG135: =IF(N135="zákl. přenesená",J135,0) -> 0 | BH135: =IF(N135="sníž. přenesená",J135,0) -> 0 | BI135: =IF(N135="nulová",J135,0) -> 0 | BJ135: 2 | BK135: =ROUND(I135*H135,2) -> 0 | BL135: 4 | BM135: 134621269
D136: VV | F136: 15,5+4,9+1+10,6+7,7+19,4+23,4+25,1+0,9+1,0 | H136: 109.5 | AT136: VV | AU136: 2 | AV136: 2 | AW136: True | AX136: 1 | AY136: ROZPOCET
C137: 6 | D137: K | E137: 965081213 | F137: Bourání podlah z dlaždic keramických tl do 10 mm plochy přes 1 m2 | G137: m2 | H137: 3.52 | J137: =ROUND(I137*H137,2) -> 0 | K137: CS ÚRS 2023 01 | N137: snížená | P137: =O137*H137 -> 0 | Q137: 0 | R137: =Q137*H137 -> 0 | S137: 0.035 | T137: =S137*H137 -> 0.1232 | AR137: 4 | AT137: K | AU137: 2 | AY137: ROZPOCET | BE137: =IF(N137="základní",J137,0) -> 0 | BF137: =IF(N137="snížená",J137,0) -> 0 | BG137: =IF(N137="zákl. přenesená",J137,0) -> 0 | BH137: =IF(N137="sníž. přenesená",J137,0) -> 0 | BI137: =IF(N137="nulová",J137,0) -> 0 | BJ137: 2 | BK137: =ROUND(I137*H137,2) -> 0 | BL137: 4 | BM137: -1338551169
D138: VV | F138: "1"2,2*1,6 | H138: 3.52 | AT138: VV | AU138: 2 | AV138: 2 | AW138: True | AX138: 0 | AY138: ROZPOCET
D139: VV | F139: Součet | H139: 3.52 | AT139: VV | AU139: 2 | AV139: 4 | AW139: True | AX139: 1 | AY139: ROZPOCET
C140: 7 | D140: K | E140: 968062746 | F140: Vybourání stěn dřevěných zasklených včetně dveří 203 x 217cm | G140: m2 | H140: 4.405 | J140: =ROUND(I140*H140,2) -> 0 | K140: CS ÚRS 2023 01 | N140: snížená | P140: =O140*H140 -> 0 | Q140: 0 | R140: =Q140*H140 -> 0 | S140: 0.017 | T140: =S140*H140 -> 0.074885 | AR140: 4 | AT140: K | AU140: 2 | AY140: ROZPOCET | BE140: =IF(N140="základní",J140,0) -> 0 | BF140: =IF(N140="snížená",J140,0) -> 0 | BG140: =IF(N140="zákl. přenesená",J140,0) -> 0 | BH140: =IF(N140="sníž. přenesená",J140,0) -> 0 | BI140: =IF(N140="nulová",J140,0) -> 0 | BJ140: 2 | BK140: =ROUND(I140*H140,2) -> 0 | BL140: 4 | BM140: 2084922818
D141: VV | F141: 2,03*2,17 | H141: 4.405 | AT141: VV | AU141: 2 | AV141: 2 | AW141: True | AX141: 1 | AY141: ROZPOCET
D142: D | E142: 997 | F142: Přesun sutě | J142: =BK142 -> 0 | P142: =SUM(P143:P147) -> 0 | R142: =SUM(R143:R147) -> 0 | T142: =SUM(T143:T147) -> 0 | AR142: 1 | AT142: D | AU142: 1 | AY142: ROZPOCET | BK142: =SUM(BK143:BK147) -> 0
C143: 8 | D143: K | E143: 997013213 | F143: Vnitrostaveništní doprava suti a vybouraných hmot pro budovy v přes 9 do 12 m ručně | G143: t | H143: 0.376 | J143: =ROUND(I143*H143,2) -> 0 | K143: CS ÚRS 2023 01 | N143: snížená | P143: =O143*H143 -> 0 | Q143: 0 | R143: =Q143*H143 -> 0 | S143: 0 | T143: =S143*H143 -> 0 | AR143: 4 | AT143: K | AU143: 2 | AY143: ROZPOCET | BE143: =IF(N143="základní",J143,0) -> 0 | BF143: =IF(N143="snížená",J143,0) -> 0 | BG143: =IF(N143="zákl. přenesená",J143,0) -> 0 | BH143: =IF(N143="sníž. přenesená",J143,0) -> 0 | BI143: =IF(N143="nulová",J143,0) -> 0 | BJ143: 2 | BK143: =ROUND(I143*H143,2) -> 0 | BL143: 4 | BM143: -1581383028
C144: 9 | D144: K | E144: 997013501 | F144: Odvoz suti a vybouraných hmot na skládku nebo meziskládku do 1 km se složením | G144: t | H144: 0.376 | J144: =ROUND(I144*H144,2) -> 0 | K144: CS ÚRS 2023 01 | N144: snížená | P144: =O144*H144 -> 0 | Q144: 0 | R144: =Q144*H144 -> 0 | S144: 0 | T144: =S144*H144 -> 0 | AR144: 4 | AT144: K | AU144: 2 | AY144: ROZPOCET | BE144: =IF(N144="základní",J144,0) -> 0 | BF144: =IF(N144="snížená",J144,0) -> 0 | BG144: =IF(N144="zákl. přenesená",J144,0) -> 0 | BH144: =IF(N144="sníž. přenesená",J144,0) -> 0 | BI144: =IF(N144="nulová",J144,0) -> 0 | BJ144: 2 | BK144: =ROUND(I144*H144,2) -> 0 | BL144: 4 | BM144: -232524574
C145: 10 | D145: K | E145: 997013509 | F145: Příplatek k odvozu suti a vybouraných hmot na skládku ZKD 1 km přes 1 km | G145: t | H145: 7.144 | J145: =ROUND(I145*H145,2) -> 0 | K145: CS ÚRS 2023 01 | N145: snížená | P145: =O145*H145 -> 0 | Q145: 0 | R145: =Q145*H145 -> 0 | S145: 0 | T145: =S145*H145 -> 0 | AR145: 4 | AT145: K | AU145: 2 | AY145: ROZPOCET | BE145: =IF(N145="základní",J145,0) -> 0 | BF145: =IF(N145="snížená",J145,0) -> 0 | BG145: =IF(N145="zákl. přenesená",J145,0) -> 0 | BH145: =IF(N145="sníž. přenesená",J145,0) -> 0 | BI145: =IF(N145="nulová",J145,0) -> 0 | BJ145: 2 | BK145: =ROUND(I145*H145,2) -> 0 | BL145: 4 | BM145: 279495924
D146: VV | F146: 0,376*19 'Přepočtené koeficientem množství | H146: 7.144 | AT146: VV | AU146: 2 | AV146: 2 | AW146: False | AX146: 1 | AY146: ROZPOCET
C147: 11 | D147: K | E147: 997013601 | F147: Poplatek za uložení na skládce (skládkovné) stavebního odpadu | G147: t | H147: 0.341 | J147: =ROUND(I147*H147,2) -> 0 | K147: CS ÚRS 2023 01 | N147: snížená | P147: =O147*H147 -> 0 | Q147: 0 | R147: =Q147*H147 -> 0 | S147: 0 | T147: =S147*H147 -> 0 | AR147: 4 | AT147: K | AU147: 2 | AY147: ROZPOCET | BE147: =IF(N147="základní",J147,0) -> 0 | BF147: =IF(N147="snížená",J147,0) -> 0 | BG147: =IF(N147="zákl. přenesená",J147,0) -> 0 | BH147: =IF(N147="sníž. přenesená",J147,0) -> 0 | BI147: =IF(N147="nulová",J147,0) -> 0 | BJ147: 2 | BK147: =ROUND(I147*H147,2) -> 0 | BL147: 4 | BM147: 1304562028
D148: D | E148: 998 | F148: Přesun hmot | J148: =BK148 -> 0 | P148: =P149 -> 0 | R148: =R149 -> 0 | T148: =T149 -> 0 | AR148: 1 | AT148: D | AU148: 1 | AY148: ROZPOCET | BK148: =BK149 -> 0
C149: 12 | D149: K | E149: 998018002 | F149: Přesun hmot ruční pro budovy v přes 6 do 12 m | G149: t | H149: 0.329 | J149: =ROUND(I149*H149,2) -> 0 | K149: CS ÚRS 2023 01 | N149: snížená | P149: =O149*H149 -> 0 | Q149: 0 | R149: =Q149*H149 -> 0 | S149: 0 | T149: =S149*H149 -> 0 | AR149: 4 | AT149: K | AU149: 2 | AY149: ROZPOCET | BE149: =IF(N149="základní",J149,0) -> 0 | BF149: =IF(N149="snížená",J149,0) -> 0 | BG149: =IF(N149="zákl. přenesená",J149,0) -> 0 | BH149: =IF(N149="sníž. přenesená",J149,0) -> 0 | BI149: =IF(N149="nulová",J149,0) -> 0 | BJ149: 2 | BK149: =ROUND(I149*H149,2) -> 0 | BL149: 4 | BM149: -1497738504
D150: D | E150: PSV | F150: Práce a dodávky PSV | J150: =BK150 -> 0 | P150: =P151+P155+P180 -> 0 | R150: =R151+R155+R180 -> 0.84683647 | T150: =T151+T155+T180 -> 0.17763013 | AR150: 2 | AT150: D | AU150: 0 | AY150: ROZPOCET | BK150: =BK151+BK155+BK180 -> 0
D151: D | E151: 766 | F151: Konstrukce truhlářské | J151: =BK151 -> 0 | P151: =SUM(P152:P154) -> 0 | R151: =SUM(R152:R154) -> 0 | T151: =SUM(T152:T154) -> 0.0018 | AR151: 2 | AT151: D | AU151: 1 | AY151: ROZPOCET | BK151: =SUM(BK152:BK154) -> 0
C152: 13 | D152: K | E152: 766-pc 7 | F152: D+m dřevěná prosklená stěna 203x217cm s dveřmi 85x217cm včetně zasklení diterm z vnější strany bezpečnostní sklo, kování, klika klika,bezpečnostní zámek v barvě světle šedá -přeměřit na stavbě | G152: kus | H152: 1 | J152: =ROUND(I152*H152,2) -> 0 | N152: snížená | P152: =O152*H152 -> 0 | Q152: 0 | R152: =Q152*H152 -> 0 | S152: 0.0018 | T152: =S152*H152 -> 0.0018 | AR152: 16 | AT152: K | AU152: 2 | AY152: ROZPOCET | BE152: =IF(N152="základní",J152,0) -> 0 | BF152: =IF(N152="snížená",J152,0) -> 0 | BG152: =IF(N152="zákl. přenesená",J152,0) -> 0 | BH152: =IF(N152="sníž. přenesená",J152,0) -> 0 | BI152: =IF(N152="nulová",J152,0) -> 0 | BJ152: 2 | BK152: =ROUND(I152*H152,2) -> 0 | BL152: 16 | BM152: -556620216
D153: VV | F153: 1 | H153: 1 | AT153: VV | AU153: 2 | AV153: 2 | AW153: True | AX153: 1 | AY153: ROZPOCET
C154: 14 | D154: K | E154: 998766202 | F154: Přesun hmot procentní pro kce truhlářské v objektech v přes 6 do 12 m | G154: % | J154: =ROUND(I154*H154,2) -> 0 | K154: CS ÚRS 2023 01 | N154: snížená | P154: =O154*H154 -> 0 | Q154: 0 | R154: =Q154*H154 -> 0 | S154: 0 | T154: =S154*H154 -> 0 | AR154: 16 | AT154: K | AU154: 2 | AY154: ROZPOCET | BE154: =IF(N154="základní",J154,0) -> 0 | BF154: =IF(N154="snížená",J154,0) -> 0 | BG154: =IF(N154="zákl. přenesená",J154,0) -> 0 | BH154: =IF(N154="sníž. přenesená",J154,0) -> 0 | BI154: =IF(N154="nulová",J154,0) -> 0 | BJ154: 2 | BK154: =ROUND(I154*H154,2) -> 0 | BL154: 16 | BM154: 1421120874
D155: D | E155: 776 | F155: Podlahy povlakové | J155: =BK155 -> 0 | P155: =SUM(P156:P179) -> 0 | R155: =SUM(R156:R179) -> 0.1696452 | T155: =SUM(T156:T179) -> 0.03499 | AR155: 2 | AT155: D | AU155: 1 | AY155: ROZPOCET | BK155: =SUM(BK156:BK179) -> 0
C156: 15 | D156: K | E156: 776111116 | F156: Odstranění zbytků lepidla z podkladu povlakových podlah broušením | G156: m2 | H156: 11.98 | J156: =ROUND(I156*H156,2) -> 0 | K156: CS ÚRS 2023 01 | N156: snížená | P156: =O156*H156 -> 0 | Q156: 0 | R156: =Q156*H156 -> 0 | S156: 0 | T156: =S156*H156 -> 0 | AR156: 16 | AT156: K | AU156: 2 | AY156: ROZPOCET | BE156: =IF(N156="základní",J156,0) -> 0 | BF156: =IF(N156="snížená",J156,0) -> 0 | BG156: =IF(N156="zákl. přenesená",J156,0) -> 0 | BH156: =IF(N156="sníž. přenesená",J156,0) -> 0 | BI156: =IF(N156="nulová",J156,0) -> 0 | BJ156: 2 | BK156: =ROUND(I156*H156,2) -> 0 | BL156: 16 | BM156: -2115406339
D157: VV | F157: 15,5"1"-2,2*1,6 | H157: 11.98 | AT157: VV | AU157: 2 | AV157: 2 | AW157: True | AX157: 1 | AY157: ROZPOCET
C158: 16 | D158: K | E158: 776111311 | F158: Vysátí podkladu povlakových podlah | G158: m2 | H158: 15.5 | J158: =ROUND(I158*H158,2) -> 0 | K158: CS ÚRS 2023 01 | N158: snížená | P158: =O158*H158 -> 0 | Q158: 0 | R158: =Q158*H158 -> 0 | S158: 0 | T158: =S158*H158 -> 0 | AR158: 16 | AT158: K | AU158: 2 | AY158: ROZPOCET | BE158: =IF(N158="základní",J158,0) -> 0 | BF158: =IF(N158="snížená",J158,0) -> 0 | BG158: =IF(N158="zákl. přenesená",J158,0) -> 0 | BH158: =IF(N158="sníž. přenesená",J158,0) -> 0 | BI158: =IF(N158="nulová",J158,0) -> 0 | BJ158: 2 | BK158: =ROUND(I158*H158,2) -> 0 | BL158: 16 | BM158: -1394112758
D159: VV | F159: "1"15,5 | H159: 15.5 | AT159: VV | AU159: 2 | AV159: 2 | AW159: True | AX159: 1 | AY159: ROZPOCET
C160: 17 | D160: K | E160: 776121112 | F160: Vodou ředitelná penetrace savého podkladu povlakových podlah | G160: m2 | H160: 15.5 | J160: =ROUND(I160*H160,2) -> 0 | K160: CS ÚRS 2023 01 | N160: snížená | P160: =O160*H160 -> 0 | Q160: 3e-05 | R160: =Q160*H160 -> 0.000465 | S160: 0 | T160: =S160*H160 -> 0 | AR160: 16 | AT160: K | AU160: 2 | AY160: ROZPOCET | BE160: =IF(N160="základní",J160,0) -> 0 | BF160: =IF(N160="snížená",J160,0) -> 0 | BG160: =IF(N160="zákl. přenesená",J160,0) -> 0 | BH160: =IF(N160="sníž. přenesená",J160,0) -> 0 | BI160: =IF(N160="nulová",J160,0) -> 0 | BJ160: 2 | BK160: =ROUND(I160*H160,2) -> 0 | BL160: 16 | BM160: 2011710173
C161: 18 | D161: K | E161: 776131111 | F161: Vyztužení podkladu povlakových podlah armovacím pletivem ze skelných vláken | G161: m2 | H161: 15.5 | J161: =ROUND(I161*H161,2) -> 0 | K161: CS ÚRS 2023 01 | N161: snížená | P161: =O161*H161 -> 0 | Q161: 0.00012 | R161: =Q161*H161 -> 0.00186 | S161: 0 | T161: =S161*H161 -> 0 | AR161: 16 | AT161: K | AU161: 2 | AY161: ROZPOCET | BE161: =IF(N161="základní",J161,0) -> 0 | BF161: =IF(N161="snížená",J161,0) -> 0 | BG161: =IF(N161="zákl. přenesená",J161,0) -> 0 | BH161: =IF(N161="sníž. přenesená",J161,0) -> 0 | BI161: =IF(N161="nulová",J161,0) -> 0 | BJ161: 2 | BK161: =ROUND(I161*H161,2) -> 0 | BL161: 16 | BM161: -1979421257
D162: VV | F162: "1"15,5 | H162: 15.5 | AT162: VV | AU162: 2 | AV162: 2 | AW162: True | AX162: 1 | AY162: ROZPOCET
C163: 19 | D163: K | E163: 776141112 | F163: Stěrka podlahová nivelační pro vyrovnání podkladu povlakových podlah pevnosti 20 MPa tl přes 3 do 5 mm | G163: m2 | H163: 15.5 | J163: =ROUND(I163*H163,2) -> 0 | K163: CS ÚRS 2023 01 | N163: snížená | P163: =O163*H163 -> 0 | Q163: 0.00758 | R163: =Q163*H163 -> 0.11749 | S163: 0 | T163: =S163*H163 -> 0 | AR163: 16 | AT163: K | AU163: 2 | AY163: ROZPOCET | BE163: =IF(N163="základní",J163,0) -> 0 | BF163: =IF(N163="snížená",J163,0) -> 0 | BG163: =IF(N163="zákl. přenesená",J163,0) -> 0 | BH163: =IF(N163="sníž. přenesená",J163,0) -> 0 | BI163: =IF(N163="nulová",J163,0) -> 0 | BJ163: 2 | BK163: =ROUND(I163*H163,2) -> 0 | BL163: 16 | BM163: -1227878375
C164: 20 | D164: K | E164: 776201811 | F164: Demontáž lepených povlakových podlah včetně lišt | G164: m2 | H164: 11.98 | J164: =ROUND(I164*H164,2) -> 0 | K164: CS ÚRS 2023 01 | N164: snížená | P164: =O164*H164 -> 0 | Q164: 0 | R164: =Q164*H164 -> 0 | S164: 0.0025 | T164: =S164*H164 -> 0.02995 | AR164: 16 | AT164: K | AU164: 2 | AY164: ROZPOCET | BE164: =IF(N164="základní",J164,0) -> 0 | BF164: =IF(N164="snížená",J164,0) -> 0 | BG164: =IF(N164="zákl. přenesená",J164,0) -> 0 | BH164: =IF(N164="sníž. přenesená",J164,0) -> 0 | BI164: =IF(N164="nulová",J164,0) -> 0 | BJ164: 2 | BK164: =ROUND(I164*H164,2) -> 0 | BL164: 16 | BM164: 1283889278
D165: VV | F165: 15,5-2,2*1,6 | H165: 11.98 | AT165: VV | AU165: 2 | AV165: 2 | AW165: True | AX165: 1 | AY165: ROZPOCET
C166: 21 | D166: K | E166: 776221111 | F166: Lepení pásů z PVC standardním lepidlem | G166: m2 | H166: 15.5 | J166: =ROUND(I166*H166,2) -> 0 | K166: CS ÚRS 2023 01 | N166: snížená | P166: =O166*H166 -> 0 | Q166: 0.0003 | R166: =Q166*H166 -> 0.00465 | S166: 0 | T166: =S166*H166 -> 0 | AR166: 16 | AT166: K | AU166: 2 | AY166: ROZPOCET | BE166: =IF(N166="základní",J166,0) -> 0 | BF166: =IF(N166="snížená",J166,0) -> 0 | BG166: =IF(N166="zákl. přenesená",J166,0) -> 0 | BH166: =IF(N166="sníž. přenesená",J166,0) -> 0 | BI166: =IF(N166="nulová",J166,0) -> 0 | BJ166: 2 | BK166: =ROUND(I166*H166,2) -> 0 | BL166: 16 | BM166: -180085576
D167: VV | F167: 15,5 | H167: 15.5 | AT167: VV | AU167: 2 | AV167: 2 | AW167: True | AX167: 1 | AY167: ROZPOCET
C168: 22 | D168: M | E168: 28412245 | F168: krytina podlahová PVC tl 2mm | G168: m2 | H168: 17.05 | J168: =ROUND(I168*H168,2) -> 0 | K168: CS ÚRS 2023 01 | N168: snížená | P168: =O168*H168 -> 0 | Q168: 0.00264 | R168: =Q168*H168 -> 0.045012 | S168: 0 | T168: =S168*H168 -> 0 | AR168: 32 | AT168: M | AU168: 2 | AY168: ROZPOCET | BE168: =IF(N168="základní",J168,0) -> 0 | BF168: =IF(N168="snížená",J168,0) -> 0 | BG168: =IF(N168="zákl. přenesená",J168,0) -> 0 | BH168: =IF(N168="sníž. přenesená",J168,0) -> 0 | BI168: =IF(N168="nulová",J168,0) -> 0 | BJ168: 2 | BK168: =ROUND(I168*H168,2) -> 0 | BL168: 16 | BM168: 1340218457
...
