Workbook

Sheet Rekapitulace stavby
A1: Export Komplet | BA1: 2.0 | BT1: False | BU1: False | BV1: {ed7480b1-418e-4d18-b3dc-3fe17224c57d}
AR2: >> skryté sloupce << | BS2: 0,01 | BT2: 21
BS3: 0,01 | BT3: 15
D4: REKAPITULACE STAVBY | AS4: v --- níže se nacházejí doplnkové a pomocné údaje k sestavám --- v | BE4: Návod na vyplnění | BS4: 0,001
D5: Kód: | K5: Pelikova | BE5: Měnit lze pouze buňky se žlutým podbarvením! 1) na prvním listu Rekapitulace stavby vyplňte v sestavě a) Souhrnný list - údaje o Uchazeči (přenesou se do ostatních sestav i v jiných listech) b) Rekapitulace objektů - potřebné Ostatní náklady 2) na vybraných listech vyplňte v sestavě a) Krycí list - údaje o Uchazeči, pokud se liší od údajů o Uchazeči na Souhrnném listu (údaje se přenesou do ostatních sestav v daném listu) b) Rekapitulace rozpočtu - potřebné Ostatní náklady c) Celkové náklady za stavbu - ceny u položek - množství, pokud má žluté podbarvení - a v případě potřeby poznámku (ta je ve skrytém sloupci) | BS5: 0,01
D6: Stavba: | K6: Oprava plotu na p.č.1011 | BS6: 0,01
D7: KSO: | AK7: CC-CZ: | BS7: 0,01
D8: Místo: | K8: p.č.1011,v k.ú. Staré Brno | AK8: Datum: | AN8: 16. 8. 2023 | BS8: 0,01
BS9: 0,01
D10: Zadavatel: | AK10: IČ: | BS10: 0,01
E11: MmBrna,OSM Husova 3,Brno | AK11: DIČ: | BS11: 0,01
BS12: 0,01
D13: Uchazeč: | AK13: IČ: | AN13: Vyplň údaj | BS13: 0,01
E14: Vyplň údaj | AK14: DIČ: | AN14: Vyplň údaj | BS14: 0,01
BS15: False
D16: Projektant: | AK16: IČ: | BS16: False
E17: Radka Volková | AK17: DIČ: | BS17: True
BS18: 0,01
D19: Zpracovatel: | AK19: IČ: | BS19: 0,01
E20: Radka Volková | AK20: DIČ: | BS20: True
D22: Poznámka:
D26: Cena bez DPH | AK26: =ROUND(AG94,2) -> 0
L28: Sazba daně | W28: Základ daně | AK28: Výše daně
D29: DPH | F29: základní | L29: 0.21 | W29: =ROUND(AZ94, 2) -> 0 | AK29: =ROUND(AV94, 2) -> 0
F30: snížená | L30: 0.15 | W30: =ROUND(BA94, 2) -> 0 | AK30: =ROUND(AW94, 2) -> 0
F31: zákl. přenesená | L31: 0.21 | W31: =ROUND(BB94, 2) -> 0 | AK31: 0
F32: sníž. přenesená | L32: 0.15 | W32: =ROUND(BC94, 2) -> 0 | AK32: 0
F33: nulová | L33: 0 | W33: =ROUND(BD94, 2) -> 0 | AK33: 0
D35: Cena s DPH | T35: v | X35: CZK | AK35: =SUM(AK26:AK33) -> 0
D49: Projektant | AH49: Zpracovatel
D60: Datum a podpis: | V60: Razítko | AH60: Datum a podpis: | AM60: Razítko
D64: Objednavatel | AH64: Uchazeč
D75: Datum a podpis: | V75: Razítko | AH75: Datum a podpis: | AM75: Razítko
C82: REKAPITULACE OBJEKTŮ STAVBY A SOUPISŮ PRACÍ
C84: Kód: | L84: =K5 -> Pelikova
C85: Stavba: | L85: =K6 -> Oprava plotu na p.č.1011
C87: Místo: | L87: =IF(K8="","",K8) -> p.č.1011,v k.ú. Staré Brno | AI87: Datum: | AM87: =IF(AN8= "","",AN8) -> 16. 8. 2023
C89: Zadavatel: | L89: =IF(E11= "","",E11) -> MmBrna,OSM Husova 3,Brno | AI89: Projektant: | AM89: =IF(E17="","",E17) -> Radka Volková | AS89: Informatívní údaje z listů zakázek
C90: Uchazeč: | L90: =IF(E14= "Vyplň údaj","",E14) | AI90: Zpracovatel: | AM90: =IF(E20="","",E20) -> Radka Volková
C92: Kód | I92: Popis | AG92: Cena bez DPH [CZK] | AN92: Cena s DPH [CZK] | AQ92: Typ | AS92: z toho Ostat. náklady [CZK] | AT92: DPH [CZK] | AU92: Normohodiny [h] | AV92: DPH základní [CZK] | AW92: DPH snížená [CZK] | AX92: DPH základní přenesená [CZK] | AY92: DPH snížená přenesená [CZK] | AZ92: Základna DPH základní | BA92: Základna DPH snížená | BB92: Základna DPH zákl. přenesená | BC92: Základna DPH sníž. přenesená | BD92: Základna DPH nulová
...

Sheet Pelikova - Oprava plotuna...
L2: >> skryté sloupce << | AT2: {ed7480b1-418e-4d18-b3dc-3fe17224c57d}
AT3: 2
D4: KRYCÍ LIST SOUPISU PRACÍ | M4: v --- níže se nacházejí doplnkové a pomocné údaje k sestavám --- v | AT4: False
D6: Stavba:
E7: Oprava plotu na p.č.1011
D9: KSO: | I9: CC-CZ:
D10: Místo: | F10: p.č.1011,v k.ú. Staré Brno | I10: Datum: | J10: ='Rekapitulace stavby'!AN8 -> 16. 8. 2023
D12: Zadavatel: | I12: IČ:
E13: MmBrna,OSM Husova 3,Brno | I13: DIČ:
D15: Uchazeč: | I15: IČ: | J15: ='Rekapitulace stavby'!AN13 -> Vyplň údaj
E16: ='Rekapitulace stavby'!E14 -> Vyplň údaj | I16: DIČ: | J16: ='Rekapitulace stavby'!AN14 -> Vyplň údaj
D18: Projektant: | I18: IČ:
E19: Radka Volková | I19: DIČ:
D21: Zpracovatel: | I21: IČ:
E22: Radka Volková | I22: DIČ:
D24: Poznámka:
D28: Cena bez DPH | J28: =ROUND(J122, 2) -> 0
F30: Základ daně | I30: Sazba daně | J30: Výše daně
D31: DPH | E31: základní | F31: =ROUND((SUM(BE122:BE180)), 2) -> 0 | I31: 0.21 | J31: =ROUND(((SUM(BE122:BE180))*I31), 2) -> 0
E32: snížená | F32: =ROUND((SUM(BF122:BF180)), 2) -> 0 | I32: 0.15 | J32: =ROUND(((SUM(BF122:BF180))*I32), 2) -> 0
E33: zákl. přenesená | F33: =ROUND((SUM(BG122:BG180)), 2) -> 0 | I33: 0.21 | J33: =0 -> 0
E34: sníž. přenesená | F34: =ROUND((SUM(BH122:BH180)), 2) -> 0 | I34: 0.15 | J34: =0 -> 0
E35: nulová | F35: =ROUND((SUM(BI122:BI180)), 2) -> 0 | I35: 0 | J35: =0 -> 0
D37: Cena s DPH | G37: v | H37: CZK | J37: =SUM(J28:J35) -> 0
D50: Projektant | G50: Zpracovatel
D61: Datum a podpis: | F61: Razítko | G61: Datum a podpis: | J61: Razítko
D65: Objednavatel | G65: Uchazeč
D76: Datum a podpis: | F76: Razítko | G76: Datum a podpis: | J76: Razítko
C82: REKAPITULACE ČLENĚNÍ SOUPISU PRACÍ
C84: Stavba:
E85: =E7 -> Oprava plotu na p.č.1011
C87: Místo: | F87: =F10 -> p.č.1011,v k.ú. Staré Brno | I87: Datum: | J87: =IF(J10="","",J10) -> 16. 8. 2023
C89: Zadavatel: | F89: =E13 -> MmBrna,OSM Husova 3,Brno | I89: Projektant: | J89: =E19 -> Radka Volková
C90: Uchazeč: | F90: =IF(E16="","",E16) -> Vyplň údaj | I90: Zpracovatel: | J90: =E22 -> Radka Volková
C92: Kód dílu - Popis | J92: Cena celkem [CZK]
C94: Náklady ze soupisu prací | J94: =J122 -> 0 | AU94: -1
D95: HSV - Práce a dodávky HSV | J95: =J123 -> 0
D96: 1 - Zemní práce | J96: =J124 -> 0
D97: 2 - Zakládání | J97: =J142 -> 0
D98: 3 - Svislé a kompletní konstrukce | J98: =J147 -> 0
...
