Workbook

Sheet Rekapitulace stavby
A1: Export Komplet | BA1: 2.0 | BT1: False | BU1: False | BV1: {ed7480b1-418e-4d18-b3dc-3fe17224c57d}
AR2: >> skryté sloupce << | BS2: 0,01 | BT2: 21
BS3: 0,01 | BT3: 15
D4: REKAPITULACE STAVBY | AS4: v --- níže se nacházejí doplnkové a pomocné údaje k sestavám --- v | BE4: Návod na vyplnění | BS4: 0,001
D5: Kód: | K5: Pelikova | BE5: Měnit lze pouze buňky se žlutým podbarvením! 1) na prvním listu Rekapitulace stavby vyplňte v sestavě a) Souhrnný list - údaje o Uchazeči (přenesou se do ostatních sestav i v jiných listech) b) Rekapitulace objektů - potřebné Ostatní náklady 2) na vybraných listech vyplňte v sestavě a) Krycí list - údaje o Uchazeči, pokud se liší od údajů o Uchazeči na Souhrnném listu (údaje se přenesou do ostatních sestav v daném listu) b) Rekapitulace rozpočtu - potřebné Ostatní náklady c) Celkové náklady za stavbu - ceny u položek - množství, pokud má žluté podbarvení - a v případě potřeby poznámku (ta je ve skrytém sloupci) | BS5: 0,01
D6: Stavba: | K6: Oprava plotu na p.č.1011 | BS6: 0,01
D7: KSO: | AK7: CC-CZ: | BS7: 0,01
D8: Místo: | K8: p.č.1011,v k.ú. Staré Brno | AK8: Datum: | AN8: 16. 8. 2023 | BS8: 0,01
BS9: 0,01
D10: Zadavatel: | AK10: IČ: | BS10: 0,01
E11: MmBrna,OSM Husova 3,Brno | AK11: DIČ: | BS11: 0,01
BS12: 0,01
D13: Uchazeč: | AK13: IČ: | AN13: Vyplň údaj | BS13: 0,01
E14: Vyplň údaj | AK14: DIČ: | AN14: Vyplň údaj | BS14: 0,01
BS15: False
D16: Projektant: | AK16: IČ: | BS16: False
E17: Radka Volková | AK17: DIČ: | BS17: True
BS18: 0,01
D19: Zpracovatel: | AK19: IČ: | BS19: 0,01
E20: Radka Volková | AK20: DIČ: | BS20: True
D22: Poznámka:
D26: Cena bez DPH | AK26: =ROUND(AG94,2) -> 0
L28: Sazba daně | W28: Základ daně | AK28: Výše daně
D29: DPH | F29: základní | L29: 0.21 | W29: =ROUND(AZ94, 2) -> 0 | AK29: =ROUND(AV94, 2) -> 0
F30: snížená | L30: 0.15 | W30: =ROUND(BA94, 2) -> 0 | AK30: =ROUND(AW94, 2) -> 0
F31: zákl. přenesená | L31: 0.21 | W31: =ROUND(BB94, 2) -> 0 | AK31: 0
F32: sníž. přenesená | L32: 0.15 | W32: =ROUND(BC94, 2) -> 0 | AK32: 0
F33: nulová | L33: 0 | W33: =ROUND(BD94, 2) -> 0 | AK33: 0
D35: Cena s DPH | T35: v | X35: CZK | AK35: =SUM(AK26:AK33) -> 0
D49: Projektant | AH49: Zpracovatel
D60: Datum a podpis: | V60: Razítko | AH60: Datum a podpis: | AM60: Razítko
D64: Objednavatel | AH64: Uchazeč
D75: Datum a podpis: | V75: Razítko | AH75: Datum a podpis: | AM75: Razítko
C82: REKAPITULACE OBJEKTŮ STAVBY A SOUPISŮ PRACÍ
C84: Kód: | L84: =K5 -> Pelikova
C85: Stavba: | L85: =K6 -> Oprava plotu na p.č.1011
C87: Místo: | L87: =IF(K8="","",K8) -> p.č.1011,v k.ú. Staré Brno | AI87: Datum: | AM87: =IF(AN8= "","",AN8) -> 16. 8. 2023
C89: Zadavatel: | L89: =IF(E11= "","",E11) -> MmBrna,OSM Husova 3,Brno | AI89: Projektant: | AM89: =IF(E17="","",E17) -> Radka Volková | AS89: Informatívní údaje z listů zakázek
C90: Uchazeč: | L90: =IF(E14= "Vyplň údaj","",E14) | AI90: Zpracovatel: | AM90: =IF(E20="","",E20) -> Radka Volková
C92: Kód | I92: Popis | AG92: Cena bez DPH [CZK] | AN92: Cena s DPH [CZK] | AQ92: Typ | AS92: z toho Ostat. náklady [CZK] | AT92: DPH [CZK] | AU92: Normohodiny [h] | AV92: DPH základní [CZK] | AW92: DPH snížená [CZK] | AX92: DPH základní přenesená [CZK] | AY92: DPH snížená přenesená [CZK] | AZ92: Základna DPH základní | BA92: Základna DPH snížená | BB92: Základna DPH zákl. přenesená | BC92: Základna DPH sníž. přenesená | BD92: Základna DPH nulová
C94: Náklady z rozpočtů | AG94: =ROUND(AG95,2) -> 0 | AN94: =SUM(AG94,AT94) -> 0 | AS94: =ROUND(AS95,2) -> 0 | AT94: =ROUND(SUM(AV94:AW94),2) -> 0 | AU94: =ROUND(AU95,5) -> 0 | AV94: =ROUND(AZ94*L29,2) -> 0 | AW94: =ROUND(BA94*L30,2) -> 0 | AX94: =ROUND(BB94*L29,2) -> 0 | AY94: =ROUND(BC94*L30,2) -> 0 | AZ94: =ROUND(AZ95,2) -> 0 | BA94: =ROUND(BA95,2) -> 0 | BB94: =ROUND(BB95,2) -> 0 | BC94: =ROUND(BC95,2) -> 0 | BD94: =ROUND(BD95,2) -> 0 | BS94: D | BT94: 0 | BV94: IMPORT | BW94: {ed7480b1-418e-4d18-b3dc-3fe17224c57d} | BX94: {00000000-0000-0000-0000-000000000000}
A95: / | D95: Pelikova | J95: Oprava plotuna p.č.1011 | AG95: ='Pelikova - Oprava plotuna...'!J28 -> 0 | AN95: =SUM(AG95,AT95) -> 0 | AQ95: STA | AS95: 0 | AT95: =ROUND(SUM(AV95:AW95),2) -> 0 | AU95: ='Pelikova - Oprava plotuna...'!P122 -> 0 | AV95: ='Pelikova - Oprava plotuna...'!J31 -> 0 | AW95: ='Pelikova - Oprava plotuna...'!J32 -> 0 | AX95: ='Pelikova - Oprava plotuna...'!J33 -> 0 | AY95: ='Pelikova - Oprava plotuna...'!J34 -> 0 | AZ95: ='Pelikova - Oprava plotuna...'!F31 -> 0 | BA95: ='Pelikova - Oprava plotuna...'!F32 -> 0 | BB95: ='Pelikova - Oprava plotuna...'!F33 -> 0 | BC95: ='Pelikova - Oprava plotuna...'!F34 -> 0 | BD95: ='Pelikova - Oprava plotuna...'!F35 -> 0 | BT95: 1 | BU95: ###NOINSERT### | BV95: IMPORT | BW95: {ed7480b1-418e-4d18-b3dc-3fe17224c57d} | BX95: {00000000-0000-0000-0000-000000000000}

Sheet Pelikova - Oprava plotuna...
L2: >> skryté sloupce << | AT2: {ed7480b1-418e-4d18-b3dc-3fe17224c57d}
AT3: 2
D4: KRYCÍ LIST SOUPISU PRACÍ | M4: v --- níže se nacházejí doplnkové a pomocné údaje k sestavám --- v | AT4: False
D6: Stavba:
E7: Oprava plotu na p.č.1011
D9: KSO: | I9: CC-CZ:
D10: Místo: | F10: p.č.1011,v k.ú. Staré Brno | I10: Datum: | J10: ='Rekapitulace stavby'!AN8 -> 16. 8. 2023
D12: Zadavatel: | I12: IČ:
E13: MmBrna,OSM Husova 3,Brno | I13: DIČ:
D15: Uchazeč: | I15: IČ: | J15: ='Rekapitulace stavby'!AN13 -> Vyplň údaj
E16: ='Rekapitulace stavby'!E14 -> Vyplň údaj | I16: DIČ: | J16: ='Rekapitulace stavby'!AN14 -> Vyplň údaj
D18: Projektant: | I18: IČ:
E19: Radka Volková | I19: DIČ:
D21: Zpracovatel: | I21: IČ:
E22: Radka Volková | I22: DIČ:
D24: Poznámka:
D28: Cena bez DPH | J28: =ROUND(J122, 2) -> 0
F30: Základ daně | I30: Sazba daně | J30: Výše daně
D31: DPH | E31: základní | F31: =ROUND((SUM(BE122:BE180)), 2) -> 0 | I31: 0.21 | J31: =ROUND(((SUM(BE122:BE180))*I31), 2) -> 0
E32: snížená | F32: =ROUND((SUM(BF122:BF180)), 2) -> 0 | I32: 0.15 | J32: =ROUND(((SUM(BF122:BF180))*I32), 2) -> 0
E33: zákl. přenesená | F33: =ROUND((SUM(BG122:BG180)), 2) -> 0 | I33: 0.21 | J33: =0 -> 0
E34: sníž. přenesená | F34: =ROUND((SUM(BH122:BH180)), 2) -> 0 | I34: 0.15 | J34: =0 -> 0
E35: nulová | F35: =ROUND((SUM(BI122:BI180)), 2) -> 0 | I35: 0 | J35: =0 -> 0
D37: Cena s DPH | G37: v | H37: CZK | J37: =SUM(J28:J35) -> 0
D50: Projektant | G50: Zpracovatel
D61: Datum a podpis: | F61: Razítko | G61: Datum a podpis: | J61: Razítko
D65: Objednavatel | G65: Uchazeč
D76: Datum a podpis: | F76: Razítko | G76: Datum a podpis: | J76: Razítko
C82: REKAPITULACE ČLENĚNÍ SOUPISU PRACÍ
C84: Stavba:
E85: =E7 -> Oprava plotu na p.č.1011
C87: Místo: | F87: =F10 -> p.č.1011,v k.ú. Staré Brno | I87: Datum: | J87: =IF(J10="","",J10) -> 16. 8. 2023
C89: Zadavatel: | F89: =E13 -> MmBrna,OSM Husova 3,Brno | I89: Projektant: | J89: =E19 -> Radka Volková
C90: Uchazeč: | F90: =IF(E16="","",E16) -> Vyplň údaj | I90: Zpracovatel: | J90: =E22 -> Radka Volková
C92: Kód dílu - Popis | J92: Cena celkem [CZK]
C94: Náklady ze soupisu prací | J94: =J122 -> 0 | AU94: -1
D95: HSV - Práce a dodávky HSV | J95: =J123 -> 0
D96: 1 - Zemní práce | J96: =J124 -> 0
D97: 2 - Zakládání | J97: =J142 -> 0
D98: 3 - Svislé a kompletní konstrukce | J98: =J147 -> 0
D99: 997 - Přesun sutě | J99: =J162 -> 0
D100: 998 - Přesun hmot | J100: =J172 -> 0
D101: VRN - Vedlejší rozpočtové náklady | J101: =J174 -> 0
D102: VRN3 - Zařízení staveniště | J102: =J175 -> 0
D103: VRN6 - Územní vlivy | J103: =J177 -> 0
D104: VRN7 - Provozní vlivy | J104: =J179 -> 0
C111: SOUPIS PRACÍ
C113: Stavba:
E114: =E7 -> Oprava plotu na p.č.1011
C116: Místo: | F116: =F10 -> p.č.1011,v k.ú. Staré Brno | I116: Datum: | J116: =IF(J10="","",J10) -> 16. 8. 2023
C118: Zadavatel: | F118: =E13 -> MmBrna,OSM Husova 3,Brno | I118: Projektant: | J118: =E19 -> Radka Volková
C119: Uchazeč: | F119: =IF(E16="","",E16) -> Vyplň údaj | I119: Zpracovatel: | J119: =E22 -> Radka Volková
C121: PČ | D121: Typ | E121: Kód | F121: Popis | G121: MJ | H121: Množství | I121: J.cena [CZK] | J121: Cena celkem [CZK] | K121: Cenová soustava | N121: DPH | O121: J. Nh [h] | P121: Nh celkem [h] | Q121: J. hmotnost [t] | R121: Hmotnost celkem [t] | S121: J. suť [t] | T121: Suť Celkem [t]
C122: Náklady soupisu celkem | J122: =BK122 -> 0 | P122: =P123+P174 -> 0 | R122: =R123+R174 -> 5.4362368 | T122: =T123+T174 -> 13.3 | AT122: D | AU122: -1 | BK122: =BK123+BK174 -> 0
D123: D | E123: HSV | F123: Práce a dodávky HSV | J123: =BK123 -> 0 | P123: =P124+P142+P147+P162+P172 -> 0 | R123: =R124+R142+R147+R162+R172 -> 5.4362368 | T123: =T124+T142+T147+T162+T172 -> 13.3 | AR123: 1 | AT123: D | AU123: 0 | AY123: ROZPOCET | BK123: =BK124+BK142+BK147+BK162+BK172 -> 0
D124: D | E124: 1 | F124: Zemní práce | J124: =BK124 -> 0 | P124: =SUM(P125:P141) -> 0 | R124: =SUM(R125:R141) -> 0 | T124: =SUM(T125:T141) -> 0 | AR124: 1 | AT124: D | AU124: 1 | AY124: ROZPOCET | BK124: =SUM(BK125:BK141) -> 0
C125: 1 | D125: K | E125: Poznámka | F125: Vše se musí nosit přes dům na dvůr chodbou a po 28 schodech. | H125: 0 | J125: =ROUND(I125*H125,2) -> 0 | N125: základní | P125: =O125*H125 -> 0 | Q125: 0 | R125: =Q125*H125 -> 0 | S125: 0 | T125: =S125*H125 -> 0 | AR125: 4 | AT125: K | AU125: 2 | AY125: ROZPOCET | BE125: =IF(N125="základní",J125,0) -> 0 | BF125: =IF(N125="snížená",J125,0) -> 0 | BG125: =IF(N125="zákl. přenesená",J125,0) -> 0 | BH125: =IF(N125="sníž. přenesená",J125,0) -> 0 | BI125: =IF(N125="nulová",J125,0) -> 0 | BJ125: 1 | BK125: =ROUND(I125*H125,2) -> 0 | BL125: 4 | BM125: 549632050
C126: 2 | D126: K | E126: 132212131 | F126: Hloubení nezapažených rýh šířky do 800 mm v soudržných horninách třídy těžitelnosti I skupiny 3 ručně | G126: m3 | H126: 1.365 | J126: =ROUND(I126*H126,2) -> 0 | K126: CS ÚRS 2023 02 | N126: základní | P126: =O126*H126 -> 0 | Q126: 0 | R126: =Q126*H126 -> 0 | S126: 0 | T126: =S126*H126 -> 0 | AR126: 4 | AT126: K | AU126: 2 | AY126: ROZPOCET | BE126: =IF(N126="základní",J126,0) -> 0 | BF126: =IF(N126="snížená",J126,0) -> 0 | BG126: =IF(N126="zákl. přenesená",J126,0) -> 0 | BH126: =IF(N126="sníž. přenesená",J126,0) -> 0 | BI126: =IF(N126="nulová",J126,0) -> 0 | BJ126: 1 | BK126: =ROUND(I126*H126,2) -> 0 | BL126: 4 | BM126: -757177881
D127: VV | F127: 0,3*0,7*6,5 | H127: 1.365 | AT127: VV | AU127: 2 | AV127: 2 | AW127: True | AX127: 1 | AY127: ROZPOCET
C128: 3 | D128: K | E128: 161111502 | F128: Svislé přemístění výkopku z horniny třídy těžitelnosti I skupiny 1 až 3 hl výkopu přes 3 do 6 m nošením | G128: m3 | H128: 1.365 | J128: =ROUND(I128*H128,2) -> 0 | K128: CS ÚRS 2023 02 | N128: základní | P128: =O128*H128 -> 0 | Q128: 0 | R128: =Q128*H128 -> 0 | S128: 0 | T128: =S128*H128 -> 0 | AR128: 4 | AT128: K | AU128: 2 | AY128: ROZPOCET | BE128: =IF(N128="základní",J128,0) -> 0 | BF128: =IF(N128="snížená",J128,0) -> 0 | BG128: =IF(N128="zákl. přenesená",J128,0) -> 0 | BH128: =IF(N128="sníž. přenesená",J128,0) -> 0 | BI128: =IF(N128="nulová",J128,0) -> 0 | BJ128: 1 | BK128: =ROUND(I128*H128,2) -> 0 | BL128: 4 | BM128: 1584743675
C129: 4 | D129: K | E129: 162211201 | F129: Vodorovné přemístění do 10 m nošením výkopku z horniny třídy těžitelnosti I skupiny 1 až 3 | G129: m3 | H129: 1.365 | J129: =ROUND(I129*H129,2) -> 0 | K129: CS ÚRS 2023 02 | N129: základní | P129: =O129*H129 -> 0 | Q129: 0 | R129: =Q129*H129 -> 0 | S129: 0 | T129: =S129*H129 -> 0 | AR129: 4 | AT129: K | AU129: 2 | AY129: ROZPOCET | BE129: =IF(N129="základní",J129,0) -> 0 | BF129: =IF(N129="snížená",J129,0) -> 0 | BG129: =IF(N129="zákl. přenesená",J129,0) -> 0 | BH129: =IF(N129="sníž. přenesená",J129,0) -> 0 | BI129: =IF(N129="nulová",J129,0) -> 0 | BJ129: 1 | BK129: =ROUND(I129*H129,2) -> 0 | BL129: 4 | BM129: -1423029770
C130: 5 | D130: K | E130: 162211209 | F130: Příplatek k vodorovnému přemístění nošením za každých dalších 10 m nošení výkopku z horniny třídy těžitelnosti I skupiny 1 až 3 | G130: m3 | H130: 6.825 | J130: =ROUND(I130*H130,2) -> 0 | K130: CS ÚRS 2023 02 | N130: základní | P130: =O130*H130 -> 0 | Q130: 0 | R130: =Q130*H130 -> 0 | S130: 0 | T130: =S130*H130 -> 0 | AR130: 4 | AT130: K | AU130: 2 | AY130: ROZPOCET | BE130: =IF(N130="základní",J130,0) -> 0 | BF130: =IF(N130="snížená",J130,0) -> 0 | BG130: =IF(N130="zákl. přenesená",J130,0) -> 0 | BH130: =IF(N130="sníž. přenesená",J130,0) -> 0 | BI130: =IF(N130="nulová",J130,0) -> 0 | BJ130: 1 | BK130: =ROUND(I130*H130,2) -> 0 | BL130: 4 | BM130: -1807869661
D131: VV | F131: 1,365 | H131: 1.365 | AT131: VV | AU131: 2 | AV131: 2 | AW131: True | AX131: 1 | AY131: ROZPOCET
D132: VV | F132: 1,365*5 'Přepočtené koeficientem množství | H132: 6.825 | AT132: VV | AU132: 2 | AV132: 2 | AW132: False | AX132: 1 | AY132: ROZPOCET
C133: 6 | D133: K | E133: 162751117 | F133: Vodorovné přemístění přes 9 000 do 10000 m výkopku/sypaniny z horniny třídy těžitelnosti I skupiny 1 až 3 | G133: m3 | H133: 1.365 | J133: =ROUND(I133*H133,2) -> 0 | K133: CS ÚRS 2023 02 | N133: základní | P133: =O133*H133 -> 0 | Q133: 0 | R133: =Q133*H133 -> 0 | S133: 0 | T133: =S133*H133 -> 0 | AR133: 4 | AT133: K | AU133: 2 | AY133: ROZPOCET | BE133: =IF(N133="základní",J133,0) -> 0 | BF133: =IF(N133="snížená",J133,0) -> 0 | BG133: =IF(N133="zákl. přenesená",J133,0) -> 0 | BH133: =IF(N133="sníž. přenesená",J133,0) -> 0 | BI133: =IF(N133="nulová",J133,0) -> 0 | BJ133: 1 | BK133: =ROUND(I133*H133,2) -> 0 | BL133: 4 | BM133: -938684619
C134: 7 | D134: K | E134: 162751119 | F134: Příplatek k vodorovnému přemístění výkopku/sypaniny z horniny třídy těžitelnosti I skupiny 1 až 3 ZKD 1000 m přes 10000 m | G134: m3 | H134: 20.475 | J134: =ROUND(I134*H134,2) -> 0 | K134: CS ÚRS 2023 02 | N134: základní | P134: =O134*H134 -> 0 | Q134: 0 | R134: =Q134*H134 -> 0 | S134: 0 | T134: =S134*H134 -> 0 | AR134: 4 | AT134: K | AU134: 2 | AY134: ROZPOCET | BE134: =IF(N134="základní",J134,0) -> 0 | BF134: =IF(N134="snížená",J134,0) -> 0 | BG134: =IF(N134="zákl. přenesená",J134,0) -> 0 | BH134: =IF(N134="sníž. přenesená",J134,0) -> 0 | BI134: =IF(N134="nulová",J134,0) -> 0 | BJ134: 1 | BK134: =ROUND(I134*H134,2) -> 0 | BL134: 4 | BM134: 351531094
D135: VV | F135: 1,365 | H135: 1.365 | AT135: VV | AU135: 2 | AV135: 2 | AW135: True | AX135: 1 | AY135: ROZPOCET
D136: VV | F136: 1,365*15 'Přepočtené koeficientem množství | H136: 20.475 | AT136: VV | AU136: 2 | AV136: 2 | AW136: False | AX136: 1 | AY136: ROZPOCET
C137: 8 | D137: K | E137: 171201231 | F137: Poplatek za uložení zeminy a kamení na recyklační skládce (skládkovné) kód odpadu 17 05 04 | G137: t | H137: 2.457 | J137: =ROUND(I137*H137,2) -> 0 | K137: CS ÚRS 2023 02 | N137: základní | P137: =O137*H137 -> 0 | Q137: 0 | R137: =Q137*H137 -> 0 | S137: 0 | T137: =S137*H137 -> 0 | AR137: 4 | AT137: K | AU137: 2 | AY137: ROZPOCET | BE137: =IF(N137="základní",J137,0) -> 0 | BF137: =IF(N137="snížená",J137,0) -> 0 | BG137: =IF(N137="zákl. přenesená",J137,0) -> 0 | BH137: =IF(N137="sníž. přenesená",J137,0) -> 0 | BI137: =IF(N137="nulová",J137,0) -> 0 | BJ137: 1 | BK137: =ROUND(I137*H137,2) -> 0 | BL137: 4 | BM137: 2033095817
D138: VV | F138: 1,365*1,8 | H138: 2.457 | AT138: VV | AU138: 2 | AV138: 2 | AW138: True | AX138: 1 | AY138: ROZPOCET
C139: 9 | D139: K | E139: 171251201 | F139: Uložení sypaniny na skládky nebo meziskládky | G139: m3 | H139: 1.365 | J139: =ROUND(I139*H139,2) -> 0 | K139: CS ÚRS 2023 02 | N139: základní | P139: =O139*H139 -> 0 | Q139: 0 | R139: =Q139*H139 -> 0 | S139: 0 | T139: =S139*H139 -> 0 | AR139: 4 | AT139: K | AU139: 2 | AY139: ROZPOCET | BE139: =IF(N139="základní",J139,0) -> 0 | BF139: =IF(N139="snížená",J139,0) -> 0 | BG139: =IF(N139="zákl. přenesená",J139,0) -> 0 | BH139: =IF(N139="sníž. přenesená",J139,0) -> 0 | BI139: =IF(N139="nulová",J139,0) -> 0 | BJ139: 1 | BK139: =ROUND(I139*H139,2) -> 0 | BL139: 4 | BM139: 1502922395
C140: 10 | D140: K | E140: 181912111 | F140: Úprava pláně v hornině třídy těžitelnosti I skupiny 3 bez zhutnění ručně | G140: m2 | H140: 25 | J140: =ROUND(I140*H140,2) -> 0 | K140: CS ÚRS 2023 02 | N140: základní | P140: =O140*H140 -> 0 | Q140: 0 | R140: =Q140*H140 -> 0 | S140: 0 | T140: =S140*H140 -> 0 | AR140: 4 | AT140: K | AU140: 2 | AY140: ROZPOCET | BE140: =IF(N140="základní",J140,0) -> 0 | BF140: =IF(N140="snížená",J140,0) -> 0 | BG140: =IF(N140="zákl. přenesená",J140,0) -> 0 | BH140: =IF(N140="sníž. přenesená",J140,0) -> 0 | BI140: =IF(N140="nulová",J140,0) -> 0 | BJ140: 1 | BK140: =ROUND(I140*H140,2) -> 0 | BL140: 4 | BM140: 1468607431
D141: VV | F141: 10*2,5 | H141: 25 | AT141: VV | AU141: 2 | AV141: 2 | AW141: True | AX141: 1 | AY141: ROZPOCET
D142: D | E142: 2 | F142: Zakládání | J142: =BK142 -> 0 | P142: =SUM(P143:P146) -> 0 | R142: =SUM(R143:R146) -> 3.1133934 | T142: =SUM(T143:T146) -> 0 | AR142: 1 | AT142: D | AU142: 1 | AY142: ROZPOCET | BK142: =SUM(BK143:BK146) -> 0
C143: 11 | D143: K | E143: 271542211 | F143: Podsyp pod základové konstrukce se zhutněním z netříděné štěrkodrtě | G143: m3 | H143: 0.195 | J143: =ROUND(I143*H143,2) -> 0 | K143: CS ÚRS 2023 02 | N143: základní | P143: =O143*H143 -> 0 | Q143: 2.16 | R143: =Q143*H143 -> 0.4212 | S143: 0 | T143: =S143*H143 -> 0 | AR143: 4 | AT143: K | AU143: 2 | AY143: ROZPOCET | BE143: =IF(N143="základní",J143,0) -> 0 | BF143: =IF(N143="snížená",J143,0) -> 0 | BG143: =IF(N143="zákl. přenesená",J143,0) -> 0 | BH143: =IF(N143="sníž. přenesená",J143,0) -> 0 | BI143: =IF(N143="nulová",J143,0) -> 0 | BJ143: 1 | BK143: =ROUND(I143*H143,2) -> 0 | BL143: 4 | BM143: -1704405409
D144: VV | F144: 0,3*6,5*0,1 | H144: 0.195 | AT144: VV | AU144: 2 | AV144: 2 | AW144: True | AX144: 1 | AY144: ROZPOCET
C145: 12 | D145: K | E145: 274313611 | F145: Základové pásy z betonu tř. C 16/20 | G145: m3 | H145: 1.17 | J145: =ROUND(I145*H145,2) -> 0 | K145: CS ÚRS 2023 02 | N145: základní | P145: =O145*H145 -> 0 | Q145: 2.30102 | R145: =Q145*H145 -> 2.6921934 | S145: 0 | T145: =S145*H145 -> 0 | AR145: 4 | AT145: K | AU145: 2 | AY145: ROZPOCET | BE145: =IF(N145="základní",J145,0) -> 0 | BF145: =IF(N145="snížená",J145,0) -> 0 | BG145: =IF(N145="zákl. přenesená",J145,0) -> 0 | BH145: =IF(N145="sníž. přenesená",J145,0) -> 0 | BI145: =IF(N145="nulová",J145,0) -> 0 | BJ145: 1 | BK145: =ROUND(I145*H145,2) -> 0 | BL145: 4 | BM145: 118462769
D146: VV | F146: 0,3*0,6*6,5 | H146: 1.17 | AT146: VV | AU146: 2 | AV146: 2 | AW146: True | AX146: 1 | AY146: ROZPOCET
D147: D | E147: 3 | F147: Svislé a kompletní konstrukce | J147: =BK147 -> 0 | P147: =SUM(P148:P161) -> 0 | R147: =SUM(R148:R161) -> 2.3228434 | T147: =SUM(T148:T161) -> 0 | AR147: 1 | AT147: D | AU147: 1 | AY147: ROZPOCET | BK147: =SUM(BK148:BK161) -> 0
C148: 13 | D148: K | E148: 311113144 | F148: Nosná zeď tl 300 mm z hladkých tvárnic ztraceného bednění včetně výplně z betonu tř. C 20/25 | G148: m2 | H148: 3 | J148: =ROUND(I148*H148,2) -> 0 | K148: CS ÚRS 2023 02 | N148: základní | P148: =O148*H148 -> 0 | Q148: 0.73404 | R148: =Q148*H148 -> 2.20212 | S148: 0 | T148: =S148*H148 -> 0 | AR148: 4 | AT148: K | AU148: 2 | AY148: ROZPOCET | BE148: =IF(N148="základní",J148,0) -> 0 | BF148: =IF(N148="snížená",J148,0) -> 0 | BG148: =IF(N148="zákl. přenesená",J148,0) -> 0 | BH148: =IF(N148="sníž. přenesená",J148,0) -> 0 | BI148: =IF(N148="nulová",J148,0) -> 0 | BJ148: 1 | BK148: =ROUND(I148*H148,2) -> 0 | BL148: 4 | BM148: -1650088925
D149: VV | F149: 6*0,5 | H149: 3 | AT149: VV | AU149: 2 | AV149: 2 | AW149: True | AX149: 1 | AY149: ROZPOCET
C150: 14 | D150: K | E150: 311361821 | F150: Výztuž nosných zdí betonářskou ocelí 10 505 | G150: t | H150: 0.045 | J150: =ROUND(I150*H150,2) -> 0 | K150: CS ÚRS 2023 02 | N150: základní | P150: =O150*H150 -> 0 | Q150: 1.04922 | R150: =Q150*H150 -> 0.0472149 | S150: 0 | T150: =S150*H150 -> 0 | AR150: 4 | AT150: K | AU150: 2 | AY150: ROZPOCET | BE150: =IF(N150="základní",J150,0) -> 0 | BF150: =IF(N150="snížená",J150,0) -> 0 | BG150: =IF(N150="zákl. přenesená",J150,0) -> 0 | BH150: =IF(N150="sníž. přenesená",J150,0) -> 0 | BI150: =IF(N150="nulová",J150,0) -> 0 | BJ150: 1 | BK150: =ROUND(I150*H150,2) -> 0 | BL150: 4 | BM150: -405967811
D151: VV | F151: 3*0,3*45*0,001*1,1 | H151: 0.045 | AT151: VV | AU151: 2 | AV151: 2 | AW151: True | AX151: 1 | AY151: ROZPOCET
C152: 15 | D152: K | E152: 338171121 | F152: Osazování sloupků a vzpěr plotových ocelových v přes 2 do 2,6 m se zalitím MC | G152: kus | H152: 6 | J152: =ROUND(I152*H152,2) -> 0 | K152: CS ÚRS 2023 02 | N152: základní | P152: =O152*H152 -> 0 | Q152: 0.00702 | R152: =Q152*H152 -> 0.04212 | S152: 0 | T152: =S152*H152 -> 0 | AR152: 4 | AT152: K | AU152: 2 | AY152: ROZPOCET | BE152: =IF(N152="základní",J152,0) -> 0 | BF152: =IF(N152="snížená",J152,0) -> 0 | BG152: =IF(N152="zákl. přenesená",J152,0) -> 0 | BH152: =IF(N152="sníž. přenesená",J152,0) -> 0 | BI152: =IF(N152="nulová",J152,0) -> 0 | BJ152: 1 | BK152: =ROUND(I152*H152,2) -> 0 | BL152: 4 | BM152: 1851803381
C153: 16 | D153: M | E153: 55342253 | F153: sloupek plotový průběžný Pz a komaxitový 2100/38x1,5mm | G153: kus | H153: 2 | J153: =ROUND(I153*H153,2) -> 0 | K153: CS ÚRS 2023 02 | N153: základní | P153: =O153*H153 -> 0 | Q153: 0.0029 | R153: =Q153*H153 -> 0.0058 | S153: 0 | T153: =S153*H153 -> 0 | AR153: 8 | AT153: M | AU153: 2 | AY153: ROZPOCET | BE153: =IF(N153="základní",J153,0) -> 0 | BF153: =IF(N153="snížená",J153,0) -> 0 | BG153: =IF(N153="zákl. přenesená",J153,0) -> 0 | BH153: =IF(N153="sníž. přenesená",J153,0) -> 0 | BI153: =IF(N153="nulová",J153,0) -> 0 | BJ153: 1 | BK153: =ROUND(I153*H153,2) -> 0 | BL153: 4 | BM153: -438225030
D154: VV | F154: 2 | H154: 2 | AT154: VV | AU154: 2 | AV154: 2 | AW154: True | AX154: 1 | AY154: ROZPOCET
C155: 17 | D155: M | E155: 55342261 | F155: sloupek plotový koncový Pz a komaxitový 2150/48x1,5mm | G155: kus | H155: 2 | J155: =ROUND(I155*H155,2) -> 0 | K155: CS ÚRS 2023 02 | N155: základní | P155: =O155*H155 -> 0 | Q155: 0.0036 | R155: =Q155*H155 -> 0.0072 | S155: 0 | T155: =S155*H155 -> 0 | AR155: 8 | AT155: M | AU155: 2 | AY155: ROZPOCET | BE155: =IF(N155="základní",J155,0) -> 0 | BF155: =IF(N155="snížená",J155,0) -> 0 | BG155: =IF(N155="zákl. přenesená",J155,0) -> 0 | BH155: =IF(N155="sníž. přenesená",J155,0) -> 0 | BI155: =IF(N155="nulová",J155,0) -> 0 | BJ155: 1 | BK155: =ROUND(I155*H155,2) -> 0 | BL155: 4 | BM155: 1485945026
C156: 18 | D156: M | E156: 55342262 | F156: vzpěra plotová Pz a komaxitový | G156: kus | H156: 2 | J156: =ROUND(I156*H156,2) -> 0 | K156: CS ÚRS 2023 02 | N156: základní | P156: =O156*H156 -> 0 | Q156: 0.0039 | R156: =Q156*H156 -> 0.0078 | S156: 0 | T156: =S156*H156 -> 0 | AR156: 8 | AT156: M | AU156: 2 | AY156: ROZPOCET | BE156: =IF(N156="základní",J156,0) -> 0 | BF156: =IF(N156="snížená",J156,0) -> 0 | BG156: =IF(N156="zákl. přenesená",J156,0) -> 0 | BH156: =IF(N156="sníž. přenesená",J156,0) -> 0 | BI156: =IF(N156="nulová",J156,0) -> 0 | BJ156: 1 | BK156: =ROUND(I156*H156,2) -> 0 | BL156: 4 | BM156: -850801191
C157: 19 | D157: K | E157: 348401120 | F157: Montáž oplocení ze strojového pletiva s napínacími dráty v do 1,6 m | G157: m | H157: 6 | J157: =ROUND(I157*H157,2) -> 0 | K157: CS ÚRS 2023 02 | N157: základní | P157: =O157*H157 -> 0 | Q157: 0 | R157: =Q157*H157 -> 0 | S157: 0 | T157: =S157*H157 -> 0 | AR157: 4 | AT157: K | AU157: 2 | AY157: ROZPOCET | BE157: =IF(N157="základní",J157,0) -> 0 | BF157: =IF(N157="snížená",J157,0) -> 0 | BG157: =IF(N157="zákl. přenesená",J157,0) -> 0 | BH157: =IF(N157="sníž. přenesená",J157,0) -> 0 | BI157: =IF(N157="nulová",J157,0) -> 0 | BJ157: 1 | BK157: =ROUND(I157*H157,2) -> 0 | BL157: 4 | BM157: -543675602
C158: 20 | D158: M | E158: 31327513 | F158: pletivo drátěné plastifikované se čtvercovými oky 55/2,5mm v 1600mm | G158: m | H158: 7.059 | J158: =ROUND(I158*H158,2) -> 0 | K158: CS ÚRS 2023 02 | N158: základní | P158: =O158*H158 -> 0 | Q158: 0.0015 | R158: =Q158*H158 -> 0.0105885 | S158: 0 | T158: =S158*H158 -> 0 | AR158: 8 | AT158: M | AU158: 2 | AY158: ROZPOCET | BE158: =IF(N158="základní",J158,0) -> 0 | BF158: =IF(N158="snížená",J158,0) -> 0 | BG158: =IF(N158="zákl. přenesená",J158,0) -> 0 | BH158: =IF(N158="sníž. přenesená",J158,0) -> 0 | BI158: =IF(N158="nulová",J158,0) -> 0 | BJ158: 1 | BK158: =ROUND(I158*H158,2) -> 0 | BL158: 4 | BM158: 1188657986
D159: VV | F159: 6,72289156626506*1,05 'Přepočtené koeficientem množství | H159: 7.059 | AT159: VV | AU159: 2 | AV159: 2 | AW159: False | AX159: 1 | AY159: ROZPOCET
C160: 21 | D160: K | E160: 348401350 | F160: Rozvinutí, montáž a napnutí napínacího drátu na oplocení | G160: m | H160: 18 | J160: =ROUND(I160*H160,2) -> 0 | K160: CS ÚRS 2023 02 | N160: základní | P160: =O160*H160 -> 0 | Q160: 0 | R160: =Q160*H160 -> 0 | S160: 0 | T160: =S160*H160 -> 0 | AR160: 4 | AT160: K | AU160: 2 | AY160: ROZPOCET | BE160: =IF(N160="základní",J160,0) -> 0 | BF160: =IF(N160="snížená",J160,0) -> 0 | BG160: =IF(N160="zákl. přenesená",J160,0) -> 0 | BH160: =IF(N160="sníž. přenesená",J160,0) -> 0 | BI160: =IF(N160="nulová",J160,0) -> 0 | BJ160: 1 | BK160: =ROUND(I160*H160,2) -> 0 | BL160: 4 | BM160: 1521631518
D161: VV | F161: 6,0*3 | H161: 18 | AT161: VV | AU161: 2 | AV161: 2 | AW161: True | AX161: 1 | AY161: ROZPOCET
D162: D | E162: 997 | F162: Přesun sutě | J162: =BK162 -> 0 | P162: =SUM(P163:P171) -> 0 | R162: =SUM(R163:R171) -> 0 | T162: =SUM(T163:T171) -> 13.3 | AR162: 1 | AT162: D | AU162: 1 | AY162: ROZPOCET | BK162: =SUM(BK163:BK171) -> 0
C163: 22 | D163: K | E163: 997013002 | F163: Vyklizení kamení z prostorů do 15 m2 s naložením z hl do 10 m | G163: m3 | H163: 4 | J163: =ROUND(I163*H163,2) -> 0 | K163: CS ÚRS 2023 02 | N163: základní | P163: =O163*H163 -> 0 | Q163: 0 | R163: =Q163*H163 -> 0 | S163: 2.2 | T163: =S163*H163 -> 8.8 | AR163: 4 | AT163: K | AU163: 2 | AY163: ROZPOCET | BE163: =IF(N163="základní",J163,0) -> 0 | BF163: =IF(N163="snížená",J163,0) -> 0 | BG163: =IF(N163="zákl. přenesená",J163,0) -> 0 | BH163: =IF(N163="sníž. přenesená",J163,0) -> 0 | BI163: =IF(N163="nulová",J163,0) -> 0 | BJ163: 1 | BK163: =ROUND(I163*H163,2) -> 0 | BL163: 4 | BM163: -368306232
D164: VV | F164: 4,0 | H164: 4 | AT164: VV | AU164: 2 | AV164: 2 | AW164: True | AX164: 1 | AY164: ROZPOCET
C165: 23 | D165: K | E165: 9970130021 | F165: Vyklizení ulehlé suti,cihel z prostorů do 15 m2 s naložením z hl do 10 m | G165: m3 | H165: 2.5 | J165: =ROUND(I165*H165,2) -> 0 | N165: základní | P165: =O165*H165 -> 0 | Q165: 0 | R165: =Q165*H165 -> 0 | S165: 1.8 | T165: =S165*H165 -> 4.5 | AR165: 4 | AT165: K | AU165: 2 | AY165: ROZPOCET | BE165: =IF(N165="základní",J165,0) -> 0 | BF165: =IF(N165="snížená",J165,0) -> 0 | BG165: =IF(N165="zákl. přenesená",J165,0) -> 0 | BH165: =IF(N165="sníž. přenesená",J165,0) -> 0 | BI165: =IF(N165="nulová",J165,0) -> 0 | BJ165: 1 | BK165: =ROUND(I165*H165,2) -> 0 | BL165: 4 | BM165: -1367110575
D166: VV | F166: 1+1,5 | H166: 2.5 | AT166: VV | AU166: 2 | AV166: 2 | AW166: True | AX166: 1 | AY166: ROZPOCET
C167: 24 | D167: K | E167: 997013212 | F167: Vnitrostaveništní doprava suti a vybouraných hmot pro budovy v přes 6 do 9 m ručně | G167: t | H167: 13.3 | J167: =ROUND(I167*H167,2) -> 0 | K167: CS ÚRS 2023 02 | N167: základní | P167: =O167*H167 -> 0 | Q167: 0 | R167: =Q167*H167 -> 0 | S167: 0 | T167: =S167*H167 -> 0 | AR167: 4 | AT167: K | AU167: 2 | AY167: ROZPOCET | BE167: =IF(N167="základní",J167,0) -> 0 | BF167: =IF(N167="snížená",J167,0) -> 0 | BG167: =IF(N167="zákl. přenesená",J167,0) -> 0 | BH167: =IF(N167="sníž. přenesená",J167,0) -> 0 | BI167: =IF(N167="nulová",J167,0) -> 0 | BJ167: 1 | BK167: =ROUND(I167*H167,2) -> 0 | BL167: 4 | BM167: 1438880424
C168: 25 | D168: K | E168: 997013501 | F168: Odvoz suti a vybouraných hmot na skládku nebo meziskládku do 1 km se složením | G168: t | H168: 13.3 | J168: =ROUND(I168*H168,2) -> 0 | K168: CS ÚRS 2023 02 | N168: základní | P168: =O168*H168 -> 0 | Q168: 0 | R168: =Q168*H168 -> 0 | S168: 0 | T168: =S168*H168 -> 0 | AR168: 4 | AT168: K | AU168: 2 | AY168: ROZPOCET | BE168: =IF(N168="základní",J168,0) -> 0 | BF168: =IF(N168="snížená",J168,0) -> 0 | BG168: =IF(N168="zákl. přenesená",J168,0) -> 0 | BH168: =IF(N168="sníž. přenesená",J168,0) -> 0 | BI168: =IF(N168="nulová",J168,0) -> 0 | BJ168: 1 | BK168: =ROUND(I168*H168,2) -> 0 | BL168: 4 | BM168: -1536802745
...
