Workbook
Name cisloobjektu: 'Krycí list'!$A$4
Name cislostavby: 'Krycí list'!$A$6
Name Datum: 'Krycí list'!$B$26
Name Dil: Rekapitulace!$A$6
Name Dodavka: Rekapitulace!$G$8
Name Dodavka0: Položky!#REF!
Name HSV: Rekapitulace!$E$8
Name HSV0: Položky!#REF!
Name HZS: Rekapitulace!$I$8
Name HZS0: Položky!#REF!
Name JKSO: 'Krycí list'!$F$4
Name MJ: 'Krycí list'!$G$4
Name Mont: Rekapitulace!$H$8
Name Montaz0: Položky!#REF!
Name NazevDilu: Rekapitulace!$B$6
Name nazevobjektu: 'Krycí list'!$C$4
Name nazevstavby: 'Krycí list'!$C$6
Name Objednatel: 'Krycí list'!$C$8
Name PocetMJ: 'Krycí list'!$G$7
Name Poznamka: 'Krycí list'!$B$37
Name Projektant: 'Krycí list'!$C$7
Name PSV: Rekapitulace!$F$8
Name PSV0: Položky!#REF!
Name SloupecCC: Položky!$G$6
Name SloupecCisloPol: Položky!$B$6
Name SloupecJC: Položky!$F$6
Name SloupecMJ: Položky!$D$6
Name SloupecMnozstvi: Položky!$E$6
Name SloupecNazPol: Položky!$C$6
Name SloupecPC: Položky!$A$6
Name Typ: Položky!#REF!
Name VRN: Rekapitulace!$H$14
Name VRNKc: Rekapitulace!$E$13
Name VRNnazev: Rekapitulace!$A$13
Name VRNproc: Rekapitulace!$F$13
Name VRNzakl: Rekapitulace!$G$13
Name Zakazka: 'Krycí list'!$G$9
Name Zaklad22: 'Krycí list'!$F$32
Name Zaklad5: 'Krycí list'!$F$30
Name Zhotovitel: 'Krycí list'!$E$11

Sheet Krycí list
A1: KRYCÍ LIST ROZPOČTU
A3: Objekt : | C3: Název objektu : | F3: JKSO :
C4: Rumiště 5
A5: Stavba : | C5: Název stavby : | F5: SKP :
C6: Oprava SV
A7: Projektant : | E7: Počet měrných jednotek : | G7: 0
A8: Objednatel : | C8: Magistrat města Brna | E8: Náklady na MJ : | G8: =IF(PocetMJ=0,,ROUND((F30+F32)/PocetMJ,1)) -> 0
A9: Počet listů : | E9: Zakázkové číslo :
A10: Zpracovatel projektu : | E10: Zhotovitel :
A12: ROZPOČTOVÉ NÁKLADY
A13: Rozpočtové náklady II. a III. hlavy | D13: Vedlejší rozpočtové náklady
B14: Dodávka celkem | C14: =Dodavka -> 0
A15: Z | B15: Montáž celkem | C15: =Mont -> 0
A16: R | B16: HSV celkem | C16: =HSV -> 0
A17: N | B17: PSV celkem | C17: =PSV -> 0
A18: ZRN celkem | C18: =SUM(C14:C17) -> 0
A20: HZS | C20: =HZS -> 0
A21: RN II.a III.hlavy | C21: =C18+C20 -> 0 | D21: Ostatní VRN | G21: =G22-SUM(G14:G20) -> 0
A22: ZRN+VRN+HZS | C22: =C21+G22 -> 0 | D22: VRN celkem | G22: =VRN -> 0
A23: Vypracoval | C23: Za zhotovitele | E23: Za objednatele
C24: Jméno : | E24: Jméno :
A25: Datum : | C25: Datum : | E25: Datum :
C26: Podpis: | E26: Podpis :
A29: Základ pro DPH | C29: 0 | D29: % činí : | F29: 0
A30: Základ pro DPH | C30: 15 | D30: % činí : | F30: 0
A31: DPH | C31: 15 | D31: % činí : | F31: =ROUND(PRODUCT(F30,C31/100),0) -> 0
A32: Základ pro DPH | C32: 21 | D32: % činí : | F32: =C22 -> 0
A33: DPH | C33: 21 | D33: % činí : | F33: =F32*0.21 -> 0
A34: CENA ZA OBJEKT CELKEM | F34: =ROUND(SUM(F29:F33),0) -> 0
A36: Poznámka :

Sheet Rekapitulace
A1: Stavba : | C1: =CONCATENATE(cislostavby," ",nazevstavby) -> Oprava SV
A2: Objekt : | C2: =CONCATENATE(cisloobjektu," ",nazevobjektu) -> Rumiště 5
A4: REKAPITULACE STAVEBNÍCH DÍLŮ
B6: Stavební díl | E6: HSV | F6: PSV | G6: Dodávka | H6: Montáž | I6: HZS
A7: =Položky!B7 -> 720 | B7: Vodoistalace | E7: =Položky!BA18 -> 0 | F7: =Položky!G18 -> 0 | G7: =Položky!BC18 -> 0 | H7: =Položky!BD18 -> 0 | I7: =Položky!BE18 -> 0
B8: CELKEM OBJEKT | E8: =SUM(E7:E7) -> 0 | F8: =SUM(F7:F7) -> 0 | G8: =SUM(G7:G7) -> 0 | H8: =SUM(H7:H7) -> 0 | I8: =SUM(I7:I7) -> 0
A10: VEDLEJŠÍ ROZPOČTOVÉ NÁKLADY
A12: Název VRN | E12: Kč | F12: % | G12: Základna | I12: Kč
G13: =CHOOSE(BA13+1,HSV+PSV,HSV+PSV+Mont,HSV+PSV+Dodavka+Mont,HSV,PSV,Mont,Dodavka,Mont+Dodavka,0) -> 0 | I13: =E13+F13*G13/100 -> 0 | BA13: 8
B14: CELKEM VRN | H14: =SUM(H13:H13) -> 0

Sheet Položky
A1: Výkaz výměr
A3: Stavba : | C3: =CONCATENATE(cislostavby," ",nazevstavby) -> Oprava SV | F3: =Rekapitulace!H1 -> 0
A4: Objekt : | C4: =CONCATENATE(cisloobjektu," ",nazevobjektu) -> Rumiště 5
A6: P.č. | B6: Číslo položky | C6: Název položky | D6: MJ | E6: množství | F6: cena / MJ | G6: celkem (Kč)
A7: Díl: | B7: 720 | C7: Vodoinstalace | O7: 1
A8: 1 | C8: Vyklizení prostoru pro výkop | D8: soub | E8: 1 | G8: =E8*F8 -> 0
A9: 2 | C9: Borání železobenové podlahy šířka cca 35cm | D9: bm | E9: 18.6 | G9: =E9*F9 -> 0
A10: 3 | C10: Výkop - hloubka 80 cm | D10: bm | E10: 18.6 | G10: =E10*F10 -> 0
A11: 4 | C11: Pískové lože | D11: m3 | E11: 2.05 | G11: =E11*F11 -> 0
A12: 5 | C12: Položení poliš 40 , pro SV | D12: bm | E12: 20 | G12: =E12*F12 -> 0
A13: 6 | C13: Dopojení na stávající rozvod SV | D13: soub | E13: 2 | G13: =E13*F13 -> 0
A14: 7 | C14: Zásyp - zeminou | D14: m3 | E14: 4.91 | G14: =E14*F14 -> 0
A15: 8 | C15: Přípravné a dokončovací práce | D15: hod | E15: 24 | G15: =E15*F15 -> 0
A16: 9 | C16: Kontrola rozvodů SV | D16: hod | E16: 6 | G16: =E16*F16 -> 0 | O16: 2 | AA16: 12 | AB16: 0 | AC16: 2 | AZ16: 2 | BA16: =IF(AZ16=1,G16,0) -> 0 | BB16: =IF(AZ16=2,G16,0) -> 0 | BC16: =IF(AZ16=3,G16,0) -> 0 | BD16: =IF(AZ16=4,G16,0) -> 0 | BE16: =IF(AZ16=5,G16,0) -> 0 | CZ16: 0
A17: 10 | C17: Doprava - Brno | D17: km | E17: 180 | G17: =E17*F17 -> 0 | O17: 2 | AA17: 12 | AB17: 0 | AC17: 8 | AZ17: 2 | BA17: =IF(AZ17=1,G17,0) -> 0 | BB17: =IF(AZ17=2,G17,0) -> 0 | BC17: =IF(AZ17=3,G17,0) -> 0 | BD17: =IF(AZ17=4,G17,0) -> 0 | BE17: =IF(AZ17=5,G17,0) -> 0 | CZ17: 0
B18: Celkem za | C18: =CONCATENATE(B7," ",C7) -> 720 Vodoinstalace | G18: =SUM(G7:G17) -> 0 | O18: 4 | BA18: =SUM(BA7:BA17) -> 0 | BB18: =SUM(BB7:BB17) -> 0 | BC18: =SUM(BC7:BC17) -> 0 | BD18: =SUM(BD7:BD17) -> 0 | BE18: =SUM(BE7:BE17) -> 0
