Workbook
Name cisloobjektu: 'Krycí list'!$A$4
Name cisloobjektu: '[1]Krycí list'!$A$4
Name cisloobjektu: #REF!
Name cislostavby: 'Krycí list'!$A$6
Name cislostavby: '[1]Krycí list'!$A$6
Name cislostavby: #REF!
Name Datum: 'Krycí list'!$B$26
Name Datum: #REF!
Name Dil: Rekapitulace!$A$6
Name Dil: #REF!
Name Dodavka: [1]Rekapitulace!$G$13
Name Dodavka: Rekapitulace!$G$10
Name Dodavka: #REF!
Name Dodavka0: [1]Položky!#REF!
Name Dodavka0: [1]Položky!#REF!
Name Dodavka0: Položky!#REF!
Name HSV: [1]Rekapitulace!$E$13
Name HSV: Rekapitulace!$E$10
Name HSV: #REF!
Name HSV0: [1]Položky!#REF!
Name HSV0: [1]Položky!#REF!
Name HSV0: Položky!#REF!
Name HZS: [1]Rekapitulace!$I$13
Name HZS: Rekapitulace!$I$10
Name HZS: #REF!
Name HZS0: [1]Položky!#REF!
Name HZS0: [1]Položky!#REF!
Name HZS0: Položky!#REF!
Name JKSO: 'Krycí list'!$F$4
Name JKSO: #REF!
Name MJ: 'Krycí list'!$G$4
Name MJ: #REF!
Name Mont: [1]Rekapitulace!$H$13
Name Mont: Rekapitulace!$H$10
Name Mont: #REF!
Name Montaz0: [1]Položky!#REF!
Name Montaz0: [1]Položky!#REF!
Name Montaz0: Položky!#REF!
Name NazevDilu: Rekapitulace!$B$6
Name NazevDilu: #REF!
Name nazevobjektu: 'Krycí list'!$C$4
Name nazevobjektu: '[1]Krycí list'!$C$4
Name nazevobjektu: #REF!
Name nazevstavby: 'Krycí list'!$C$6
Name nazevstavby: '[1]Krycí list'!$C$6
Name nazevstavby: #REF!
Name Objednatel: 'Krycí list'!$C$8
Name Objednatel: #REF!
Name PocetMJ: 'Krycí list'!$G$7
Name PocetMJ: '[1]Krycí list'!$G$7
Name PocetMJ: #REF!
Name Poznamka: 'Krycí list'!$B$36
Name Poznamka: #REF!
Name Projektant: 'Krycí list'!$C$7
Name Projektant: #REF!
Name PSV: [1]Rekapitulace!$F$13
Name PSV: Rekapitulace!$F$10
Name PSV: #REF!
Name PSV0: [1]Položky!#REF!
Name PSV0: [1]Položky!#REF!

Sheet Krycí list
A1: KRYCÍ LIST ROZPOČTU
A3: Objekt : | C3: Název objektu : | F3: JKSO :
C4: Úprava terénu, parkovací stání
A5: Stavba : | C5: Název stavby : | F5: SKP :
C6: Beethovenova 2, 602 00 Brno
A7: Projektant : | E7: Počet měrných jednotek : | G7: 0
A8: Objednatel : | E8: Náklady na MJ : | G8: =IF(PocetMJ=0,,ROUND((F29+F31)/PocetMJ,1)) -> 0
A9: Počet listů : | E9: Zakázkové číslo :
A10: Zpracovatel projektu : | E10: Zhotovitel :
E11: Ing.Jaroslav Prokeš
A12: ROZPOČTOVÉ NÁKLADY
A13: Rozpočtové náklady II. a III. hlavy | D13: Vedlejší rozpočtové náklady
B14: Dodávka celkem | C14: =Dodavka -> 0
A15: Z | B15: Montáž celkem | C15: =Mont -> 0
A16: R | B16: HSV celkem | C16: =Rekapitulace!HSV -> 0
A17: N | B17: PSV celkem | C17: =Rekapitulace!PSV -> 0
A18: ZRN celkem | C18: =SUM(C14:C17) -> 0
A20: HZS | C20: =HZS -> 0
A21: RN II.a III.hlavy | C21: =C18+C20 -> 0 | D21: Ostatní VRN | G21: =G22-SUM(G14:G20) -> 0
A22: ZRN+VRN+HZS | C22: =C21+G22 -> 0 | D22: VRN celkem | G22: =VRN -> 0
A23: Vypracoval | C23: Za zhotovitele | E23: Za objednatele
C24: Jméno : | E24: Jméno :
A25: Datum : | C25: Datum : | E25: Datum :
C26: Podpis: | E26: Podpis :
A29: Základ pro DPH | C29: 15 | D29: % činí : | F29: 0
A30: DPH | C30: 15 | D30: % činí : | F30: =ROUND(PRODUCT(F29,C30/100),1) -> 0
A31: Základ pro DPH | C31: 21 | D31: % činí : | F31: =C22 -> 0
A32: DPH | C32: 21 | D32: % činí : | F32: =ROUND(PRODUCT(F31,C32/100),1) -> 0
A33: CENA ZA OBJEKT CELKEM | F33: =CEILING(SUM(F29:F32),IF(SUM(F29:F32)>=0,1,-1)) -> 0
A35: Poznámka :

Sheet Rekapitulace
A1: Stavba : | C1: ='Krycí list'!nazevstavby -> Beethovenova 2, 602 00 Brno
A2: Objekt : | C2: ='Krycí list'!nazevobjektu -> Úprava terénu, parkovací stání
A4: REKAPITULACE STAVEBNÍCH DÍLŮ
B6: Stavební díl | E6: HSV | F6: PSV | G6: Dodávka | H6: Montáž | I6: HZS
A7: 1 | B7: =Položky!C7 -> Zemní práce | E7: =Položky!G16 -> 0 | F7: 0 | G7: 0 | H7: 0 | I7: 0
A8: 4 | B8: =Položky!C17 -> Vodorovné konstrukce | E8: =Položky!G19 -> 0 | F8: 0 | G8: 0 | H8: 0 | I8: 0
A9: 8 | B9: =Položky!C20 -> Trubní vedení | E9: 0 | F9: =Položky!G29 -> 0 | G9: 0 | H9: 0 | I9: 0
B10: CELKEM OBJEKT | E10: =SUM(E7:E9) -> 0 | F10: =SUM(F7:F9) -> 0 | G10: =SUM(G7:G9) -> 0 | H10: =SUM(H7:H9) -> 0 | I10: =SUM(I7:I9) -> 0
A12: VEDLEJŠÍ ROZPOČTOVÉ NÁKLADY
A14: Název VRN | E14: Kč | F14: % | G14: Základna | I14: Kč
G15: =CHOOSE(BA15+1,HSV+PSV,HSV+PSV+Mont,HSV+PSV+Dodavka+Mont,HSV,PSV,Mont,Dodavka,Mont+Dodavka,0) -> 0 | I15: =E15+F15*G15/100 -> 0 | BA15: 8
B16: CELKEM VRN | H16: =SUM(H15:H15) -> 0

Sheet Položky
A1: Položkový rozpočet
A3: Stavba : | C3: ='Krycí list'!nazevstavby -> Beethovenova 2, 602 00 Brno | F3: Zdravotně technické instalace
A4: Objekt : | C4: ='Krycí list'!nazevobjektu -> Úprava terénu, parkovací stání
A6: P.č. | B6: Číslo položky | C6: Název položky | D6: MJ | E6: množství | F6: cena / MJ | G6: celkem (Kč)
A7: Díl: | B7: 1 | C7: Zemní práce | G7: =E7*F7 -> 0
A8: 1 | C8: Hloubení rýh š.do 200 cm hor.3 do 1000 m3,STROJNĚ | D8: m3 | E8: 17.64 | G8: =E8*F8 -> 0
A9: 2 | C9: Ruční výkop v hornině 3, svislé přemístění, odvoz kolečkem do 20 m | D9: m3 | E9: 3.54 | G9: =E9*F9 -> 0
A10: 3 | C10: Příplatek za lepivost - hloubení rýh 200cm v hor.3 | D10: m3 | E10: 21.18 | G10: =E10*F10 -> 0
A11: 4 | C11: Svislé přemístění výkopku z hor.1-4 do 4,0 m | D11: m3 | E11: 21.18 | G11: =E11*F11 -> 0
A12: 5 | C12: Vodorovné přemístění výkopku z hor.1-4 do 500 m | D12: m3 | E12: 21.18 | G12: =E12*F12 -> 0
A13: 6 | C13: Obsyp potrubí bez prohození sypaniny, s dodáním štěrkopísku frakce 0 - 22 mm | D13: m3 | E13: 8.65 | G13: =E13*F13 -> 0 | AU13: 1 | AV13: =IF(AU13=1,G13,0) -> 0 | AW13: =IF(AU13=2,G13,0) -> 0 | AX13: =IF(AU13=3,G13,0) -> 0 | AY13: =IF(AU13=4,G13,0) -> 0 | AZ13: =IF(AU13=5,G13,0) -> 0 | CU13: 0
A14: 7 | C14: Naložení výkopku,odvoz 10 km, uložení na skládku | D14: m3 | E14: 11.06 | G14: =E14*F14 -> 0
A15: 8 | C15: Zásyp jam, rýh, šachet se zhutněním | D15: m3 | E15: 10.12 | G15: =E15*F15 -> 0
B16: Celkem za | C16: =CONCATENATE(B7," ",C7) -> 1 Zemní práce | G16: =SUM(G7:G15) -> 0
A17: Díl: | B17: 4 | C17: Vodorovné konstrukce | G17: =E17*F17 -> 0
A18: 9 | C18: Lože pod potrubí ze štěrkopísku do 63 mm | D18: m3 | E18: 2.41 | G18: =E18*F18 -> 0
B19: Celkem za | C19: =CONCATENATE(B17," ",C17) -> 4 Vodorovné konstrukce | G19: =SUM(G17:G18) -> 0
A20: Díl: | B20: 8 | C20: Trubní vedení | G20: =E20*F20 -> 0
A21: 10 | C21: Demontáž kanalizačního potrubí vláknocementové DN200 | D21: m | E21: 13 | G21: =E21*F21 -> 0
A22: 11 | C22: Zkouška těsnosti kanalizace vodou DN 200 | D22: m | E22: 38.5 | G22: =E22*F22 -> 0
A23: 12 | C23: Potrubí KG svodné (ležaté) v zemi D 125 x 3,2 mm | D23: m | E23: 23.5 | G23: =E23*F23 -> 0
A24: 13 | C24: Potrubí KG svodné (ležaté) v zemi D 160 x 4,0 mm | D24: m | E24: 15 | G24: =E24*F24 -> 0
A25: 14 | C25: Fólie výstražná z PVC, šířka 22 cm | D25: m | E25: 24 | G25: =E25*F25 -> 0
A26: 15 | C26: Lapač střešních splavenin s flexibilním a kulovým kloubem, materiál PP, průtok max. 11 l/s, DN125, dešťové odpadní potrubí průměr 80, 100, 120mm, mrazuvzdorná mechanická zápachová uzávěrka se zabudovaným těsněním, koš na splaveniny s přepadovou funkcí | D26: kus | E26: 4 | G26: =E26*F26 -> 0
A27: 16 | C27: Velkokapacitní vtok s litinovým rámem a litinovou mříží, s mechanickou zápachovou uzávěrkou - klaapkou, průtok 4,30 l/s, DN110, materiál PP, rám a mříž litina, odtok svislý, třída zatížení B - max 12,5 tuny, hmotnost 12,4kg | D27: kus | E27: 2 | G27: =E27*F27 -> 0
A28: 17 | C28: Odvoz suti a vybour. hmot na skládku do 1km | D28: t | E28: 0.52 | G28: =E28*F28 -> 0
B29: Celkem za | C29: =CONCATENATE(B20," ",C20) -> 8 Trubní vedení | G29: =SUM(G20:G28) -> 0
